{"text_format":"1","workbook":"xlsx","n_sheets":27,"sheets":["SETUP - FIRST","Growth - BPD","Growth - HC","Growth - AC","Growth - FL","Growth - EFW","Growth - HC-AC","Age - User Table|Label 1","Age - User Table|Label 2","Age - User Table|Label 3","Age - User Table|Label 4","Age - User Table|Label 5","Age - CRL","Age - GS","Age - BPD","Age - OFD","Age - HC","Age - AC","Age - FL","Age - APTD","Age - TTD","Age - FTA","Age - HL","Age - Tibia","ValidationData","Phrases","Console"],"not_rendered":{"charts":23,"images":0,"macros":1,"external_links":0,"defined_names":4,"comments":0,"pivot_tables":0},"unopened":[],"bounds":{"document_bytes":16777216,"sheet_cells":100000,"rows_first":2000,"rows_last":500,"rows_between":2000,"halvings":0,"cell_chars":16384,"cell_head_chars":4096},"cells_cut":0,"cells_raw":0,"read":"whole","date_system":"1900"}

{"sheet":"SETUP - FIRST","index":0,"n_rows":8,"n_cols":7,"rows_kept":8,"cut":false,"hidden":false,"merged":[[1,1,1,2],[2,1,2,2],[7,0,8,1],[9,0,24,1],[9,2,24,11],[7,2,8,12]]}
[]
[null,{"$f":"HLOOKUP(ValidationData!A18,Phrases!B1:G34,31,FALSE)","v":"SonoSite X-Porte"}]
[null,{"$f":"HLOOKUP(ValidationData!A18,Phrases!B1:G34,32,FALSE)","v":"OB Custom Table Editor"},null,null,null,null,1]
[null,{"$f":"HLOOKUP(ValidationData!A18,Phrases!B1:G34,33,FALSE)","v":"Version"},{"$f":"ValidationData!DataVersion","v":"70.80.100.100"}]
[null,{"$f":"HLOOKUP(ValidationData!A18,Phrases!B1:G34,34,FALSE)","v":"Please Specify Language"},{"$f":"INDEX(ValidationData!A10:A15,G3)","v":"English"}]
[]
[]
[{"$f":"HLOOKUP(ValidationData!A18,Phrases!B1:G89,88,FALSE)","v":"Growth User Tables"},null,{"$f":"HLOOKUP(ValidationData!A18,Phrases!B1:G89,89,FALSE)","v":"Age User Tables"}]

{"sheet":"Growth - BPD","index":1,"n_rows":214,"n_cols":10,"rows_kept":214,"cut":false,"hidden":true,"merged":[[2,7,2,9],[2,0,3,0],[2,1,3,1],[2,2,2,3],[0,0,1,3]]}
[{"$f":"HLOOKUP(ValidationData!A18,Phrases!B1:G34,2,FALSE)","v":"User Growth Table: Biparietal Diameter"},null,null,null,"Growth BPD"]
[null,null,null,null,{"$f":"ValidationData!DataVersion","v":"70.80.100.100"}]
[{"$f":"HLOOKUP(ValidationData!A18,Phrases!B1:G34,14,FALSE)","v":"Index"},{"$f":"HLOOKUP(ValidationData!A18,Phrases!B1:G34,15,FALSE)","v":"Weeks"},{"$f":"HLOOKUP(ValidationData!A18,Phrases!B1:G34,23,FALSE)","v":"Author"},null,null,null,null,{"$f":"IF(ISBLANK(E3), \"\", TRIM(E3))","v":""}]
[null,null,{"$f":"HLOOKUP(ValidationData!A18,Phrases!B1:G34,18,FALSE)","v":"Min"},{"$f":"HLOOKUP(ValidationData!A18,Phrases!B1:G34,19,FALSE)","v":"Mid"},{"$f":"HLOOKUP(ValidationData!A18,Phrases!B1:G34,20,FALSE)","v":"Max"},null,{"$f":"HLOOKUP(ValidationData!A18,Phrases!B1:G34,15,FALSE)","v":"Weeks"},{"$f":"HLOOKUP(ValidationData!A18,Phrases!B1:G34,18,FALSE)","v":"Min"},{"$f":"HLOOKUP(ValidationData!A18,Phrases!B1:G34,19,FALSE)","v":"Mid"},{"$f":"HLOOKUP(ValidationData!A18,Phrases!B1:G34,20,FALSE)","v":"Max"}]
[1]
[2]
[3]
[4]
[5]
[6]
[7]
[8]
[9]
[10]
[11]
[12]
[13]
[14]
[15]
[16]
[17]
[18]
[19]
[20]
[21]
[22]
[23]
[24]
[25]
[26]
[27]
[28]
[29]
[30]
[31]
[32]
[33]
[34]
[35]
[36]
[37]
[38]
[39]
[40]
[41]
[42]
[43]
[44]
[45]
[46]
[47]
[48]
[49]
[50]
[51]
[52]
[53]
[54]
[55]
[56]
[57]
[58]
[59]
[60]
[61]
[62]
[63]
[64]
[65]
[66]
[67]
[68]
[69]
[70]
[71]
[72]
[73]
[74]
[75]
[76]
[77]
[78]
[79]
[80]
[81]
[82]
[83]
[84]
[85]
[86]
[87]
[88]
[89]
[90]
[91]
[92]
[93]
[94]
[95]
[96]
[97]
[98]
[99]
[100]
[101]
[102]
[103]
[104]
[105]
[106]
[107]
[108]
[109]
[110]
[111]
[112]
[113]
[114]
[115]
[116]
[117]
[118]
[119]
[120]
[121]
[122]
[123]
[124]
[125]
[126]
[127]
[128]
[129]
[130]
[131]
[132]
[133]
[134]
[135]
[136]
[137]
[138]
[139]
[140]
[141]
[142]
[143]
[144]
[145]
[146]
[147]
[148]
[149]
[150]
[151]
[152]
[153]
[154]
[155]
[156]
[157]
[158]
[159]
[160]
[161]
[162]
[163]
[164]
[165]
[166]
[167]
[168]
[169]
[170]
[171]
[172]
[173]
[174]
[175]
[176]
[177]
[178]
[179]
[180]
[181]
[182]
[183]
[184]
[185]
[186]
[187]
[188]
[189]
[190]
[191]
[192]
[193]
[194]
[195]
[196]
[197]
[198]
[199]
[200]
[201]
[202]
[203]
[204]
[205]
[206]
[207]
[208]
[209]
[210]

{"sheet":"Growth - HC","index":2,"n_rows":214,"n_cols":10,"rows_kept":214,"cut":false,"hidden":true,"merged":[[2,7,2,9],[2,0,3,0],[2,1,3,1],[2,2,2,3],[0,0,1,3]]}
[{"$f":"HLOOKUP(ValidationData!A18,Phrases!B1:G34,3,FALSE)","v":"User Growth Table: Head Circumference"},null,null,null,"Growth HC"]
[null,null,null,null,{"$f":"ValidationData!DataVersion","v":"70.80.100.100"}]
[{"$f":"HLOOKUP(ValidationData!A18,Phrases!B1:G34,14,FALSE)","v":"Index"},{"$f":"HLOOKUP(ValidationData!A18,Phrases!B1:G34,15,FALSE)","v":"Weeks"},{"$f":"HLOOKUP(ValidationData!A18,Phrases!B1:G34,23,FALSE)","v":"Author"},null,null,null,null,{"$f":"IF(ISBLANK(E3), \"\", TRIM(E3))","v":""}]
[null,null,{"$f":"HLOOKUP(ValidationData!A18,Phrases!B1:G34,18,FALSE)","v":"Min"},{"$f":"HLOOKUP(ValidationData!A18,Phrases!B1:G34,19,FALSE)","v":"Mid"},{"$f":"HLOOKUP(ValidationData!A18,Phrases!B1:G34,20,FALSE)","v":"Max"},null,{"$f":"HLOOKUP(ValidationData!A18,Phrases!B1:G34,15,FALSE)","v":"Weeks"},{"$f":"HLOOKUP(ValidationData!A18,Phrases!B1:G34,18,FALSE)","v":"Min"},{"$f":"HLOOKUP(ValidationData!A18,Phrases!B1:G34,19,FALSE)","v":"Mid"},{"$f":"HLOOKUP(ValidationData!A18,Phrases!B1:G34,20,FALSE)","v":"Max"}]
[1]
[2]
[3]
[4]
[5]
[6]
[7]
[8]
[9]
[10]
[11]
[12]
[13]
[14]
[15]
[16]
[17]
[18]
[19]
[20]
[21]
[22]
[23]
[24]
[25]
[26]
[27]
[28]
[29]
[30]
[31]
[32]
[33]
[34]
[35]
[36]
[37]
[38]
[39]
[40]
[41]
[42]
[43]
[44]
[45]
[46]
[47]
[48]
[49]
[50]
[51]
[52]
[53]
[54]
[55]
[56]
[57]
[58]
[59]
[60]
[61]
[62]
[63]
[64]
[65]
[66]
[67]
[68]
[69]
[70]
[71]
[72]
[73]
[74]
[75]
[76]
[77]
[78]
[79]
[80]
[81]
[82]
[83]
[84]
[85]
[86]
[87]
[88]
[89]
[90]
[91]
[92]
[93]
[94]
[95]
[96]
[97]
[98]
[99]
[100]
[101]
[102]
[103]
[104]
[105]
[106]
[107]
[108]
[109]
[110]
[111]
[112]
[113]
[114]
[115]
[116]
[117]
[118]
[119]
[120]
[121]
[122]
[123]
[124]
[125]
[126]
[127]
[128]
[129]
[130]
[131]
[132]
[133]
[134]
[135]
[136]
[137]
[138]
[139]
[140]
[141]
[142]
[143]
[144]
[145]
[146]
[147]
[148]
[149]
[150]
[151]
[152]
[153]
[154]
[155]
[156]
[157]
[158]
[159]
[160]
[161]
[162]
[163]
[164]
[165]
[166]
[167]
[168]
[169]
[170]
[171]
[172]
[173]
[174]
[175]
[176]
[177]
[178]
[179]
[180]
[181]
[182]
[183]
[184]
[185]
[186]
[187]
[188]
[189]
[190]
[191]
[192]
[193]
[194]
[195]
[196]
[197]
[198]
[199]
[200]
[201]
[202]
[203]
[204]
[205]
[206]
[207]
[208]
[209]
[210]

{"sheet":"Growth - AC","index":3,"n_rows":214,"n_cols":10,"rows_kept":214,"cut":false,"hidden":true,"merged":[[2,7,2,9],[2,0,3,0],[2,1,3,1],[2,2,2,3],[0,0,1,3]]}
[{"$f":"HLOOKUP(ValidationData!A18,Phrases!B1:G34,4,FALSE)","v":"User Growth Table: Abdominal Circumference"},null,null,null,"Growth AC"]
[null,null,null,null,{"$f":"ValidationData!DataVersion","v":"70.80.100.100"}]
[{"$f":"HLOOKUP(ValidationData!A18,Phrases!B1:G34,14,FALSE)","v":"Index"},{"$f":"HLOOKUP(ValidationData!A18,Phrases!B1:G34,15,FALSE)","v":"Weeks"},{"$f":"HLOOKUP(ValidationData!A18,Phrases!B1:G34,23,FALSE)","v":"Author"},null,null,null,null,{"$f":"IF(ISBLANK(E3), \"\", TRIM(E3))","v":""}]
[null,null,{"$f":"HLOOKUP(ValidationData!A18,Phrases!B1:G34,18,FALSE)","v":"Min"},{"$f":"HLOOKUP(ValidationData!A18,Phrases!B1:G34,19,FALSE)","v":"Mid"},{"$f":"HLOOKUP(ValidationData!A18,Phrases!B1:G34,20,FALSE)","v":"Max"},null,{"$f":"HLOOKUP(ValidationData!A18,Phrases!B1:G34,15,FALSE)","v":"Weeks"},{"$f":"HLOOKUP(ValidationData!A18,Phrases!B1:G34,18,FALSE)","v":"Min"},{"$f":"HLOOKUP(ValidationData!A18,Phrases!B1:G34,19,FALSE)","v":"Mid"},{"$f":"HLOOKUP(ValidationData!A18,Phrases!B1:G34,20,FALSE)","v":"Max"}]
[1]
[2]
[3]
[4]
[5]
[6]
[7]
[8]
[9]
[10]
[11]
[12]
[13]
[14]
[15]
[16]
[17]
[18]
[19]
[20]
[21]
[22]
[23]
[24]
[25]
[26]
[27]
[28]
[29]
[30]
[31]
[32]
[33]
[34]
[35]
[36]
[37]
[38]
[39]
[40]
[41]
[42]
[43]
[44]
[45]
[46]
[47]
[48]
[49]
[50]
[51]
[52]
[53]
[54]
[55]
[56]
[57]
[58]
[59]
[60]
[61]
[62]
[63]
[64]
[65]
[66]
[67]
[68]
[69]
[70]
[71]
[72]
[73]
[74]
[75]
[76]
[77]
[78]
[79]
[80]
[81]
[82]
[83]
[84]
[85]
[86]
[87]
[88]
[89]
[90]
[91]
[92]
[93]
[94]
[95]
[96]
[97]
[98]
[99]
[100]
[101]
[102]
[103]
[104]
[105]
[106]
[107]
[108]
[109]
[110]
[111]
[112]
[113]
[114]
[115]
[116]
[117]
[118]
[119]
[120]
[121]
[122]
[123]
[124]
[125]
[126]
[127]
[128]
[129]
[130]
[131]
[132]
[133]
[134]
[135]
[136]
[137]
[138]
[139]
[140]
[141]
[142]
[143]
[144]
[145]
[146]
[147]
[148]
[149]
[150]
[151]
[152]
[153]
[154]
[155]
[156]
[157]
[158]
[159]
[160]
[161]
[162]
[163]
[164]
[165]
[166]
[167]
[168]
[169]
[170]
[171]
[172]
[173]
[174]
[175]
[176]
[177]
[178]
[179]
[180]
[181]
[182]
[183]
[184]
[185]
[186]
[187]
[188]
[189]
[190]
[191]
[192]
[193]
[194]
[195]
[196]
[197]
[198]
[199]
[200]
[201]
[202]
[203]
[204]
[205]
[206]
[207]
[208]
[209]
[210]

{"sheet":"Growth - FL","index":4,"n_rows":214,"n_cols":10,"rows_kept":214,"cut":false,"hidden":true,"merged":[[2,7,2,9],[2,0,3,0],[2,1,3,1],[2,2,2,3],[0,0,1,3]]}
[{"$f":"HLOOKUP(ValidationData!A18,Phrases!B1:G34,5,FALSE)","v":"User Growth Table: Femur Length"},null,null,null,"Growth FL"]
[null,null,null,null,{"$f":"ValidationData!DataVersion","v":"70.80.100.100"}]
[{"$f":"HLOOKUP(ValidationData!A18,Phrases!B1:G34,14,FALSE)","v":"Index"},{"$f":"HLOOKUP(ValidationData!A18,Phrases!B1:G34,15,FALSE)","v":"Weeks"},{"$f":"HLOOKUP(ValidationData!A18,Phrases!B1:G34,23,FALSE)","v":"Author"},null,null,null,null,{"$f":"IF(ISBLANK(E3), \"\", TRIM(E3))","v":""}]
[null,null,{"$f":"HLOOKUP(ValidationData!A18,Phrases!B1:G34,18,FALSE)","v":"Min"},{"$f":"HLOOKUP(ValidationData!A18,Phrases!B1:G34,19,FALSE)","v":"Mid"},{"$f":"HLOOKUP(ValidationData!A18,Phrases!B1:G34,20,FALSE)","v":"Max"},null,{"$f":"HLOOKUP(ValidationData!A18,Phrases!B1:G34,15,FALSE)","v":"Weeks"},{"$f":"HLOOKUP(ValidationData!A18,Phrases!B1:G34,18,FALSE)","v":"Min"},{"$f":"HLOOKUP(ValidationData!A18,Phrases!B1:G34,19,FALSE)","v":"Mid"},{"$f":"HLOOKUP(ValidationData!A18,Phrases!B1:G34,20,FALSE)","v":"Max"}]
[1]
[2]
[3]
[4]
[5]
[6]
[7]
[8]
[9]
[10]
[11]
[12]
[13]
[14]
[15]
[16]
[17]
[18]
[19]
[20]
[21]
[22]
[23]
[24]
[25]
[26]
[27]
[28]
[29]
[30]
[31]
[32]
[33]
[34]
[35]
[36]
[37]
[38]
[39]
[40]
[41]
[42]
[43]
[44]
[45]
[46]
[47]
[48]
[49]
[50]
[51]
[52]
[53]
[54]
[55]
[56]
[57]
[58]
[59]
[60]
[61]
[62]
[63]
[64]
[65]
[66]
[67]
[68]
[69]
[70]
[71]
[72]
[73]
[74]
[75]
[76]
[77]
[78]
[79]
[80]
[81]
[82]
[83]
[84]
[85]
[86]
[87]
[88]
[89]
[90]
[91]
[92]
[93]
[94]
[95]
[96]
[97]
[98]
[99]
[100]
[101]
[102]
[103]
[104]
[105]
[106]
[107]
[108]
[109]
[110]
[111]
[112]
[113]
[114]
[115]
[116]
[117]
[118]
[119]
[120]
[121]
[122]
[123]
[124]
[125]
[126]
[127]
[128]
[129]
[130]
[131]
[132]
[133]
[134]
[135]
[136]
[137]
[138]
[139]
[140]
[141]
[142]
[143]
[144]
[145]
[146]
[147]
[148]
[149]
[150]
[151]
[152]
[153]
[154]
[155]
[156]
[157]
[158]
[159]
[160]
[161]
[162]
[163]
[164]
[165]
[166]
[167]
[168]
[169]
[170]
[171]
[172]
[173]
[174]
[175]
[176]
[177]
[178]
[179]
[180]
[181]
[182]
[183]
[184]
[185]
[186]
[187]
[188]
[189]
[190]
[191]
[192]
[193]
[194]
[195]
[196]
[197]
[198]
[199]
[200]
[201]
[202]
[203]
[204]
[205]
[206]
[207]
[208]
[209]
[210]

{"sheet":"Growth - EFW","index":5,"n_rows":214,"n_cols":10,"rows_kept":214,"cut":false,"hidden":true,"merged":[[2,7,2,9],[2,0,3,0],[2,1,3,1],[2,2,2,3],[0,0,1,3]]}
[{"$f":"HLOOKUP(ValidationData!A18,Phrases!B1:G34,6,FALSE)","v":"User Growth Table: Estimated Fetal Weight"},null,null,null,"Growth EFW"]
[null,null,null,null,{"$f":"ValidationData!DataVersion","v":"70.80.100.100"}]
[{"$f":"HLOOKUP(ValidationData!A18,Phrases!B1:G34,14,FALSE)","v":"Index"},{"$f":"HLOOKUP(ValidationData!A18,Phrases!B1:G34,15,FALSE)","v":"Weeks"},{"$f":"HLOOKUP(ValidationData!A18,Phrases!B1:G34,23,FALSE)","v":"Author"},null,null,null,null,{"$f":"IF(ISBLANK(E3), \"\", TRIM(E3))","v":""}]
[null,null,{"$f":"HLOOKUP(ValidationData!A18,Phrases!B1:G34,18,FALSE)","v":"Min"},{"$f":"HLOOKUP(ValidationData!A18,Phrases!B1:G34,19,FALSE)","v":"Mid"},{"$f":"HLOOKUP(ValidationData!A18,Phrases!B1:G34,20,FALSE)","v":"Max"},null,{"$f":"HLOOKUP(ValidationData!A18,Phrases!B1:G34,15,FALSE)","v":"Weeks"},{"$f":"HLOOKUP(ValidationData!A18,Phrases!B1:G34,18,FALSE)","v":"Min"},{"$f":"HLOOKUP(ValidationData!A18,Phrases!B1:G34,19,FALSE)","v":"Mid"},{"$f":"HLOOKUP(ValidationData!A18,Phrases!B1:G34,20,FALSE)","v":"Max"}]
[1]
[2]
[3]
[4]
[5]
[6]
[7]
[8]
[9]
[10]
[11]
[12]
[13]
[14]
[15]
[16]
[17]
[18]
[19]
[20]
[21]
[22]
[23]
[24]
[25]
[26]
[27]
[28]
[29]
[30]
[31]
[32]
[33]
[34]
[35]
[36]
[37]
[38]
[39]
[40]
[41]
[42]
[43]
[44]
[45]
[46]
[47]
[48]
[49]
[50]
[51]
[52]
[53]
[54]
[55]
[56]
[57]
[58]
[59]
[60]
[61]
[62]
[63]
[64]
[65]
[66]
[67]
[68]
[69]
[70]
[71]
[72]
[73]
[74]
[75]
[76]
[77]
[78]
[79]
[80]
[81]
[82]
[83]
[84]
[85]
[86]
[87]
[88]
[89]
[90]
[91]
[92]
[93]
[94]
[95]
[96]
[97]
[98]
[99]
[100]
[101]
[102]
[103]
[104]
[105]
[106]
[107]
[108]
[109]
[110]
[111]
[112]
[113]
[114]
[115]
[116]
[117]
[118]
[119]
[120]
[121]
[122]
[123]
[124]
[125]
[126]
[127]
[128]
[129]
[130]
[131]
[132]
[133]
[134]
[135]
[136]
[137]
[138]
[139]
[140]
[141]
[142]
[143]
[144]
[145]
[146]
[147]
[148]
[149]
[150]
[151]
[152]
[153]
[154]
[155]
[156]
[157]
[158]
[159]
[160]
[161]
[162]
[163]
[164]
[165]
[166]
[167]
[168]
[169]
[170]
[171]
[172]
[173]
[174]
[175]
[176]
[177]
[178]
[179]
[180]
[181]
[182]
[183]
[184]
[185]
[186]
[187]
[188]
[189]
[190]
[191]
[192]
[193]
[194]
[195]
[196]
[197]
[198]
[199]
[200]
[201]
[202]
[203]
[204]
[205]
[206]
[207]
[208]
[209]
[210]

{"sheet":"Growth - HC-AC","index":6,"n_rows":214,"n_cols":10,"rows_kept":214,"cut":false,"hidden":true,"merged":[[2,7,2,9],[2,0,3,0],[2,1,3,1],[2,2,2,3],[0,0,1,3]]}
[{"$f":"HLOOKUP(ValidationData!A18,Phrases!B1:G34,7,FALSE)","v":"User Growth Table: Ratio of Head to Abdominal Circumference"},null,null,null,"Growth HC/AC"]
[null,null,null,null,{"$f":"ValidationData!DataVersion","v":"70.80.100.100"}]
[{"$f":"HLOOKUP(ValidationData!A18,Phrases!B1:G34,14,FALSE)","v":"Index"},{"$f":"HLOOKUP(ValidationData!A18,Phrases!B1:G34,15,FALSE)","v":"Weeks"},{"$f":"HLOOKUP(ValidationData!A18,Phrases!B1:G34,23,FALSE)","v":"Author"},null,null,null,null,{"$f":"IF(ISBLANK(E3), \"\", TRIM(E3))","v":""}]
[null,null,{"$f":"HLOOKUP(ValidationData!A18,Phrases!B1:G34,18,FALSE)","v":"Min"},{"$f":"HLOOKUP(ValidationData!A18,Phrases!B1:G34,19,FALSE)","v":"Mid"},{"$f":"HLOOKUP(ValidationData!A18,Phrases!B1:G34,20,FALSE)","v":"Max"},null,{"$f":"HLOOKUP(ValidationData!A18,Phrases!B1:G34,15,FALSE)","v":"Weeks"},{"$f":"HLOOKUP(ValidationData!A18,Phrases!B1:G34,18,FALSE)","v":"Min"},{"$f":"HLOOKUP(ValidationData!A18,Phrases!B1:G34,19,FALSE)","v":"Mid"},{"$f":"HLOOKUP(ValidationData!A18,Phrases!B1:G34,20,FALSE)","v":"Max"}]
[1]
[2]
[3]
[4]
[5]
[6]
[7]
[8]
[9]
[10]
[11]
[12]
[13]
[14]
[15]
[16]
[17]
[18]
[19]
[20]
[21]
[22]
[23]
[24]
[25]
[26]
[27]
[28]
[29]
[30]
[31]
[32]
[33]
[34]
[35]
[36]
[37]
[38]
[39]
[40]
[41]
[42]
[43]
[44]
[45]
[46]
[47]
[48]
[49]
[50]
[51]
[52]
[53]
[54]
[55]
[56]
[57]
[58]
[59]
[60]
[61]
[62]
[63]
[64]
[65]
[66]
[67]
[68]
[69]
[70]
[71]
[72]
[73]
[74]
[75]
[76]
[77]
[78]
[79]
[80]
[81]
[82]
[83]
[84]
[85]
[86]
[87]
[88]
[89]
[90]
[91]
[92]
[93]
[94]
[95]
[96]
[97]
[98]
[99]
[100]
[101]
[102]
[103]
[104]
[105]
[106]
[107]
[108]
[109]
[110]
[111]
[112]
[113]
[114]
[115]
[116]
[117]
[118]
[119]
[120]
[121]
[122]
[123]
[124]
[125]
[126]
[127]
[128]
[129]
[130]
[131]
[132]
[133]
[134]
[135]
[136]
[137]
[138]
[139]
[140]
[141]
[142]
[143]
[144]
[145]
[146]
[147]
[148]
[149]
[150]
[151]
[152]
[153]
[154]
[155]
[156]
[157]
[158]
[159]
[160]
[161]
[162]
[163]
[164]
[165]
[166]
[167]
[168]
[169]
[170]
[171]
[172]
[173]
[174]
[175]
[176]
[177]
[178]
[179]
[180]
[181]
[182]
[183]
[184]
[185]
[186]
[187]
[188]
[189]
[190]
[191]
[192]
[193]
[194]
[195]
[196]
[197]
[198]
[199]
[200]
[201]
[202]
[203]
[204]
[205]
[206]
[207]
[208]
[209]
[210]

{"sheet":"Age - User Table|Label 1","index":7,"n_rows":126,"n_cols":14,"rows_kept":126,"cut":false,"hidden":true,"merged":[[2,0,5,0],[0,0,1,4],[2,1,2,3],[2,4,2,5],[3,1,3,3],[3,4,3,5],[4,1,4,3],[4,4,4,5]]}
[{"$f":"HLOOKUP(ValidationData!A18,Phrases!B1:G34,8,FALSE)","v":"AGE - User Table 1"},null,null,null,null,"Age User Table 1"]
[null,null,null,null,null,{"$f":"ValidationData!DataVersion","v":"70.80.100.100"}]
[{"$f":"HLOOKUP(ValidationData!A18,Phrases!B1:G34,14,FALSE)","v":"Index"},{"$f":"HLOOKUP(ValidationData!A18,Phrases!B1:G34,21,FALSE)","v":"Measurement Name"}]
[null,{"$f":"HLOOKUP(ValidationData!A18,Phrases!B1:G34,22,FALSE)","v":"Measurement Type"},null,null,null,null,null,null,null,{"$f":"CONCATENATE( IF(ISBLANK(TRIM(E3)), \"\", CONCATENATE( TRIM(E3), \" \")), E4 )","v":" "}]
[null,{"$f":"HLOOKUP(ValidationData!A18,Phrases!B1:G34,23,FALSE)","v":"Author"},null,null,null,null,null,null,null,{"$f":"IF(ISBLANK(E5), \"\", TRIM(E5))","v":""}]
[null,{"$f":"HLOOKUP(ValidationData!A18,Phrases!B1:G34,26,FALSE)","v":"Value"},{"$f":"HLOOKUP(ValidationData!A18,Phrases!B1:G34,27,FALSE)","v":"Age (weeks)"},{"$f":"HLOOKUP(ValidationData!A18,Phrases!B1:G34,28,FALSE)","v":"Age (days)"},{"$f":"HLOOKUP(ValidationData!A18,Phrases!B1:G34,29,FALSE)","v":"Range (weeks)"},{"$f":"HLOOKUP(ValidationData!A18,Phrases!B1:G34,30,FALSE)","v":"Range (days)"},null,null,null,"Value",{"$f":"HLOOKUP(ValidationData!A18,Phrases!B1:G62,61,FALSE)","v":"Range High"},{"$f":"HLOOKUP(ValidationData!A18,Phrases!B1:G62,62,FALSE)","v":"Range Low"},{"$f":"HLOOKUP(ValidationData!A18,Phrases!B1:G62,60,FALSE)","v":"Total Days"},"Range"]
[1,null,null,null,null,null,null,{"$f":"IF( ((C7*7)+D7) > 0, ((C7*7)+D7), \"\" )","v":""},{"$f":"IF( ((E7*7)+F7) > 0, ((E7*7)+F7), \"\" )","v":""},null,{"$f":"IF(ISBLANK(M7), \"\",IF(ISBLANK(N7),\"\",M7+N7))","v":""},{"$f":"IF(ISBLANK(M7),\"\",IF(ISBLANK(N7),\"\",IF((M7-N7)>=0,M7-N7,0)))","v":""}]
[2,null,null,null,null,null,null,{"$f":"IF( ((C8*7)+D8) > 0, ((C8*7)+D8), \"\" )","v":""},"",null,{"$f":"IF(ISBLANK(M8), \"\",IF(ISBLANK(N8),\"\",M8+N8))","v":""},{"$f":"IF(ISBLANK(M8),\"\",IF(ISBLANK(N8),\"\",IF((M8-N8)>=0,M8-N8,0)))","v":""}]
[3,null,null,null,null,null,null,"","",null,{"$f":"IF(ISBLANK(M9), \"\",IF(ISBLANK(N9),\"\",M9+N9))","v":""},""]
[4,null,null,null,null,null,null,"","",null,"",""]
[5,null,null,null,null,null,null,"","",null,"",""]
[6,null,null,null,null,null,null,"","",null,"",""]
[7,null,null,null,null,null,null,"","",null,"",""]
[8,null,null,null,null,null,null,"","",null,"",""]
[9,null,null,null,null,null,null,"","",null,"",""]
[10,null,null,null,null,null,null,"","",null,"",""]
[11,null,null,null,null,null,null,"","",null,"",""]
[12,null,null,null,null,null,null,"","",null,"",""]
[13,null,null,null,null,null,null,"","",null,"",""]
[14,null,null,null,null,null,null,"","",null,"",""]
[15,null,null,null,null,null,null,"","",null,"",""]
[16,null,null,null,null,null,null,"","",null,"",""]
[17,null,null,null,null,null,null,"","",null,"",""]
[18,null,null,null,null,null,null,"","",null,"",""]
[19,null,null,null,null,null,null,"","",null,"",""]
[20,null,null,null,null,null,null,"","",null,"",""]
[21,null,null,null,null,null,null,"","",null,"",""]
[22,null,null,null,null,null,null,"","",null,"",""]
[23,null,null,null,null,null,null,"","",null,"",""]
[24,null,null,null,null,null,null,"","",null,"",""]
[25,null,null,null,null,null,null,"","",null,"",""]
[26,null,null,null,null,null,null,"","",null,"",""]
[27,null,null,null,null,null,null,"","",null,"",""]
[28,null,null,null,null,null,null,"","",null,"",""]
[29,null,null,null,null,null,null,"","",null,"",""]
[30,null,null,null,null,null,null,"","",null,"",""]
[31,null,null,null,null,null,null,"","",null,"",""]
[32,null,null,null,null,null,null,"","",null,"",""]
[33,null,null,null,null,null,null,"",{"$f":"IF( ((E39*7)+F39) > 0, ((E39*7)+F39), \"\" )","v":""},null,"",""]
[34,null,null,null,null,null,null,"","",null,"",""]
[35,null,null,null,null,null,null,"","",null,{"$f":"IF(ISBLANK(M41), \"\",IF(ISBLANK(N41),\"\",M41+N41))","v":""},""]
[36,null,null,null,null,null,null,"","",null,"",""]
[37,null,null,null,null,null,null,"","",null,"",""]
[38,null,null,null,null,null,null,"","",null,"",""]
[39,null,null,null,null,null,null,"","",null,"",""]
[40,null,null,null,null,null,null,"","",null,"",""]
[41,null,null,null,null,null,null,"","",null,"",""]
[42,null,null,null,null,null,null,"","",null,"",""]
[43,null,null,null,null,null,null,"","",null,"",""]
[44,null,null,null,null,null,null,"","",null,"",""]
[45,null,null,null,null,null,null,"","",null,"",""]
[46,null,null,null,null,null,null,"","",null,"",""]
[47,null,null,null,null,null,null,"","",null,"",""]
[48,null,null,null,null,null,null,"","",null,"",""]
[49,null,null,null,null,null,null,"","",null,"",""]
[50,null,null,null,null,null,null,"","",null,"",""]
[51,null,null,null,null,null,null,"","",null,"",""]
[52,null,null,null,null,null,null,"","",null,"",""]
[53,null,null,null,null,null,null,"","",null,"",""]
[54,null,null,null,null,null,null,"","",null,"",""]
[55,null,null,null,null,null,null,"","",null,"",""]
[56,null,null,null,null,null,null,"","",null,"",""]
[57,null,null,null,null,null,null,"","",null,"",""]
[58,null,null,null,null,null,null,"","",null,"",""]
[59,null,null,null,null,null,null,"","",null,"",""]
[60,null,null,null,null,null,null,"","",null,"",""]
[61,null,null,null,null,null,null,"","",null,"",""]
[62,null,null,null,null,null,null,"","",null,"",""]
[63,null,null,null,null,null,null,"","",null,"",""]
[64,null,null,null,null,null,null,"","",null,"",""]
[65,null,null,null,null,null,null,"",{"$f":"IF( ((E71*7)+F71) > 0, ((E71*7)+F71), \"\" )","v":""},null,"",""]
[66,null,null,null,null,null,null,{"$f":"IF( ((C72*7)+D72) > 0, ((C72*7)+D72), \"\" )","v":""},"",null,"",{"$f":"IF(ISBLANK(M72),\"\",IF(ISBLANK(N72),\"\",IF((M72-N72)>=0,M72-N72,0)))","v":""}]
[67,null,null,null,null,null,null,"","",null,{"$f":"IF(ISBLANK(M73), \"\",IF(ISBLANK(N73),\"\",M73+N73))","v":""},""]
[68,null,null,null,null,null,null,"","",null,"",""]
[69,null,null,null,null,null,null,"","",null,"",""]
[70,null,null,null,null,null,null,"","",null,"",""]
[71,null,null,null,null,null,null,"","",null,"",""]
[72,null,null,null,null,null,null,"","",null,"",""]
[73,null,null,null,null,null,null,"","",null,"",""]
[74,null,null,null,null,null,null,"","",null,"",""]
[75,null,null,null,null,null,null,"","",null,"",""]
[76,null,null,null,null,null,null,"","",null,"",""]
[77,null,null,null,null,null,null,"","",null,"",""]
[78,null,null,null,null,null,null,"","",null,"",""]
[79,null,null,null,null,null,null,"","",null,"",""]
[80,null,null,null,null,null,null,"","",null,"",""]
[81,null,null,null,null,null,null,"","",null,"",""]
[82,null,null,null,null,null,null,"","",null,"",""]
[83,null,null,null,null,null,null,"","",null,"",""]
[84,null,null,null,null,null,null,"","",null,"",""]
[85,null,null,null,null,null,null,"","",null,"",""]
[86,null,null,null,null,null,null,"","",null,"",""]
[87,null,null,null,null,null,null,"","",null,"",""]
[88,null,null,null,null,null,null,"","",null,"",""]
[89,null,null,null,null,null,null,"","",null,"",""]
[90,null,null,null,null,null,null,"","",null,"",""]
[91,null,null,null,null,null,null,"","",null,"",""]
[92,null,null,null,null,null,null,"","",null,"",""]
[93,null,null,null,null,null,null,"","",null,"",""]
[94,null,null,null,null,null,null,"","",null,"",""]
[95,null,null,null,null,null,null,"","",null,"",""]
[96,null,null,null,null,null,null,"","",null,"",""]
[97,null,null,null,null,null,null,"",{"$f":"IF( ((E103*7)+F103) > 0, ((E103*7)+F103), \"\" )","v":""},null,"",""]
[98,null,null,null,null,null,null,"","",null,"",""]
[99,null,null,null,null,null,null,"","",null,{"$f":"IF(ISBLANK(M105), \"\",IF(ISBLANK(N105),\"\",M105+N105))","v":""},""]
[100,null,null,null,null,null,null,"","",null,"",""]
[101,null,null,null,null,null,null,"","",null,"",""]
[102,null,null,null,null,null,null,"","",null,"",""]
[103,null,null,null,null,null,null,"","",null,"",""]
[104,null,null,null,null,null,null,"","",null,"",""]
[105,null,null,null,null,null,null,"","",null,"",""]
[106,null,null,null,null,null,null,"","",null,"",""]
[107,null,null,null,null,null,null,"","",null,"",""]
[108,null,null,null,null,null,null,"","",null,"",""]
[109,null,null,null,null,null,null,"","",null,"",""]
[110,null,null,null,null,null,null,"","",null,"",""]
[111,null,null,null,null,null,null,"","",null,"",""]
[112,null,null,null,null,null,null,"","",null,"",""]
[113,null,null,null,null,null,null,"","",null,"",""]
[114,null,null,null,null,null,null,"","",null,"",""]
[115,null,null,null,null,null,null,"","",null,"",""]
[116,null,null,null,null,null,null,"","",null,"",""]
[117,null,null,null,null,null,null,"","",null,"",""]
[118,null,null,null,null,null,null,"","",null,"",""]
[119,null,null,null,null,null,null,"","",null,"",""]
[120,null,null,null,null,null,null,"","",null,"",""]

{"sheet":"Age - User Table|Label 2","index":8,"n_rows":126,"n_cols":14,"rows_kept":126,"cut":false,"hidden":true,"merged":[[2,0,5,0],[0,0,1,4],[2,1,2,3],[3,1,3,3],[2,4,2,5],[3,4,3,5],[4,1,4,3],[4,4,4,5]]}
[{"$f":"HLOOKUP(ValidationData!A18,Phrases!B1:G34,9,FALSE)","v":"AGE - User Table 2"},null,null,null,null,"Age User Table 2"]
[null,null,null,null,null,{"$f":"ValidationData!DataVersion","v":"70.80.100.100"}]
[{"$f":"HLOOKUP(ValidationData!A18,Phrases!B1:G34,14,FALSE)","v":"Index"},{"$f":"HLOOKUP(ValidationData!A18,Phrases!B1:G34,21,FALSE)","v":"Measurement Name"}]
[null,{"$f":"HLOOKUP(ValidationData!A18,Phrases!B1:G34,22,FALSE)","v":"Measurement Type"},null,null,null,null,null,null,null,{"$f":"CONCATENATE( IF(ISBLANK(TRIM(E3)), \"\", CONCATENATE( TRIM(E3), \" \")), E4 )","v":" "}]
[null,{"$f":"HLOOKUP(ValidationData!A18,Phrases!B1:G34,23,FALSE)","v":"Author"},null,null,null,null,null,null,null,{"$f":"IF(ISBLANK(E5), \"\", TRIM(E5))","v":""}]
[null,{"$f":"HLOOKUP(ValidationData!A18,Phrases!B1:G34,26,FALSE)","v":"Value"},{"$f":"HLOOKUP(ValidationData!A18,Phrases!B1:G34,27,FALSE)","v":"Age (weeks)"},{"$f":"HLOOKUP(ValidationData!A18,Phrases!B1:G34,28,FALSE)","v":"Age (days)"},{"$f":"HLOOKUP(ValidationData!A18,Phrases!B1:G34,29,FALSE)","v":"Range (weeks)"},{"$f":"HLOOKUP(ValidationData!A18,Phrases!B1:G34,30,FALSE)","v":"Range (days)"},null,null,null,"Value",{"$f":"HLOOKUP(ValidationData!A18,Phrases!B1:G62,61,FALSE)","v":"Range High"},{"$f":"HLOOKUP(ValidationData!A18,Phrases!B1:G62,62,FALSE)","v":"Range Low"},{"$f":"HLOOKUP(ValidationData!A18,Phrases!B1:G62,60,FALSE)","v":"Total Days"},"Range"]
[1,null,null,null,null,null,null,{"$f":"IF( ((C7*7)+D7) > 0, ((C7*7)+D7), \"\" )","v":""},{"$f":"IF( ((E7*7)+F7) > 0, ((E7*7)+F7), \"\" )","v":""},null,{"$f":"IF(ISBLANK(M7), \"\",IF(ISBLANK(N7),\"\",M7+N7))","v":""},{"$f":"IF(ISBLANK(M7),\"\",IF(ISBLANK(N7),\"\",IF((M7-N7)>=0,M7-N7,0)))","v":""}]
[2,null,null,null,null,null,null,{"$f":"IF( ((C8*7)+D8) > 0, ((C8*7)+D8), \"\" )","v":""},"",null,{"$f":"IF(ISBLANK(M8), \"\",IF(ISBLANK(N8),\"\",M8+N8))","v":""},{"$f":"IF(ISBLANK(M8),\"\",IF(ISBLANK(N8),\"\",IF((M8-N8)>=0,M8-N8,0)))","v":""}]
[3,null,null,null,null,null,null,"","",null,"",""]
[4,null,null,null,null,null,null,"","",null,"",""]
[5,null,null,null,null,null,null,"","",null,"",""]
[6,null,null,null,null,null,null,"","",null,"",""]
[7,null,null,null,null,null,null,"","",null,"",""]
[8,null,null,null,null,null,null,"","",null,"",""]
[9,null,null,null,null,null,null,"","",null,"",""]
[10,null,null,null,null,null,null,"","",null,"",""]
[11,null,null,null,null,null,null,"","",null,"",""]
[12,null,null,null,null,null,null,"","",null,"",""]
[13,null,null,null,null,null,null,"","",null,"",""]
[14,null,null,null,null,null,null,"","",null,"",""]
[15,null,null,null,null,null,null,"","",null,"",""]
[16,null,null,null,null,null,null,"","",null,"",""]
[17,null,null,null,null,null,null,"","",null,"",""]
[18,null,null,null,null,null,null,"","",null,"",""]
[19,null,null,null,null,null,null,"","",null,"",""]
[20,null,null,null,null,null,null,"","",null,"",""]
[21,null,null,null,null,null,null,"","",null,"",""]
[22,null,null,null,null,null,null,"","",null,"",""]
[23,null,null,null,null,null,null,"","",null,"",""]
[24,null,null,null,null,null,null,"","",null,"",""]
[25,null,null,null,null,null,null,"","",null,"",""]
[26,null,null,null,null,null,null,"","",null,"",""]
[27,null,null,null,null,null,null,"","",null,"",""]
[28,null,null,null,null,null,null,"","",null,"",""]
[29,null,null,null,null,null,null,"","",null,"",""]
[30,null,null,null,null,null,null,"","",null,"",""]
[31,null,null,null,null,null,null,"","",null,"",""]
[32,null,null,null,null,null,null,"","",null,"",""]
[33,null,null,null,null,null,null,"","",null,"",""]
[34,null,null,null,null,null,null,"","",null,"",""]
[35,null,null,null,null,null,null,"","",null,"",""]
[36,null,null,null,null,null,null,"","",null,"",""]
[37,null,null,null,null,null,null,"","",null,"",""]
[38,null,null,null,null,null,null,"","",null,"",""]
[39,null,null,null,null,null,null,"","",null,"",""]
[40,null,null,null,null,null,null,"","",null,"",""]
[41,null,null,null,null,null,null,"","",null,"",""]
[42,null,null,null,null,null,null,"","",null,"",""]
[43,null,null,null,null,null,null,"","",null,"",""]
[44,null,null,null,null,null,null,"","",null,"",""]
[45,null,null,null,null,null,null,"","",null,"",""]
[46,null,null,null,null,null,null,"","",null,"",""]
[47,null,null,null,null,null,null,"","",null,"",""]
[48,null,null,null,null,null,null,"","",null,"",""]
[49,null,null,null,null,null,null,"","",null,"",""]
[50,null,null,null,null,null,null,"","",null,"",""]
[51,null,null,null,null,null,null,"","",null,"",""]
[52,null,null,null,null,null,null,"","",null,"",""]
[53,null,null,null,null,null,null,"","",null,"",""]
[54,null,null,null,null,null,null,"","",null,"",""]
[55,null,null,null,null,null,null,"","",null,"",""]
[56,null,null,null,null,null,null,"","",null,"",""]
[57,null,null,null,null,null,null,"","",null,"",""]
[58,null,null,null,null,null,null,"","",null,"",""]
[59,null,null,null,null,null,null,"","",null,"",""]
[60,null,null,null,null,null,null,"","",null,"",""]
[61,null,null,null,null,null,null,"","",null,"",""]
[62,null,null,null,null,null,null,"","",null,"",""]
[63,null,null,null,null,null,null,"","",null,"",""]
[64,null,null,null,null,null,null,"","",null,"",""]
[65,null,null,null,null,null,null,"",{"$f":"IF( ((E71*7)+F71) > 0, ((E71*7)+F71), \"\" )","v":""},null,"",""]
[66,null,null,null,null,null,null,{"$f":"IF( ((C72*7)+D72) > 0, ((C72*7)+D72), \"\" )","v":""},"",null,{"$f":"IF(ISBLANK(M72), \"\",IF(ISBLANK(N72),\"\",M72+N72))","v":""},{"$f":"IF(ISBLANK(M72),\"\",IF(ISBLANK(N72),\"\",IF((M72-N72)>=0,M72-N72,0)))","v":""}]
[67,null,null,null,null,null,null,"","",null,"",""]
[68,null,null,null,null,null,null,"","",null,"",""]
[69,null,null,null,null,null,null,"","",null,"",""]
[70,null,null,null,null,null,null,"","",null,"",""]
[71,null,null,null,null,null,null,"","",null,"",""]
[72,null,null,null,null,null,null,"","",null,"",""]
[73,null,null,null,null,null,null,"","",null,"",""]
[74,null,null,null,null,null,null,"","",null,"",""]
[75,null,null,null,null,null,null,"","",null,"",""]
[76,null,null,null,null,null,null,"","",null,"",""]
[77,null,null,null,null,null,null,"","",null,"",""]
[78,null,null,null,null,null,null,"","",null,"",""]
[79,null,null,null,null,null,null,"","",null,"",""]
[80,null,null,null,null,null,null,"","",null,"",""]
[81,null,null,null,null,null,null,"","",null,"",""]
[82,null,null,null,null,null,null,"","",null,"",""]
[83,null,null,null,null,null,null,"","",null,"",""]
[84,null,null,null,null,null,null,"","",null,"",""]
[85,null,null,null,null,null,null,"","",null,"",""]
[86,null,null,null,null,null,null,"","",null,"",""]
[87,null,null,null,null,null,null,"","",null,"",""]
[88,null,null,null,null,null,null,"","",null,"",""]
[89,null,null,null,null,null,null,"","",null,"",""]
[90,null,null,null,null,null,null,"","",null,"",""]
[91,null,null,null,null,null,null,"","",null,"",""]
[92,null,null,null,null,null,null,"","",null,"",""]
[93,null,null,null,null,null,null,"","",null,"",""]
[94,null,null,null,null,null,null,"","",null,"",""]
[95,null,null,null,null,null,null,"","",null,"",""]
[96,null,null,null,null,null,null,"","",null,"",""]
[97,null,null,null,null,null,null,"","",null,"",""]
[98,null,null,null,null,null,null,"","",null,"",""]
[99,null,null,null,null,null,null,"","",null,"",""]
[100,null,null,null,null,null,null,"","",null,"",""]
[101,null,null,null,null,null,null,"","",null,"",""]
[102,null,null,null,null,null,null,"","",null,"",""]
[103,null,null,null,null,null,null,"","",null,"",""]
[104,null,null,null,null,null,null,"","",null,"",""]
[105,null,null,null,null,null,null,"","",null,"",""]
[106,null,null,null,null,null,null,"","",null,"",""]
[107,null,null,null,null,null,null,"","",null,"",""]
[108,null,null,null,null,null,null,"","",null,"",""]
[109,null,null,null,null,null,null,"","",null,"",""]
[110,null,null,null,null,null,null,"","",null,"",""]
[111,null,null,null,null,null,null,"","",null,"",""]
[112,null,null,null,null,null,null,"","",null,"",""]
[113,null,null,null,null,null,null,"","",null,"",""]
[114,null,null,null,null,null,null,"","",null,"",""]
[115,null,null,null,null,null,null,"","",null,"",""]
[116,null,null,null,null,null,null,"","",null,"",""]
[117,null,null,null,null,null,null,"","",null,"",""]
[118,null,null,null,null,null,null,"","",null,"",""]
[119,null,null,null,null,null,null,"","",null,"",""]
[120,null,null,null,null,null,null,"","",null,"",""]

{"sheet":"Age - User Table|Label 3","index":9,"n_rows":126,"n_cols":14,"rows_kept":126,"cut":false,"hidden":true,"merged":[[2,0,5,0],[0,0,1,4],[2,1,2,3],[2,4,2,5],[3,1,3,3],[3,4,3,5],[4,1,4,3],[4,4,4,5]]}
[{"$f":"HLOOKUP(ValidationData!A18,Phrases!B1:G34,10,FALSE)","v":"AGE - User Table 3"},null,null,null,null,"Age User Table 3"]
[null,null,null,null,null,{"$f":"ValidationData!DataVersion","v":"70.80.100.100"}]
[{"$f":"HLOOKUP(ValidationData!A18,Phrases!B1:G34,14,FALSE)","v":"Index"},{"$f":"HLOOKUP(ValidationData!A18,Phrases!B1:G34,21,FALSE)","v":"Measurement Name"}]
[null,{"$f":"HLOOKUP(ValidationData!A18,Phrases!B1:G34,22,FALSE)","v":"Measurement Type"},null,null,null,null,null,null,null,{"$f":"CONCATENATE( IF(ISBLANK(TRIM(E3)), \"\", CONCATENATE( TRIM(E3), \" \")), E4 )","v":" "}]
[null,{"$f":"HLOOKUP(ValidationData!A18,Phrases!B1:G34,23,FALSE)","v":"Author"},null,null,null,null,null,null,null,{"$f":"IF(ISBLANK(E5), \"\", TRIM(E5))","v":""}]
[null,{"$f":"HLOOKUP(ValidationData!A18,Phrases!B1:G34,26,FALSE)","v":"Value"},{"$f":"HLOOKUP(ValidationData!A18,Phrases!B1:G34,27,FALSE)","v":"Age (weeks)"},{"$f":"HLOOKUP(ValidationData!A18,Phrases!B1:G34,28,FALSE)","v":"Age (days)"},{"$f":"HLOOKUP(ValidationData!A18,Phrases!B1:G34,29,FALSE)","v":"Range (weeks)"},{"$f":"HLOOKUP(ValidationData!A18,Phrases!B1:G34,30,FALSE)","v":"Range (days)"},null,null,null,"Value",{"$f":"HLOOKUP(ValidationData!A18,Phrases!B1:G62,61,FALSE)","v":"Range High"},{"$f":"HLOOKUP(ValidationData!A18,Phrases!B1:G62,62,FALSE)","v":"Range Low"},{"$f":"HLOOKUP(ValidationData!A18,Phrases!B1:G62,60,FALSE)","v":"Total Days"},"Range"]
[1,null,null,null,null,null,null,{"$f":"IF( ((C7*7)+D7) > 0, ((C7*7)+D7), \"\" )","v":""},{"$f":"IF( ((E7*7)+F7) > 0, ((E7*7)+F7), \"\" )","v":""},null,{"$f":"IF(ISBLANK(M7), \"\",IF(ISBLANK(N7),\"\",M7+N7))","v":""},{"$f":"IF(ISBLANK(M7),\"\",IF(ISBLANK(N7),\"\",IF((M7-N7)>=0,M7-N7,0)))","v":""}]
[2,null,null,null,null,null,null,{"$f":"IF( ((C8*7)+D8) > 0, ((C8*7)+D8), \"\" )","v":""},"",null,{"$f":"IF(ISBLANK(M8), \"\",IF(ISBLANK(N8),\"\",M8+N8))","v":""},{"$f":"IF(ISBLANK(M8),\"\",IF(ISBLANK(N8),\"\",IF((M8-N8)>=0,M8-N8,0)))","v":""}]
[3,null,null,null,null,null,null,"","",null,{"$f":"IF(ISBLANK(M9), \"\",IF(ISBLANK(N9),\"\",M9+N9))","v":""},""]
[4,null,null,null,null,null,null,"","",null,"",""]
[5,null,null,null,null,null,null,"","",null,"",""]
[6,null,null,null,null,null,null,"","",null,"",""]
[7,null,null,null,null,null,null,"","",null,"",""]
[8,null,null,null,null,null,null,"","",null,"",""]
[9,null,null,null,null,null,null,"","",null,"",""]
[10,null,null,null,null,null,null,"","",null,"",""]
[11,null,null,null,null,null,null,"","",null,"",""]
[12,null,null,null,null,null,null,"","",null,"",""]
[13,null,null,null,null,null,null,"","",null,"",""]
[14,null,null,null,null,null,null,"","",null,"",""]
[15,null,null,null,null,null,null,"","",null,"",""]
[16,null,null,null,null,null,null,"","",null,"",""]
[17,null,null,null,null,null,null,"","",null,"",""]
[18,null,null,null,null,null,null,"","",null,"",""]
[19,null,null,null,null,null,null,"","",null,"",""]
[20,null,null,null,null,null,null,"","",null,"",""]
[21,null,null,null,null,null,null,"","",null,"",""]
[22,null,null,null,null,null,null,"","",null,"",""]
[23,null,null,null,null,null,null,"","",null,"",""]
[24,null,null,null,null,null,null,"","",null,"",""]
[25,null,null,null,null,null,null,"","",null,"",""]
[26,null,null,null,null,null,null,"","",null,"",""]
[27,null,null,null,null,null,null,"","",null,"",""]
[28,null,null,null,null,null,null,"","",null,"",""]
[29,null,null,null,null,null,null,"","",null,"",""]
[30,null,null,null,null,null,null,"","",null,"",""]
[31,null,null,null,null,null,null,"","",null,"",""]
[32,null,null,null,null,null,null,"","",null,"",""]
[33,null,null,null,null,null,null,"","",null,"",""]
[34,null,null,null,null,null,null,"","",null,"",""]
[35,null,null,null,null,null,null,"","",null,{"$f":"IF(ISBLANK(M41), \"\",IF(ISBLANK(N41),\"\",M41+N41))","v":""},""]
[36,null,null,null,null,null,null,"","",null,"",""]
[37,null,null,null,null,null,null,"","",null,"",""]
[38,null,null,null,null,null,null,"","",null,"",""]
[39,null,null,null,null,null,null,"","",null,"",""]
[40,null,null,null,null,null,null,"","",null,"",""]
[41,null,null,null,null,null,null,"","",null,"",""]
[42,null,null,null,null,null,null,"","",null,"",""]
[43,null,null,null,null,null,null,"","",null,"",""]
[44,null,null,null,null,null,null,"","",null,"",""]
[45,null,null,null,null,null,null,"","",null,"",""]
[46,null,null,null,null,null,null,"","",null,"",""]
[47,null,null,null,null,null,null,"","",null,"",""]
[48,null,null,null,null,null,null,"","",null,"",""]
[49,null,null,null,null,null,null,"","",null,"",""]
[50,null,null,null,null,null,null,"","",null,"",""]
[51,null,null,null,null,null,null,"","",null,"",""]
[52,null,null,null,null,null,null,"","",null,"",""]
[53,null,null,null,null,null,null,"","",null,"",""]
[54,null,null,null,null,null,null,"","",null,"",""]
[55,null,null,null,null,null,null,"","",null,"",""]
[56,null,null,null,null,null,null,"","",null,"",""]
[57,null,null,null,null,null,null,"","",null,"",""]
[58,null,null,null,null,null,null,"","",null,"",""]
[59,null,null,null,null,null,null,"","",null,"",""]
[60,null,null,null,null,null,null,"","",null,"",""]
[61,null,null,null,null,null,null,"","",null,"",""]
[62,null,null,null,null,null,null,"","",null,"",""]
[63,null,null,null,null,null,null,"","",null,"",""]
[64,null,null,null,null,null,null,"","",null,"",""]
[65,null,null,null,null,null,null,"",{"$f":"IF( ((E71*7)+F71) > 0, ((E71*7)+F71), \"\" )","v":""},null,"",""]
[66,null,null,null,null,null,null,{"$f":"IF( ((C72*7)+D72) > 0, ((C72*7)+D72), \"\" )","v":""},"",null,"",{"$f":"IF(ISBLANK(M72),\"\",IF(ISBLANK(N72),\"\",IF((M72-N72)>=0,M72-N72,0)))","v":""}]
[67,null,null,null,null,null,null,"","",null,{"$f":"IF(ISBLANK(M73), \"\",IF(ISBLANK(N73),\"\",M73+N73))","v":""},""]
[68,null,null,null,null,null,null,"","",null,"",""]
[69,null,null,null,null,null,null,"","",null,"",""]
[70,null,null,null,null,null,null,"","",null,"",""]
[71,null,null,null,null,null,null,"","",null,"",""]
[72,null,null,null,null,null,null,"","",null,"",""]
[73,null,null,null,null,null,null,"","",null,"",""]
[74,null,null,null,null,null,null,"","",null,"",""]
[75,null,null,null,null,null,null,"","",null,"",""]
[76,null,null,null,null,null,null,"","",null,"",""]
[77,null,null,null,null,null,null,"","",null,"",""]
[78,null,null,null,null,null,null,"","",null,"",""]
[79,null,null,null,null,null,null,"","",null,"",""]
[80,null,null,null,null,null,null,"","",null,"",""]
[81,null,null,null,null,null,null,"","",null,"",""]
[82,null,null,null,null,null,null,"","",null,"",""]
[83,null,null,null,null,null,null,"","",null,"",""]
[84,null,null,null,null,null,null,"","",null,"",""]
[85,null,null,null,null,null,null,"","",null,"",""]
[86,null,null,null,null,null,null,"","",null,"",""]
[87,null,null,null,null,null,null,"","",null,"",""]
[88,null,null,null,null,null,null,"","",null,"",""]
[89,null,null,null,null,null,null,"","",null,"",""]
[90,null,null,null,null,null,null,"","",null,"",""]
[91,null,null,null,null,null,null,"","",null,"",""]
[92,null,null,null,null,null,null,"","",null,"",""]
[93,null,null,null,null,null,null,"","",null,"",""]
[94,null,null,null,null,null,null,"","",null,"",""]
[95,null,null,null,null,null,null,"","",null,"",""]
[96,null,null,null,null,null,null,"","",null,"",""]
[97,null,null,null,null,null,null,"","",null,"",""]
[98,null,null,null,null,null,null,"","",null,"",""]
[99,null,null,null,null,null,null,"","",null,{"$f":"IF(ISBLANK(M105), \"\",IF(ISBLANK(N105),\"\",M105+N105))","v":""},""]
[100,null,null,null,null,null,null,"","",null,"",""]
[101,null,null,null,null,null,null,"","",null,"",""]
[102,null,null,null,null,null,null,"","",null,"",""]
[103,null,null,null,null,null,null,"","",null,"",""]
[104,null,null,null,null,null,null,"","",null,"",""]
[105,null,null,null,null,null,null,"","",null,"",""]
[106,null,null,null,null,null,null,"","",null,"",""]
[107,null,null,null,null,null,null,"","",null,"",""]
[108,null,null,null,null,null,null,"","",null,"",""]
[109,null,null,null,null,null,null,"","",null,"",""]
[110,null,null,null,null,null,null,"","",null,"",""]
[111,null,null,null,null,null,null,"","",null,"",""]
[112,null,null,null,null,null,null,"","",null,"",""]
[113,null,null,null,null,null,null,"","",null,"",""]
[114,null,null,null,null,null,null,"","",null,"",""]
[115,null,null,null,null,null,null,"","",null,"",""]
[116,null,null,null,null,null,null,"","",null,"",""]
[117,null,null,null,null,null,null,"","",null,"",""]
[118,null,null,null,null,null,null,"","",null,"",""]
[119,null,null,null,null,null,null,"","",null,"",""]
[120,null,null,null,null,null,null,"","",null,"",""]

{"sheet":"Age - User Table|Label 4","index":10,"n_rows":126,"n_cols":14,"rows_kept":126,"cut":false,"hidden":true,"merged":[[2,0,5,0],[0,0,1,4],[2,1,2,3],[2,4,2,5],[3,1,3,3],[3,4,3,5],[4,1,4,3],[4,4,4,5]]}
[{"$f":"HLOOKUP(ValidationData!A18,Phrases!B1:G34,11,FALSE)","v":"AGE - User Table 4"},null,null,null,null,"Age User Table 4"]
[null,null,null,null,null,{"$f":"ValidationData!DataVersion","v":"70.80.100.100"}]
[{"$f":"HLOOKUP(ValidationData!A18,Phrases!B1:G34,14,FALSE)","v":"Index"},{"$f":"HLOOKUP(ValidationData!A18,Phrases!B1:G34,21,FALSE)","v":"Measurement Name"}]
[null,{"$f":"HLOOKUP(ValidationData!A18,Phrases!B1:G34,22,FALSE)","v":"Measurement Type"},null,null,null,null,null,null,null,{"$f":"CONCATENATE( IF(ISBLANK(TRIM(E3)), \"\", CONCATENATE( TRIM(E3), \" \")), E4 )","v":" "}]
[null,{"$f":"HLOOKUP(ValidationData!A18,Phrases!B1:G34,23,FALSE)","v":"Author"},null,null,null,null,null,null,null,{"$f":"IF(ISBLANK(E5), \"\", TRIM(E5))","v":""}]
[null,{"$f":"HLOOKUP(ValidationData!A18,Phrases!B1:G34,26,FALSE)","v":"Value"},{"$f":"HLOOKUP(ValidationData!A18,Phrases!B1:G34,27,FALSE)","v":"Age (weeks)"},{"$f":"HLOOKUP(ValidationData!A18,Phrases!B1:G34,28,FALSE)","v":"Age (days)"},{"$f":"HLOOKUP(ValidationData!A18,Phrases!B1:G34,29,FALSE)","v":"Range (weeks)"},{"$f":"HLOOKUP(ValidationData!A18,Phrases!B1:G34,30,FALSE)","v":"Range (days)"},null,null,null,"Value",{"$f":"HLOOKUP(ValidationData!A18,Phrases!B1:G62,61,FALSE)","v":"Range High"},{"$f":"HLOOKUP(ValidationData!A18,Phrases!B1:G62,62,FALSE)","v":"Range Low"},{"$f":"HLOOKUP(ValidationData!A18,Phrases!B1:G62,60,FALSE)","v":"Total Days"},"Range"]
[1,null,null,null,null,null,null,{"$f":"IF( ((C7*7)+D7) > 0, ((C7*7)+D7), \"\" )","v":""},{"$f":"IF( ((E7*7)+F7) > 0, ((E7*7)+F7), \"\" )","v":""},null,{"$f":"IF(ISBLANK(M7), \"\",IF(ISBLANK(N7),\"\",M7+N7))","v":""},{"$f":"IF(ISBLANK(M7),\"\",IF(ISBLANK(N7),\"\",IF((M7-N7)>=0,M7-N7,0)))","v":""}]
[2,null,null,null,null,null,null,{"$f":"IF( ((C8*7)+D8) > 0, ((C8*7)+D8), \"\" )","v":""},"",null,{"$f":"IF(ISBLANK(M8), \"\",IF(ISBLANK(N8),\"\",M8+N8))","v":""},{"$f":"IF(ISBLANK(M8),\"\",IF(ISBLANK(N8),\"\",IF((M8-N8)>=0,M8-N8,0)))","v":""}]
[3,null,null,null,null,null,null,"","",null,{"$f":"IF(ISBLANK(M9), \"\",IF(ISBLANK(N9),\"\",M9+N9))","v":""},""]
[4,null,null,null,null,null,null,"","",null,"",""]
[5,null,null,null,null,null,null,"","",null,"",""]
[6,null,null,null,null,null,null,"","",null,"",""]
[7,null,null,null,null,null,null,"","",null,"",""]
[8,null,null,null,null,null,null,"","",null,"",""]
[9,null,null,null,null,null,null,"","",null,"",""]
[10,null,null,null,null,null,null,"","",null,"",""]
[11,null,null,null,null,null,null,"","",null,"",""]
[12,null,null,null,null,null,null,"","",null,"",""]
[13,null,null,null,null,null,null,"","",null,"",""]
[14,null,null,null,null,null,null,"","",null,"",""]
[15,null,null,null,null,null,null,"","",null,"",""]
[16,null,null,null,null,null,null,"","",null,"",""]
[17,null,null,null,null,null,null,"","",null,"",""]
[18,null,null,null,null,null,null,"","",null,"",""]
[19,null,null,null,null,null,null,"","",null,"",""]
[20,null,null,null,null,null,null,"","",null,"",""]
[21,null,null,null,null,null,null,"","",null,"",""]
[22,null,null,null,null,null,null,"","",null,"",""]
[23,null,null,null,null,null,null,"","",null,"",""]
[24,null,null,null,null,null,null,"","",null,"",""]
[25,null,null,null,null,null,null,"","",null,"",""]
[26,null,null,null,null,null,null,"","",null,"",""]
[27,null,null,null,null,null,null,"","",null,"",""]
[28,null,null,null,null,null,null,"","",null,"",""]
[29,null,null,null,null,null,null,"","",null,"",""]
[30,null,null,null,null,null,null,"","",null,"",""]
[31,null,null,null,null,null,null,"","",null,"",""]
[32,null,null,null,null,null,null,"","",null,"",""]
[33,null,null,null,null,null,null,"","",null,"",""]
[34,null,null,null,null,null,null,"","",null,"",""]
[35,null,null,null,null,null,null,"","",null,{"$f":"IF(ISBLANK(M41), \"\",IF(ISBLANK(N41),\"\",M41+N41))","v":""},""]
[36,null,null,null,null,null,null,"","",null,"",""]
[37,null,null,null,null,null,null,"","",null,"",""]
[38,null,null,null,null,null,null,"","",null,"",""]
[39,null,null,null,null,null,null,"","",null,"",""]
[40,null,null,null,null,null,null,"","",null,"",""]
[41,null,null,null,null,null,null,"","",null,"",""]
[42,null,null,null,null,null,null,"","",null,"",""]
[43,null,null,null,null,null,null,"","",null,"",""]
[44,null,null,null,null,null,null,"","",null,"",""]
[45,null,null,null,null,null,null,"","",null,"",""]
[46,null,null,null,null,null,null,"","",null,"",""]
[47,null,null,null,null,null,null,"","",null,"",""]
[48,null,null,null,null,null,null,"","",null,"",""]
[49,null,null,null,null,null,null,"","",null,"",""]
[50,null,null,null,null,null,null,"","",null,"",""]
[51,null,null,null,null,null,null,"","",null,"",""]
[52,null,null,null,null,null,null,"","",null,"",""]
[53,null,null,null,null,null,null,"","",null,"",""]
[54,null,null,null,null,null,null,"","",null,"",""]
[55,null,null,null,null,null,null,"","",null,"",""]
[56,null,null,null,null,null,null,"","",null,"",""]
[57,null,null,null,null,null,null,"","",null,"",""]
[58,null,null,null,null,null,null,"","",null,"",""]
[59,null,null,null,null,null,null,"","",null,"",""]
[60,null,null,null,null,null,null,"","",null,"",""]
[61,null,null,null,null,null,null,"","",null,"",""]
[62,null,null,null,null,null,null,"","",null,"",""]
[63,null,null,null,null,null,null,"","",null,"",""]
[64,null,null,null,null,null,null,"","",null,"",""]
[65,null,null,null,null,null,null,"",{"$f":"IF( ((E71*7)+F71) > 0, ((E71*7)+F71), \"\" )","v":""},null,"",""]
[66,null,null,null,null,null,null,{"$f":"IF( ((C72*7)+D72) > 0, ((C72*7)+D72), \"\" )","v":""},"",null,"",{"$f":"IF(ISBLANK(M72),\"\",IF(ISBLANK(N72),\"\",IF((M72-N72)>=0,M72-N72,0)))","v":""}]
[67,null,null,null,null,null,null,"","",null,{"$f":"IF(ISBLANK(M73), \"\",IF(ISBLANK(N73),\"\",M73+N73))","v":""},""]
[68,null,null,null,null,null,null,"","",null,"",""]
[69,null,null,null,null,null,null,"","",null,"",""]
[70,null,null,null,null,null,null,"","",null,"",""]
[71,null,null,null,null,null,null,"","",null,"",""]
[72,null,null,null,null,null,null,"","",null,"",""]
[73,null,null,null,null,null,null,"","",null,"",""]
[74,null,null,null,null,null,null,"","",null,"",""]
[75,null,null,null,null,null,null,"","",null,"",""]
[76,null,null,null,null,null,null,"","",null,"",""]
[77,null,null,null,null,null,null,"","",null,"",""]
[78,null,null,null,null,null,null,"","",null,"",""]
[79,null,null,null,null,null,null,"","",null,"",""]
[80,null,null,null,null,null,null,"","",null,"",""]
[81,null,null,null,null,null,null,"","",null,"",""]
[82,null,null,null,null,null,null,"","",null,"",""]
[83,null,null,null,null,null,null,"","",null,"",""]
[84,null,null,null,null,null,null,"","",null,"",""]
[85,null,null,null,null,null,null,"","",null,"",""]
[86,null,null,null,null,null,null,"","",null,"",""]
[87,null,null,null,null,null,null,"","",null,"",""]
[88,null,null,null,null,null,null,"","",null,"",""]
[89,null,null,null,null,null,null,"","",null,"",""]
[90,null,null,null,null,null,null,"","",null,"",""]
[91,null,null,null,null,null,null,"","",null,"",""]
[92,null,null,null,null,null,null,"","",null,"",""]
[93,null,null,null,null,null,null,"","",null,"",""]
[94,null,null,null,null,null,null,"","",null,"",""]
[95,null,null,null,null,null,null,"","",null,"",""]
[96,null,null,null,null,null,null,"","",null,"",""]
[97,null,null,null,null,null,null,"","",null,"",""]
[98,null,null,null,null,null,null,"","",null,"",""]
[99,null,null,null,null,null,null,"","",null,{"$f":"IF(ISBLANK(M105), \"\",IF(ISBLANK(N105),\"\",M105+N105))","v":""},""]
[100,null,null,null,null,null,null,"","",null,"",""]
[101,null,null,null,null,null,null,"","",null,"",""]
[102,null,null,null,null,null,null,"","",null,"",""]
[103,null,null,null,null,null,null,"","",null,"",""]
[104,null,null,null,null,null,null,"","",null,"",""]
[105,null,null,null,null,null,null,"","",null,"",""]
[106,null,null,null,null,null,null,"","",null,"",""]
[107,null,null,null,null,null,null,"","",null,"",""]
[108,null,null,null,null,null,null,"","",null,"",""]
[109,null,null,null,null,null,null,"","",null,"",""]
[110,null,null,null,null,null,null,"","",null,"",""]
[111,null,null,null,null,null,null,"","",null,"",""]
[112,null,null,null,null,null,null,"","",null,"",""]
[113,null,null,null,null,null,null,"","",null,"",""]
[114,null,null,null,null,null,null,"","",null,"",""]
[115,null,null,null,null,null,null,"","",null,"",""]
[116,null,null,null,null,null,null,"","",null,"",""]
[117,null,null,null,null,null,null,"","",null,"",""]
[118,null,null,null,null,null,null,"","",null,"",""]
[119,null,null,null,null,null,null,"","",null,"",""]
[120,null,null,null,null,null,null,"","",null,"",""]

{"sheet":"Age - User Table|Label 5","index":11,"n_rows":126,"n_cols":14,"rows_kept":126,"cut":false,"hidden":true,"merged":[[2,0,5,0],[0,0,1,4],[2,1,2,3],[2,4,2,5],[3,1,3,3],[3,4,3,5],[4,1,4,3],[4,4,4,5]]}
[{"$f":"HLOOKUP(ValidationData!A18,Phrases!B1:G34,12,FALSE)","v":"AGE - User Table 5"},null,null,null,null,"Age User Table 5"]
[null,null,null,null,null,{"$f":"ValidationData!DataVersion","v":"70.80.100.100"}]
[{"$f":"HLOOKUP(ValidationData!A18,Phrases!B1:G34,14,FALSE)","v":"Index"},{"$f":"HLOOKUP(ValidationData!A18,Phrases!B1:G34,21,FALSE)","v":"Measurement Name"}]
[null,{"$f":"HLOOKUP(ValidationData!A18,Phrases!B1:G34,22,FALSE)","v":"Measurement Type"},null,null,null,null,null,null,null,{"$f":"CONCATENATE( IF(ISBLANK(E3), \"\", CONCATENATE( E3, \" \")), E4 )","v":""}]
[null,{"$f":"HLOOKUP(ValidationData!A18,Phrases!B1:G34,23,FALSE)","v":"Author"},null,null,null,null,null,null,null,{"$f":"IF(ISBLANK(E5), \"\", TRIM(E5))","v":""}]
[null,{"$f":"HLOOKUP(ValidationData!A18,Phrases!B1:G34,26,FALSE)","v":"Value"},{"$f":"HLOOKUP(ValidationData!A18,Phrases!B1:G34,27,FALSE)","v":"Age (weeks)"},{"$f":"HLOOKUP(ValidationData!A18,Phrases!B1:G34,28,FALSE)","v":"Age (days)"},{"$f":"HLOOKUP(ValidationData!A18,Phrases!B1:G34,29,FALSE)","v":"Range (weeks)"},{"$f":"HLOOKUP(ValidationData!A18,Phrases!B1:G34,30,FALSE)","v":"Range (days)"},null,null,null,"Value",{"$f":"HLOOKUP(ValidationData!A18,Phrases!B1:G62,61,FALSE)","v":"Range High"},{"$f":"HLOOKUP(ValidationData!A18,Phrases!B1:G62,62,FALSE)","v":"Range Low"},{"$f":"HLOOKUP(ValidationData!A18,Phrases!B1:G62,60,FALSE)","v":"Total Days"},"Range"]
[1,null,null,null,null,null,null,{"$f":"IF( ((C7*7)+D7) > 0, ((C7*7)+D7), \"\" )","v":""},{"$f":"IF( ((E7*7)+F7) > 0, ((E7*7)+F7), \"\" )","v":""},null,{"$f":"IF(ISBLANK(M7), \"\",IF(ISBLANK(N7),\"\",M7+N7))","v":""},{"$f":"IF(ISBLANK(M7),\"\",IF(ISBLANK(N7),\"\",IF((M7-N7)>=0,M7-N7,0)))","v":""}]
[2,null,null,null,null,null,null,{"$f":"IF( ((C8*7)+D8) > 0, ((C8*7)+D8), \"\" )","v":""},"",null,{"$f":"IF(ISBLANK(M8), \"\",IF(ISBLANK(N8),\"\",M8+N8))","v":""},{"$f":"IF(ISBLANK(M8),\"\",IF(ISBLANK(N8),\"\",IF((M8-N8)>=0,M8-N8,0)))","v":""}]
[3,null,null,null,null,null,null,"","",null,{"$f":"IF(ISBLANK(M9), \"\",IF(ISBLANK(N9),\"\",M9+N9))","v":""},""]
[4,null,null,null,null,null,null,"","",null,"",""]
[5,null,null,null,null,null,null,"","",null,"",""]
[6,null,null,null,null,null,null,"","",null,"",""]
[7,null,null,null,null,null,null,"","",null,"",""]
[8,null,null,null,null,null,null,"","",null,"",""]
[9,null,null,null,null,null,null,"","",null,"",""]
[10,null,null,null,null,null,null,"","",null,"",""]
[11,null,null,null,null,null,null,"","",null,"",""]
[12,null,null,null,null,null,null,"","",null,"",""]
[13,null,null,null,null,null,null,"","",null,"",""]
[14,null,null,null,null,null,null,"","",null,"",""]
[15,null,null,null,null,null,null,"","",null,"",""]
[16,null,null,null,null,null,null,"","",null,"",""]
[17,null,null,null,null,null,null,"","",null,"",""]
[18,null,null,null,null,null,null,"","",null,"",""]
[19,null,null,null,null,null,null,"","",null,"",""]
[20,null,null,null,null,null,null,"","",null,"",""]
[21,null,null,null,null,null,null,"","",null,"",""]
[22,null,null,null,null,null,null,"","",null,"",""]
[23,null,null,null,null,null,null,"","",null,"",""]
[24,null,null,null,null,null,null,"","",null,"",""]
[25,null,null,null,null,null,null,"","",null,"",""]
[26,null,null,null,null,null,null,"","",null,"",""]
[27,null,null,null,null,null,null,"","",null,"",""]
[28,null,null,null,null,null,null,"","",null,"",""]
[29,null,null,null,null,null,null,"","",null,"",""]
[30,null,null,null,null,null,null,"","",null,"",""]
[31,null,null,null,null,null,null,"","",null,"",""]
[32,null,null,null,null,null,null,"","",null,"",""]
[33,null,null,null,null,null,null,"","",null,"",""]
[34,null,null,null,null,null,null,"","",null,"",""]
[35,null,null,null,null,null,null,"","",null,{"$f":"IF(ISBLANK(M41), \"\",IF(ISBLANK(N41),\"\",M41+N41))","v":""},""]
[36,null,null,null,null,null,null,"","",null,"",""]
[37,null,null,null,null,null,null,"","",null,"",""]
[38,null,null,null,null,null,null,"","",null,"",""]
[39,null,null,null,null,null,null,"","",null,"",""]
[40,null,null,null,null,null,null,"","",null,"",""]
[41,null,null,null,null,null,null,"","",null,"",""]
[42,null,null,null,null,null,null,"","",null,"",""]
[43,null,null,null,null,null,null,"","",null,"",""]
[44,null,null,null,null,null,null,"","",null,"",""]
[45,null,null,null,null,null,null,"","",null,"",""]
[46,null,null,null,null,null,null,"","",null,"",""]
[47,null,null,null,null,null,null,"","",null,"",""]
[48,null,null,null,null,null,null,"","",null,"",""]
[49,null,null,null,null,null,null,"","",null,"",""]
[50,null,null,null,null,null,null,"","",null,"",""]
[51,null,null,null,null,null,null,"","",null,"",""]
[52,null,null,null,null,null,null,"","",null,"",""]
[53,null,null,null,null,null,null,"","",null,"",""]
[54,null,null,null,null,null,null,"","",null,"",""]
[55,null,null,null,null,null,null,"","",null,"",""]
[56,null,null,null,null,null,null,"","",null,"",""]
[57,null,null,null,null,null,null,"","",null,"",""]
[58,null,null,null,null,null,null,"","",null,"",""]
[59,null,null,null,null,null,null,"","",null,"",""]
[60,null,null,null,null,null,null,"","",null,"",""]
[61,null,null,null,null,null,null,"","",null,"",""]
[62,null,null,null,null,null,null,"","",null,"",""]
[63,null,null,null,null,null,null,"","",null,"",""]
[64,null,null,null,null,null,null,"","",null,"",""]
[65,null,null,null,null,null,null,"",{"$f":"IF( ((E71*7)+F71) > 0, ((E71*7)+F71), \"\" )","v":""},null,"",""]
[66,null,null,null,null,null,null,{"$f":"IF( ((C72*7)+D72) > 0, ((C72*7)+D72), \"\" )","v":""},"",null,"",{"$f":"IF(ISBLANK(M72),\"\",IF(ISBLANK(N72),\"\",IF((M72-N72)>=0,M72-N72,0)))","v":""}]
[67,null,null,null,null,null,null,"","",null,{"$f":"IF(ISBLANK(M73), \"\",IF(ISBLANK(N73),\"\",M73+N73))","v":""},""]
[68,null,null,null,null,null,null,"","",null,"",""]
[69,null,null,null,null,null,null,"","",null,"",""]
[70,null,null,null,null,null,null,"","",null,"",""]
[71,null,null,null,null,null,null,"","",null,"",""]
[72,null,null,null,null,null,null,"","",null,"",""]
[73,null,null,null,null,null,null,"","",null,"",""]
[74,null,null,null,null,null,null,"","",null,"",""]
[75,null,null,null,null,null,null,"","",null,"",""]
[76,null,null,null,null,null,null,"","",null,"",""]
[77,null,null,null,null,null,null,"","",null,"",""]
[78,null,null,null,null,null,null,"","",null,"",""]
[79,null,null,null,null,null,null,"","",null,"",""]
[80,null,null,null,null,null,null,"","",null,"",""]
[81,null,null,null,null,null,null,"","",null,"",""]
[82,null,null,null,null,null,null,"","",null,"",""]
[83,null,null,null,null,null,null,"","",null,"",""]
[84,null,null,null,null,null,null,"","",null,"",""]
[85,null,null,null,null,null,null,"","",null,"",""]
[86,null,null,null,null,null,null,"","",null,"",""]
[87,null,null,null,null,null,null,"","",null,"",""]
[88,null,null,null,null,null,null,"","",null,"",""]
[89,null,null,null,null,null,null,"","",null,"",""]
[90,null,null,null,null,null,null,"","",null,"",""]
[91,null,null,null,null,null,null,"","",null,"",""]
[92,null,null,null,null,null,null,"","",null,"",""]
[93,null,null,null,null,null,null,"","",null,"",""]
[94,null,null,null,null,null,null,"","",null,"",""]
[95,null,null,null,null,null,null,"","",null,"",""]
[96,null,null,null,null,null,null,"","",null,"",""]
[97,null,null,null,null,null,null,"","",null,"",""]
[98,null,null,null,null,null,null,"","",null,"",""]
[99,null,null,null,null,null,null,"","",null,{"$f":"IF(ISBLANK(M105), \"\",IF(ISBLANK(N105),\"\",M105+N105))","v":""},""]
[100,null,null,null,null,null,null,"","",null,"",""]
[101,null,null,null,null,null,null,"","",null,"",""]
[102,null,null,null,null,null,null,"","",null,"",""]
[103,null,null,null,null,null,null,"","",null,"",""]
[104,null,null,null,null,null,null,"","",null,"",""]
[105,null,null,null,null,null,null,"","",null,"",""]
[106,null,null,null,null,null,null,"","",null,"",""]
[107,null,null,null,null,null,null,"","",null,"",""]
[108,null,null,null,null,null,null,"","",null,"",""]
[109,null,null,null,null,null,null,"","",null,"",""]
[110,null,null,null,null,null,null,"","",null,"",""]
[111,null,null,null,null,null,null,"","",null,"",""]
[112,null,null,null,null,null,null,"","",null,"",""]
[113,null,null,null,null,null,null,"","",null,"",""]
[114,null,null,null,null,null,null,"","",null,"",""]
[115,null,null,null,null,null,null,"","",null,"",""]
[116,null,null,null,null,null,null,"","",null,"",""]
[117,null,null,null,null,null,null,"","",null,"",""]
[118,null,null,null,null,null,null,"","",null,"",""]
[119,null,null,null,null,null,null,"","",null,"",""]
[120,null,null,null,null,null,null,"","",null,"",""]

{"sheet":"Age - CRL","index":12,"n_rows":126,"n_cols":14,"rows_kept":126,"cut":false,"hidden":true,"merged":[[0,0,1,4],[2,0,5,0],[2,1,2,3],[2,4,2,5],[3,1,3,3],[3,4,3,5],[4,1,4,3],[4,4,4,5]]}
[{"$f":"HLOOKUP(ValidationData!A18,Phrases!B1:G87,63,FALSE)","v":"AGE - Crown-Rump Length"},null,null,null,null,"Age CRL"]
[null,null,null,null,null,{"$f":"ValidationData!DataVersion","v":"70.80.100.100"}]
[{"$f":"HLOOKUP(ValidationData!A18,Phrases!B1:G34,14,FALSE)","v":"Index"},{"$f":"HLOOKUP(ValidationData!A18,Phrases!B1:G34,21,FALSE)","v":"Measurement Name"},null,null,"CRL"]
[null,{"$f":"HLOOKUP(ValidationData!A18,Phrases!B1:G34,22,FALSE)","v":"Measurement Type"},null,null,{"$f":"HLOOKUP(ValidationData!A18,Phrases!B1:G94,92,FALSE)","v":"Distance (cm)"},null,null,null,null,{"$f":"CONCATENATE( IF(ISBLANK(TRIM(E3)), \"\", CONCATENATE( TRIM(E3), \" \")), E4 )","v":"CRL Distance (cm)"}]
[null,{"$f":"HLOOKUP(ValidationData!A18,Phrases!B1:G34,23,FALSE)","v":"Author"},null,null,null,null,null,null,null,{"$f":"IF(ISBLANK(E5), \"\", TRIM(E5))","v":""}]
[null,{"$f":"HLOOKUP(ValidationData!A18,Phrases!B1:G34,26,FALSE)","v":"Value"},{"$f":"HLOOKUP(ValidationData!A18,Phrases!B1:G34,27,FALSE)","v":"Age (weeks)"},{"$f":"HLOOKUP(ValidationData!A18,Phrases!B1:G34,28,FALSE)","v":"Age (days)"},{"$f":"HLOOKUP(ValidationData!A18,Phrases!B1:G34,29,FALSE)","v":"Range (weeks)"},{"$f":"HLOOKUP(ValidationData!A18,Phrases!B1:G34,30,FALSE)","v":"Range (days)"},null,null,null,"Value",{"$f":"HLOOKUP(ValidationData!A18,Phrases!B1:G62,61,FALSE)","v":"Range High"},{"$f":"HLOOKUP(ValidationData!A18,Phrases!B1:G62,62,FALSE)","v":"Range Low"},{"$f":"HLOOKUP(ValidationData!A18,Phrases!B1:G62,60,FALSE)","v":"Total Days"},"Range"]
[1,null,null,null,null,null,null,{"$f":"IF( ((C7*7)+D7) > 0, ((C7*7)+D7), \"\" )","v":""},{"$f":"IF( ((E7*7)+F7) > 0, ((E7*7)+F7), \"\" )","v":""},null,{"$f":"IF(ISBLANK(M7), \"\",IF(ISBLANK(N7),\"\",M7+N7))","v":""},{"$f":"IF(ISBLANK(M7),\"\",IF(ISBLANK(N7),\"\",IF((M7-N7)>=0,M7-N7,0)))","v":""}]
[2,null,null,null,null,null,null,{"$f":"IF( ((C8*7)+D8) > 0, ((C8*7)+D8), \"\" )","v":""},"",null,{"$f":"IF(ISBLANK(M8), \"\",IF(ISBLANK(N8),\"\",M8+N8))","v":""},""]
[3,null,null,null,null,null,null,"","",null,{"$f":"IF(ISBLANK(M9), \"\",IF(ISBLANK(N9),\"\",M9+N9))","v":""},""]
[4,null,null,null,null,null,null,"","",null,"",""]
[5,null,null,null,null,null,null,"","",null,"",""]
[6,null,null,null,null,null,null,"","",null,"",""]
[7,null,null,null,null,null,null,"","",null,"",""]
[8,null,null,null,null,null,null,"","",null,"",""]
[9,null,null,null,null,null,null,"","",null,"",""]
[10,null,null,null,null,null,null,"","",null,"",""]
[11,null,null,null,null,null,null,"","",null,"",""]
[12,null,null,null,null,null,null,"","",null,"",""]
[13,null,null,null,null,null,null,"","",null,"",""]
[14,null,null,null,null,null,null,"","",null,"",""]
[15,null,null,null,null,null,null,"","",null,"",""]
[16,null,null,null,null,null,null,"","",null,"",""]
[17,null,null,null,null,null,null,"","",null,"",""]
[18,null,null,null,null,null,null,"","",null,"",""]
[19,null,null,null,null,null,null,"","",null,"",""]
[20,null,null,null,null,null,null,"","",null,"",""]
[21,null,null,null,null,null,null,"","",null,"",""]
[22,null,null,null,null,null,null,"","",null,"",""]
[23,null,null,null,null,null,null,"","",null,"",""]
[24,null,null,null,null,null,null,"","",null,"",{"$f":"IF(ISBLANK(M30), \"\",IF(ISBLANK(N30),\"\",M30-N30))","v":""}]
[25,null,null,null,null,null,null,"","",null,"",""]
[26,null,null,null,null,null,null,"","",null,"",""]
[27,null,null,null,null,null,null,"","",null,"",""]
[28,null,null,null,null,null,null,"","",null,"",""]
[29,null,null,null,null,null,null,"","",null,"",""]
[30,null,null,null,null,null,null,"","",null,"",""]
[31,null,null,null,null,null,null,"","",null,"",""]
[32,null,null,null,null,null,null,"","",null,"",""]
[33,null,null,null,null,null,null,"","",null,"",""]
[34,null,null,null,null,null,null,"","",null,"",""]
[35,null,null,null,null,null,null,"","",null,{"$f":"IF(ISBLANK(M41), \"\",IF(ISBLANK(N41),\"\",M41+N41))","v":""},""]
[36,null,null,null,null,null,null,"","",null,"",""]
[37,null,null,null,null,null,null,"","",null,"",""]
[38,null,null,null,null,null,null,"","",null,"",""]
[39,null,null,null,null,null,null,"","",null,"",""]
[40,null,null,null,null,null,null,"","",null,"",""]
[41,null,null,null,null,null,null,"","",null,"",""]
[42,null,null,null,null,null,null,"","",null,"",""]
[43,null,null,null,null,null,null,"","",null,"",""]
[44,null,null,null,null,null,null,"","",null,"",""]
[45,null,null,null,null,null,null,"","",null,"",""]
[46,null,null,null,null,null,null,"","",null,"",""]
[47,null,null,null,null,null,null,"","",null,"",""]
[48,null,null,null,null,null,null,"","",null,"",""]
[49,null,null,null,null,null,null,"","",null,"",""]
[50,null,null,null,null,null,null,"","",null,"",""]
[51,null,null,null,null,null,null,"","",null,"",""]
[52,null,null,null,null,null,null,"","",null,"",""]
[53,null,null,null,null,null,null,"","",null,"",""]
[54,null,null,null,null,null,null,"","",null,"",""]
[55,null,null,null,null,null,null,"","",null,"",""]
[56,null,null,null,null,null,null,"","",null,"",""]
[57,null,null,null,null,null,null,"","",null,"",""]
[58,null,null,null,null,null,null,"","",null,"",""]
[59,null,null,null,null,null,null,"","",null,"",""]
[60,null,null,null,null,null,null,"","",null,"",""]
[61,null,null,null,null,null,null,"","",null,"",""]
[62,null,null,null,null,null,null,"","",null,"",""]
[63,null,null,null,null,null,null,"","",null,"",""]
[64,null,null,null,null,null,null,"","",null,"",""]
[65,null,null,null,null,null,null,"",{"$f":"IF( ((E71*7)+F71) > 0, ((E71*7)+F71), \"\" )","v":""},null,"",""]
[66,null,null,null,null,null,null,{"$f":"IF( ((C72*7)+D72) > 0, ((C72*7)+D72), \"\" )","v":""},"",null,"",""]
[67,null,null,null,null,null,null,"","",null,{"$f":"IF(ISBLANK(M73), \"\",IF(ISBLANK(N73),\"\",M73+N73))","v":""},{"$f":"IF(ISBLANK(M73), \"\",IF(ISBLANK(N73),\"\",M73-N73))","v":""}]
[68,null,null,null,null,null,null,"","",null,"",""]
[69,null,null,null,null,null,null,"","",null,"",""]
[70,null,null,null,null,null,null,"","",null,"",""]
[71,null,null,null,null,null,null,"","",null,"",""]
[72,null,null,null,null,null,null,"","",null,"",""]
[73,null,null,null,null,null,null,"","",null,"",""]
[74,null,null,null,null,null,null,"","",null,"",""]
[75,null,null,null,null,null,null,"","",null,"",""]
[76,null,null,null,null,null,null,"","",null,"",""]
[77,null,null,null,null,null,null,"","",null,"",""]
[78,null,null,null,null,null,null,"","",null,"",""]
[79,null,null,null,null,null,null,"","",null,"",""]
[80,null,null,null,null,null,null,"","",null,"",""]
[81,null,null,null,null,null,null,"","",null,"",""]
[82,null,null,null,null,null,null,"","",null,"",""]
[83,null,null,null,null,null,null,"","",null,"",""]
[84,null,null,null,null,null,null,"","",null,"",""]
[85,null,null,null,null,null,null,"","",null,"",""]
[86,null,null,null,null,null,null,"","",null,"",""]
[87,null,null,null,null,null,null,"","",null,"",""]
[88,null,null,null,null,null,null,"","",null,"",""]
[89,null,null,null,null,null,null,"","",null,"",""]
[90,null,null,null,null,null,null,"","",null,"",""]
[91,null,null,null,null,null,null,"","",null,"",""]
[92,null,null,null,null,null,null,"","",null,"",""]
[93,null,null,null,null,null,null,"","",null,"",""]
[94,null,null,null,null,null,null,"","",null,"",""]
[95,null,null,null,null,null,null,"","",null,"",""]
[96,null,null,null,null,null,null,"","",null,"",""]
[97,null,null,null,null,null,null,"","",null,"",""]
[98,null,null,null,null,null,null,"","",null,"",""]
[99,null,null,null,null,null,null,"","",null,{"$f":"IF(ISBLANK(M105), \"\",IF(ISBLANK(N105),\"\",M105+N105))","v":""},""]
[100,null,null,null,null,null,null,"","",null,"",""]
[101,null,null,null,null,null,null,"","",null,"",""]
[102,null,null,null,null,null,null,"","",null,"",""]
[103,null,null,null,null,null,null,"","",null,"",""]
[104,null,null,null,null,null,null,"","",null,"",""]
[105,null,null,null,null,null,null,"","",null,"",""]
[106,null,null,null,null,null,null,"","",null,"",""]
[107,null,null,null,null,null,null,"","",null,"",""]
[108,null,null,null,null,null,null,"","",null,"",""]
[109,null,null,null,null,null,null,"","",null,"",""]
[110,null,null,null,null,null,null,"","",null,"",""]
[111,null,null,null,null,null,null,"","",null,"",""]
[112,null,null,null,null,null,null,"","",null,"",""]
[113,null,null,null,null,null,null,"","",null,"",""]
[114,null,null,null,null,null,null,"","",null,"",""]
[115,null,null,null,null,null,null,"","",null,"",""]
[116,null,null,null,null,null,null,"","",null,"",""]
[117,null,null,null,null,null,null,"","",null,"",""]
[118,null,null,null,null,null,null,"","",null,"",""]
[119,null,null,null,null,null,null,"","",null,"",""]
[120,null,null,null,null,null,null,"","",null,"",""]

{"sheet":"Age - GS","index":13,"n_rows":126,"n_cols":14,"rows_kept":126,"cut":false,"hidden":true,"merged":[[0,0,1,4],[2,0,5,0],[2,1,2,3],[2,4,2,5],[3,1,3,3],[3,4,3,5],[4,1,4,3],[4,4,4,5]]}
[{"$f":"HLOOKUP(ValidationData!A18,Phrases!B1:G87,64,FALSE)","v":"AGE - Gestational Sac"},null,null,null,null,"Age GS"]
[null,null,null,null,null,{"$f":"ValidationData!DataVersion","v":"70.80.100.100"}]
[{"$f":"HLOOKUP(ValidationData!A18,Phrases!B1:G34,14,FALSE)","v":"Index"},{"$f":"HLOOKUP(ValidationData!A18,Phrases!B1:G34,21,FALSE)","v":"Measurement Name"},null,null,"GS"]
[null,{"$f":"HLOOKUP(ValidationData!A18,Phrases!B1:G34,22,FALSE)","v":"Measurement Type"},null,null,{"$f":"HLOOKUP(ValidationData!A18,Phrases!B1:G94,92,FALSE)","v":"Distance (cm)"},null,null,null,null,{"$f":"CONCATENATE( IF(ISBLANK(TRIM(E3)), \"\", CONCATENATE( TRIM(E3), \" \")), E4 )","v":"GS Distance (cm)"}]
[null,{"$f":"HLOOKUP(ValidationData!A18,Phrases!B1:G34,23,FALSE)","v":"Author"},null,null,null,null,null,null,null,{"$f":"IF(ISBLANK(E5), \"\", TRIM(E5))","v":""}]
[null,{"$f":"HLOOKUP(ValidationData!A18,Phrases!B1:G34,26,FALSE)","v":"Value"},{"$f":"HLOOKUP(ValidationData!A18,Phrases!B1:G34,27,FALSE)","v":"Age (weeks)"},{"$f":"HLOOKUP(ValidationData!A18,Phrases!B1:G34,28,FALSE)","v":"Age (days)"},{"$f":"HLOOKUP(ValidationData!A18,Phrases!B1:G34,29,FALSE)","v":"Range (weeks)"},{"$f":"HLOOKUP(ValidationData!A18,Phrases!B1:G34,30,FALSE)","v":"Range (days)"},null,null,null,"Value",{"$f":"HLOOKUP(ValidationData!A18,Phrases!B1:G62,61,FALSE)","v":"Range High"},{"$f":"HLOOKUP(ValidationData!A18,Phrases!B1:G62,62,FALSE)","v":"Range Low"},{"$f":"HLOOKUP(ValidationData!A18,Phrases!B1:G62,60,FALSE)","v":"Total Days"},"Range"]
[1,null,null,null,null,null,null,{"$f":"IF( ((C7*7)+D7) > 0, ((C7*7)+D7), \"\" )","v":""},{"$f":"IF( ((E7*7)+F7) > 0, ((E7*7)+F7), \"\" )","v":""},null,{"$f":"IF(ISBLANK(M7), \"\",IF(ISBLANK(N7),\"\",M7+N7))","v":""},{"$f":"IF(ISBLANK(M7),\"\",IF(ISBLANK(N7),\"\",IF((M7-N7)>=0,M7-N7,0)))","v":""}]
[2,null,null,null,null,null,null,{"$f":"IF( ((C8*7)+D8) > 0, ((C8*7)+D8), \"\" )","v":""},"",null,{"$f":"IF(ISBLANK(M8), \"\",IF(ISBLANK(N8),\"\",M8+N8))","v":""},{"$f":"IF(ISBLANK(M8),\"\",IF(ISBLANK(N8),\"\",IF((M8-N8)>=0,M8-N8,0)))","v":""}]
[3,null,null,null,null,null,null,"","",null,{"$f":"IF(ISBLANK(M9), \"\",IF(ISBLANK(N9),\"\",M9+N9))","v":""},""]
[4,null,null,null,null,null,null,"","",null,"",""]
[5,null,null,null,null,null,null,"","",null,"",""]
[6,null,null,null,null,null,null,"","",null,"",""]
[7,null,null,null,null,null,null,"","",null,"",""]
[8,null,null,null,null,null,null,"","",null,"",""]
[9,null,null,null,null,null,null,"","",null,"",""]
[10,null,null,null,null,null,null,"","",null,"",""]
[11,null,null,null,null,null,null,"","",null,"",""]
[12,null,null,null,null,null,null,"","",null,"",""]
[13,null,null,null,null,null,null,"","",null,"",""]
[14,null,null,null,null,null,null,"","",null,"",""]
[15,null,null,null,null,null,null,"","",null,"",""]
[16,null,null,null,null,null,null,"","",null,"",""]
[17,null,null,null,null,null,null,"","",null,"",""]
[18,null,null,null,null,null,null,"","",null,"",""]
[19,null,null,null,null,null,null,"","",null,"",""]
[20,null,null,null,null,null,null,"","",null,"",""]
[21,null,null,null,null,null,null,"","",null,"",""]
[22,null,null,null,null,null,null,"","",null,"",""]
[23,null,null,null,null,null,null,"","",null,"",""]
[24,null,null,null,null,null,null,"","",null,"",""]
[25,null,null,null,null,null,null,"","",null,"",""]
[26,null,null,null,null,null,null,"","",null,"",""]
[27,null,null,null,null,null,null,"","",null,"",""]
[28,null,null,null,null,null,null,"","",null,"",""]
[29,null,null,null,null,null,null,"","",null,"",""]
[30,null,null,null,null,null,null,"","",null,"",""]
[31,null,null,null,null,null,null,"","",null,"",""]
[32,null,null,null,null,null,null,"","",null,"",""]
[33,null,null,null,null,null,null,"","",null,"",""]
[34,null,null,null,null,null,null,"","",null,"",""]
[35,null,null,null,null,null,null,"","",null,{"$f":"IF(ISBLANK(M41), \"\",IF(ISBLANK(N41),\"\",M41+N41))","v":""},""]
[36,null,null,null,null,null,null,"","",null,"",""]
[37,null,null,null,null,null,null,"","",null,"",""]
[38,null,null,null,null,null,null,"","",null,"",""]
[39,null,null,null,null,null,null,"","",null,"",""]
[40,null,null,null,null,null,null,"","",null,"",""]
[41,null,null,null,null,null,null,"","",null,"",""]
[42,null,null,null,null,null,null,"","",null,"",""]
[43,null,null,null,null,null,null,"","",null,"",""]
[44,null,null,null,null,null,null,"","",null,"",""]
[45,null,null,null,null,null,null,"","",null,"",""]
[46,null,null,null,null,null,null,"","",null,"",""]
[47,null,null,null,null,null,null,"","",null,"",""]
[48,null,null,null,null,null,null,"","",null,"",""]
[49,null,null,null,null,null,null,"","",null,"",""]
[50,null,null,null,null,null,null,"","",null,"",""]
[51,null,null,null,null,null,null,"","",null,"",""]
[52,null,null,null,null,null,null,"","",null,"",""]
[53,null,null,null,null,null,null,"","",null,"",""]
[54,null,null,null,null,null,null,"","",null,"",""]
[55,null,null,null,null,null,null,"","",null,"",""]
[56,null,null,null,null,null,null,"","",null,"",""]
[57,null,null,null,null,null,null,"","",null,"",""]
[58,null,null,null,null,null,null,"","",null,"",""]
[59,null,null,null,null,null,null,"","",null,"",""]
[60,null,null,null,null,null,null,"","",null,"",""]
[61,null,null,null,null,null,null,"","",null,"",""]
[62,null,null,null,null,null,null,"","",null,"",""]
[63,null,null,null,null,null,null,"","",null,"",""]
[64,null,null,null,null,null,null,"","",null,"",""]
[65,null,null,null,null,null,null,"",{"$f":"IF( ((E71*7)+F71) > 0, ((E71*7)+F71), \"\" )","v":""},null,"",""]
[66,null,null,null,null,null,null,{"$f":"IF( ((C72*7)+D72) > 0, ((C72*7)+D72), \"\" )","v":""},"",null,"",{"$f":"IF(ISBLANK(M72),\"\",IF(ISBLANK(N72),\"\",IF((M72-N72)>=0,M72-N72,0)))","v":""}]
[67,null,null,null,null,null,null,"","",null,{"$f":"IF(ISBLANK(M73), \"\",IF(ISBLANK(N73),\"\",M73+N73))","v":""},""]
[68,null,null,null,null,null,null,"","",null,"",""]
[69,null,null,null,null,null,null,"","",null,"",""]
[70,null,null,null,null,null,null,"","",null,"",""]
[71,null,null,null,null,null,null,"","",null,"",""]
[72,null,null,null,null,null,null,"","",null,"",""]
[73,null,null,null,null,null,null,"","",null,"",""]
[74,null,null,null,null,null,null,"","",null,"",""]
[75,null,null,null,null,null,null,"","",null,"",""]
[76,null,null,null,null,null,null,"","",null,"",""]
[77,null,null,null,null,null,null,"","",null,"",""]
[78,null,null,null,null,null,null,"","",null,"",""]
[79,null,null,null,null,null,null,"","",null,"",""]
[80,null,null,null,null,null,null,"","",null,"",""]
[81,null,null,null,null,null,null,"","",null,"",""]
[82,null,null,null,null,null,null,"","",null,"",""]
[83,null,null,null,null,null,null,"","",null,"",""]
[84,null,null,null,null,null,null,"","",null,"",""]
[85,null,null,null,null,null,null,"","",null,"",""]
[86,null,null,null,null,null,null,"","",null,"",""]
[87,null,null,null,null,null,null,"","",null,"",""]
[88,null,null,null,null,null,null,"","",null,"",""]
[89,null,null,null,null,null,null,"","",null,"",""]
[90,null,null,null,null,null,null,"","",null,"",""]
[91,null,null,null,null,null,null,"","",null,"",""]
[92,null,null,null,null,null,null,"","",null,"",""]
[93,null,null,null,null,null,null,"","",null,"",""]
[94,null,null,null,null,null,null,"","",null,"",""]
[95,null,null,null,null,null,null,"","",null,"",""]
[96,null,null,null,null,null,null,"","",null,"",""]
[97,null,null,null,null,null,null,"","",null,"",""]
[98,null,null,null,null,null,null,"","",null,"",""]
[99,null,null,null,null,null,null,"","",null,{"$f":"IF(ISBLANK(M105), \"\",IF(ISBLANK(N105),\"\",M105+N105))","v":""},""]
[100,null,null,null,null,null,null,"","",null,"",""]
[101,null,null,null,null,null,null,"","",null,"",""]
[102,null,null,null,null,null,null,"","",null,"",""]
[103,null,null,null,null,null,null,"","",null,"",""]
[104,null,null,null,null,null,null,"","",null,"",""]
[105,null,null,null,null,null,null,"","",null,"",""]
[106,null,null,null,null,null,null,"","",null,"",""]
[107,null,null,null,null,null,null,"","",null,"",""]
[108,null,null,null,null,null,null,"","",null,"",""]
[109,null,null,null,null,null,null,"","",null,"",""]
[110,null,null,null,null,null,null,"","",null,"",""]
[111,null,null,null,null,null,null,"","",null,"",""]
[112,null,null,null,null,null,null,"","",null,"",""]
[113,null,null,null,null,null,null,"","",null,"",""]
[114,null,null,null,null,null,null,"","",null,"",""]
[115,null,null,null,null,null,null,"","",null,"",""]
[116,null,null,null,null,null,null,"","",null,"",""]
[117,null,null,null,null,null,null,"","",null,"",""]
[118,null,null,null,null,null,null,"","",null,"",""]
[119,null,null,null,null,null,null,"","",null,"",""]
[120,null,null,null,null,null,null,"","",null,"",""]

{"sheet":"Age - BPD","index":14,"n_rows":126,"n_cols":14,"rows_kept":126,"cut":false,"hidden":true,"merged":[[0,0,1,4],[2,0,5,0],[2,1,2,3],[2,4,2,5],[3,1,3,3],[3,4,3,5],[4,1,4,3],[4,4,4,5]]}
[{"$f":"HLOOKUP(ValidationData!A18,Phrases!B1:G87,65,FALSE)","v":"AGE - Biparietal Diameter"},null,null,null,null,"Age BPD"]
[null,null,null,null,null,{"$f":"ValidationData!DataVersion","v":"70.80.100.100"}]
[{"$f":"HLOOKUP(ValidationData!A18,Phrases!B1:G34,14,FALSE)","v":"Index"},{"$f":"HLOOKUP(ValidationData!A18,Phrases!B1:G34,21,FALSE)","v":"Measurement Name"},null,null,"BPD"]
[null,{"$f":"HLOOKUP(ValidationData!A18,Phrases!B1:G34,22,FALSE)","v":"Measurement Type"},null,null,{"$f":"HLOOKUP(ValidationData!A18,Phrases!B1:G94,92,FALSE)","v":"Distance (cm)"},null,null,null,null,{"$f":"CONCATENATE( IF(ISBLANK(TRIM(E3)), \"\", CONCATENATE( TRIM(E3), \" \")), E4 )","v":"BPD Distance (cm)"}]
[null,{"$f":"HLOOKUP(ValidationData!A18,Phrases!B1:G34,23,FALSE)","v":"Author"},null,null,null,null,null,null,null,{"$f":"IF(ISBLANK(E5), \"\", TRIM(E5))","v":""}]
[null,{"$f":"HLOOKUP(ValidationData!A18,Phrases!B1:G34,26,FALSE)","v":"Value"},{"$f":"HLOOKUP(ValidationData!A18,Phrases!B1:G34,27,FALSE)","v":"Age (weeks)"},{"$f":"HLOOKUP(ValidationData!A18,Phrases!B1:G34,28,FALSE)","v":"Age (days)"},{"$f":"HLOOKUP(ValidationData!A18,Phrases!B1:G34,29,FALSE)","v":"Range (weeks)"},{"$f":"HLOOKUP(ValidationData!A18,Phrases!B1:G34,30,FALSE)","v":"Range (days)"},null,null,null,"Value",{"$f":"HLOOKUP(ValidationData!A18,Phrases!B1:G62,61,FALSE)","v":"Range High"},{"$f":"HLOOKUP(ValidationData!A18,Phrases!B1:G62,62,FALSE)","v":"Range Low"},{"$f":"HLOOKUP(ValidationData!A18,Phrases!B1:G62,60,FALSE)","v":"Total Days"},"Range"]
[1,null,null,null,null,null,null,{"$f":"IF( ((C7*7)+D7) > 0, ((C7*7)+D7), \"\" )","v":""},{"$f":"IF( ((E7*7)+F7) > 0, ((E7*7)+F7), \"\" )","v":""},null,{"$f":"IF(ISBLANK(M7), \"\",IF(ISBLANK(N7),\"\",M7+N7))","v":""},{"$f":"IF(ISBLANK(M7),\"\",IF(ISBLANK(N7),\"\",IF((M7-N7)>=0,M7-N7,0)))","v":""}]
[2,null,null,null,null,null,null,{"$f":"IF( ((C8*7)+D8) > 0, ((C8*7)+D8), \"\" )","v":""},"",null,{"$f":"IF(ISBLANK(M8), \"\",IF(ISBLANK(N8),\"\",M8+N8))","v":""},{"$f":"IF(ISBLANK(M8),\"\",IF(ISBLANK(N8),\"\",IF((M8-N8)>=0,M8-N8,0)))","v":""}]
[3,null,null,null,null,null,null,"","",null,{"$f":"IF(ISBLANK(M9), \"\",IF(ISBLANK(N9),\"\",M9+N9))","v":""},""]
[4,null,null,null,null,null,null,"","",null,"",""]
[5,null,null,null,null,null,null,"","",null,"",""]
[6,null,null,null,null,null,null,"","",null,"",""]
[7,null,null,null,null,null,null,"","",null,"",""]
[8,null,null,null,null,null,null,"","",null,"",""]
[9,null,null,null,null,null,null,"","",null,"",""]
[10,null,null,null,null,null,null,"","",null,"",""]
[11,null,null,null,null,null,null,"","",null,"",""]
[12,null,null,null,null,null,null,"","",null,"",""]
[13,null,null,null,null,null,null,"","",null,"",""]
[14,null,null,null,null,null,null,"","",null,"",""]
[15,null,null,null,null,null,null,"","",null,"",""]
[16,null,null,null,null,null,null,"","",null,"",""]
[17,null,null,null,null,null,null,"","",null,"",""]
[18,null,null,null,null,null,null,"","",null,"",""]
[19,null,null,null,null,null,null,"","",null,"",""]
[20,null,null,null,null,null,null,"","",null,"",""]
[21,null,null,null,null,null,null,"","",null,"",""]
[22,null,null,null,null,null,null,"","",null,"",""]
[23,null,null,null,null,null,null,"","",null,"",""]
[24,null,null,null,null,null,null,"","",null,"",""]
[25,null,null,null,null,null,null,"","",null,"",""]
[26,null,null,null,null,null,null,"","",null,"",""]
[27,null,null,null,null,null,null,"","",null,"",""]
[28,null,null,null,null,null,null,"","",null,"",""]
[29,null,null,null,null,null,null,"","",null,"",""]
[30,null,null,null,null,null,null,"","",null,"",""]
[31,null,null,null,null,null,null,"","",null,"",""]
[32,null,null,null,null,null,null,"","",null,"",""]
[33,null,null,null,null,null,null,"","",null,"",""]
[34,null,null,null,null,null,null,"","",null,"",""]
[35,null,null,null,null,null,null,"","",null,{"$f":"IF(ISBLANK(M41), \"\",IF(ISBLANK(N41),\"\",M41+N41))","v":""},""]
[36,null,null,null,null,null,null,"","",null,"",""]
[37,null,null,null,null,null,null,"","",null,"",""]
[38,null,null,null,null,null,null,"","",null,"",""]
[39,null,null,null,null,null,null,"","",null,"",""]
[40,null,null,null,null,null,null,"","",null,"",""]
[41,null,null,null,null,null,null,"","",null,"",""]
[42,null,null,null,null,null,null,"","",null,"",""]
[43,null,null,null,null,null,null,"","",null,"",""]
[44,null,null,null,null,null,null,"","",null,"",""]
[45,null,null,null,null,null,null,"","",null,"",""]
[46,null,null,null,null,null,null,"","",null,"",""]
[47,null,null,null,null,null,null,"","",null,"",""]
[48,null,null,null,null,null,null,"","",null,"",""]
[49,null,null,null,null,null,null,"","",null,"",""]
[50,null,null,null,null,null,null,"","",null,"",""]
[51,null,null,null,null,null,null,"","",null,"",""]
[52,null,null,null,null,null,null,"","",null,"",""]
[53,null,null,null,null,null,null,"","",null,"",""]
[54,null,null,null,null,null,null,"","",null,"",""]
[55,null,null,null,null,null,null,"","",null,"",""]
[56,null,null,null,null,null,null,"","",null,"",""]
[57,null,null,null,null,null,null,"","",null,"",""]
[58,null,null,null,null,null,null,"","",null,"",""]
[59,null,null,null,null,null,null,"","",null,"",""]
[60,null,null,null,null,null,null,"","",null,"",""]
[61,null,null,null,null,null,null,"","",null,"",""]
[62,null,null,null,null,null,null,"","",null,"",""]
[63,null,null,null,null,null,null,"","",null,"",""]
[64,null,null,null,null,null,null,"","",null,"",""]
[65,null,null,null,null,null,null,"",{"$f":"IF( ((E71*7)+F71) > 0, ((E71*7)+F71), \"\" )","v":""},null,"",""]
[66,null,null,null,null,null,null,{"$f":"IF( ((C72*7)+D72) > 0, ((C72*7)+D72), \"\" )","v":""},"",null,"",{"$f":"IF(ISBLANK(M72),\"\",IF(ISBLANK(N72),\"\",IF((M72-N72)>=0,M72-N72,0)))","v":""}]
[67,null,null,null,null,null,null,"","",null,{"$f":"IF(ISBLANK(M73), \"\",IF(ISBLANK(N73),\"\",M73+N73))","v":""},""]
[68,null,null,null,null,null,null,"","",null,"",""]
[69,null,null,null,null,null,null,"","",null,"",""]
[70,null,null,null,null,null,null,"","",null,"",""]
[71,null,null,null,null,null,null,"","",null,"",""]
[72,null,null,null,null,null,null,"","",null,"",""]
[73,null,null,null,null,null,null,"","",null,"",""]
[74,null,null,null,null,null,null,"","",null,"",""]
[75,null,null,null,null,null,null,"","",null,"",""]
[76,null,null,null,null,null,null,"","",null,"",""]
[77,null,null,null,null,null,null,"","",null,"",""]
[78,null,null,null,null,null,null,"","",null,"",""]
[79,null,null,null,null,null,null,"","",null,"",""]
[80,null,null,null,null,null,null,"","",null,"",""]
[81,null,null,null,null,null,null,"","",null,"",""]
[82,null,null,null,null,null,null,"","",null,"",""]
[83,null,null,null,null,null,null,"","",null,"",""]
[84,null,null,null,null,null,null,"","",null,"",""]
[85,null,null,null,null,null,null,"","",null,"",""]
[86,null,null,null,null,null,null,"","",null,"",""]
[87,null,null,null,null,null,null,"","",null,"",""]
[88,null,null,null,null,null,null,"","",null,"",""]
[89,null,null,null,null,null,null,"","",null,"",""]
[90,null,null,null,null,null,null,"","",null,"",""]
[91,null,null,null,null,null,null,"","",null,"",""]
[92,null,null,null,null,null,null,"","",null,"",""]
[93,null,null,null,null,null,null,"","",null,"",""]
[94,null,null,null,null,null,null,"","",null,"",""]
[95,null,null,null,null,null,null,"","",null,"",""]
[96,null,null,null,null,null,null,"","",null,"",""]
[97,null,null,null,null,null,null,"","",null,"",""]
[98,null,null,null,null,null,null,"","",null,"",""]
[99,null,null,null,null,null,null,"","",null,{"$f":"IF(ISBLANK(M105), \"\",IF(ISBLANK(N105),\"\",M105+N105))","v":""},""]
[100,null,null,null,null,null,null,"","",null,"",""]
[101,null,null,null,null,null,null,"","",null,"",""]
[102,null,null,null,null,null,null,"","",null,"",""]
[103,null,null,null,null,null,null,"","",null,"",""]
[104,null,null,null,null,null,null,"","",null,"",""]
[105,null,null,null,null,null,null,"","",null,"",""]
[106,null,null,null,null,null,null,"","",null,"",""]
[107,null,null,null,null,null,null,"","",null,"",""]
[108,null,null,null,null,null,null,"","",null,"",""]
[109,null,null,null,null,null,null,"","",null,"",""]
[110,null,null,null,null,null,null,"","",null,"",""]
[111,null,null,null,null,null,null,"","",null,"",""]
[112,null,null,null,null,null,null,"","",null,"",""]
[113,null,null,null,null,null,null,"","",null,"",""]
[114,null,null,null,null,null,null,"","",null,"",""]
[115,null,null,null,null,null,null,"","",null,"",""]
[116,null,null,null,null,null,null,"","",null,"",""]
[117,null,null,null,null,null,null,"","",null,"",""]
[118,null,null,null,null,null,null,"","",null,"",""]
[119,null,null,null,null,null,null,"","",null,"",""]
[120,null,null,null,null,null,null,"","",null,"",""]

{"sheet":"Age - OFD","index":15,"n_rows":126,"n_cols":14,"rows_kept":126,"cut":false,"hidden":true,"merged":[[0,0,1,4],[2,0,5,0],[2,1,2,3],[2,4,2,5],[3,1,3,3],[3,4,3,5],[4,1,4,3],[4,4,4,5]]}
[{"$f":"HLOOKUP(ValidationData!A18,Phrases!B1:G87,66,FALSE)","v":"AGE - Occipito-Frontal Diameter"},null,null,null,null,"Age OFD"]
[null,null,null,null,null,{"$f":"ValidationData!DataVersion","v":"70.80.100.100"}]
[{"$f":"HLOOKUP(ValidationData!A18,Phrases!B1:G34,14,FALSE)","v":"Index"},{"$f":"HLOOKUP(ValidationData!A18,Phrases!B1:G34,21,FALSE)","v":"Measurement Name"},null,null,"OFD"]
[null,{"$f":"HLOOKUP(ValidationData!A18,Phrases!B1:G34,22,FALSE)","v":"Measurement Type"},null,null,{"$f":"HLOOKUP(ValidationData!A18,Phrases!B1:G94,92,FALSE)","v":"Distance (cm)"},null,null,null,null,{"$f":"CONCATENATE( IF(ISBLANK(TRIM(E3)), \"\", CONCATENATE( TRIM(E3), \" \")), E4 )","v":"OFD Distance (cm)"}]
[null,{"$f":"HLOOKUP(ValidationData!A18,Phrases!B1:G34,23,FALSE)","v":"Author"},null,null,null,null,null,null,null,{"$f":"IF(ISBLANK(E5), \"\", TRIM(E5))","v":""}]
[null,{"$f":"HLOOKUP(ValidationData!A18,Phrases!B1:G34,26,FALSE)","v":"Value"},{"$f":"HLOOKUP(ValidationData!A18,Phrases!B1:G34,27,FALSE)","v":"Age (weeks)"},{"$f":"HLOOKUP(ValidationData!A18,Phrases!B1:G34,28,FALSE)","v":"Age (days)"},{"$f":"HLOOKUP(ValidationData!A18,Phrases!B1:G34,29,FALSE)","v":"Range (weeks)"},{"$f":"HLOOKUP(ValidationData!A18,Phrases!B1:G34,30,FALSE)","v":"Range (days)"},null,null,null,"Value",{"$f":"HLOOKUP(ValidationData!A18,Phrases!B1:G62,61,FALSE)","v":"Range High"},{"$f":"HLOOKUP(ValidationData!A18,Phrases!B1:G62,62,FALSE)","v":"Range Low"},{"$f":"HLOOKUP(ValidationData!A18,Phrases!B1:G62,60,FALSE)","v":"Total Days"},"Range"]
[1,null,null,null,null,null,null,{"$f":"IF( ((C7*7)+D7) > 0, ((C7*7)+D7), \"\" )","v":""},{"$f":"IF( ((E7*7)+F7) > 0, ((E7*7)+F7), \"\" )","v":""},null,{"$f":"IF(ISBLANK(M7), \"\",IF(ISBLANK(N7),\"\",M7+N7))","v":""},{"$f":"IF(ISBLANK(M7),\"\",IF(ISBLANK(N7),\"\",IF((M7-N7)>=0,M7-N7,0)))","v":""}]
[2,null,null,null,null,null,null,{"$f":"IF( ((C8*7)+D8) > 0, ((C8*7)+D8), \"\" )","v":""},"",null,{"$f":"IF(ISBLANK(M8), \"\",IF(ISBLANK(N8),\"\",M8+N8))","v":""},{"$f":"IF(ISBLANK(M8),\"\",IF(ISBLANK(N8),\"\",IF((M8-N8)>=0,M8-N8,0)))","v":""}]
[3,null,null,null,null,null,null,"","",null,{"$f":"IF(ISBLANK(M9), \"\",IF(ISBLANK(N9),\"\",M9+N9))","v":""},""]
[4,null,null,null,null,null,null,"","",null,"",""]
[5,null,null,null,null,null,null,"","",null,"",""]
[6,null,null,null,null,null,null,"","",null,"",""]
[7,null,null,null,null,null,null,"","",null,"",""]
[8,null,null,null,null,null,null,"","",null,"",""]
[9,null,null,null,null,null,null,"","",null,"",""]
[10,null,null,null,null,null,null,"","",null,"",""]
[11,null,null,null,null,null,null,"","",null,"",""]
[12,null,null,null,null,null,null,"","",null,"",""]
[13,null,null,null,null,null,null,"","",null,"",""]
[14,null,null,null,null,null,null,"","",null,"",""]
[15,null,null,null,null,null,null,"","",null,"",""]
[16,null,null,null,null,null,null,"","",null,"",""]
[17,null,null,null,null,null,null,"","",null,"",""]
[18,null,null,null,null,null,null,"","",null,"",""]
[19,null,null,null,null,null,null,"","",null,"",""]
[20,null,null,null,null,null,null,"","",null,"",""]
[21,null,null,null,null,null,null,"","",null,"",""]
[22,null,null,null,null,null,null,"","",null,"",""]
[23,null,null,null,null,null,null,"","",null,"",""]
[24,null,null,null,null,null,null,"","",null,"",""]
[25,null,null,null,null,null,null,"","",null,"",""]
[26,null,null,null,null,null,null,"","",null,"",""]
[27,null,null,null,null,null,null,"","",null,"",""]
[28,null,null,null,null,null,null,"","",null,"",""]
[29,null,null,null,null,null,null,"","",null,"",""]
[30,null,null,null,null,null,null,"","",null,"",""]
[31,null,null,null,null,null,null,"","",null,"",""]
[32,null,null,null,null,null,null,"","",null,"",""]
[33,null,null,null,null,null,null,"","",null,"",""]
[34,null,null,null,null,null,null,"","",null,"",""]
[35,null,null,null,null,null,null,"","",null,{"$f":"IF(ISBLANK(M41), \"\",IF(ISBLANK(N41),\"\",M41+N41))","v":""},""]
[36,null,null,null,null,null,null,"","",null,"",""]
[37,null,null,null,null,null,null,"","",null,"",""]
[38,null,null,null,null,null,null,"","",null,"",""]
[39,null,null,null,null,null,null,"","",null,"",""]
[40,null,null,null,null,null,null,"","",null,"",""]
[41,null,null,null,null,null,null,"","",null,"",""]
[42,null,null,null,null,null,null,"","",null,"",""]
[43,null,null,null,null,null,null,"","",null,"",""]
[44,null,null,null,null,null,null,"","",null,"",""]
[45,null,null,null,null,null,null,"","",null,"",""]
[46,null,null,null,null,null,null,"","",null,"",""]
[47,null,null,null,null,null,null,"","",null,"",""]
[48,null,null,null,null,null,null,"","",null,"",""]
[49,null,null,null,null,null,null,"","",null,"",""]
[50,null,null,null,null,null,null,"","",null,"",""]
[51,null,null,null,null,null,null,"","",null,"",""]
[52,null,null,null,null,null,null,"","",null,"",""]
[53,null,null,null,null,null,null,"","",null,"",""]
[54,null,null,null,null,null,null,"","",null,"",""]
[55,null,null,null,null,null,null,"","",null,"",""]
[56,null,null,null,null,null,null,"","",null,"",""]
[57,null,null,null,null,null,null,"","",null,"",""]
[58,null,null,null,null,null,null,"","",null,"",""]
[59,null,null,null,null,null,null,"","",null,"",""]
[60,null,null,null,null,null,null,"","",null,"",""]
[61,null,null,null,null,null,null,"","",null,"",""]
[62,null,null,null,null,null,null,"","",null,"",""]
[63,null,null,null,null,null,null,"","",null,"",""]
[64,null,null,null,null,null,null,"","",null,"",""]
[65,null,null,null,null,null,null,"",{"$f":"IF( ((E71*7)+F71) > 0, ((E71*7)+F71), \"\" )","v":""},null,"",""]
[66,null,null,null,null,null,null,{"$f":"IF( ((C72*7)+D72) > 0, ((C72*7)+D72), \"\" )","v":""},"",null,"",{"$f":"IF(ISBLANK(M72),\"\",IF(ISBLANK(N72),\"\",IF((M72-N72)>=0,M72-N72,0)))","v":""}]
[67,null,null,null,null,null,null,"","",null,{"$f":"IF(ISBLANK(M73), \"\",IF(ISBLANK(N73),\"\",M73+N73))","v":""},""]
[68,null,null,null,null,null,null,"","",null,"",""]
[69,null,null,null,null,null,null,"","",null,"",""]
[70,null,null,null,null,null,null,"","",null,"",""]
[71,null,null,null,null,null,null,"","",null,"",""]
[72,null,null,null,null,null,null,"","",null,"",""]
[73,null,null,null,null,null,null,"","",null,"",""]
[74,null,null,null,null,null,null,"","",null,"",""]
[75,null,null,null,null,null,null,"","",null,"",""]
[76,null,null,null,null,null,null,"","",null,"",""]
[77,null,null,null,null,null,null,"","",null,"",""]
[78,null,null,null,null,null,null,"","",null,"",""]
[79,null,null,null,null,null,null,"","",null,"",""]
[80,null,null,null,null,null,null,"","",null,"",""]
[81,null,null,null,null,null,null,"","",null,"",""]
[82,null,null,null,null,null,null,"","",null,"",""]
[83,null,null,null,null,null,null,"","",null,"",""]
[84,null,null,null,null,null,null,"","",null,"",""]
[85,null,null,null,null,null,null,"","",null,"",""]
[86,null,null,null,null,null,null,"","",null,"",""]
[87,null,null,null,null,null,null,"","",null,"",""]
[88,null,null,null,null,null,null,"","",null,"",""]
[89,null,null,null,null,null,null,"","",null,"",""]
[90,null,null,null,null,null,null,"","",null,"",""]
[91,null,null,null,null,null,null,"","",null,"",""]
[92,null,null,null,null,null,null,"","",null,"",""]
[93,null,null,null,null,null,null,"","",null,"",""]
[94,null,null,null,null,null,null,"","",null,"",""]
[95,null,null,null,null,null,null,"","",null,"",""]
[96,null,null,null,null,null,null,"","",null,"",""]
[97,null,null,null,null,null,null,"","",null,"",""]
[98,null,null,null,null,null,null,"","",null,"",""]
[99,null,null,null,null,null,null,"","",null,{"$f":"IF(ISBLANK(M105), \"\",IF(ISBLANK(N105),\"\",M105+N105))","v":""},""]
[100,null,null,null,null,null,null,"","",null,"",""]
[101,null,null,null,null,null,null,"","",null,"",""]
[102,null,null,null,null,null,null,"","",null,"",""]
[103,null,null,null,null,null,null,"","",null,"",""]
[104,null,null,null,null,null,null,"","",null,"",""]
[105,null,null,null,null,null,null,"","",null,"",""]
[106,null,null,null,null,null,null,"","",null,"",""]
[107,null,null,null,null,null,null,"","",null,"",""]
[108,null,null,null,null,null,null,"","",null,"",""]
[109,null,null,null,null,null,null,"","",null,"",""]
[110,null,null,null,null,null,null,"","",null,"",""]
[111,null,null,null,null,null,null,"","",null,"",""]
[112,null,null,null,null,null,null,"","",null,"",""]
[113,null,null,null,null,null,null,"","",null,"",""]
[114,null,null,null,null,null,null,"","",null,"",""]
[115,null,null,null,null,null,null,"","",null,"",""]
[116,null,null,null,null,null,null,"","",null,"",""]
[117,null,null,null,null,null,null,"","",null,"",""]
[118,null,null,null,null,null,null,"","",null,"",""]
[119,null,null,null,null,null,null,"","",null,"",""]
[120,null,null,null,null,null,null,"","",null,"",""]

{"sheet":"Age - HC","index":16,"n_rows":126,"n_cols":14,"rows_kept":126,"cut":false,"hidden":true,"merged":[[0,0,1,4],[2,0,5,0],[2,1,2,3],[2,4,2,5],[3,1,3,3],[3,4,3,5],[4,1,4,3],[4,4,4,5]]}
[{"$f":"HLOOKUP(ValidationData!A18,Phrases!B1:G87,67,FALSE)","v":"AGE - Head Circumference"},null,null,null,null,"Age HC"]
[null,null,null,null,null,{"$f":"ValidationData!DataVersion","v":"70.80.100.100"}]
[{"$f":"HLOOKUP(ValidationData!A18,Phrases!B1:G34,14,FALSE)","v":"Index"},{"$f":"HLOOKUP(ValidationData!A18,Phrases!B1:G34,21,FALSE)","v":"Measurement Name"},null,null,"HC"]
[null,{"$f":"HLOOKUP(ValidationData!A18,Phrases!B1:G34,22,FALSE)","v":"Measurement Type"},null,null,{"$f":"HLOOKUP(ValidationData!A18,Phrases!B1:G94,94,FALSE)","v":"Circumference (cm)"},null,null,null,null,{"$f":"CONCATENATE( IF(ISBLANK(TRIM(E3)), \"\", CONCATENATE( TRIM(E3), \" \")), E4 )","v":"HC Circumference (cm)"}]
[null,{"$f":"HLOOKUP(ValidationData!A18,Phrases!B1:G34,23,FALSE)","v":"Author"},null,null,null,null,null,null,null,{"$f":"IF(ISBLANK(E5), \"\", TRIM(E5))","v":""}]
[null,{"$f":"HLOOKUP(ValidationData!A18,Phrases!B1:G34,26,FALSE)","v":"Value"},{"$f":"HLOOKUP(ValidationData!A18,Phrases!B1:G34,27,FALSE)","v":"Age (weeks)"},{"$f":"HLOOKUP(ValidationData!A18,Phrases!B1:G34,28,FALSE)","v":"Age (days)"},{"$f":"HLOOKUP(ValidationData!A18,Phrases!B1:G34,29,FALSE)","v":"Range (weeks)"},{"$f":"HLOOKUP(ValidationData!A18,Phrases!B1:G34,30,FALSE)","v":"Range (days)"},null,null,null,"Value",{"$f":"HLOOKUP(ValidationData!A18,Phrases!B1:G62,61,FALSE)","v":"Range High"},{"$f":"HLOOKUP(ValidationData!A18,Phrases!B1:G62,62,FALSE)","v":"Range Low"},{"$f":"HLOOKUP(ValidationData!A18,Phrases!B1:G62,60,FALSE)","v":"Total Days"},"Range"]
[1,null,null,null,null,null,null,{"$f":"IF( ((C7*7)+D7) > 0, ((C7*7)+D7), \"\" )","v":""},{"$f":"IF( ((E7*7)+F7) > 0, ((E7*7)+F7), \"\" )","v":""},null,{"$f":"IF(ISBLANK(M7), \"\",IF(ISBLANK(N7),\"\",M7+N7))","v":""},{"$f":"IF(ISBLANK(M7),\"\",IF(ISBLANK(N7),\"\",IF((M7-N7)>=0,M7-N7,0)))","v":""}]
[2,null,null,null,null,null,null,{"$f":"IF( ((C8*7)+D8) > 0, ((C8*7)+D8), \"\" )","v":""},"",null,{"$f":"IF(ISBLANK(M8), \"\",IF(ISBLANK(N8),\"\",M8+N8))","v":""},{"$f":"IF(ISBLANK(M8),\"\",IF(ISBLANK(N8),\"\",IF((M8-N8)>=0,M8-N8,0)))","v":""}]
[3,null,null,null,null,null,null,"","",null,{"$f":"IF(ISBLANK(M9), \"\",IF(ISBLANK(N9),\"\",M9+N9))","v":""},""]
[4,null,null,null,null,null,null,"","",null,"",""]
[5,null,null,null,null,null,null,"","",null,"",""]
[6,null,null,null,null,null,null,"","",null,"",""]
[7,null,null,null,null,null,null,"","",null,"",""]
[8,null,null,null,null,null,null,"","",null,"",""]
[9,null,null,null,null,null,null,"","",null,"",""]
[10,null,null,null,null,null,null,"","",null,"",""]
[11,null,null,null,null,null,null,"","",null,"",""]
[12,null,null,null,null,null,null,"","",null,"",""]
[13,null,null,null,null,null,null,"","",null,"",""]
[14,null,null,null,null,null,null,"","",null,"",""]
[15,null,null,null,null,null,null,"","",null,"",""]
[16,null,null,null,null,null,null,"","",null,"",""]
[17,null,null,null,null,null,null,"","",null,"",""]
[18,null,null,null,null,null,null,"","",null,"",""]
[19,null,null,null,null,null,null,"","",null,"",""]
[20,null,null,null,null,null,null,"","",null,"",""]
[21,null,null,null,null,null,null,"","",null,"",""]
[22,null,null,null,null,null,null,"","",null,"",""]
[23,null,null,null,null,null,null,"","",null,"",""]
[24,null,null,null,null,null,null,"","",null,"",""]
[25,null,null,null,null,null,null,"","",null,"",""]
[26,null,null,null,null,null,null,"","",null,"",""]
[27,null,null,null,null,null,null,"","",null,"",""]
[28,null,null,null,null,null,null,"","",null,"",""]
[29,null,null,null,null,null,null,"","",null,"",""]
[30,null,null,null,null,null,null,"","",null,"",""]
[31,null,null,null,null,null,null,"","",null,"",""]
[32,null,null,null,null,null,null,"","",null,"",""]
[33,null,null,null,null,null,null,"","",null,"",""]
[34,null,null,null,null,null,null,"","",null,"",""]
[35,null,null,null,null,null,null,"","",null,{"$f":"IF(ISBLANK(M41), \"\",IF(ISBLANK(N41),\"\",M41+N41))","v":""},""]
[36,null,null,null,null,null,null,"","",null,"",""]
[37,null,null,null,null,null,null,"","",null,"",""]
[38,null,null,null,null,null,null,"","",null,"",""]
[39,null,null,null,null,null,null,"","",null,"",""]
[40,null,null,null,null,null,null,"","",null,"",""]
[41,null,null,null,null,null,null,"","",null,"",""]
[42,null,null,null,null,null,null,"","",null,"",""]
[43,null,null,null,null,null,null,"","",null,"",""]
[44,null,null,null,null,null,null,"","",null,"",""]
[45,null,null,null,null,null,null,"","",null,"",""]
[46,null,null,null,null,null,null,"","",null,"",""]
[47,null,null,null,null,null,null,"","",null,"",""]
[48,null,null,null,null,null,null,"","",null,"",""]
[49,null,null,null,null,null,null,"","",null,"",""]
[50,null,null,null,null,null,null,"","",null,"",""]
[51,null,null,null,null,null,null,"","",null,"",""]
[52,null,null,null,null,null,null,"","",null,"",""]
[53,null,null,null,null,null,null,"","",null,"",""]
[54,null,null,null,null,null,null,"","",null,"",""]
[55,null,null,null,null,null,null,"","",null,"",""]
[56,null,null,null,null,null,null,"","",null,"",""]
[57,null,null,null,null,null,null,"","",null,"",""]
[58,null,null,null,null,null,null,"","",null,"",""]
[59,null,null,null,null,null,null,"","",null,"",""]
[60,null,null,null,null,null,null,"","",null,"",""]
[61,null,null,null,null,null,null,"","",null,"",""]
[62,null,null,null,null,null,null,"","",null,"",""]
[63,null,null,null,null,null,null,"","",null,"",""]
[64,null,null,null,null,null,null,"","",null,"",""]
[65,null,null,null,null,null,null,"",{"$f":"IF( ((E71*7)+F71) > 0, ((E71*7)+F71), \"\" )","v":""},null,"",""]
[66,null,null,null,null,null,null,{"$f":"IF( ((C72*7)+D72) > 0, ((C72*7)+D72), \"\" )","v":""},"",null,"",{"$f":"IF(ISBLANK(M72),\"\",IF(ISBLANK(N72),\"\",IF((M72-N72)>=0,M72-N72,0)))","v":""}]
[67,null,null,null,null,null,null,"","",null,{"$f":"IF(ISBLANK(M73), \"\",IF(ISBLANK(N73),\"\",M73+N73))","v":""},""]
[68,null,null,null,null,null,null,"","",null,"",""]
[69,null,null,null,null,null,null,"","",null,"",""]
[70,null,null,null,null,null,null,"","",null,"",""]
[71,null,null,null,null,null,null,"","",null,"",""]
[72,null,null,null,null,null,null,"","",null,"",""]
[73,null,null,null,null,null,null,"","",null,"",""]
[74,null,null,null,null,null,null,"","",null,"",""]
[75,null,null,null,null,null,null,"","",null,"",""]
[76,null,null,null,null,null,null,"","",null,"",""]
[77,null,null,null,null,null,null,"","",null,"",""]
[78,null,null,null,null,null,null,"","",null,"",""]
[79,null,null,null,null,null,null,"","",null,"",""]
[80,null,null,null,null,null,null,"","",null,"",""]
[81,null,null,null,null,null,null,"","",null,"",""]
[82,null,null,null,null,null,null,"","",null,"",""]
[83,null,null,null,null,null,null,"","",null,"",""]
[84,null,null,null,null,null,null,"","",null,"",""]
[85,null,null,null,null,null,null,"","",null,"",""]
[86,null,null,null,null,null,null,"","",null,"",""]
[87,null,null,null,null,null,null,"","",null,"",""]
[88,null,null,null,null,null,null,"","",null,"",""]
[89,null,null,null,null,null,null,"","",null,"",""]
[90,null,null,null,null,null,null,"","",null,"",""]
[91,null,null,null,null,null,null,"","",null,"",""]
[92,null,null,null,null,null,null,"","",null,"",""]
[93,null,null,null,null,null,null,"","",null,"",""]
[94,null,null,null,null,null,null,"","",null,"",""]
[95,null,null,null,null,null,null,"","",null,"",""]
[96,null,null,null,null,null,null,"","",null,"",""]
[97,null,null,null,null,null,null,"","",null,"",""]
[98,null,null,null,null,null,null,"","",null,"",""]
[99,null,null,null,null,null,null,"","",null,{"$f":"IF(ISBLANK(M105), \"\",IF(ISBLANK(N105),\"\",M105+N105))","v":""},""]
[100,null,null,null,null,null,null,"","",null,"",""]
[101,null,null,null,null,null,null,"","",null,"",""]
[102,null,null,null,null,null,null,"","",null,"",""]
[103,null,null,null,null,null,null,"","",null,"",""]
[104,null,null,null,null,null,null,"","",null,"",""]
[105,null,null,null,null,null,null,"","",null,"",""]
[106,null,null,null,null,null,null,"","",null,"",""]
[107,null,null,null,null,null,null,"","",null,"",""]
[108,null,null,null,null,null,null,"","",null,"",""]
[109,null,null,null,null,null,null,"","",null,"",""]
[110,null,null,null,null,null,null,"","",null,"",""]
[111,null,null,null,null,null,null,"","",null,"",""]
[112,null,null,null,null,null,null,"","",null,"",""]
[113,null,null,null,null,null,null,"","",null,"",""]
[114,null,null,null,null,null,null,"","",null,"",""]
[115,null,null,null,null,null,null,"","",null,"",""]
[116,null,null,null,null,null,null,"","",null,"",""]
[117,null,null,null,null,null,null,"","",null,"",""]
[118,null,null,null,null,null,null,"","",null,"",""]
[119,null,null,null,null,null,null,"","",null,"",""]
[120,null,null,null,null,null,null,"","",null,"",""]

{"sheet":"Age - AC","index":17,"n_rows":126,"n_cols":14,"rows_kept":126,"cut":false,"hidden":true,"merged":[[0,0,1,4],[2,0,5,0],[2,1,2,3],[2,4,2,5],[3,1,3,3],[3,4,3,5],[4,1,4,3],[4,4,4,5]]}
[{"$f":"HLOOKUP(ValidationData!A18,Phrases!B1:G87,68,FALSE)","v":"AGE - Abdominal Circumference"},null,null,null,null,"Age AC"]
[null,null,null,null,null,{"$f":"ValidationData!DataVersion","v":"70.80.100.100"}]
[{"$f":"HLOOKUP(ValidationData!A18,Phrases!B1:G34,14,FALSE)","v":"Index"},{"$f":"HLOOKUP(ValidationData!A18,Phrases!B1:G34,21,FALSE)","v":"Measurement Name"},null,null,"AC"]
[null,{"$f":"HLOOKUP(ValidationData!A18,Phrases!B1:G34,22,FALSE)","v":"Measurement Type"},null,null,{"$f":"HLOOKUP(ValidationData!A18,Phrases!B1:G94,94,FALSE)","v":"Circumference (cm)"},null,null,null,null,{"$f":"CONCATENATE( IF(ISBLANK(TRIM(E3)), \"\", CONCATENATE( TRIM(E3), \" \")), E4 )","v":"AC Circumference (cm)"}]
[null,{"$f":"HLOOKUP(ValidationData!A18,Phrases!B1:G34,23,FALSE)","v":"Author"},null,null,null,null,null,null,null,{"$f":"IF(ISBLANK(E5), \"\", TRIM(E5))","v":""}]
[null,{"$f":"HLOOKUP(ValidationData!A18,Phrases!B1:G34,26,FALSE)","v":"Value"},{"$f":"HLOOKUP(ValidationData!A18,Phrases!B1:G34,27,FALSE)","v":"Age (weeks)"},{"$f":"HLOOKUP(ValidationData!A18,Phrases!B1:G34,28,FALSE)","v":"Age (days)"},{"$f":"HLOOKUP(ValidationData!A18,Phrases!B1:G34,29,FALSE)","v":"Range (weeks)"},{"$f":"HLOOKUP(ValidationData!A18,Phrases!B1:G34,30,FALSE)","v":"Range (days)"},null,null,null,"Value",{"$f":"HLOOKUP(ValidationData!A18,Phrases!B1:G62,61,FALSE)","v":"Range High"},{"$f":"HLOOKUP(ValidationData!A18,Phrases!B1:G62,62,FALSE)","v":"Range Low"},{"$f":"HLOOKUP(ValidationData!A18,Phrases!B1:G62,60,FALSE)","v":"Total Days"},"Range"]
[1,null,null,null,null,null,null,{"$f":"IF( ((C7*7)+D7) > 0, ((C7*7)+D7), \"\" )","v":""},{"$f":"IF( ((E7*7)+F7) > 0, ((E7*7)+F7), \"\" )","v":""},null,{"$f":"IF(ISBLANK(M7), \"\",IF(ISBLANK(N7),\"\",M7+N7))","v":""},{"$f":"IF(ISBLANK(M7),\"\",IF(ISBLANK(N7),\"\",IF((M7-N7)>=0,M7-N7,0)))","v":""}]
[2,null,null,null,null,null,null,{"$f":"IF( ((C8*7)+D8) > 0, ((C8*7)+D8), \"\" )","v":""},"",null,{"$f":"IF(ISBLANK(M8), \"\",IF(ISBLANK(N8),\"\",M8+N8))","v":""},{"$f":"IF(ISBLANK(M8),\"\",IF(ISBLANK(N8),\"\",IF((M8-N8)>=0,M8-N8,0)))","v":""}]
[3,null,null,null,null,null,null,"","",null,{"$f":"IF(ISBLANK(M9), \"\",IF(ISBLANK(N9),\"\",M9+N9))","v":""},""]
[4,null,null,null,null,null,null,"","",null,"",""]
[5,null,null,null,null,null,null,"","",null,"",""]
[6,null,null,null,null,null,null,"","",null,"",""]
[7,null,null,null,null,null,null,"","",null,"",""]
[8,null,null,null,null,null,null,"","",null,"",""]
[9,null,null,null,null,null,null,"","",null,"",""]
[10,null,null,null,null,null,null,"","",null,"",""]
[11,null,null,null,null,null,null,"","",null,"",""]
[12,null,null,null,null,null,null,"","",null,"",""]
[13,null,null,null,null,null,null,"","",null,"",""]
[14,null,null,null,null,null,null,"","",null,"",""]
[15,null,null,null,null,null,null,"","",null,"",""]
[16,null,null,null,null,null,null,"","",null,"",""]
[17,null,null,null,null,null,null,"","",null,"",""]
[18,null,null,null,null,null,null,"","",null,"",""]
[19,null,null,null,null,null,null,"","",null,"",""]
[20,null,null,null,null,null,null,"","",null,"",""]
[21,null,null,null,null,null,null,"","",null,"",""]
[22,null,null,null,null,null,null,"","",null,"",""]
[23,null,null,null,null,null,null,"","",null,"",""]
[24,null,null,null,null,null,null,"","",null,"",""]
[25,null,null,null,null,null,null,"","",null,"",""]
[26,null,null,null,null,null,null,"","",null,"",""]
[27,null,null,null,null,null,null,"","",null,"",""]
[28,null,null,null,null,null,null,"","",null,"",""]
[29,null,null,null,null,null,null,"","",null,"",""]
[30,null,null,null,null,null,null,"","",null,"",""]
[31,null,null,null,null,null,null,"","",null,"",""]
[32,null,null,null,null,null,null,"","",null,"",""]
[33,null,null,null,null,null,null,"","",null,"",""]
[34,null,null,null,null,null,null,"","",null,"",""]
[35,null,null,null,null,null,null,"","",null,{"$f":"IF(ISBLANK(M41), \"\",IF(ISBLANK(N41),\"\",M41+N41))","v":""},""]
[36,null,null,null,null,null,null,"","",null,"",""]
[37,null,null,null,null,null,null,"","",null,"",""]
[38,null,null,null,null,null,null,"","",null,"",""]
[39,null,null,null,null,null,null,"","",null,"",""]
[40,null,null,null,null,null,null,"","",null,"",""]
[41,null,null,null,null,null,null,"","",null,"",""]
[42,null,null,null,null,null,null,"","",null,"",""]
[43,null,null,null,null,null,null,"","",null,"",""]
[44,null,null,null,null,null,null,"","",null,"",""]
[45,null,null,null,null,null,null,"","",null,"",""]
[46,null,null,null,null,null,null,"","",null,"",""]
[47,null,null,null,null,null,null,"","",null,"",""]
[48,null,null,null,null,null,null,"","",null,"",""]
[49,null,null,null,null,null,null,"","",null,"",""]
[50,null,null,null,null,null,null,"","",null,"",""]
[51,null,null,null,null,null,null,"","",null,"",""]
[52,null,null,null,null,null,null,"","",null,"",""]
[53,null,null,null,null,null,null,"","",null,"",""]
[54,null,null,null,null,null,null,"","",null,"",""]
[55,null,null,null,null,null,null,"","",null,"",""]
[56,null,null,null,null,null,null,"","",null,"",""]
[57,null,null,null,null,null,null,"","",null,"",""]
[58,null,null,null,null,null,null,"","",null,"",""]
[59,null,null,null,null,null,null,"","",null,"",""]
[60,null,null,null,null,null,null,"","",null,"",""]
[61,null,null,null,null,null,null,"","",null,"",""]
[62,null,null,null,null,null,null,"","",null,"",""]
[63,null,null,null,null,null,null,"","",null,"",""]
[64,null,null,null,null,null,null,"","",null,"",""]
[65,null,null,null,null,null,null,"",{"$f":"IF( ((E71*7)+F71) > 0, ((E71*7)+F71), \"\" )","v":""},null,"",""]
[66,null,null,null,null,null,null,{"$f":"IF( ((C72*7)+D72) > 0, ((C72*7)+D72), \"\" )","v":""},"",null,"",{"$f":"IF(ISBLANK(M72),\"\",IF(ISBLANK(N72),\"\",IF((M72-N72)>=0,M72-N72,0)))","v":""}]
[67,null,null,null,null,null,null,"","",null,{"$f":"IF(ISBLANK(M73), \"\",IF(ISBLANK(N73),\"\",M73+N73))","v":""},""]
[68,null,null,null,null,null,null,"","",null,"",""]
[69,null,null,null,null,null,null,"","",null,"",""]
[70,null,null,null,null,null,null,"","",null,"",""]
[71,null,null,null,null,null,null,"","",null,"",""]
[72,null,null,null,null,null,null,"","",null,"",""]
[73,null,null,null,null,null,null,"","",null,"",""]
[74,null,null,null,null,null,null,"","",null,"",""]
[75,null,null,null,null,null,null,"","",null,"",""]
[76,null,null,null,null,null,null,"","",null,"",""]
[77,null,null,null,null,null,null,"","",null,"",""]
[78,null,null,null,null,null,null,"","",null,"",""]
[79,null,null,null,null,null,null,"","",null,"",""]
[80,null,null,null,null,null,null,"","",null,"",""]
[81,null,null,null,null,null,null,"","",null,"",""]
[82,null,null,null,null,null,null,"","",null,"",""]
[83,null,null,null,null,null,null,"","",null,"",""]
[84,null,null,null,null,null,null,"","",null,"",""]
[85,null,null,null,null,null,null,"","",null,"",""]
[86,null,null,null,null,null,null,"","",null,"",""]
[87,null,null,null,null,null,null,"","",null,"",""]
[88,null,null,null,null,null,null,"","",null,"",""]
[89,null,null,null,null,null,null,"","",null,"",""]
[90,null,null,null,null,null,null,"","",null,"",""]
[91,null,null,null,null,null,null,"","",null,"",""]
[92,null,null,null,null,null,null,"","",null,"",""]
[93,null,null,null,null,null,null,"","",null,"",""]
[94,null,null,null,null,null,null,"","",null,"",""]
[95,null,null,null,null,null,null,"","",null,"",""]
[96,null,null,null,null,null,null,"","",null,"",""]
[97,null,null,null,null,null,null,"","",null,"",""]
[98,null,null,null,null,null,null,"","",null,"",""]
[99,null,null,null,null,null,null,"","",null,{"$f":"IF(ISBLANK(M105), \"\",IF(ISBLANK(N105),\"\",M105+N105))","v":""},""]
[100,null,null,null,null,null,null,"","",null,"",""]
[101,null,null,null,null,null,null,"","",null,"",""]
[102,null,null,null,null,null,null,"","",null,"",""]
[103,null,null,null,null,null,null,"","",null,"",""]
[104,null,null,null,null,null,null,"","",null,"",""]
[105,null,null,null,null,null,null,"","",null,"",""]
[106,null,null,null,null,null,null,"","",null,"",""]
[107,null,null,null,null,null,null,"","",null,"",""]
[108,null,null,null,null,null,null,"","",null,"",""]
[109,null,null,null,null,null,null,"","",null,"",""]
[110,null,null,null,null,null,null,"","",null,"",""]
[111,null,null,null,null,null,null,"","",null,"",""]
[112,null,null,null,null,null,null,"","",null,"",""]
[113,null,null,null,null,null,null,"","",null,"",""]
[114,null,null,null,null,null,null,"","",null,"",""]
[115,null,null,null,null,null,null,"","",null,"",""]
[116,null,null,null,null,null,null,"","",null,"",""]
[117,null,null,null,null,null,null,"","",null,"",""]
[118,null,null,null,null,null,null,"","",null,"",""]
[119,null,null,null,null,null,null,"","",null,"",""]
[120,null,null,null,null,null,null,"","",null,"",""]

{"sheet":"Age - FL","index":18,"n_rows":126,"n_cols":14,"rows_kept":126,"cut":false,"hidden":true,"merged":[[0,0,1,4],[2,0,5,0],[2,1,2,3],[2,4,2,5],[3,1,3,3],[3,4,3,5],[4,1,4,3],[4,4,4,5]]}
[{"$f":"HLOOKUP(ValidationData!A18,Phrases!B1:G87,69,FALSE)","v":"AGE - Femur Length"},null,null,null,null,"Age FL"]
[null,null,null,null,null,{"$f":"ValidationData!DataVersion","v":"70.80.100.100"}]
[{"$f":"HLOOKUP(ValidationData!A18,Phrases!B1:G34,14,FALSE)","v":"Index"},{"$f":"HLOOKUP(ValidationData!A18,Phrases!B1:G34,21,FALSE)","v":"Measurement Name"},null,null,"FL"]
[null,{"$f":"HLOOKUP(ValidationData!A18,Phrases!B1:G34,22,FALSE)","v":"Measurement Type"},null,null,{"$f":"HLOOKUP(ValidationData!A18,Phrases!B1:G94,92,FALSE)","v":"Distance (cm)"},null,null,null,null,{"$f":"CONCATENATE( IF(ISBLANK(TRIM(E3)), \"\", CONCATENATE( TRIM(E3), \" \")), E4 )","v":"FL Distance (cm)"}]
[null,{"$f":"HLOOKUP(ValidationData!A18,Phrases!B1:G34,23,FALSE)","v":"Author"},null,null,null,null,null,null,null,{"$f":"IF(ISBLANK(E5), \"\", TRIM(E5))","v":""}]
[null,{"$f":"HLOOKUP(ValidationData!A18,Phrases!B1:G34,26,FALSE)","v":"Value"},{"$f":"HLOOKUP(ValidationData!A18,Phrases!B1:G34,27,FALSE)","v":"Age (weeks)"},{"$f":"HLOOKUP(ValidationData!A18,Phrases!B1:G34,28,FALSE)","v":"Age (days)"},{"$f":"HLOOKUP(ValidationData!A18,Phrases!B1:G34,29,FALSE)","v":"Range (weeks)"},{"$f":"HLOOKUP(ValidationData!A18,Phrases!B1:G34,30,FALSE)","v":"Range (days)"},null,null,null,"Value",{"$f":"HLOOKUP(ValidationData!A18,Phrases!B1:G62,61,FALSE)","v":"Range High"},{"$f":"HLOOKUP(ValidationData!A18,Phrases!B1:G62,62,FALSE)","v":"Range Low"},{"$f":"HLOOKUP(ValidationData!A18,Phrases!B1:G62,60,FALSE)","v":"Total Days"},"Range"]
[1,null,null,null,null,null,null,{"$f":"IF( ((C7*7)+D7) > 0, ((C7*7)+D7), \"\" )","v":""},{"$f":"IF( ((E7*7)+F7) > 0, ((E7*7)+F7), \"\" )","v":""},null,{"$f":"IF(ISBLANK(M7), \"\",IF(ISBLANK(N7),\"\",M7+N7))","v":""},{"$f":"IF(ISBLANK(M7),\"\",IF(ISBLANK(N7),\"\",IF((M7-N7)>=0,M7-N7,0)))","v":""}]
[2,null,null,null,null,null,null,{"$f":"IF( ((C8*7)+D8) > 0, ((C8*7)+D8), \"\" )","v":""},"",null,{"$f":"IF(ISBLANK(M8), \"\",IF(ISBLANK(N8),\"\",M8+N8))","v":""},{"$f":"IF(ISBLANK(M8),\"\",IF(ISBLANK(N8),\"\",IF((M8-N8)>=0,M8-N8,0)))","v":""}]
[3,null,null,null,null,null,null,"","",null,{"$f":"IF(ISBLANK(M9), \"\",IF(ISBLANK(N9),\"\",M9+N9))","v":""},""]
[4,null,null,null,null,null,null,"","",null,"",""]
[5,null,null,null,null,null,null,"","",null,"",""]
[6,null,null,null,null,null,null,"","",null,"",""]
[7,null,null,null,null,null,null,"","",null,"",""]
[8,null,null,null,null,null,null,"","",null,"",""]
[9,null,null,null,null,null,null,"","",null,"",""]
[10,null,null,null,null,null,null,"","",null,"",""]
[11,null,null,null,null,null,null,"","",null,"",""]
[12,null,null,null,null,null,null,"","",null,"",""]
[13,null,null,null,null,null,null,"","",null,"",""]
[14,null,null,null,null,null,null,"","",null,"",""]
[15,null,null,null,null,null,null,"","",null,"",""]
[16,null,null,null,null,null,null,"","",null,"",""]
[17,null,null,null,null,null,null,"","",null,"",""]
[18,null,null,null,null,null,null,"","",null,"",""]
[19,null,null,null,null,null,null,"","",null,"",""]
[20,null,null,null,null,null,null,"","",null,"",""]
[21,null,null,null,null,null,null,"","",null,"",""]
[22,null,null,null,null,null,null,"","",null,"",""]
[23,null,null,null,null,null,null,"","",null,"",""]
[24,null,null,null,null,null,null,"","",null,"",""]
[25,null,null,null,null,null,null,"","",null,"",""]
[26,null,null,null,null,null,null,"","",null,"",""]
[27,null,null,null,null,null,null,"","",null,"",""]
[28,null,null,null,null,null,null,"","",null,"",""]
[29,null,null,null,null,null,null,"","",null,"",""]
[30,null,null,null,null,null,null,"","",null,"",""]
[31,null,null,null,null,null,null,"","",null,"",""]
[32,null,null,null,null,null,null,"","",null,"",""]
[33,null,null,null,null,null,null,"","",null,"",""]
[34,null,null,null,null,null,null,"","",null,"",""]
[35,null,null,null,null,null,null,"","",null,{"$f":"IF(ISBLANK(M41), \"\",IF(ISBLANK(N41),\"\",M41+N41))","v":""},""]
[36,null,null,null,null,null,null,"","",null,"",""]
[37,null,null,null,null,null,null,"","",null,"",""]
[38,null,null,null,null,null,null,"","",null,"",""]
[39,null,null,null,null,null,null,"","",null,"",""]
[40,null,null,null,null,null,null,"","",null,"",""]
[41,null,null,null,null,null,null,"","",null,"",""]
[42,null,null,null,null,null,null,"","",null,"",""]
[43,null,null,null,null,null,null,"","",null,"",""]
[44,null,null,null,null,null,null,"","",null,"",""]
[45,null,null,null,null,null,null,"","",null,"",""]
[46,null,null,null,null,null,null,"","",null,"",""]
[47,null,null,null,null,null,null,"","",null,"",""]
[48,null,null,null,null,null,null,"","",null,"",""]
[49,null,null,null,null,null,null,"","",null,"",""]
[50,null,null,null,null,null,null,"","",null,"",""]
[51,null,null,null,null,null,null,"","",null,"",""]
[52,null,null,null,null,null,null,"","",null,"",""]
[53,null,null,null,null,null,null,"","",null,"",""]
[54,null,null,null,null,null,null,"","",null,"",""]
[55,null,null,null,null,null,null,"","",null,"",""]
[56,null,null,null,null,null,null,"","",null,"",""]
[57,null,null,null,null,null,null,"","",null,"",""]
[58,null,null,null,null,null,null,"","",null,"",""]
[59,null,null,null,null,null,null,"","",null,"",""]
[60,null,null,null,null,null,null,"","",null,"",""]
[61,null,null,null,null,null,null,"","",null,"",""]
[62,null,null,null,null,null,null,"","",null,"",""]
[63,null,null,null,null,null,null,"","",null,"",""]
[64,null,null,null,null,null,null,"","",null,"",""]
[65,null,null,null,null,null,null,"",{"$f":"IF( ((E71*7)+F71) > 0, ((E71*7)+F71), \"\" )","v":""},null,"",""]
[66,null,null,null,null,null,null,{"$f":"IF( ((C72*7)+D72) > 0, ((C72*7)+D72), \"\" )","v":""},"",null,"",{"$f":"IF(ISBLANK(M72),\"\",IF(ISBLANK(N72),\"\",IF((M72-N72)>=0,M72-N72,0)))","v":""}]
[67,null,null,null,null,null,null,"","",null,{"$f":"IF(ISBLANK(M73), \"\",IF(ISBLANK(N73),\"\",M73+N73))","v":""},""]
[68,null,null,null,null,null,null,"","",null,"",""]
[69,null,null,null,null,null,null,"","",null,"",""]
[70,null,null,null,null,null,null,"","",null,"",""]
[71,null,null,null,null,null,null,"","",null,"",""]
[72,null,null,null,null,null,null,"","",null,"",""]
[73,null,null,null,null,null,null,"","",null,"",""]
[74,null,null,null,null,null,null,"","",null,"",""]
[75,null,null,null,null,null,null,"","",null,"",""]
[76,null,null,null,null,null,null,"","",null,"",""]
[77,null,null,null,null,null,null,"","",null,"",""]
[78,null,null,null,null,null,null,"","",null,"",""]
[79,null,null,null,null,null,null,"","",null,"",""]
[80,null,null,null,null,null,null,"","",null,"",""]
[81,null,null,null,null,null,null,"","",null,"",""]
[82,null,null,null,null,null,null,"","",null,"",""]
[83,null,null,null,null,null,null,"","",null,"",""]
[84,null,null,null,null,null,null,"","",null,"",""]
[85,null,null,null,null,null,null,"","",null,"",""]
[86,null,null,null,null,null,null,"","",null,"",""]
[87,null,null,null,null,null,null,"","",null,"",""]
[88,null,null,null,null,null,null,"","",null,"",""]
[89,null,null,null,null,null,null,"","",null,"",""]
[90,null,null,null,null,null,null,"","",null,"",""]
[91,null,null,null,null,null,null,"","",null,"",""]
[92,null,null,null,null,null,null,"","",null,"",""]
[93,null,null,null,null,null,null,"","",null,"",""]
[94,null,null,null,null,null,null,"","",null,"",""]
[95,null,null,null,null,null,null,"","",null,"",""]
[96,null,null,null,null,null,null,"","",null,"",""]
[97,null,null,null,null,null,null,"","",null,"",""]
[98,null,null,null,null,null,null,"","",null,"",""]
[99,null,null,null,null,null,null,"","",null,{"$f":"IF(ISBLANK(M105), \"\",IF(ISBLANK(N105),\"\",M105+N105))","v":""},""]
[100,null,null,null,null,null,null,"","",null,"",""]
[101,null,null,null,null,null,null,"","",null,"",""]
[102,null,null,null,null,null,null,"","",null,"",""]
[103,null,null,null,null,null,null,"","",null,"",""]
[104,null,null,null,null,null,null,"","",null,"",""]
[105,null,null,null,null,null,null,"","",null,"",""]
[106,null,null,null,null,null,null,"","",null,"",""]
[107,null,null,null,null,null,null,"","",null,"",""]
[108,null,null,null,null,null,null,"","",null,"",""]
[109,null,null,null,null,null,null,"","",null,"",""]
[110,null,null,null,null,null,null,"","",null,"",""]
[111,null,null,null,null,null,null,"","",null,"",""]
[112,null,null,null,null,null,null,"","",null,"",""]
[113,null,null,null,null,null,null,"","",null,"",""]
[114,null,null,null,null,null,null,"","",null,"",""]
[115,null,null,null,null,null,null,"","",null,"",""]
[116,null,null,null,null,null,null,"","",null,"",""]
[117,null,null,null,null,null,null,"","",null,"",""]
[118,null,null,null,null,null,null,"","",null,"",""]
[119,null,null,null,null,null,null,"","",null,"",""]
[120,null,null,null,null,null,null,"","",null,"",""]

{"sheet":"Age - APTD","index":19,"n_rows":126,"n_cols":14,"rows_kept":126,"cut":false,"hidden":true,"merged":[[0,0,1,4],[2,0,5,0],[2,1,2,3],[2,4,2,5],[3,1,3,3],[3,4,3,5],[4,1,4,3],[4,4,4,5]]}
[{"$f":"HLOOKUP(ValidationData!A18,Phrases!B1:G87,70,FALSE)","v":"AGE - Anterior-Posterior Thigh Diameter"},null,null,null,null,"Age APTD"]
[null,null,null,null,null,{"$f":"ValidationData!DataVersion","v":"70.80.100.100"}]
[{"$f":"HLOOKUP(ValidationData!A18,Phrases!B1:G34,14,FALSE)","v":"Index"},{"$f":"HLOOKUP(ValidationData!A18,Phrases!B1:G34,21,FALSE)","v":"Measurement Name"},null,null,"APTD"]
[null,{"$f":"HLOOKUP(ValidationData!A18,Phrases!B1:G34,22,FALSE)","v":"Measurement Type"},null,null,{"$f":"HLOOKUP(ValidationData!A18,Phrases!B1:G94,92,FALSE)","v":"Distance (cm)"},null,null,null,null,{"$f":"CONCATENATE( IF(ISBLANK(TRIM(E3)), \"\", CONCATENATE( TRIM(E3), \" \")), E4 )","v":"APTD Distance (cm)"}]
[null,{"$f":"HLOOKUP(ValidationData!A18,Phrases!B1:G34,23,FALSE)","v":"Author"},null,null,null,null,null,null,null,{"$f":"IF(ISBLANK(E5), \"\", TRIM(E5))","v":""}]
[null,{"$f":"HLOOKUP(ValidationData!A18,Phrases!B1:G34,26,FALSE)","v":"Value"},{"$f":"HLOOKUP(ValidationData!A18,Phrases!B1:G34,27,FALSE)","v":"Age (weeks)"},{"$f":"HLOOKUP(ValidationData!A18,Phrases!B1:G34,28,FALSE)","v":"Age (days)"},{"$f":"HLOOKUP(ValidationData!A18,Phrases!B1:G34,29,FALSE)","v":"Range (weeks)"},{"$f":"HLOOKUP(ValidationData!A18,Phrases!B1:G34,30,FALSE)","v":"Range (days)"},null,null,null,"Value",{"$f":"HLOOKUP(ValidationData!A18,Phrases!B1:G62,61,FALSE)","v":"Range High"},{"$f":"HLOOKUP(ValidationData!A18,Phrases!B1:G62,62,FALSE)","v":"Range Low"},{"$f":"HLOOKUP(ValidationData!A18,Phrases!B1:G62,60,FALSE)","v":"Total Days"},"Range"]
[1,null,null,null,null,null,null,{"$f":"IF( ((C7*7)+D7) > 0, ((C7*7)+D7), \"\" )","v":""},{"$f":"IF( ((E7*7)+F7) > 0, ((E7*7)+F7), \"\" )","v":""},null,{"$f":"IF(ISBLANK(M7), \"\",IF(ISBLANK(N7),\"\",M7+N7))","v":""},{"$f":"IF(ISBLANK(M7),\"\",IF(ISBLANK(N7),\"\",IF((M7-N7)>=0,M7-N7,0)))","v":""}]
[2,null,null,null,null,null,null,{"$f":"IF( ((C8*7)+D8) > 0, ((C8*7)+D8), \"\" )","v":""},"",null,{"$f":"IF(ISBLANK(M8), \"\",IF(ISBLANK(N8),\"\",M8+N8))","v":""},{"$f":"IF(ISBLANK(M8),\"\",IF(ISBLANK(N8),\"\",IF((M8-N8)>=0,M8-N8,0)))","v":""}]
[3,null,null,null,null,null,null,"","",null,{"$f":"IF(ISBLANK(M9), \"\",IF(ISBLANK(N9),\"\",M9+N9))","v":""},""]
[4,null,null,null,null,null,null,"","",null,"",""]
[5,null,null,null,null,null,null,"","",null,"",""]
[6,null,null,null,null,null,null,"","",null,"",""]
[7,null,null,null,null,null,null,"","",null,"",""]
[8,null,null,null,null,null,null,"","",null,"",""]
[9,null,null,null,null,null,null,"","",null,"",""]
[10,null,null,null,null,null,null,"","",null,"",""]
[11,null,null,null,null,null,null,"","",null,"",""]
[12,null,null,null,null,null,null,"","",null,"",""]
[13,null,null,null,null,null,null,"","",null,"",""]
[14,null,null,null,null,null,null,"","",null,"",""]
[15,null,null,null,null,null,null,"","",null,"",""]
[16,null,null,null,null,null,null,"","",null,"",""]
[17,null,null,null,null,null,null,"","",null,"",""]
[18,null,null,null,null,null,null,"","",null,"",""]
[19,null,null,null,null,null,null,"","",null,"",""]
[20,null,null,null,null,null,null,"","",null,"",""]
[21,null,null,null,null,null,null,"","",null,"",""]
[22,null,null,null,null,null,null,"","",null,"",""]
[23,null,null,null,null,null,null,"","",null,"",""]
[24,null,null,null,null,null,null,"","",null,"",""]
[25,null,null,null,null,null,null,"","",null,"",""]
[26,null,null,null,null,null,null,"","",null,"",""]
[27,null,null,null,null,null,null,"","",null,"",""]
[28,null,null,null,null,null,null,"","",null,"",""]
[29,null,null,null,null,null,null,"","",null,"",""]
[30,null,null,null,null,null,null,"","",null,"",""]
[31,null,null,null,null,null,null,"","",null,"",""]
[32,null,null,null,null,null,null,"","",null,"",""]
[33,null,null,null,null,null,null,"","",null,"",""]
[34,null,null,null,null,null,null,"","",null,"",""]
[35,null,null,null,null,null,null,"","",null,{"$f":"IF(ISBLANK(M41), \"\",IF(ISBLANK(N41),\"\",M41+N41))","v":""},""]
[36,null,null,null,null,null,null,"","",null,"",""]
[37,null,null,null,null,null,null,"","",null,"",""]
[38,null,null,null,null,null,null,"","",null,"",""]
[39,null,null,null,null,null,null,"","",null,"",""]
[40,null,null,null,null,null,null,"","",null,"",""]
[41,null,null,null,null,null,null,"","",null,"",""]
[42,null,null,null,null,null,null,"","",null,"",""]
[43,null,null,null,null,null,null,"","",null,"",""]
[44,null,null,null,null,null,null,"","",null,"",""]
[45,null,null,null,null,null,null,"","",null,"",""]
[46,null,null,null,null,null,null,"","",null,"",""]
[47,null,null,null,null,null,null,"","",null,"",""]
[48,null,null,null,null,null,null,"","",null,"",""]
[49,null,null,null,null,null,null,"","",null,"",""]
[50,null,null,null,null,null,null,"","",null,"",""]
[51,null,null,null,null,null,null,"","",null,"",""]
[52,null,null,null,null,null,null,"","",null,"",""]
[53,null,null,null,null,null,null,"","",null,"",""]
[54,null,null,null,null,null,null,"","",null,"",""]
[55,null,null,null,null,null,null,"","",null,"",""]
[56,null,null,null,null,null,null,"","",null,"",""]
[57,null,null,null,null,null,null,"","",null,"",""]
[58,null,null,null,null,null,null,"","",null,"",""]
[59,null,null,null,null,null,null,"","",null,"",""]
[60,null,null,null,null,null,null,"","",null,"",""]
[61,null,null,null,null,null,null,"","",null,"",""]
[62,null,null,null,null,null,null,"","",null,"",""]
[63,null,null,null,null,null,null,"","",null,"",""]
[64,null,null,null,null,null,null,"","",null,"",""]
[65,null,null,null,null,null,null,"",{"$f":"IF( ((E71*7)+F71) > 0, ((E71*7)+F71), \"\" )","v":""},null,"",""]
[66,null,null,null,null,null,null,{"$f":"IF( ((C72*7)+D72) > 0, ((C72*7)+D72), \"\" )","v":""},"",null,"",{"$f":"IF(ISBLANK(M72),\"\",IF(ISBLANK(N72),\"\",IF((M72-N72)>=0,M72-N72,0)))","v":""}]
[67,null,null,null,null,null,null,"","",null,{"$f":"IF(ISBLANK(M73), \"\",IF(ISBLANK(N73),\"\",M73+N73))","v":""},""]
[68,null,null,null,null,null,null,"","",null,"",""]
[69,null,null,null,null,null,null,"","",null,"",""]
[70,null,null,null,null,null,null,"","",null,"",""]
[71,null,null,null,null,null,null,"","",null,"",""]
[72,null,null,null,null,null,null,"","",null,"",""]
[73,null,null,null,null,null,null,"","",null,"",""]
[74,null,null,null,null,null,null,"","",null,"",""]
[75,null,null,null,null,null,null,"","",null,"",""]
[76,null,null,null,null,null,null,"","",null,"",""]
[77,null,null,null,null,null,null,"","",null,"",""]
[78,null,null,null,null,null,null,"","",null,"",""]
[79,null,null,null,null,null,null,"","",null,"",""]
[80,null,null,null,null,null,null,"","",null,"",""]
[81,null,null,null,null,null,null,"","",null,"",""]
[82,null,null,null,null,null,null,"","",null,"",""]
[83,null,null,null,null,null,null,"","",null,"",""]
[84,null,null,null,null,null,null,"","",null,"",""]
[85,null,null,null,null,null,null,"","",null,"",""]
[86,null,null,null,null,null,null,"","",null,"",""]
[87,null,null,null,null,null,null,"","",null,"",""]
[88,null,null,null,null,null,null,"","",null,"",""]
[89,null,null,null,null,null,null,"","",null,"",""]
[90,null,null,null,null,null,null,"","",null,"",""]
[91,null,null,null,null,null,null,"","",null,"",""]
[92,null,null,null,null,null,null,"","",null,"",""]
[93,null,null,null,null,null,null,"","",null,"",""]
[94,null,null,null,null,null,null,"","",null,"",""]
[95,null,null,null,null,null,null,"","",null,"",""]
[96,null,null,null,null,null,null,"","",null,"",""]
[97,null,null,null,null,null,null,"","",null,"",""]
[98,null,null,null,null,null,null,"","",null,"",""]
[99,null,null,null,null,null,null,"","",null,{"$f":"IF(ISBLANK(M105), \"\",IF(ISBLANK(N105),\"\",M105+N105))","v":""},""]
[100,null,null,null,null,null,null,"","",null,"",""]
[101,null,null,null,null,null,null,"","",null,"",""]
[102,null,null,null,null,null,null,"","",null,"",""]
[103,null,null,null,null,null,null,"","",null,"",""]
[104,null,null,null,null,null,null,"","",null,"",""]
[105,null,null,null,null,null,null,"","",null,"",""]
[106,null,null,null,null,null,null,"","",null,"",""]
[107,null,null,null,null,null,null,"","",null,"",""]
[108,null,null,null,null,null,null,"","",null,"",""]
[109,null,null,null,null,null,null,"","",null,"",""]
[110,null,null,null,null,null,null,"","",null,"",""]
[111,null,null,null,null,null,null,"","",null,"",""]
[112,null,null,null,null,null,null,"","",null,"",""]
[113,null,null,null,null,null,null,"","",null,"",""]
[114,null,null,null,null,null,null,"","",null,"",""]
[115,null,null,null,null,null,null,"","",null,"",""]
[116,null,null,null,null,null,null,"","",null,"",""]
[117,null,null,null,null,null,null,"","",null,"",""]
[118,null,null,null,null,null,null,"","",null,"",""]
[119,null,null,null,null,null,null,"","",null,"",""]
[120,null,null,null,null,null,null,"","",null,"",""]

{"sheet":"Age - TTD","index":20,"n_rows":126,"n_cols":14,"rows_kept":126,"cut":false,"hidden":true,"merged":[[0,0,1,4],[2,0,5,0],[2,1,2,3],[2,4,2,5],[3,1,3,3],[3,4,3,5],[4,1,4,3],[4,4,4,5]]}
[{"$f":"HLOOKUP(ValidationData!A18,Phrases!B1:G87,71,FALSE)","v":"AGE - Transverse Trunk Diameter"},null,null,null,null,"Age TTD"]
[null,null,null,null,null,{"$f":"ValidationData!DataVersion","v":"70.80.100.100"}]
[{"$f":"HLOOKUP(ValidationData!A18,Phrases!B1:G34,14,FALSE)","v":"Index"},{"$f":"HLOOKUP(ValidationData!A18,Phrases!B1:G34,21,FALSE)","v":"Measurement Name"},null,null,"TTD"]
[null,{"$f":"HLOOKUP(ValidationData!A18,Phrases!B1:G34,22,FALSE)","v":"Measurement Type"},null,null,{"$f":"HLOOKUP(ValidationData!A18,Phrases!B1:G94,92,FALSE)","v":"Distance (cm)"},null,null,null,null,{"$f":"CONCATENATE( IF(ISBLANK(TRIM(E3)), \"\", CONCATENATE( TRIM(E3), \" \")), E4 )","v":"TTD Distance (cm)"}]
[null,{"$f":"HLOOKUP(ValidationData!A18,Phrases!B1:G34,23,FALSE)","v":"Author"},null,null,null,null,null,null,null,{"$f":"IF(ISBLANK(E5), \"\", TRIM(E5))","v":""}]
[null,{"$f":"HLOOKUP(ValidationData!A18,Phrases!B1:G34,26,FALSE)","v":"Value"},{"$f":"HLOOKUP(ValidationData!A18,Phrases!B1:G34,27,FALSE)","v":"Age (weeks)"},{"$f":"HLOOKUP(ValidationData!A18,Phrases!B1:G34,28,FALSE)","v":"Age (days)"},{"$f":"HLOOKUP(ValidationData!A18,Phrases!B1:G34,29,FALSE)","v":"Range (weeks)"},{"$f":"HLOOKUP(ValidationData!A18,Phrases!B1:G34,30,FALSE)","v":"Range (days)"},null,null,null,"Value",{"$f":"HLOOKUP(ValidationData!A18,Phrases!B1:G62,61,FALSE)","v":"Range High"},{"$f":"HLOOKUP(ValidationData!A18,Phrases!B1:G62,62,FALSE)","v":"Range Low"},{"$f":"HLOOKUP(ValidationData!A18,Phrases!B1:G62,60,FALSE)","v":"Total Days"},"Range"]
[1,null,null,null,null,null,null,{"$f":"IF( ((C7*7)+D7) > 0, ((C7*7)+D7), \"\" )","v":""},{"$f":"IF( ((E7*7)+F7) > 0, ((E7*7)+F7), \"\" )","v":""},null,{"$f":"IF(ISBLANK(M7), \"\",IF(ISBLANK(N7),\"\",M7+N7))","v":""},{"$f":"IF(ISBLANK(M7),\"\",IF(ISBLANK(N7),\"\",IF((M7-N7)>=0,M7-N7,0)))","v":""}]
[2,null,null,null,null,null,null,{"$f":"IF( ((C8*7)+D8) > 0, ((C8*7)+D8), \"\" )","v":""},"",null,{"$f":"IF(ISBLANK(M8), \"\",IF(ISBLANK(N8),\"\",M8+N8))","v":""},{"$f":"IF(ISBLANK(M8),\"\",IF(ISBLANK(N8),\"\",IF((M8-N8)>=0,M8-N8,0)))","v":""}]
[3,null,null,null,null,null,null,"","",null,{"$f":"IF(ISBLANK(M9), \"\",IF(ISBLANK(N9),\"\",M9+N9))","v":""},""]
[4,null,null,null,null,null,null,"","",null,"",""]
[5,null,null,null,null,null,null,"","",null,"",""]
[6,null,null,null,null,null,null,"","",null,"",""]
[7,null,null,null,null,null,null,"","",null,"",""]
[8,null,null,null,null,null,null,"","",null,"",""]
[9,null,null,null,null,null,null,"","",null,"",""]
[10,null,null,null,null,null,null,"","",null,"",""]
[11,null,null,null,null,null,null,"","",null,"",""]
[12,null,null,null,null,null,null,"","",null,"",""]
[13,null,null,null,null,null,null,"","",null,"",""]
[14,null,null,null,null,null,null,"","",null,"",""]
[15,null,null,null,null,null,null,"","",null,"",""]
[16,null,null,null,null,null,null,"","",null,"",""]
[17,null,null,null,null,null,null,"","",null,"",""]
[18,null,null,null,null,null,null,"","",null,"",""]
[19,null,null,null,null,null,null,"","",null,"",""]
[20,null,null,null,null,null,null,"","",null,"",""]
[21,null,null,null,null,null,null,"","",null,"",""]
[22,null,null,null,null,null,null,"","",null,"",""]
[23,null,null,null,null,null,null,"","",null,"",""]
[24,null,null,null,null,null,null,"","",null,"",""]
[25,null,null,null,null,null,null,"","",null,"",""]
[26,null,null,null,null,null,null,"","",null,"",""]
[27,null,null,null,null,null,null,"","",null,"",""]
[28,null,null,null,null,null,null,"","",null,"",""]
[29,null,null,null,null,null,null,"","",null,"",""]
[30,null,null,null,null,null,null,"","",null,"",""]
[31,null,null,null,null,null,null,"","",null,"",""]
[32,null,null,null,null,null,null,"","",null,"",""]
[33,null,null,null,null,null,null,"","",null,"",""]
[34,null,null,null,null,null,null,"","",null,"",""]
[35,null,null,null,null,null,null,"","",null,{"$f":"IF(ISBLANK(M41), \"\",IF(ISBLANK(N41),\"\",M41+N41))","v":""},""]
[36,null,null,null,null,null,null,"","",null,"",""]
[37,null,null,null,null,null,null,"","",null,"",""]
[38,null,null,null,null,null,null,"","",null,"",""]
[39,null,null,null,null,null,null,"","",null,"",""]
[40,null,null,null,null,null,null,"","",null,"",""]
[41,null,null,null,null,null,null,"","",null,"",""]
[42,null,null,null,null,null,null,"","",null,"",""]
[43,null,null,null,null,null,null,"","",null,"",""]
[44,null,null,null,null,null,null,"","",null,"",""]
[45,null,null,null,null,null,null,"","",null,"",""]
[46,null,null,null,null,null,null,"","",null,"",""]
[47,null,null,null,null,null,null,"","",null,"",""]
[48,null,null,null,null,null,null,"","",null,"",""]
[49,null,null,null,null,null,null,"","",null,"",""]
[50,null,null,null,null,null,null,"","",null,"",""]
[51,null,null,null,null,null,null,"","",null,"",""]
[52,null,null,null,null,null,null,"","",null,"",""]
[53,null,null,null,null,null,null,"","",null,"",""]
[54,null,null,null,null,null,null,"","",null,"",""]
[55,null,null,null,null,null,null,"","",null,"",""]
[56,null,null,null,null,null,null,"","",null,"",""]
[57,null,null,null,null,null,null,"","",null,"",""]
[58,null,null,null,null,null,null,"","",null,"",""]
[59,null,null,null,null,null,null,"","",null,"",""]
[60,null,null,null,null,null,null,"","",null,"",""]
[61,null,null,null,null,null,null,"","",null,"",""]
[62,null,null,null,null,null,null,"","",null,"",""]
[63,null,null,null,null,null,null,"","",null,"",""]
[64,null,null,null,null,null,null,"","",null,"",""]
[65,null,null,null,null,null,null,"",{"$f":"IF( ((E71*7)+F71) > 0, ((E71*7)+F71), \"\" )","v":""},null,"",""]
[66,null,null,null,null,null,null,{"$f":"IF( ((C72*7)+D72) > 0, ((C72*7)+D72), \"\" )","v":""},"",null,"",{"$f":"IF(ISBLANK(M72),\"\",IF(ISBLANK(N72),\"\",IF((M72-N72)>=0,M72-N72,0)))","v":""}]
[67,null,null,null,null,null,null,"","",null,{"$f":"IF(ISBLANK(M73), \"\",IF(ISBLANK(N73),\"\",M73+N73))","v":""},""]
[68,null,null,null,null,null,null,"","",null,"",""]
[69,null,null,null,null,null,null,"","",null,"",""]
[70,null,null,null,null,null,null,"","",null,"",""]
[71,null,null,null,null,null,null,"","",null,"",""]
[72,null,null,null,null,null,null,"","",null,"",""]
[73,null,null,null,null,null,null,"","",null,"",""]
[74,null,null,null,null,null,null,"","",null,"",""]
[75,null,null,null,null,null,null,"","",null,"",""]
[76,null,null,null,null,null,null,"","",null,"",""]
[77,null,null,null,null,null,null,"","",null,"",""]
[78,null,null,null,null,null,null,"","",null,"",""]
[79,null,null,null,null,null,null,"","",null,"",""]
[80,null,null,null,null,null,null,"","",null,"",""]
[81,null,null,null,null,null,null,"","",null,"",""]
[82,null,null,null,null,null,null,"","",null,"",""]
[83,null,null,null,null,null,null,"","",null,"",""]
[84,null,null,null,null,null,null,"","",null,"",""]
[85,null,null,null,null,null,null,"","",null,"",""]
[86,null,null,null,null,null,null,"","",null,"",""]
[87,null,null,null,null,null,null,"","",null,"",""]
[88,null,null,null,null,null,null,"","",null,"",""]
[89,null,null,null,null,null,null,"","",null,"",""]
[90,null,null,null,null,null,null,"","",null,"",""]
[91,null,null,null,null,null,null,"","",null,"",""]
[92,null,null,null,null,null,null,"","",null,"",""]
[93,null,null,null,null,null,null,"","",null,"",""]
[94,null,null,null,null,null,null,"","",null,"",""]
[95,null,null,null,null,null,null,"","",null,"",""]
[96,null,null,null,null,null,null,"","",null,"",""]
[97,null,null,null,null,null,null,"","",null,"",""]
[98,null,null,null,null,null,null,"","",null,"",""]
[99,null,null,null,null,null,null,"","",null,{"$f":"IF(ISBLANK(M105), \"\",IF(ISBLANK(N105),\"\",M105+N105))","v":""},""]
[100,null,null,null,null,null,null,"","",null,"",""]
[101,null,null,null,null,null,null,"","",null,"",""]
[102,null,null,null,null,null,null,"","",null,"",""]
[103,null,null,null,null,null,null,"","",null,"",""]
[104,null,null,null,null,null,null,"","",null,"",""]
[105,null,null,null,null,null,null,"","",null,"",""]
[106,null,null,null,null,null,null,"","",null,"",""]
[107,null,null,null,null,null,null,"","",null,"",""]
[108,null,null,null,null,null,null,"","",null,"",""]
[109,null,null,null,null,null,null,"","",null,"",""]
[110,null,null,null,null,null,null,"","",null,"",""]
[111,null,null,null,null,null,null,"","",null,"",""]
[112,null,null,null,null,null,null,"","",null,"",""]
[113,null,null,null,null,null,null,"","",null,"",""]
[114,null,null,null,null,null,null,"","",null,"",""]
[115,null,null,null,null,null,null,"","",null,"",""]
[116,null,null,null,null,null,null,"","",null,"",""]
[117,null,null,null,null,null,null,"","",null,"",""]
[118,null,null,null,null,null,null,"","",null,"",""]
[119,null,null,null,null,null,null,"","",null,"",""]
[120,null,null,null,null,null,null,"","",null,"",""]

{"sheet":"Age - FTA","index":21,"n_rows":126,"n_cols":14,"rows_kept":126,"cut":false,"hidden":true,"merged":[[0,0,1,4],[2,0,5,0],[2,1,2,3],[2,4,2,5],[3,1,3,3],[3,4,3,5],[4,1,4,3],[4,4,4,5]]}
[{"$f":"HLOOKUP(ValidationData!A18,Phrases!B1:G87,72,FALSE)","v":"AGE - Fetal Thyroid Area"},null,null,null,null,"Age FTA"]
[null,null,null,null,null,{"$f":"ValidationData!DataVersion","v":"70.80.100.100"}]
[{"$f":"HLOOKUP(ValidationData!A18,Phrases!B1:G34,14,FALSE)","v":"Index"},{"$f":"HLOOKUP(ValidationData!A18,Phrases!B1:G34,21,FALSE)","v":"Measurement Name"},null,null,"FTA"]
[null,{"$f":"HLOOKUP(ValidationData!A18,Phrases!B1:G34,22,FALSE)","v":"Measurement Type"},null,null,{"$f":"HLOOKUP(ValidationData!A18,Phrases!B1:G94,93,FALSE)","v":"Area (cm2)"},null,null,null,null,{"$f":"CONCATENATE( IF(ISBLANK(TRIM(E3)), \"\", CONCATENATE( TRIM(E3), \" \")), E4 )","v":"FTA Area (cm2)"}]
[null,{"$f":"HLOOKUP(ValidationData!A18,Phrases!B1:G34,23,FALSE)","v":"Author"},null,null,null,null,null,null,null,{"$f":"IF(ISBLANK(E5), \"\", TRIM(E5))","v":""}]
[null,{"$f":"HLOOKUP(ValidationData!A18,Phrases!B1:G34,26,FALSE)","v":"Value"},{"$f":"HLOOKUP(ValidationData!A18,Phrases!B1:G34,27,FALSE)","v":"Age (weeks)"},{"$f":"HLOOKUP(ValidationData!A18,Phrases!B1:G34,28,FALSE)","v":"Age (days)"},{"$f":"HLOOKUP(ValidationData!A18,Phrases!B1:G34,29,FALSE)","v":"Range (weeks)"},{"$f":"HLOOKUP(ValidationData!A18,Phrases!B1:G34,30,FALSE)","v":"Range (days)"},null,null,null,"Value",{"$f":"HLOOKUP(ValidationData!A18,Phrases!B1:G62,61,FALSE)","v":"Range High"},{"$f":"HLOOKUP(ValidationData!A18,Phrases!B1:G62,62,FALSE)","v":"Range Low"},{"$f":"HLOOKUP(ValidationData!A18,Phrases!B1:G62,60,FALSE)","v":"Total Days"},"Range"]
[1,null,null,null,null,null,null,{"$f":"IF( ((C7*7)+D7) > 0, ((C7*7)+D7), \"\" )","v":""},{"$f":"IF( ((E7*7)+F7) > 0, ((E7*7)+F7), \"\" )","v":""},null,{"$f":"IF(ISBLANK(M7), \"\",IF(ISBLANK(N7),\"\",M7+N7))","v":""},{"$f":"IF(ISBLANK(M7),\"\",IF(ISBLANK(N7),\"\",IF((M7-N7)>=0,M7-N7,0)))","v":""}]
[2,null,null,null,null,null,null,{"$f":"IF( ((C8*7)+D8) > 0, ((C8*7)+D8), \"\" )","v":""},"",null,{"$f":"IF(ISBLANK(M8), \"\",IF(ISBLANK(N8),\"\",M8+N8))","v":""},{"$f":"IF(ISBLANK(M8),\"\",IF(ISBLANK(N8),\"\",IF((M8-N8)>=0,M8-N8,0)))","v":""}]
[3,null,null,null,null,null,null,"","",null,{"$f":"IF(ISBLANK(M9), \"\",IF(ISBLANK(N9),\"\",M9+N9))","v":""},""]
[4,null,null,null,null,null,null,"","",null,"",""]
[5,null,null,null,null,null,null,"","",null,"",""]
[6,null,null,null,null,null,null,"","",null,"",""]
[7,null,null,null,null,null,null,"","",null,"",""]
[8,null,null,null,null,null,null,"","",null,"",""]
[9,null,null,null,null,null,null,"","",null,"",""]
[10,null,null,null,null,null,null,"","",null,"",""]
[11,null,null,null,null,null,null,"","",null,"",""]
[12,null,null,null,null,null,null,"","",null,"",""]
[13,null,null,null,null,null,null,"","",null,"",""]
[14,null,null,null,null,null,null,"","",null,"",""]
[15,null,null,null,null,null,null,"","",null,"",""]
[16,null,null,null,null,null,null,"","",null,"",""]
[17,null,null,null,null,null,null,"","",null,"",""]
[18,null,null,null,null,null,null,"","",null,"",""]
[19,null,null,null,null,null,null,"","",null,"",""]
[20,null,null,null,null,null,null,"","",null,"",""]
[21,null,null,null,null,null,null,"","",null,"",""]
[22,null,null,null,null,null,null,"","",null,"",""]
[23,null,null,null,null,null,null,"","",null,"",""]
[24,null,null,null,null,null,null,"","",null,"",""]
[25,null,null,null,null,null,null,"","",null,"",""]
[26,null,null,null,null,null,null,"","",null,"",""]
[27,null,null,null,null,null,null,"","",null,"",""]
[28,null,null,null,null,null,null,"","",null,"",""]
[29,null,null,null,null,null,null,"","",null,"",""]
[30,null,null,null,null,null,null,"","",null,"",""]
[31,null,null,null,null,null,null,"","",null,"",""]
[32,null,null,null,null,null,null,"","",null,"",""]
[33,null,null,null,null,null,null,"","",null,"",""]
[34,null,null,null,null,null,null,"","",null,"",""]
[35,null,null,null,null,null,null,"","",null,{"$f":"IF(ISBLANK(M41), \"\",IF(ISBLANK(N41),\"\",M41+N41))","v":""},""]
[36,null,null,null,null,null,null,"","",null,"",""]
[37,null,null,null,null,null,null,"","",null,"",""]
[38,null,null,null,null,null,null,"","",null,"",""]
[39,null,null,null,null,null,null,"","",null,"",""]
[40,null,null,null,null,null,null,"","",null,"",""]
[41,null,null,null,null,null,null,"","",null,"",""]
[42,null,null,null,null,null,null,"","",null,"",""]
[43,null,null,null,null,null,null,"","",null,"",""]
[44,null,null,null,null,null,null,"","",null,"",""]
[45,null,null,null,null,null,null,"","",null,"",""]
[46,null,null,null,null,null,null,"","",null,"",""]
[47,null,null,null,null,null,null,"","",null,"",""]
[48,null,null,null,null,null,null,"","",null,"",""]
[49,null,null,null,null,null,null,"","",null,"",""]
[50,null,null,null,null,null,null,"","",null,"",""]
[51,null,null,null,null,null,null,"","",null,"",""]
[52,null,null,null,null,null,null,"","",null,"",""]
[53,null,null,null,null,null,null,"","",null,"",""]
[54,null,null,null,null,null,null,"","",null,"",""]
[55,null,null,null,null,null,null,"","",null,"",""]
[56,null,null,null,null,null,null,"","",null,"",""]
[57,null,null,null,null,null,null,"","",null,"",""]
[58,null,null,null,null,null,null,"","",null,"",""]
[59,null,null,null,null,null,null,"","",null,"",""]
[60,null,null,null,null,null,null,"","",null,"",""]
[61,null,null,null,null,null,null,"","",null,"",""]
[62,null,null,null,null,null,null,"","",null,"",""]
[63,null,null,null,null,null,null,"","",null,"",""]
[64,null,null,null,null,null,null,"","",null,"",""]
[65,null,null,null,null,null,null,"",{"$f":"IF( ((E71*7)+F71) > 0, ((E71*7)+F71), \"\" )","v":""},null,"",""]
[66,null,null,null,null,null,null,{"$f":"IF( ((C72*7)+D72) > 0, ((C72*7)+D72), \"\" )","v":""},"",null,"",{"$f":"IF(ISBLANK(M72),\"\",IF(ISBLANK(N72),\"\",IF((M72-N72)>=0,M72-N72,0)))","v":""}]
[67,null,null,null,null,null,null,"","",null,{"$f":"IF(ISBLANK(M73), \"\",IF(ISBLANK(N73),\"\",M73+N73))","v":""},""]
[68,null,null,null,null,null,null,"","",null,"",""]
[69,null,null,null,null,null,null,"","",null,"",""]
[70,null,null,null,null,null,null,"","",null,"",""]
[71,null,null,null,null,null,null,"","",null,"",""]
[72,null,null,null,null,null,null,"","",null,"",""]
[73,null,null,null,null,null,null,"","",null,"",""]
[74,null,null,null,null,null,null,"","",null,"",""]
[75,null,null,null,null,null,null,"","",null,"",""]
[76,null,null,null,null,null,null,"","",null,"",""]
[77,null,null,null,null,null,null,"","",null,"",""]
[78,null,null,null,null,null,null,"","",null,"",""]
[79,null,null,null,null,null,null,"","",null,"",""]
[80,null,null,null,null,null,null,"","",null,"",""]
[81,null,null,null,null,null,null,"","",null,"",""]
[82,null,null,null,null,null,null,"","",null,"",""]
[83,null,null,null,null,null,null,"","",null,"",""]
[84,null,null,null,null,null,null,"","",null,"",""]
[85,null,null,null,null,null,null,"","",null,"",""]
[86,null,null,null,null,null,null,"","",null,"",""]
[87,null,null,null,null,null,null,"","",null,"",""]
[88,null,null,null,null,null,null,"","",null,"",""]
[89,null,null,null,null,null,null,"","",null,"",""]
[90,null,null,null,null,null,null,"","",null,"",""]
[91,null,null,null,null,null,null,"","",null,"",""]
[92,null,null,null,null,null,null,"","",null,"",""]
[93,null,null,null,null,null,null,"","",null,"",""]
[94,null,null,null,null,null,null,"","",null,"",""]
[95,null,null,null,null,null,null,"","",null,"",""]
[96,null,null,null,null,null,null,"","",null,"",""]
[97,null,null,null,null,null,null,"","",null,"",""]
[98,null,null,null,null,null,null,"","",null,"",""]
[99,null,null,null,null,null,null,"","",null,{"$f":"IF(ISBLANK(M105), \"\",IF(ISBLANK(N105),\"\",M105+N105))","v":""},""]
[100,null,null,null,null,null,null,"","",null,"",""]
[101,null,null,null,null,null,null,"","",null,"",""]
[102,null,null,null,null,null,null,"","",null,"",""]
[103,null,null,null,null,null,null,"","",null,"",""]
[104,null,null,null,null,null,null,"","",null,"",""]
[105,null,null,null,null,null,null,"","",null,"",""]
[106,null,null,null,null,null,null,"","",null,"",""]
[107,null,null,null,null,null,null,"","",null,"",""]
[108,null,null,null,null,null,null,"","",null,"",""]
[109,null,null,null,null,null,null,"","",null,"",""]
[110,null,null,null,null,null,null,"","",null,"",""]
[111,null,null,null,null,null,null,"","",null,"",""]
[112,null,null,null,null,null,null,"","",null,"",""]
[113,null,null,null,null,null,null,"","",null,"",""]
[114,null,null,null,null,null,null,"","",null,"",""]
[115,null,null,null,null,null,null,"","",null,"",""]
[116,null,null,null,null,null,null,"","",null,"",""]
[117,null,null,null,null,null,null,"","",null,"",""]
[118,null,null,null,null,null,null,"","",null,"",""]
[119,null,null,null,null,null,null,"","",null,"",""]
[120,null,null,null,null,null,null,"","",null,"",""]

{"sheet":"Age - HL","index":22,"n_rows":126,"n_cols":14,"rows_kept":126,"cut":false,"hidden":true,"merged":[[0,0,1,4],[2,0,5,0],[2,1,2,3],[2,4,2,5],[3,1,3,3],[3,4,3,5],[4,1,4,3],[4,4,4,5]]}
[{"$f":"HLOOKUP(ValidationData!A18,Phrases!B1:G87,73,FALSE)","v":"AGE - Humerus Length"},null,null,null,null,"Age HL"]
[null,null,null,null,null,{"$f":"ValidationData!DataVersion","v":"70.80.100.100"}]
[{"$f":"HLOOKUP(ValidationData!A18,Phrases!B1:G34,14,FALSE)","v":"Index"},{"$f":"HLOOKUP(ValidationData!A18,Phrases!B1:G34,21,FALSE)","v":"Measurement Name"},null,null,"HL"]
[null,{"$f":"HLOOKUP(ValidationData!A18,Phrases!B1:G34,22,FALSE)","v":"Measurement Type"},null,null,{"$f":"HLOOKUP(ValidationData!A18,Phrases!B1:G94,92,FALSE)","v":"Distance (cm)"},null,null,null,null,{"$f":"CONCATENATE( IF(ISBLANK(TRIM(E3)), \"\", CONCATENATE( TRIM(E3), \" \")), E4 )","v":"HL Distance (cm)"}]
[null,{"$f":"HLOOKUP(ValidationData!A18,Phrases!B1:G34,23,FALSE)","v":"Author"},null,null,null,null,null,null,null,{"$f":"IF(ISBLANK(E5), \"\", TRIM(E5))","v":""}]
[null,{"$f":"HLOOKUP(ValidationData!A18,Phrases!B1:G34,26,FALSE)","v":"Value"},{"$f":"HLOOKUP(ValidationData!A18,Phrases!B1:G34,27,FALSE)","v":"Age (weeks)"},{"$f":"HLOOKUP(ValidationData!A18,Phrases!B1:G34,28,FALSE)","v":"Age (days)"},{"$f":"HLOOKUP(ValidationData!A18,Phrases!B1:G34,29,FALSE)","v":"Range (weeks)"},{"$f":"HLOOKUP(ValidationData!A18,Phrases!B1:G34,30,FALSE)","v":"Range (days)"},null,null,null,"Value",{"$f":"HLOOKUP(ValidationData!A18,Phrases!B1:G62,61,FALSE)","v":"Range High"},{"$f":"HLOOKUP(ValidationData!A18,Phrases!B1:G62,62,FALSE)","v":"Range Low"},{"$f":"HLOOKUP(ValidationData!A18,Phrases!B1:G62,60,FALSE)","v":"Total Days"},"Range"]
[1,null,null,null,null,null,null,{"$f":"IF( ((C7*7)+D7) > 0, ((C7*7)+D7), \"\" )","v":""},{"$f":"IF( ((E7*7)+F7) > 0, ((E7*7)+F7), \"\" )","v":""},null,{"$f":"IF(ISBLANK(M7), \"\",IF(ISBLANK(N7),\"\",M7+N7))","v":""},{"$f":"IF(ISBLANK(M7),\"\",IF(ISBLANK(N7),\"\",IF((M7-N7)>=0,M7-N7,0)))","v":""}]
[2,null,null,null,null,null,null,{"$f":"IF( ((C8*7)+D8) > 0, ((C8*7)+D8), \"\" )","v":""},"",null,{"$f":"IF(ISBLANK(M8), \"\",IF(ISBLANK(N8),\"\",M8+N8))","v":""},{"$f":"IF(ISBLANK(M8),\"\",IF(ISBLANK(N8),\"\",IF((M8-N8)>=0,M8-N8,0)))","v":""}]
[3,null,null,null,null,null,null,"","",null,{"$f":"IF(ISBLANK(M9), \"\",IF(ISBLANK(N9),\"\",M9+N9))","v":""},""]
[4,null,null,null,null,null,null,"","",null,"",""]
[5,null,null,null,null,null,null,"","",null,"",""]
[6,null,null,null,null,null,null,"","",null,"",""]
[7,null,null,null,null,null,null,"","",null,"",""]
[8,null,null,null,null,null,null,"","",null,"",""]
[9,null,null,null,null,null,null,"","",null,"",""]
[10,null,null,null,null,null,null,"","",null,"",""]
[11,null,null,null,null,null,null,"","",null,"",""]
[12,null,null,null,null,null,null,"","",null,"",""]
[13,null,null,null,null,null,null,"","",null,"",""]
[14,null,null,null,null,null,null,"","",null,"",""]
[15,null,null,null,null,null,null,"","",null,"",""]
[16,null,null,null,null,null,null,"","",null,"",""]
[17,null,null,null,null,null,null,"","",null,"",""]
[18,null,null,null,null,null,null,"","",null,"",""]
[19,null,null,null,null,null,null,"","",null,"",""]
[20,null,null,null,null,null,null,"","",null,"",""]
[21,null,null,null,null,null,null,"","",null,"",""]
[22,null,null,null,null,null,null,"","",null,"",""]
[23,null,null,null,null,null,null,"","",null,"",""]
[24,null,null,null,null,null,null,"","",null,"",""]
[25,null,null,null,null,null,null,"","",null,"",""]
[26,null,null,null,null,null,null,"","",null,"",""]
[27,null,null,null,null,null,null,"","",null,"",""]
[28,null,null,null,null,null,null,"","",null,"",""]
[29,null,null,null,null,null,null,"","",null,"",""]
[30,null,null,null,null,null,null,"","",null,"",""]
[31,null,null,null,null,null,null,"","",null,"",""]
[32,null,null,null,null,null,null,"","",null,"",""]
[33,null,null,null,null,null,null,"","",null,"",""]
[34,null,null,null,null,null,null,"","",null,"",""]
[35,null,null,null,null,null,null,"","",null,{"$f":"IF(ISBLANK(M41), \"\",IF(ISBLANK(N41),\"\",M41+N41))","v":""},""]
[36,null,null,null,null,null,null,"","",null,"",""]
[37,null,null,null,null,null,null,"","",null,"",""]
[38,null,null,null,null,null,null,"","",null,"",""]
[39,null,null,null,null,null,null,"","",null,"",""]
[40,null,null,null,null,null,null,"","",null,"",""]
[41,null,null,null,null,null,null,"","",null,"",""]
[42,null,null,null,null,null,null,"","",null,"",""]
[43,null,null,null,null,null,null,"","",null,"",""]
[44,null,null,null,null,null,null,"","",null,"",""]
[45,null,null,null,null,null,null,"","",null,"",""]
[46,null,null,null,null,null,null,"","",null,"",""]
[47,null,null,null,null,null,null,"","",null,"",""]
[48,null,null,null,null,null,null,"","",null,"",""]
[49,null,null,null,null,null,null,"","",null,"",""]
[50,null,null,null,null,null,null,"","",null,"",""]
[51,null,null,null,null,null,null,"","",null,"",""]
[52,null,null,null,null,null,null,"","",null,"",""]
[53,null,null,null,null,null,null,"","",null,"",""]
[54,null,null,null,null,null,null,"","",null,"",""]
[55,null,null,null,null,null,null,"","",null,"",""]
[56,null,null,null,null,null,null,"","",null,"",""]
[57,null,null,null,null,null,null,"","",null,"",""]
[58,null,null,null,null,null,null,"","",null,"",""]
[59,null,null,null,null,null,null,"","",null,"",""]
[60,null,null,null,null,null,null,"","",null,"",""]
[61,null,null,null,null,null,null,"","",null,"",""]
[62,null,null,null,null,null,null,"","",null,"",""]
[63,null,null,null,null,null,null,"","",null,"",""]
[64,null,null,null,null,null,null,"","",null,"",""]
[65,null,null,null,null,null,null,"",{"$f":"IF( ((E71*7)+F71) > 0, ((E71*7)+F71), \"\" )","v":""},null,"",""]
[66,null,null,null,null,null,null,{"$f":"IF( ((C72*7)+D72) > 0, ((C72*7)+D72), \"\" )","v":""},"",null,"",{"$f":"IF(ISBLANK(M72),\"\",IF(ISBLANK(N72),\"\",IF((M72-N72)>=0,M72-N72,0)))","v":""}]
[67,null,null,null,null,null,null,"","",null,{"$f":"IF(ISBLANK(M73), \"\",IF(ISBLANK(N73),\"\",M73+N73))","v":""},""]
[68,null,null,null,null,null,null,"","",null,"",""]
[69,null,null,null,null,null,null,"","",null,"",""]
[70,null,null,null,null,null,null,"","",null,"",""]
[71,null,null,null,null,null,null,"","",null,"",""]
[72,null,null,null,null,null,null,"","",null,"",""]
[73,null,null,null,null,null,null,"","",null,"",""]
[74,null,null,null,null,null,null,"","",null,"",""]
[75,null,null,null,null,null,null,"","",null,"",""]
[76,null,null,null,null,null,null,"","",null,"",""]
[77,null,null,null,null,null,null,"","",null,"",""]
[78,null,null,null,null,null,null,"","",null,"",""]
[79,null,null,null,null,null,null,"","",null,"",""]
[80,null,null,null,null,null,null,"","",null,"",""]
[81,null,null,null,null,null,null,"","",null,"",""]
[82,null,null,null,null,null,null,"","",null,"",""]
[83,null,null,null,null,null,null,"","",null,"",""]
[84,null,null,null,null,null,null,"","",null,"",""]
[85,null,null,null,null,null,null,"","",null,"",""]
[86,null,null,null,null,null,null,"","",null,"",""]
[87,null,null,null,null,null,null,"","",null,"",""]
[88,null,null,null,null,null,null,"","",null,"",""]
[89,null,null,null,null,null,null,"","",null,"",""]
[90,null,null,null,null,null,null,"","",null,"",""]
[91,null,null,null,null,null,null,"","",null,"",""]
[92,null,null,null,null,null,null,"","",null,"",""]
[93,null,null,null,null,null,null,"","",null,"",""]
[94,null,null,null,null,null,null,"","",null,"",""]
[95,null,null,null,null,null,null,"","",null,"",""]
[96,null,null,null,null,null,null,"","",null,"",""]
[97,null,null,null,null,null,null,"","",null,"",""]
[98,null,null,null,null,null,null,"","",null,"",""]
[99,null,null,null,null,null,null,"","",null,{"$f":"IF(ISBLANK(M105), \"\",IF(ISBLANK(N105),\"\",M105+N105))","v":""},""]
[100,null,null,null,null,null,null,"","",null,"",""]
[101,null,null,null,null,null,null,"","",null,"",""]
[102,null,null,null,null,null,null,"","",null,"",""]
[103,null,null,null,null,null,null,"","",null,"",""]
[104,null,null,null,null,null,null,"","",null,"",""]
[105,null,null,null,null,null,null,"","",null,"",""]
[106,null,null,null,null,null,null,"","",null,"",""]
[107,null,null,null,null,null,null,"","",null,"",""]
[108,null,null,null,null,null,null,"","",null,"",""]
[109,null,null,null,null,null,null,"","",null,"",""]
[110,null,null,null,null,null,null,"","",null,"",""]
[111,null,null,null,null,null,null,"","",null,"",""]
[112,null,null,null,null,null,null,"","",null,"",""]
[113,null,null,null,null,null,null,"","",null,"",""]
[114,null,null,null,null,null,null,"","",null,"",""]
[115,null,null,null,null,null,null,"","",null,"",""]
[116,null,null,null,null,null,null,"","",null,"",""]
[117,null,null,null,null,null,null,"","",null,"",""]
[118,null,null,null,null,null,null,"","",null,"",""]
[119,null,null,null,null,null,null,"","",null,"",""]
[120,null,null,null,null,null,null,"","",null,"",""]

{"sheet":"Age - Tibia","index":23,"n_rows":126,"n_cols":14,"rows_kept":126,"cut":false,"hidden":true,"merged":[[0,0,1,4],[2,0,5,0],[2,1,2,3],[2,4,2,5],[3,1,3,3],[3,4,3,5],[4,1,4,3],[4,4,4,5]]}
[{"$f":"HLOOKUP(ValidationData!A18,Phrases!B1:G87,74,FALSE)","v":"AGE - Tibia"},null,null,null,null,"Age Tibia"]
[null,null,null,null,null,{"$f":"ValidationData!DataVersion","v":"70.80.100.100"}]
[{"$f":"HLOOKUP(ValidationData!A18,Phrases!B1:G34,14,FALSE)","v":"Index"},{"$f":"HLOOKUP(ValidationData!A18,Phrases!B1:G34,21,FALSE)","v":"Measurement Name"},null,null,"Tibia"]
[null,{"$f":"HLOOKUP(ValidationData!A18,Phrases!B1:G34,22,FALSE)","v":"Measurement Type"},null,null,{"$f":"HLOOKUP(ValidationData!A18,Phrases!B1:G94,92,FALSE)","v":"Distance (cm)"},null,null,null,null,{"$f":"CONCATENATE( IF(ISBLANK(TRIM(E3)), \"\", CONCATENATE( TRIM(E3), \" \")), E4 )","v":"Tibia Distance (cm)"}]
[null,{"$f":"HLOOKUP(ValidationData!A18,Phrases!B1:G34,23,FALSE)","v":"Author"},null,null,null,null,null,null,null,{"$f":"IF(ISBLANK(E5), \"\", TRIM(E5))","v":""}]
[null,{"$f":"HLOOKUP(ValidationData!A18,Phrases!B1:G34,26,FALSE)","v":"Value"},{"$f":"HLOOKUP(ValidationData!A18,Phrases!B1:G34,27,FALSE)","v":"Age (weeks)"},{"$f":"HLOOKUP(ValidationData!A18,Phrases!B1:G34,28,FALSE)","v":"Age (days)"},{"$f":"HLOOKUP(ValidationData!A18,Phrases!B1:G34,29,FALSE)","v":"Range (weeks)"},{"$f":"HLOOKUP(ValidationData!A18,Phrases!B1:G34,30,FALSE)","v":"Range (days)"},null,null,null,"Value",{"$f":"HLOOKUP(ValidationData!A18,Phrases!B1:G62,61,FALSE)","v":"Range High"},{"$f":"HLOOKUP(ValidationData!A18,Phrases!B1:G62,62,FALSE)","v":"Range Low"},{"$f":"HLOOKUP(ValidationData!A18,Phrases!B1:G62,60,FALSE)","v":"Total Days"},"Range"]
[1,null,null,null,null,null,null,{"$f":"IF( ((C7*7)+D7) > 0, ((C7*7)+D7), \"\" )","v":""},{"$f":"IF( ((E7*7)+F7) > 0, ((E7*7)+F7), \"\" )","v":""},null,{"$f":"IF(ISBLANK(M7), \"\",IF(ISBLANK(N7),\"\",M7+N7))","v":""},{"$f":"IF(ISBLANK(M7),\"\",IF(ISBLANK(N7),\"\",IF((M7-N7)>=0,M7-N7,0)))","v":""}]
[2,null,null,null,null,null,null,{"$f":"IF( ((C8*7)+D8) > 0, ((C8*7)+D8), \"\" )","v":""},"",null,{"$f":"IF(ISBLANK(M8), \"\",IF(ISBLANK(N8),\"\",M8+N8))","v":""},{"$f":"IF(ISBLANK(M8),\"\",IF(ISBLANK(N8),\"\",IF((M8-N8)>=0,M8-N8,0)))","v":""}]
[3,null,null,null,null,null,null,"","",null,{"$f":"IF(ISBLANK(M9), \"\",IF(ISBLANK(N9),\"\",M9+N9))","v":""},""]
[4,null,null,null,null,null,null,"","",null,"",""]
[5,null,null,null,null,null,null,"","",null,"",""]
[6,null,null,null,null,null,null,"","",null,"",""]
[7,null,null,null,null,null,null,"","",null,"",""]
[8,null,null,null,null,null,null,"","",null,"",""]
[9,null,null,null,null,null,null,"","",null,"",""]
[10,null,null,null,null,null,null,"","",null,"",""]
[11,null,null,null,null,null,null,"","",null,"",""]
[12,null,null,null,null,null,null,"","",null,"",""]
[13,null,null,null,null,null,null,"","",null,"",""]
[14,null,null,null,null,null,null,"","",null,"",""]
[15,null,null,null,null,null,null,"","",null,"",""]
[16,null,null,null,null,null,null,"","",null,"",""]
[17,null,null,null,null,null,null,"","",null,"",""]
[18,null,null,null,null,null,null,"","",null,"",""]
[19,null,null,null,null,null,null,"","",null,"",""]
[20,null,null,null,null,null,null,"","",null,"",""]
[21,null,null,null,null,null,null,"","",null,"",""]
[22,null,null,null,null,null,null,"","",null,"",""]
[23,null,null,null,null,null,null,"","",null,"",""]
[24,null,null,null,null,null,null,"","",null,"",""]
[25,null,null,null,null,null,null,"","",null,"",""]
[26,null,null,null,null,null,null,"","",null,"",""]
[27,null,null,null,null,null,null,"","",null,"",""]
[28,null,null,null,null,null,null,"","",null,"",""]
[29,null,null,null,null,null,null,"","",null,"",""]
[30,null,null,null,null,null,null,"","",null,"",""]
[31,null,null,null,null,null,null,"","",null,"",""]
[32,null,null,null,null,null,null,"","",null,"",""]
[33,null,null,null,null,null,null,"","",null,"",""]
[34,null,null,null,null,null,null,"","",null,"",""]
[35,null,null,null,null,null,null,"","",null,{"$f":"IF(ISBLANK(M41), \"\",IF(ISBLANK(N41),\"\",M41+N41))","v":""},""]
[36,null,null,null,null,null,null,"","",null,"",""]
[37,null,null,null,null,null,null,"","",null,"",""]
[38,null,null,null,null,null,null,"","",null,"",""]
[39,null,null,null,null,null,null,"","",null,"",""]
[40,null,null,null,null,null,null,"","",null,"",""]
[41,null,null,null,null,null,null,"","",null,"",""]
[42,null,null,null,null,null,null,"","",null,"",""]
[43,null,null,null,null,null,null,"","",null,"",""]
[44,null,null,null,null,null,null,"","",null,"",""]
[45,null,null,null,null,null,null,"","",null,"",""]
[46,null,null,null,null,null,null,"","",null,"",""]
[47,null,null,null,null,null,null,"","",null,"",""]
[48,null,null,null,null,null,null,"","",null,"",""]
[49,null,null,null,null,null,null,"","",null,"",""]
[50,null,null,null,null,null,null,"","",null,"",""]
[51,null,null,null,null,null,null,"","",null,"",""]
[52,null,null,null,null,null,null,"","",null,"",""]
[53,null,null,null,null,null,null,"","",null,"",""]
[54,null,null,null,null,null,null,"","",null,"",""]
[55,null,null,null,null,null,null,"","",null,"",""]
[56,null,null,null,null,null,null,"","",null,"",""]
[57,null,null,null,null,null,null,"","",null,"",""]
[58,null,null,null,null,null,null,"","",null,"",""]
[59,null,null,null,null,null,null,"","",null,"",""]
[60,null,null,null,null,null,null,"","",null,"",""]
[61,null,null,null,null,null,null,"","",null,"",""]
[62,null,null,null,null,null,null,"","",null,"",""]
[63,null,null,null,null,null,null,"","",null,"",""]
[64,null,null,null,null,null,null,"","",null,"",""]
[65,null,null,null,null,null,null,"",{"$f":"IF( ((E71*7)+F71) > 0, ((E71*7)+F71), \"\" )","v":""},null,"",""]
[66,null,null,null,null,null,null,{"$f":"IF( ((C72*7)+D72) > 0, ((C72*7)+D72), \"\" )","v":""},"",null,"",{"$f":"IF(ISBLANK(M72),\"\",IF(ISBLANK(N72),\"\",IF((M72-N72)>=0,M72-N72,0)))","v":""}]
[67,null,null,null,null,null,null,"","",null,{"$f":"IF(ISBLANK(M73), \"\",IF(ISBLANK(N73),\"\",M73+N73))","v":""},""]
[68,null,null,null,null,null,null,"","",null,"",""]
[69,null,null,null,null,null,null,"","",null,"",""]
[70,null,null,null,null,null,null,"","",null,"",""]
[71,null,null,null,null,null,null,"","",null,"",""]
[72,null,null,null,null,null,null,"","",null,"",""]
[73,null,null,null,null,null,null,"","",null,"",""]
[74,null,null,null,null,null,null,"","",null,"",""]
[75,null,null,null,null,null,null,"","",null,"",""]
[76,null,null,null,null,null,null,"","",null,"",""]
[77,null,null,null,null,null,null,"","",null,"",""]
[78,null,null,null,null,null,null,"","",null,"",""]
[79,null,null,null,null,null,null,"","",null,"",""]
[80,null,null,null,null,null,null,"","",null,"",""]
[81,null,null,null,null,null,null,"","",null,"",""]
[82,null,null,null,null,null,null,"","",null,"",""]
[83,null,null,null,null,null,null,"","",null,"",""]
[84,null,null,null,null,null,null,"","",null,"",""]
[85,null,null,null,null,null,null,"","",null,"",""]
[86,null,null,null,null,null,null,"","",null,"",""]
[87,null,null,null,null,null,null,"","",null,"",""]
[88,null,null,null,null,null,null,"","",null,"",""]
[89,null,null,null,null,null,null,"","",null,"",""]
[90,null,null,null,null,null,null,"","",null,"",""]
[91,null,null,null,null,null,null,"","",null,"",""]
[92,null,null,null,null,null,null,"","",null,"",""]
[93,null,null,null,null,null,null,"","",null,"",""]
[94,null,null,null,null,null,null,"","",null,"",""]
[95,null,null,null,null,null,null,"","",null,"",""]
[96,null,null,null,null,null,null,"","",null,"",""]
[97,null,null,null,null,null,null,"","",null,"",""]
[98,null,null,null,null,null,null,"","",null,"",""]
[99,null,null,null,null,null,null,"","",null,{"$f":"IF(ISBLANK(M105), \"\",IF(ISBLANK(N105),\"\",M105+N105))","v":""},""]
[100,null,null,null,null,null,null,"","",null,"",""]
[101,null,null,null,null,null,null,"","",null,"",""]
[102,null,null,null,null,null,null,"","",null,"",""]
[103,null,null,null,null,null,null,"","",null,"",""]
[104,null,null,null,null,null,null,"","",null,"",""]
[105,null,null,null,null,null,null,"","",null,"",""]
[106,null,null,null,null,null,null,"","",null,"",""]
[107,null,null,null,null,null,null,"","",null,"",""]
[108,null,null,null,null,null,null,"","",null,"",""]
[109,null,null,null,null,null,null,"","",null,"",""]
[110,null,null,null,null,null,null,"","",null,"",""]
[111,null,null,null,null,null,null,"","",null,"",""]
[112,null,null,null,null,null,null,"","",null,"",""]
[113,null,null,null,null,null,null,"","",null,"",""]
[114,null,null,null,null,null,null,"","",null,"",""]
[115,null,null,null,null,null,null,"","",null,"",""]
[116,null,null,null,null,null,null,"","",null,"",""]
[117,null,null,null,null,null,null,"","",null,"",""]
[118,null,null,null,null,null,null,"","",null,"",""]
[119,null,null,null,null,null,null,"","",null,"",""]
[120,null,null,null,null,null,null,"","",null,"",""]

{"sheet":"ValidationData","index":24,"n_rows":18,"n_cols":2,"rows_kept":18,"cut":false,"hidden":true,"merged":[]}
["Data Version"]
["70.80.100.100"]
[]
["Measurement Type"]
[{"$f":"HLOOKUP(A18,Phrases!B1:G94,92,FALSE)","v":"Distance (cm)"},"Distance (cm)"]
[{"$f":"HLOOKUP(A18,Phrases!B1:G94,93,FALSE)","v":"Area (cm2)"},"Area (cm2)"]
[{"$f":"HLOOKUP(A18,Phrases!B1:G94,94,FALSE)","v":"Circumference (cm)"},"Circumference (cm)"]
[]
["Language List"]
["English"]
["Français"]
["Deutsch"]
["Italiano"]
["Português"]
["Español"]
[]
["Language Chosen:"]
[{"$f":"IF(ISBLANK('SETUP - FIRST'!C5),A10,'SETUP - FIRST'!C5)","v":"English"}]

{"sheet":"Phrases","index":25,"n_rows":104,"n_cols":7,"rows_kept":104,"cut":false,"hidden":true,"merged":[]}
["Phrase Name","English","Français","Deutsch","Italiano","Português","Español"]
["Name_BPD_User_Growth_Table","User Growth Table: Biparietal Diameter","Tableau de croissance utilisateur : diamètre bipariétal","Benutzer-Wachstumstabelle: Biparietaler Durchmesser","Tabella crescita utente: Diametro biparietale","Tabela de crescimento do usuário: Diâm. Biparietal","Tabla de crecimiento del usuario: diámetro biparietal"]
["Name_HC_ User_Growth_Table","User Growth Table: Head Circumference","Tableau de croissance utilisateur : périmètre crânien","Benutzer-Wachstumstabelle: Kopfumfang","Tabella crescita utente: Circonferenza cranio","Tabela de crescimento do usuário: Circunf. da cabeça","Tabla de crecimiento del usuario: perímetro cefálico"]
["Name_AC_User_Growth_Table","User Growth Table: Abdominal Circumference","Tableau de croissance utilisateur : périmètre abdominal","Benutzer-Wachstumstabelle: Abdomenumfang","Tabella crescita utente: Circonferenza addominale","Tabela de crescimento do usuário: Circunf. Abdominal","Tabla de crecimiento del usuario: perímetro abdominal"]
["Name_FL_User_Growth_Table","User Growth Table: Femur Length","Tableau de croissance utilisateur : longueur fémorale","Benutzer-Wachstumstabelle: Femurlänge","Tabella crescita utente: Lunghezza femore","Tabela de crescimento do usuário: Compr. do fêmur","Tabla de crecimiento del usuario: longitud del fémur"]
["Name_EFW_User_Growth_Table","User Growth Table: Estimated Fetal Weight","Tableau de croissance utilisateur : poids fœtal estimé","Benutzer-Wachstumstabelle: Geschätztes Fetalgewicht","Tabella crescita utente: Peso fetale stimato","Tabela de crescimento do usuário: Peso fetal estimado","Tabla de crecimiento del usuario: peso estimado del feto"]
["Name_HCAC_User_Growth_Table","User Growth Table: Ratio of Head to Abdominal Circumference","Tableau croissance utilisateur : rapport périmètre crânien/abdominal","Benutzer-Wachstumstabelle: Verhältnis Kopf-/Abdomenumfang","Tabella crescita utente: Rapporto cranio circonferenza addominale","Tabela de crescimento do usuário: Proporção entre a circunf. da cabeça e abdominal","Tabla de crecimiento del usuario: cociente perím. cefálico-abdominal"]
["Name_AGE_User_Table_1","AGE - User Table 1","Âge - Tableau utilisateur 1","Alter - Benutzertabelle 1","Età - tabella utente 1","Idade - Tabela de usuário 1","Edad - Tabla de usuario 1"]
["Name_AGE_User_Table_2","AGE - User Table 2","Âge - Tableau utilisateur 2","Alter - Benutzertabelle 2","Età - tabella utente 2","Idade - Tabela de usuário 2","Edad - Tabla de usuario 2"]
["Name_AGE_User_Table_3","AGE - User Table 3","Âge - Tableau utilisateur 3","Alter - Benutzertabelle 3","Età - tabella utente 3","Idade - Tabela de usuário 3","Edad - Tabla de usuario 3"]
["Name_AGE_User_Table_4","AGE - User Table 4","Âge - Tableau utilisateur 4","Alter - Benutzertabelle 4","Età - tabella utente 4","Idade - Tabela de usuário 4","Edad - Tabla de usuario 4"]
["Name_AGE_User_Table_5","AGE - User Table 5","Âge - Tableau utilisateur 5","Alter - Benutzertabelle 5","Età - tabella utente 5","Idade - Tabela de usuário 5","Edad - Tabla de usuario 5"]
["Name_Language_Select","Language Select","Choix de la langue","Sprachauswahl","Lingua selezionata","Selecionar idioma","Seleccionar idioma"]
["Name_Index","Index","Index","Index","Indice","Índice","Índice"]
["Name_Weeks","Weeks","Semaines","Wochen","Settimane","Semanas","Semanas"]
["Name_User_1","User 1","Utilis. 1","Benutzer 1","Utente 1","Usuário 1","Usuario 1"]
["Name_Name","Name","Nom","Name","Nome","Nome","Nombre"]
["Abbreviation_Minimum","Min","Min.","Min","Min","Min","Mn."]
["Abbreviation_Middle","Mid","Moy","Mitt.","Med","Med","Med"]
["Abbreviation_Maximum","Max","Max","Max","Max","Máx","Máx"]
["Name_Measurement_Name","Measurement Name","Nom de la mesure","Messungsname","Nome misurazione","Nome da medição","Nombre de medición"]
["Name_Measurement_Type","Measurement Type","Type de mesure","Messungsart","Tipo misurazione","Tipo de medição","Tipo de medición"]
["Name_Author","Author","Auteur","Autor","Autore","Autor","Autor"]
["Name_Author_1","Author 1","Auteur 1","Autor 1","Autore 1","Autor 1","Autor 1"]
["Name_Author_2","Author 2","Auteur 2","Autor 2","Autore 2","Autor 2","Autor 2"]
["Name_Value","Value","Valeur","Wert","Valore","Valor","Valor"]
["Name_Age_Weeks","Age (weeks)","Âge (Semaines)","Alter (Wochen)","Età (settimane)","Idade (semanas)","Edad (semanas)"]
["Name_Age_Days","Age (days)","Âge (Jours)","Alter (Tage)","Età (giorni)","Idade (dias)","Edad (días)"]
["Name_Range_Weeks","Range (weeks)","Plage (Semaines)","Bereich (Wochen)","Intervallo (settimane)","Intervalo (semanas)","Rango (semanas)"]
["Name_Range_Days","Range (days)","Plage (Jours)","Bereich (Tage)","Intervallo (giorni)","Intervalo (dias)","Rango (días)"]
["Name_SonoSite_X_Porte","SonoSite X-Porte","SonoSite X-Porte","SonoSite X-Porte","SonoSite X-Porte","SonoSite X-Porte","SonoSite X-Porte"]
["Name_OB_Custom_Table_Editor","OB Custom Table Editor","Édit. tabl. pers. OB","GBH-Tabellen-Editor","Editor della tabella OS personalizzata","Edit. tab. de OB pers.","Editor tabla OB pers."]
["Name_Version","Version","Version","Version","Versione","Versão","Versión"]
["Name_Please_Specify_Language","Please Specify Language","Indiquer la langue","Bitte Sprache einst.","Specificare lingua","Especifique o idioma","Especificar idioma"]
["Name_Export","Export","Exporter","Export","Esporta","Exportar","Exportar"]
["Name_Export_Successful","Export Successful","Export réussi.","Export abgeschlossen.","Esportazione riuscita.","Exportação bem sucedida.","Exportación realizada correctamente."]
["Name_Export_Cancelled","Export Cancelled","Export annulé","Export abgebr.","Esportazione annullata","Exportação cancelada","Exportación cancelada"]
["Name_Data_Entry_Error","Data Entry Error","Entrée invalide","Ungültiger Eintrag","Immissione non valida","Entrada inválida","Entrada no válida"]
["Name_Weeks_Entry_Error","Value entered must be within 0.0 to 99.99 and it must greater than the preceding (earlier) value","La valeur doit être comprise entre 0,0 et 99,99 et être supérieure à la précédente.","Der eingegebene Wert muss zwischen 0,0 und 99,99 liegen und größer als der vorherige Wert sein.","Il valore inserito deve essere compreso tra 0.0 e 99.99 e deve essere maggiore del valore precedente.","O valor inserido deve ser entre 0,0 e 99,99 e deve ser maior que o valor anterior.","El valor introducido debe estar entre 0.0 y 99.99 y debe ser superior al valor anterior."]
["Name_Min_Mid_Max_Entry_Error","Value entered must be within 0.0 to 99.99","La valeur doit être comprise entre 0,0 et 99,99.","Der eingegebene Wert muss zwischen 0,0 und 99,99 liegen.","l valore inserito deve essere compreso tra 0.0 e 99.99","O valor inserido deve ser entre 0,0 e 99,99.","El valor introducido debe estar entre 0.0 y 99.99."]
["Name_Age_Value_Entry_Error","Value entered must be within 0.0 to 99.99 and it must greater than the preceding (earlier) value","La valeur doit être comprise entre 0,0 et 99,99 et être supérieure à la précédente.","Der eingegebene Wert muss zwischen 0,0 und 99,99 liegen und größer als der vorherige Wert sein.","Il valore inserito deve essere compreso tra 0.0 e 99.99 e deve essere maggiore del valore precedente.","O valor inserido deve ser entre 0,0 e 99,99 e deve ser maior que o valor anterior.","El valor introducido debe estar entre 0.0 y 99.99 y debe ser superior al valor anterior."]
["Name_Age_Weeks_Entry_Error","Value entered must be within 0 to 99","La valeur doit être comprise entre 0 et 99.","Der eingegebene Wert muss zwischen 0 und 99 liegen.","l valore inserito deve essere compreso tra 0 e 99","O valor inserido deve ser entre 0 e 99.","El valor introducido debe estar entre 0 y 99."]
["Name_Age_Days_Entry_Error","Value entered must be within 0 to 6","La valeur doit être comprise entre 0 et 6.","Der eingegebene Wert muss zwischen 0 und 6 liegen.","l valore inserito deve essere compreso tra 0 e 6","O valor inserido deve ser entre 0 e 6.","El valor introducido debe estar entre 0 y 6."]
["Name_Language_Selection_Updating","Language Selection Updating","Mise à jour du choix de la langue.","Sprachauswahl wird aktualisiert.","Aggiornamento della selezione della lingua in corso.","Atualização da seleção de idioma.","Actualizando selección de idioma."]
["Name_Please_Wait","Please Wait...","Veuillez patienter.","Bitte warten.","Attendere.","Favor aguardar.","Espere."]
["Name_Browse_Export_Folder","Please select the export file folder","Sélectionner le dossier d'exportation.","Bitte wählen Sie den Exportdateiordner aus.","Selezionare la cartella del file di esportazione.","Selecione a pasta de arquivo de exportação.","Seleccione la carpeta de exportación del archivo."]
["Name_Sheet_Setup_First","SETUP - FIRST","CONFIG - PREMIER","EINRICHTUNG - ERSTER SCHRITT","IMPOSTAZIONE - PRIMA","CONFIGURAÇÃO - PRIMEIRO","CONFIGURACIÓN - PRIMERO"]
["Name_Sheet_Growth_BPD","Growth - BPD","Croissance - BIP","Wachstum - BPD","Crescita - DBP","Crescimento - DBP","Crecimiento - DBP"]
["Name_Sheet_Growth_HC","Growth - HC","Croissance - CT","Wachstum - KU","Crescita - CC","Crescimento - CC","Crecimiento - PC"]
["Name_Sheet_Growth_AC","Growth - AC","Croissance - CA","Wachstum - AU","Crescita - CA","Crescimento - CA","Crecimiento - PA"]
["Name_Sheet_Growth_FL","Growth - FL","Croissance - LF","Wachstum - FL","Crescita - LF","Crescimento - CF","Crecimiento - LF"]
["Name_Sheet_Growth_EFW","Growth - EFW","Croissance - PFE","Wachstum - GEW","Crescita - PFS","Crescimento - PFE","Crecimiento - PEF"]
["Name_Sheet_Growth_HCAC","Growth - HC-AC","Croissance - PC-PA","Wachstum - KU-AU","Crescita - CC-CA","Crescimento - CC-CA","Crecimiento - PC-PA"]
["Name_Sheet_Age_User_Table_1","Age - User Table|Label 1","Âge - Tableau utilisateur 1","Alter - Benutzertabelle 1","Età - tabella utente 1","Idade - Tabela de usuário 1","Edad - Tabla de usuario 1"]
["Name_Sheet_Age_User_Table_2","Age - User Table|Label 2","Âge - Tableau utilisateur 2","Alter - Benutzertabelle 2","Età - tabella utente 2","Idade - Tabela de usuário 2","Edad - Tabla de usuario 2"]
["Name_Sheet_Age_User_Table_3","Age - User Table|Label 3","Âge - Tableau utilisateur 3","Alter - Benutzertabelle 3","Età - tabella utente 3","Idade - Tabela de usuário 3","Edad - Tabla de usuario 3"]
["Name_Sheet_Age_User_Table_4","Age - User Table|Label 4","Âge - Tableau utilisateur 4","Alter - Benutzertabelle 4","Età - tabella utente 4","Idade - Tabela de usuário 4","Edad - Tabla de usuario 4"]
["Name_Sheet_Age_User_Table_5","Age - User Table|Label 5","Âge - Tableau utilisateur 5","Alter - Benutzertabelle 5","Età - tabella utente 5","Idade - Tabela de usuário 5","Edad - Tabla de usuario 5"]
["Name_Age_Total_Days_Entry_Error","Total days (weeks entry * 7 + days entry) must be greater than the preceding values and less than following values.","Le total des jours (semaines * 7 + jours) doit être supérieur aux valeurs précédentes et inférieur aux suivantes.","Der Wert für Gesamttage (Wocheneingabe * 7 + Tageingabe) muss größer als die vorherigen Werte und kleiner als die folgenden Werte sein.","Il totale giorni (inserimento settimane * 7 + inserimento giorni) deve essere superiore ai valori precedenti e inferiore ai valori seguenti.","O total de dias (semanas inseridas * 7 + dias inseridos) deve ser maior que os valores anteriores e menor que os valores seguintes.","Días totales (semanas introducidas * 7 + días introducidos) debe ser mayor que los valores anteriores y menor que los valores siguientes."]
["Name_Age_Total_Days","Total Days","Total des jours","Gesamttage","Giorni totali","Total de dias","Días totales"]
["Name_Age_Range_High","Range High","Plage haute","Bereich Hoch","Intervallo alto","Intervalo alto","Rango alto"]
["Name_Age_Range_Low","Range Low","Plage basse","Bereich Niedrig","Intervallo basso","Intervalo baixo","Rango bajo"]
["Name_AGE_Crown_Rump_Length","AGE - Crown-Rump Length","Âge - Distance vertex-coccyx","Alter - Scheitel-Steiß-Länge","Età - Lunghezza vertice sacro","Idade - Compr. céfalo-caudal","Edad - Longitud cráneo-rabadilla"]
["Name_AGE_Gestational_Sac","AGE - Gestational Sac","Âge - Sac gestationnel","Alter - Gestationssack","Età - Sacco gestazionale","Idade - saco gestacional","Edad - Saco gestacional"]
["Name_AGE_Biparietal_Diameter","AGE - Biparietal Diameter","Âge - Diamètre bipariétal","Alter - Biparietaler Durchmesser","Età - Diametro biparietale","Idade - Diâmetro biparietal","Edad - Diámetro biparietal"]
["Name_AGE_Occipito_Frontal_Diameter","AGE - Occipito-Frontal Diameter","Âge - Diamètre occipito-frontal","Alter - Okzipitaler Frontdurchmesser","Età - Diametro occipito-frontale","Idade - Diâmetro occipitofrontal","Edad - Diámetro occipitofrontal"]
["Name_AGE_Head_Circumference","AGE - Head Circumference","Âge - Périmètre crânien","Alter - Kopfumfang","Età - Circonferenza cranio","Idade - Circunf. da cabeça","Edad - Perímetro cefálico"]
["Name_AGE_Abdominal_Circumference","AGE - Abdominal Circumference","Âge - Périmètre abdominal","Alter - Abdomenumfang","Età - Circonferenza addominale","Idade - Circunf. abdominal","Edad - Perímetro abdominal"]
["Name_AGE_Femur_Length","AGE - Femur Length","Âge - Longueur fémorale","Alter - Femurlänge","Età - Lunghezza femore","Idade - Compr. do fêmur","Edad - Longitud del fémur"]
["Name_AGE_Anterior_Posterior_Thigh_Diameter","AGE - Anterior-Posterior Thigh Diameter","Âge - Diamètre antéro-postérieur cuisse","Alter - Antero-posteriorer Oberschenkeldurchmesser","Età - Diametro coscia anteriore-posteriore","Idade - Diâmetro anterior-posterior da coxa","Edad - Diámetro del muslo anterior-posterior"]
["Name_AGE_Transverse_Trunk_Diameter","AGE - Transverse Trunk Diameter","Âge - Diamètre antéro-postérieur thoracique","Alter - Transversaler Stammdurchmesser","Età - Diametro tronco trasversale","Idade - Diâmetro do tronco transversal","Edad - Diámetro del tronco transversal"]
["Name_AGE_Fetal_Thyroid_Area","AGE - Fetal Thyroid Area","Âge - Thyroïde fœtale","Alter - Fetaler Schilddrüsenbereich","Età - Area tiroide fetale","Idade - Área da tireoide fetal","Edad - Zona del tiroides del feto"]
["Name_AGE_Humerus_Length","AGE - Humerus Length","Âge - Longueur de l'humérus","Alter - Humeruslänge","Età - Lunghezza omero","Idade - Compr. do úmero","Edad - Longitud del húmero"]
["Name_AGE_Tibia","AGE - Tibia","Âge - Tibia","Alter - Tibia","Età - Tibia","Idade - Tíbia","Edad - Tibia"]
["Name_Back","<  Back","<  Retour","<  Zurück","<  Indietro","<  Voltar","<  Volver"]
["Name_Sheet_Age_CRL","Age - CRL","Âge - DVC","Alter - SSL","Età - LCC","Idade - CCN","Edad - LCC"]
["Name_Sheet_Age_GS","Age - GS","Âge - SG","Alter - GS","Età - SG","Idade - BG","Edad - SG"]
["Name_Sheet_Age_BPD","Age - BPD","Âge - BIP","Alter - BPD","Età - DBP","Idade - DBP","Edad - DBP"]
["Name_Sheet_Age_OFD","Age - OFD","Âge - DOF","Alter - FRO","Età - DOF","Idade - DFO","Edad - DFO"]
["Name_Sheet_Age_HC","Age - HC","Âge - PC","Alter - KU","Età - CC","Idade - CC","Edad - PC"]
["Name_Sheet_Age_AC","Age - AC","Âge - PA","Alter - AU","Età - CA","Idade - AC","Edad - PA"]
["Name_Sheet_Age_FL","Age - FL","Âge - LF","Alter - FL","Età - LF","Idade - CF","Edad - LF"]
["Name_Sheet_Age_APTD","Age - APTD","Âge - DAPT","Alter - THAP","Età - DCAP","Idade - DTAP","Edad - DTAP"]
["Name_Sheet_Age_TTD","Age - TTD","Âge - DTT","Alter - THQ","Età - DTT","Idade - DTT","Edad - DTT"]
["Name_Sheet_Age_FTA","Age - FTA","Âge - SFT","Alter - FTA","Età - ATF","Idade - ATF","Edad - ATF"]
["Name_Sheet_Age_HL","Age - HL","Âge - LH","Alter - HL","Età - LO","Idade - UM","Edad - LH"]
["Name_Sheet_Age_Tibia","Age - Tibia","Âge - Tibia","Alter - Tibia","Età - Tibia","Idade - Tíbia","Edad - Tibia"]
["Name_Growth_User_Tables","Growth User Tables","Tableaux de croissance utilisateur","Benutzertabellen Wachstum","Tabelle crescita utente","Tabelas de crescimento de usuário","Tablas de crecimiento del usuario"]
["Name_Age_User_Tables","Age User Tables","Tableaux d'âge utilisateur","Benutzertabellen Alter","Tabelle età utente","Tabelas de idade de usuário","Tablas de edad del usuario"]
["Name_Author_Text_Entry_Error","Author names cannot contain asterisks, forward or backward slashes, right or left square brackets, commas or semicolons, and must be 1 to 24 characters.","Noms des auteurs : 1 à 24 caractères max. Astérisques, barres obliques, parenthèses, virgules, points-virgules interdits.","Autorennamen benöt. 1–24 Zeichen u. dürfen keine Sternchen, Schrägstriche, Klammern, Kommas oder Semikola enth.","I nomi degli autori devono essere compresi tra 1 e 24 caratteri e non possono contenere asterischi, barre, parentesi, virgole o punti e virgole.","Nomes de autor devem conter 1-24 caracteres, e não devem contar asteriscos, barras, parênteses, vírgulas ou pontos e vírgulas.","Los nombres de los autores deben tener 1-24 caracteres y no puede contener asteriscos, barras, paréntesis, comas ni punto y coma."]
["Name_Measurement_Text_Entry_Error","Measurement names cannot contain asterisks, forward or backward slashes, right or left square brackets, commas or semicolons, and must be 1 to 6 characters.","Noms des mesures : 1 à 6 caractères max. Astérisques, barres obliques, parenthèses, virgules, points-virgules interdits.","Messungsnamen benöt. 1–6 Zeichen u. dürfen keine Sternchen, Schrägstriche, Klammern, Kommas oder Semikola enth.","I nomi delle misure devono essere compresi tra 1 e 24 caratteri e non possono contenere asterischi, barre, parentesi, virgole o punti e virgole.","Nomes de medida devem conter 1-6 caracteres, e não devem contar asteriscos, barras, parênteses, vírgulas ou pontos e vírgulas.","Los nombres de las mediciones deben tener 1-6 caracteres y no puede contener asteriscos, barras, paréntesis, comas ni punto y coma."]
["Name_Distance_Cm","Distance (cm)","Distance (cm)","Abstand (cm)","Distanza (cm)","Distância (cm)","Distancia (cm)"]
["Name_Area_Cm2","Area (cm2)","Surface (cm2)","Fläche (cm2)","Area (cm2)","Área (cm2)","Área (cm2)"]
["Name_Circumference_Cm","Circumference (cm)","Circonférence (cm)","Umfang (cm)","Circonferenza (cm)","Circunferência (cm)","Circunferencia (cm)"]
["Name_Bad_Application_Version","Incompatible Application Version","Version de l'application incompatible","Inkompatible Anwendungsversion","Versione applicazione incompatibile","Versão de aplicativo incompatível","Versión de aplicación incompatible"]
["Name_Windows_Excel_Version_Too_Old","This version of Excel is not compatible with this workbook.  Please use MS Excel 2007 or newer.","Cette version d'Excel n'est pas compatible avec ce fichier de travail. Veuillez utiliser Microsoft Excel 2007 ou une version ultérieure.","Diese Version von Excel ist mit dieser Arbeitsmappe nicht kompatibel. Sie benötigen Microsoft Excel 2007 oder neuer.","Questa versione di Excel non è compatibile con questa cartella di lavoro. Utilizzare Microsoft Excel 2007 o una versione successiva.","Esta versão do Excel não é compatível com esta pasta de trabalho. Use o Microsoft Excel 2007 ou superior.","Esta versión de Excel no es compatible con este libro de trabajo. Utilice Microsoft Excel 2007 o posterior."]
["Name_Bad_Mac_Excel_Version_Too_Old","This version of Excel is not compatible with this workbook.  Please use MS Excel 2011 or newer.","Cette version d'Excel n'est pas compatible avec ce fichier de travail. Veuillez utiliser Microsoft Excel 2011 ou une version ultérieure.","Diese Version von Excel ist mit dieser Arbeitsmappe nicht kompatibel. Sie benötigen Microsoft Excel 2011 oder neuer.","Questa versione di Excel non è compatibile con questa cartella di lavoro. Utilizzare Microsoft Excel 2011 o una versione successiva.","Esta versão do Excel não é compatível com esta pasta de trabalho. Use o Microsoft Excel 2011 ou superior.","Esta versión de Excel no es compatible con este libro de trabajo. Utilice Microsoft Excel 2011 o posterior."]
["Name_Incomplete_Table_Title","Incomplete Table","Tableau incomplet","Tabelle unvollständig","Tabella incompleta","Tabela incompleta","Tabla incompleta"]
["Name_Missing_Author","Author' cannot be blank.","Le champ Auteur doit être rempli.","Das Feld für den Autoren darf nicht leer gelassen werden.","L'autore non può essere lasciato in bianco.","O campo Autor não pode ser deixado em branco.","El autor no puede estar en blanco."]
["Name_Missing_Measurement_Name","Measurement Name' cannot be blank.","Le champ Nom de mesure doit être rempli.","Das Feld für den Messungsnamen darf nicht leer gelassen werden.","Il nome della misurazione non può essere lasciato in bianco.","O campo Nome da medição não pode ser deixado em branco.","El nombre de la medición no puede estar en blanco."]
["Name_Missing_Measurement_Type","Measurement Type' cannot be blank.","Le champ Type de mesure doit être rempli.","Das Feld für den Messungstyp darf nicht leer gelassen werden.","Il tipo di misurazione non può essere lasciato in bianco.","O campo Tipo de medição não pode ser deixado em branco.","El tipo de medición no puede estar en blanco."]
["Name_Missing_Table_Entries","Missing table entries.","Entrées de tableau manquantes.","Fehlende Tabelleneinträge.","Voci tabella assenti.","Entradas na tabela faltando.","Faltan entradas de la tabla."]
["Name_Min_Mid_Max_5000_Entry_Error","Value entered must be within 0.0 to 5000.00","La valeur doit être comprise entre 0,0 et 5000,00.","Der eingegebene Wert muss zwischen 0,0 und 5000,00 liegen.","l valore inserito deve essere compreso tra 0.0 e 5000.00","O valor inserido deve ser entre 0,0 e 5000,00.","El valor introducido debe estar entre 0.0 y 5000.00."]
["Name_Age_Value_5000_Entry_Error","Value entered must be within 0.0 to 5000.00 and it must greater than the preceding (earlier) value","La valeur doit être comprise entre 0,0 et 5000,00 et être supérieure à la précédente.","Der eingegebene Wert muss zwischen 0,0 und 5000,00 liegen und größer als der vorherige Wert sein.","Il valore inserito deve essere compreso tra 0.0 e 5000.00 e deve essere maggiore del valore precedente.","O valor inserido deve ser entre 0,0 e 5000,00 e deve ser maior que o valor anterior.","El valor introducido debe estar entre 0.0 y 5000.00 y debe ser superior al valor anterior."]

{"sheet":"Console","index":26,"n_rows":3449,"n_cols":6,"rows_kept":3449,"cut":false,"hidden":true,"merged":[[2056,1,2056,3],[2056,4,2056,5],[2183,1,2183,3],[2183,4,2183,5],[2310,1,2310,3],[2310,4,2310,5],[2306,0,2307,4],[2308,0,2311,0],[2308,1,2308,3],[2308,4,2308,5],[2309,1,2309,3],[2309,4,2309,5],[2179,0,2180,4],[2181,0,2184,0],[2181,1,2181,3],[2181,4,2181,5],[2182,1,2182,3],[2182,4,2182,5],[2054,0,2057,0],[2054,1,2054,3],[2054,4,2054,5],[2055,1,2055,3],[2055,4,2055,5],[3322,0,3323,4],[3324,0,3327,0],[3324,1,3324,3],[3324,4,3324,5],[3325,1,3325,3],[3325,4,3325,5],[3195,0,3196,4],[3197,0,3200,0],[3197,1,3197,3],[3197,4,3197,5],[3198,1,3198,3],[3198,4,3198,5],[3199,1,3199,3],[3199,4,3199,5],[3326,1,3326,3],[3326,4,3326,5],[3068,0,3069,4],[3070,0,3073,0],[3070,1,3070,3],[3070,4,3070,5],[3071,1,3071,3],[3071,4,3071,5],[2941,0,2942,4],[2943,0,2946,0],[2943,1,2943,3],[2943,4,2943,5],[2944,1,2944,3],[2944,4,2944,5],[2945,1,2945,3],[2945,4,2945,5],[3072,1,3072,3],[3072,4,3072,5],[2814,0,2815,4],[2816,0,2819,0],[2816,1,2816,3],[2816,4,2816,5],[2817,1,2817,3],[2817,4,2817,5],[2687,0,2688,4],[2689,0,2692,0],[2689,1,2689,3],[2689,4,2689,5],[2690,1,2690,3],[2690,4,2690,5],[2691,1,2691,3],[2691,4,2691,5],[2818,1,2818,3],[2818,4,2818,5],[2560,0,2561,4],[2562,0,2565,0],[2562,1,2562,3],[2562,4,2562,5],[2563,1,2563,3],[2563,4,2563,5],[2433,0,2434,4],[2435,0,2438,0],[2435,1,2435,3],[2435,4,2435,5],[2436,1,2436,3],[2436,4,2436,5],[2437,1,2437,3],[2437,4,2437,5],[2564,1,2564,3],[2564,4,2564,5],[1925,0,1926,4],[1927,0,1930,0],[1927,1,1927,3],[1927,4,1927,5],[1928,1,1928,3],[1928,4,1928,5],[1929,1,1929,3],[1929,4,1929,5],[2052,0,2053,4],[1548,1,1548,3],[1548,4,1548,5],[1675,1,1675,3],[1675,4,1675,5],[1800,0,1803,0],[1673,0,1676,0],[1546,0,1549,0],[1547,1,1547,3],[1547,4,1547,5],[1802,1,1802,3],[1802,4,1802,5],[1798,0,1799,4],[1800,1,1800,3],[1801,1,1801,3],[1800,4,1800,5],[1801,4,1801,5],[1671,0,1672,4],[1673,1,1673,3],[1674,1,1674,3],[1673,4,1673,5],[1674,4,1674,5],[0,0,1,3],[215,0,216,3],[430,0,431,3],[645,0,646,3],[860,0,861,3],[1419,0,1422,0],[1292,0,1295,0],[1417,0,1418,4],[1419,1,1419,3],[1420,1,1420,3],[1419,4,1419,5],[2,0,3,0],[2,1,3,1],[2,2,2,3],[1077,0,1078,0],[862,0,863,0],[862,1,863,1],[217,0,218,0],[217,1,218,1],[1075,0,1076,3],[217,2,217,3],[1077,1,1078,1],[432,0,433,0],[432,1,433,1],[862,2,862,3],[647,0,648,0],[647,1,648,1],[1077,2,1077,3],[432,2,432,3],[647,2,647,3],[1420,4,1420,5],[1544,0,1545,4],[1546,1,1546,3],[1546,4,1546,5],[1290,0,1291,4],[1292,1,1292,3],[1293,1,1293,3],[1292,4,1292,5],[1293,4,1293,5],[1294,1,1294,3],[1294,4,1294,5],[1421,4,1421,5],[1421,1,1421,3]]}
["User Growth Table: Biparietal Diameter",null,null,null,{"$f":"IF('Growth - BPD'!E1=\"\",\"\",'Growth - BPD'!E1)","v":"Growth BPD"}]
[null,null,null,null,{"$f":"ValidationData!DataVersion","v":"70.80.100.100"}]
["Index","Weeks * 7","Author",null,{"$f":"IF('Growth - BPD'!H3=\"\",\"\",'Growth - BPD'!H3)","v":""}]
[null,null,"Min","Mid","Max"]
[1,{"$f":"IF('Growth - BPD'!B5=\"\",\"\",'Growth - BPD'!B5 * 7)","v":""},{"$f":"IF('Growth - BPD'!C5=\"\",\"\",'Growth - BPD'!C5)","v":""},{"$f":"IF('Growth - BPD'!D5=\"\",\"\",'Growth - BPD'!D5)","v":""},{"$f":"IF('Growth - BPD'!E5=\"\",\"\",'Growth - BPD'!E5)","v":""}]
[2,{"$f":"IF('Growth - BPD'!B6=\"\",\"\",'Growth - BPD'!B6 * 7)","v":""},{"$f":"IF('Growth - BPD'!C6=\"\",\"\",'Growth - BPD'!C6)","v":""},{"$f":"IF('Growth - BPD'!D6=\"\",\"\",'Growth - BPD'!D6)","v":""},{"$f":"IF('Growth - BPD'!E6=\"\",\"\",'Growth - BPD'!E6)","v":""}]
[3,{"$f":"IF('Growth - BPD'!B7=\"\",\"\",'Growth - BPD'!B7 * 7)","v":""},{"$f":"IF('Growth - BPD'!C7=\"\",\"\",'Growth - BPD'!C7)","v":""},{"$f":"IF('Growth - BPD'!D7=\"\",\"\",'Growth - BPD'!D7)","v":""},{"$f":"IF('Growth - BPD'!E7=\"\",\"\",'Growth - BPD'!E7)","v":""}]
[4,{"$f":"IF('Growth - BPD'!B8=\"\",\"\",'Growth - BPD'!B8 * 7)","v":""},{"$f":"IF('Growth - BPD'!C8=\"\",\"\",'Growth - BPD'!C8)","v":""},{"$f":"IF('Growth - BPD'!D8=\"\",\"\",'Growth - BPD'!D8)","v":""},{"$f":"IF('Growth - BPD'!E8=\"\",\"\",'Growth - BPD'!E8)","v":""}]
[5,{"$f":"IF('Growth - BPD'!B9=\"\",\"\",'Growth - BPD'!B9 * 7)","v":""},{"$f":"IF('Growth - BPD'!C9=\"\",\"\",'Growth - BPD'!C9)","v":""},{"$f":"IF('Growth - BPD'!D9=\"\",\"\",'Growth - BPD'!D9)","v":""},{"$f":"IF('Growth - BPD'!E9=\"\",\"\",'Growth - BPD'!E9)","v":""}]
[6,{"$f":"IF('Growth - BPD'!B10=\"\",\"\",'Growth - BPD'!B10 * 7)","v":""},{"$f":"IF('Growth - BPD'!C10=\"\",\"\",'Growth - BPD'!C10)","v":""},{"$f":"IF('Growth - BPD'!D10=\"\",\"\",'Growth - BPD'!D10)","v":""},{"$f":"IF('Growth - BPD'!E10=\"\",\"\",'Growth - BPD'!E10)","v":""}]
[7,{"$f":"IF('Growth - BPD'!B11=\"\",\"\",'Growth - BPD'!B11 * 7)","v":""},{"$f":"IF('Growth - BPD'!C11=\"\",\"\",'Growth - BPD'!C11)","v":""},{"$f":"IF('Growth - BPD'!D11=\"\",\"\",'Growth - BPD'!D11)","v":""},{"$f":"IF('Growth - BPD'!E11=\"\",\"\",'Growth - BPD'!E11)","v":""}]
[8,{"$f":"IF('Growth - BPD'!B12=\"\",\"\",'Growth - BPD'!B12 * 7)","v":""},{"$f":"IF('Growth - BPD'!C12=\"\",\"\",'Growth - BPD'!C12)","v":""},{"$f":"IF('Growth - BPD'!D12=\"\",\"\",'Growth - BPD'!D12)","v":""},{"$f":"IF('Growth - BPD'!E12=\"\",\"\",'Growth - BPD'!E12)","v":""}]
[9,{"$f":"IF('Growth - BPD'!B13=\"\",\"\",'Growth - BPD'!B13 * 7)","v":""},{"$f":"IF('Growth - BPD'!C13=\"\",\"\",'Growth - BPD'!C13)","v":""},{"$f":"IF('Growth - BPD'!D13=\"\",\"\",'Growth - BPD'!D13)","v":""},{"$f":"IF('Growth - BPD'!E13=\"\",\"\",'Growth - BPD'!E13)","v":""}]
[10,{"$f":"IF('Growth - BPD'!B14=\"\",\"\",'Growth - BPD'!B14 * 7)","v":""},{"$f":"IF('Growth - BPD'!C14=\"\",\"\",'Growth - BPD'!C14)","v":""},{"$f":"IF('Growth - BPD'!D14=\"\",\"\",'Growth - BPD'!D14)","v":""},{"$f":"IF('Growth - BPD'!E14=\"\",\"\",'Growth - BPD'!E14)","v":""}]
[11,{"$f":"IF('Growth - BPD'!B15=\"\",\"\",'Growth - BPD'!B15 * 7)","v":""},{"$f":"IF('Growth - BPD'!C15=\"\",\"\",'Growth - BPD'!C15)","v":""},{"$f":"IF('Growth - BPD'!D15=\"\",\"\",'Growth - BPD'!D15)","v":""},{"$f":"IF('Growth - BPD'!E15=\"\",\"\",'Growth - BPD'!E15)","v":""}]
[12,{"$f":"IF('Growth - BPD'!B16=\"\",\"\",'Growth - BPD'!B16 * 7)","v":""},{"$f":"IF('Growth - BPD'!C16=\"\",\"\",'Growth - BPD'!C16)","v":""},{"$f":"IF('Growth - BPD'!D16=\"\",\"\",'Growth - BPD'!D16)","v":""},{"$f":"IF('Growth - BPD'!E16=\"\",\"\",'Growth - BPD'!E16)","v":""}]
[13,{"$f":"IF('Growth - BPD'!B17=\"\",\"\",'Growth - BPD'!B17 * 7)","v":""},{"$f":"IF('Growth - BPD'!C17=\"\",\"\",'Growth - BPD'!C17)","v":""},{"$f":"IF('Growth - BPD'!D17=\"\",\"\",'Growth - BPD'!D17)","v":""},{"$f":"IF('Growth - BPD'!E17=\"\",\"\",'Growth - BPD'!E17)","v":""}]
[14,{"$f":"IF('Growth - BPD'!B18=\"\",\"\",'Growth - BPD'!B18 * 7)","v":""},{"$f":"IF('Growth - BPD'!C18=\"\",\"\",'Growth - BPD'!C18)","v":""},{"$f":"IF('Growth - BPD'!D18=\"\",\"\",'Growth - BPD'!D18)","v":""},{"$f":"IF('Growth - BPD'!E18=\"\",\"\",'Growth - BPD'!E18)","v":""}]
[15,{"$f":"IF('Growth - BPD'!B19=\"\",\"\",'Growth - BPD'!B19 * 7)","v":""},{"$f":"IF('Growth - BPD'!C19=\"\",\"\",'Growth - BPD'!C19)","v":""},{"$f":"IF('Growth - BPD'!D19=\"\",\"\",'Growth - BPD'!D19)","v":""},{"$f":"IF('Growth - BPD'!E19=\"\",\"\",'Growth - BPD'!E19)","v":""}]
[16,{"$f":"IF('Growth - BPD'!B20=\"\",\"\",'Growth - BPD'!B20 * 7)","v":""},{"$f":"IF('Growth - BPD'!C20=\"\",\"\",'Growth - BPD'!C20)","v":""},{"$f":"IF('Growth - BPD'!D20=\"\",\"\",'Growth - BPD'!D20)","v":""},{"$f":"IF('Growth - BPD'!E20=\"\",\"\",'Growth - BPD'!E20)","v":""}]
[17,{"$f":"IF('Growth - BPD'!B21=\"\",\"\",'Growth - BPD'!B21 * 7)","v":""},{"$f":"IF('Growth - BPD'!C21=\"\",\"\",'Growth - BPD'!C21)","v":""},{"$f":"IF('Growth - BPD'!D21=\"\",\"\",'Growth - BPD'!D21)","v":""},{"$f":"IF('Growth - BPD'!E21=\"\",\"\",'Growth - BPD'!E21)","v":""}]
[18,{"$f":"IF('Growth - BPD'!B22=\"\",\"\",'Growth - BPD'!B22 * 7)","v":""},{"$f":"IF('Growth - BPD'!C22=\"\",\"\",'Growth - BPD'!C22)","v":""},{"$f":"IF('Growth - BPD'!D22=\"\",\"\",'Growth - BPD'!D22)","v":""},{"$f":"IF('Growth - BPD'!E22=\"\",\"\",'Growth - BPD'!E22)","v":""}]
[19,{"$f":"IF('Growth - BPD'!B23=\"\",\"\",'Growth - BPD'!B23 * 7)","v":""},{"$f":"IF('Growth - BPD'!C23=\"\",\"\",'Growth - BPD'!C23)","v":""},{"$f":"IF('Growth - BPD'!D23=\"\",\"\",'Growth - BPD'!D23)","v":""},{"$f":"IF('Growth - BPD'!E23=\"\",\"\",'Growth - BPD'!E23)","v":""}]
[20,{"$f":"IF('Growth - BPD'!B24=\"\",\"\",'Growth - BPD'!B24 * 7)","v":""},{"$f":"IF('Growth - BPD'!C24=\"\",\"\",'Growth - BPD'!C24)","v":""},{"$f":"IF('Growth - BPD'!D24=\"\",\"\",'Growth - BPD'!D24)","v":""},{"$f":"IF('Growth - BPD'!E24=\"\",\"\",'Growth - BPD'!E24)","v":""}]
[21,{"$f":"IF('Growth - BPD'!B25=\"\",\"\",'Growth - BPD'!B25 * 7)","v":""},{"$f":"IF('Growth - BPD'!C25=\"\",\"\",'Growth - BPD'!C25)","v":""},{"$f":"IF('Growth - BPD'!D25=\"\",\"\",'Growth - BPD'!D25)","v":""},{"$f":"IF('Growth - BPD'!E25=\"\",\"\",'Growth - BPD'!E25)","v":""}]
[22,{"$f":"IF('Growth - BPD'!B26=\"\",\"\",'Growth - BPD'!B26 * 7)","v":""},{"$f":"IF('Growth - BPD'!C26=\"\",\"\",'Growth - BPD'!C26)","v":""},{"$f":"IF('Growth - BPD'!D26=\"\",\"\",'Growth - BPD'!D26)","v":""},{"$f":"IF('Growth - BPD'!E26=\"\",\"\",'Growth - BPD'!E26)","v":""}]
[23,{"$f":"IF('Growth - BPD'!B27=\"\",\"\",'Growth - BPD'!B27 * 7)","v":""},{"$f":"IF('Growth - BPD'!C27=\"\",\"\",'Growth - BPD'!C27)","v":""},{"$f":"IF('Growth - BPD'!D27=\"\",\"\",'Growth - BPD'!D27)","v":""},{"$f":"IF('Growth - BPD'!E27=\"\",\"\",'Growth - BPD'!E27)","v":""}]
[24,{"$f":"IF('Growth - BPD'!B28=\"\",\"\",'Growth - BPD'!B28 * 7)","v":""},{"$f":"IF('Growth - BPD'!C28=\"\",\"\",'Growth - BPD'!C28)","v":""},{"$f":"IF('Growth - BPD'!D28=\"\",\"\",'Growth - BPD'!D28)","v":""},{"$f":"IF('Growth - BPD'!E28=\"\",\"\",'Growth - BPD'!E28)","v":""}]
[25,{"$f":"IF('Growth - BPD'!B29=\"\",\"\",'Growth - BPD'!B29 * 7)","v":""},{"$f":"IF('Growth - BPD'!C29=\"\",\"\",'Growth - BPD'!C29)","v":""},{"$f":"IF('Growth - BPD'!D29=\"\",\"\",'Growth - BPD'!D29)","v":""},{"$f":"IF('Growth - BPD'!E29=\"\",\"\",'Growth - BPD'!E29)","v":""}]
[26,{"$f":"IF('Growth - BPD'!B30=\"\",\"\",'Growth - BPD'!B30 * 7)","v":""},{"$f":"IF('Growth - BPD'!C30=\"\",\"\",'Growth - BPD'!C30)","v":""},{"$f":"IF('Growth - BPD'!D30=\"\",\"\",'Growth - BPD'!D30)","v":""},{"$f":"IF('Growth - BPD'!E30=\"\",\"\",'Growth - BPD'!E30)","v":""}]
[27,{"$f":"IF('Growth - BPD'!B31=\"\",\"\",'Growth - BPD'!B31 * 7)","v":""},{"$f":"IF('Growth - BPD'!C31=\"\",\"\",'Growth - BPD'!C31)","v":""},{"$f":"IF('Growth - BPD'!D31=\"\",\"\",'Growth - BPD'!D31)","v":""},{"$f":"IF('Growth - BPD'!E31=\"\",\"\",'Growth - BPD'!E31)","v":""}]
[28,{"$f":"IF('Growth - BPD'!B32=\"\",\"\",'Growth - BPD'!B32 * 7)","v":""},{"$f":"IF('Growth - BPD'!C32=\"\",\"\",'Growth - BPD'!C32)","v":""},{"$f":"IF('Growth - BPD'!D32=\"\",\"\",'Growth - BPD'!D32)","v":""},{"$f":"IF('Growth - BPD'!E32=\"\",\"\",'Growth - BPD'!E32)","v":""}]
[29,{"$f":"IF('Growth - BPD'!B33=\"\",\"\",'Growth - BPD'!B33 * 7)","v":""},{"$f":"IF('Growth - BPD'!C33=\"\",\"\",'Growth - BPD'!C33)","v":""},{"$f":"IF('Growth - BPD'!D33=\"\",\"\",'Growth - BPD'!D33)","v":""},{"$f":"IF('Growth - BPD'!E33=\"\",\"\",'Growth - BPD'!E33)","v":""}]
[30,{"$f":"IF('Growth - BPD'!B34=\"\",\"\",'Growth - BPD'!B34 * 7)","v":""},{"$f":"IF('Growth - BPD'!C34=\"\",\"\",'Growth - BPD'!C34)","v":""},{"$f":"IF('Growth - BPD'!D34=\"\",\"\",'Growth - BPD'!D34)","v":""},{"$f":"IF('Growth - BPD'!E34=\"\",\"\",'Growth - BPD'!E34)","v":""}]
[31,{"$f":"IF('Growth - BPD'!B35=\"\",\"\",'Growth - BPD'!B35 * 7)","v":""},{"$f":"IF('Growth - BPD'!C35=\"\",\"\",'Growth - BPD'!C35)","v":""},{"$f":"IF('Growth - BPD'!D35=\"\",\"\",'Growth - BPD'!D35)","v":""},{"$f":"IF('Growth - BPD'!E35=\"\",\"\",'Growth - BPD'!E35)","v":""}]
[32,{"$f":"IF('Growth - BPD'!B36=\"\",\"\",'Growth - BPD'!B36 * 7)","v":""},{"$f":"IF('Growth - BPD'!C36=\"\",\"\",'Growth - BPD'!C36)","v":""},{"$f":"IF('Growth - BPD'!D36=\"\",\"\",'Growth - BPD'!D36)","v":""},{"$f":"IF('Growth - BPD'!E36=\"\",\"\",'Growth - BPD'!E36)","v":""}]
[33,{"$f":"IF('Growth - BPD'!B37=\"\",\"\",'Growth - BPD'!B37 * 7)","v":""},{"$f":"IF('Growth - BPD'!C37=\"\",\"\",'Growth - BPD'!C37)","v":""},{"$f":"IF('Growth - BPD'!D37=\"\",\"\",'Growth - BPD'!D37)","v":""},{"$f":"IF('Growth - BPD'!E37=\"\",\"\",'Growth - BPD'!E37)","v":""}]
[34,{"$f":"IF('Growth - BPD'!B38=\"\",\"\",'Growth - BPD'!B38 * 7)","v":""},{"$f":"IF('Growth - BPD'!C38=\"\",\"\",'Growth - BPD'!C38)","v":""},{"$f":"IF('Growth - BPD'!D38=\"\",\"\",'Growth - BPD'!D38)","v":""},{"$f":"IF('Growth - BPD'!E38=\"\",\"\",'Growth - BPD'!E38)","v":""}]
[35,{"$f":"IF('Growth - BPD'!B39=\"\",\"\",'Growth - BPD'!B39 * 7)","v":""},{"$f":"IF('Growth - BPD'!C39=\"\",\"\",'Growth - BPD'!C39)","v":""},{"$f":"IF('Growth - BPD'!D39=\"\",\"\",'Growth - BPD'!D39)","v":""},{"$f":"IF('Growth - BPD'!E39=\"\",\"\",'Growth - BPD'!E39)","v":""}]
[36,{"$f":"IF('Growth - BPD'!B40=\"\",\"\",'Growth - BPD'!B40 * 7)","v":""},{"$f":"IF('Growth - BPD'!C40=\"\",\"\",'Growth - BPD'!C40)","v":""},{"$f":"IF('Growth - BPD'!D40=\"\",\"\",'Growth - BPD'!D40)","v":""},{"$f":"IF('Growth - BPD'!E40=\"\",\"\",'Growth - BPD'!E40)","v":""}]
[37,{"$f":"IF('Growth - BPD'!B41=\"\",\"\",'Growth - BPD'!B41 * 7)","v":""},{"$f":"IF('Growth - BPD'!C41=\"\",\"\",'Growth - BPD'!C41)","v":""},{"$f":"IF('Growth - BPD'!D41=\"\",\"\",'Growth - BPD'!D41)","v":""},{"$f":"IF('Growth - BPD'!E41=\"\",\"\",'Growth - BPD'!E41)","v":""}]
[38,{"$f":"IF('Growth - BPD'!B42=\"\",\"\",'Growth - BPD'!B42 * 7)","v":""},{"$f":"IF('Growth - BPD'!C42=\"\",\"\",'Growth - BPD'!C42)","v":""},{"$f":"IF('Growth - BPD'!D42=\"\",\"\",'Growth - BPD'!D42)","v":""},{"$f":"IF('Growth - BPD'!E42=\"\",\"\",'Growth - BPD'!E42)","v":""}]
[39,{"$f":"IF('Growth - BPD'!B43=\"\",\"\",'Growth - BPD'!B43 * 7)","v":""},{"$f":"IF('Growth - BPD'!C43=\"\",\"\",'Growth - BPD'!C43)","v":""},{"$f":"IF('Growth - BPD'!D43=\"\",\"\",'Growth - BPD'!D43)","v":""},{"$f":"IF('Growth - BPD'!E43=\"\",\"\",'Growth - BPD'!E43)","v":""}]
[40,{"$f":"IF('Growth - BPD'!B44=\"\",\"\",'Growth - BPD'!B44 * 7)","v":""},{"$f":"IF('Growth - BPD'!C44=\"\",\"\",'Growth - BPD'!C44)","v":""},{"$f":"IF('Growth - BPD'!D44=\"\",\"\",'Growth - BPD'!D44)","v":""},{"$f":"IF('Growth - BPD'!E44=\"\",\"\",'Growth - BPD'!E44)","v":""}]
[41,{"$f":"IF('Growth - BPD'!B45=\"\",\"\",'Growth - BPD'!B45 * 7)","v":""},{"$f":"IF('Growth - BPD'!C45=\"\",\"\",'Growth - BPD'!C45)","v":""},{"$f":"IF('Growth - BPD'!D45=\"\",\"\",'Growth - BPD'!D45)","v":""},{"$f":"IF('Growth - BPD'!E45=\"\",\"\",'Growth - BPD'!E45)","v":""}]
[42,{"$f":"IF('Growth - BPD'!B46=\"\",\"\",'Growth - BPD'!B46 * 7)","v":""},{"$f":"IF('Growth - BPD'!C46=\"\",\"\",'Growth - BPD'!C46)","v":""},{"$f":"IF('Growth - BPD'!D46=\"\",\"\",'Growth - BPD'!D46)","v":""},{"$f":"IF('Growth - BPD'!E46=\"\",\"\",'Growth - BPD'!E46)","v":""}]
[43,{"$f":"IF('Growth - BPD'!B47=\"\",\"\",'Growth - BPD'!B47 * 7)","v":""},{"$f":"IF('Growth - BPD'!C47=\"\",\"\",'Growth - BPD'!C47)","v":""},{"$f":"IF('Growth - BPD'!D47=\"\",\"\",'Growth - BPD'!D47)","v":""},{"$f":"IF('Growth - BPD'!E47=\"\",\"\",'Growth - BPD'!E47)","v":""}]
[44,{"$f":"IF('Growth - BPD'!B48=\"\",\"\",'Growth - BPD'!B48 * 7)","v":""},{"$f":"IF('Growth - BPD'!C48=\"\",\"\",'Growth - BPD'!C48)","v":""},{"$f":"IF('Growth - BPD'!D48=\"\",\"\",'Growth - BPD'!D48)","v":""},{"$f":"IF('Growth - BPD'!E48=\"\",\"\",'Growth - BPD'!E48)","v":""}]
[45,{"$f":"IF('Growth - BPD'!B49=\"\",\"\",'Growth - BPD'!B49 * 7)","v":""},{"$f":"IF('Growth - BPD'!C49=\"\",\"\",'Growth - BPD'!C49)","v":""},{"$f":"IF('Growth - BPD'!D49=\"\",\"\",'Growth - BPD'!D49)","v":""},{"$f":"IF('Growth - BPD'!E49=\"\",\"\",'Growth - BPD'!E49)","v":""}]
[46,{"$f":"IF('Growth - BPD'!B50=\"\",\"\",'Growth - BPD'!B50 * 7)","v":""},{"$f":"IF('Growth - BPD'!C50=\"\",\"\",'Growth - BPD'!C50)","v":""},{"$f":"IF('Growth - BPD'!D50=\"\",\"\",'Growth - BPD'!D50)","v":""},{"$f":"IF('Growth - BPD'!E50=\"\",\"\",'Growth - BPD'!E50)","v":""}]
[47,{"$f":"IF('Growth - BPD'!B51=\"\",\"\",'Growth - BPD'!B51 * 7)","v":""},{"$f":"IF('Growth - BPD'!C51=\"\",\"\",'Growth - BPD'!C51)","v":""},{"$f":"IF('Growth - BPD'!D51=\"\",\"\",'Growth - BPD'!D51)","v":""},{"$f":"IF('Growth - BPD'!E51=\"\",\"\",'Growth - BPD'!E51)","v":""}]
[48,{"$f":"IF('Growth - BPD'!B52=\"\",\"\",'Growth - BPD'!B52 * 7)","v":""},{"$f":"IF('Growth - BPD'!C52=\"\",\"\",'Growth - BPD'!C52)","v":""},{"$f":"IF('Growth - BPD'!D52=\"\",\"\",'Growth - BPD'!D52)","v":""},{"$f":"IF('Growth - BPD'!E52=\"\",\"\",'Growth - BPD'!E52)","v":""}]
[49,{"$f":"IF('Growth - BPD'!B53=\"\",\"\",'Growth - BPD'!B53 * 7)","v":""},{"$f":"IF('Growth - BPD'!C53=\"\",\"\",'Growth - BPD'!C53)","v":""},{"$f":"IF('Growth - BPD'!D53=\"\",\"\",'Growth - BPD'!D53)","v":""},{"$f":"IF('Growth - BPD'!E53=\"\",\"\",'Growth - BPD'!E53)","v":""}]
[50,{"$f":"IF('Growth - BPD'!B54=\"\",\"\",'Growth - BPD'!B54 * 7)","v":""},{"$f":"IF('Growth - BPD'!C54=\"\",\"\",'Growth - BPD'!C54)","v":""},{"$f":"IF('Growth - BPD'!D54=\"\",\"\",'Growth - BPD'!D54)","v":""},{"$f":"IF('Growth - BPD'!E54=\"\",\"\",'Growth - BPD'!E54)","v":""}]
[51,{"$f":"IF('Growth - BPD'!B55=\"\",\"\",'Growth - BPD'!B55 * 7)","v":""},{"$f":"IF('Growth - BPD'!C55=\"\",\"\",'Growth - BPD'!C55)","v":""},{"$f":"IF('Growth - BPD'!D55=\"\",\"\",'Growth - BPD'!D55)","v":""},{"$f":"IF('Growth - BPD'!E55=\"\",\"\",'Growth - BPD'!E55)","v":""}]
[52,{"$f":"IF('Growth - BPD'!B56=\"\",\"\",'Growth - BPD'!B56 * 7)","v":""},{"$f":"IF('Growth - BPD'!C56=\"\",\"\",'Growth - BPD'!C56)","v":""},{"$f":"IF('Growth - BPD'!D56=\"\",\"\",'Growth - BPD'!D56)","v":""},{"$f":"IF('Growth - BPD'!E56=\"\",\"\",'Growth - BPD'!E56)","v":""}]
[53,{"$f":"IF('Growth - BPD'!B57=\"\",\"\",'Growth - BPD'!B57 * 7)","v":""},{"$f":"IF('Growth - BPD'!C57=\"\",\"\",'Growth - BPD'!C57)","v":""},{"$f":"IF('Growth - BPD'!D57=\"\",\"\",'Growth - BPD'!D57)","v":""},{"$f":"IF('Growth - BPD'!E57=\"\",\"\",'Growth - BPD'!E57)","v":""}]
[54,{"$f":"IF('Growth - BPD'!B58=\"\",\"\",'Growth - BPD'!B58 * 7)","v":""},{"$f":"IF('Growth - BPD'!C58=\"\",\"\",'Growth - BPD'!C58)","v":""},{"$f":"IF('Growth - BPD'!D58=\"\",\"\",'Growth - BPD'!D58)","v":""},{"$f":"IF('Growth - BPD'!E58=\"\",\"\",'Growth - BPD'!E58)","v":""}]
[55,{"$f":"IF('Growth - BPD'!B59=\"\",\"\",'Growth - BPD'!B59 * 7)","v":""},{"$f":"IF('Growth - BPD'!C59=\"\",\"\",'Growth - BPD'!C59)","v":""},{"$f":"IF('Growth - BPD'!D59=\"\",\"\",'Growth - BPD'!D59)","v":""},{"$f":"IF('Growth - BPD'!E59=\"\",\"\",'Growth - BPD'!E59)","v":""}]
[56,{"$f":"IF('Growth - BPD'!B60=\"\",\"\",'Growth - BPD'!B60 * 7)","v":""},{"$f":"IF('Growth - BPD'!C60=\"\",\"\",'Growth - BPD'!C60)","v":""},{"$f":"IF('Growth - BPD'!D60=\"\",\"\",'Growth - BPD'!D60)","v":""},{"$f":"IF('Growth - BPD'!E60=\"\",\"\",'Growth - BPD'!E60)","v":""}]
[57,{"$f":"IF('Growth - BPD'!B61=\"\",\"\",'Growth - BPD'!B61 * 7)","v":""},{"$f":"IF('Growth - BPD'!C61=\"\",\"\",'Growth - BPD'!C61)","v":""},{"$f":"IF('Growth - BPD'!D61=\"\",\"\",'Growth - BPD'!D61)","v":""},{"$f":"IF('Growth - BPD'!E61=\"\",\"\",'Growth - BPD'!E61)","v":""}]
[58,{"$f":"IF('Growth - BPD'!B62=\"\",\"\",'Growth - BPD'!B62 * 7)","v":""},{"$f":"IF('Growth - BPD'!C62=\"\",\"\",'Growth - BPD'!C62)","v":""},{"$f":"IF('Growth - BPD'!D62=\"\",\"\",'Growth - BPD'!D62)","v":""},{"$f":"IF('Growth - BPD'!E62=\"\",\"\",'Growth - BPD'!E62)","v":""}]
[59,{"$f":"IF('Growth - BPD'!B63=\"\",\"\",'Growth - BPD'!B63 * 7)","v":""},{"$f":"IF('Growth - BPD'!C63=\"\",\"\",'Growth - BPD'!C63)","v":""},{"$f":"IF('Growth - BPD'!D63=\"\",\"\",'Growth - BPD'!D63)","v":""},{"$f":"IF('Growth - BPD'!E63=\"\",\"\",'Growth - BPD'!E63)","v":""}]
[60,{"$f":"IF('Growth - BPD'!B64=\"\",\"\",'Growth - BPD'!B64 * 7)","v":""},{"$f":"IF('Growth - BPD'!C64=\"\",\"\",'Growth - BPD'!C64)","v":""},{"$f":"IF('Growth - BPD'!D64=\"\",\"\",'Growth - BPD'!D64)","v":""},{"$f":"IF('Growth - BPD'!E64=\"\",\"\",'Growth - BPD'!E64)","v":""}]
[61,{"$f":"IF('Growth - BPD'!B65=\"\",\"\",'Growth - BPD'!B65 * 7)","v":""},{"$f":"IF('Growth - BPD'!C65=\"\",\"\",'Growth - BPD'!C65)","v":""},{"$f":"IF('Growth - BPD'!D65=\"\",\"\",'Growth - BPD'!D65)","v":""},{"$f":"IF('Growth - BPD'!E65=\"\",\"\",'Growth - BPD'!E65)","v":""}]
[62,{"$f":"IF('Growth - BPD'!B66=\"\",\"\",'Growth - BPD'!B66 * 7)","v":""},{"$f":"IF('Growth - BPD'!C66=\"\",\"\",'Growth - BPD'!C66)","v":""},{"$f":"IF('Growth - BPD'!D66=\"\",\"\",'Growth - BPD'!D66)","v":""},{"$f":"IF('Growth - BPD'!E66=\"\",\"\",'Growth - BPD'!E66)","v":""}]
[63,{"$f":"IF('Growth - BPD'!B67=\"\",\"\",'Growth - BPD'!B67 * 7)","v":""},{"$f":"IF('Growth - BPD'!C67=\"\",\"\",'Growth - BPD'!C67)","v":""},{"$f":"IF('Growth - BPD'!D67=\"\",\"\",'Growth - BPD'!D67)","v":""},{"$f":"IF('Growth - BPD'!E67=\"\",\"\",'Growth - BPD'!E67)","v":""}]
[64,{"$f":"IF('Growth - BPD'!B68=\"\",\"\",'Growth - BPD'!B68 * 7)","v":""},{"$f":"IF('Growth - BPD'!C68=\"\",\"\",'Growth - BPD'!C68)","v":""},{"$f":"IF('Growth - BPD'!D68=\"\",\"\",'Growth - BPD'!D68)","v":""},{"$f":"IF('Growth - BPD'!E68=\"\",\"\",'Growth - BPD'!E68)","v":""}]
[65,{"$f":"IF('Growth - BPD'!B69=\"\",\"\",'Growth - BPD'!B69 * 7)","v":""},{"$f":"IF('Growth - BPD'!C69=\"\",\"\",'Growth - BPD'!C69)","v":""},{"$f":"IF('Growth - BPD'!D69=\"\",\"\",'Growth - BPD'!D69)","v":""},{"$f":"IF('Growth - BPD'!E69=\"\",\"\",'Growth - BPD'!E69)","v":""}]
[66,{"$f":"IF('Growth - BPD'!B70=\"\",\"\",'Growth - BPD'!B70 * 7)","v":""},{"$f":"IF('Growth - BPD'!C70=\"\",\"\",'Growth - BPD'!C70)","v":""},{"$f":"IF('Growth - BPD'!D70=\"\",\"\",'Growth - BPD'!D70)","v":""},{"$f":"IF('Growth - BPD'!E70=\"\",\"\",'Growth - BPD'!E70)","v":""}]
[67,{"$f":"IF('Growth - BPD'!B71=\"\",\"\",'Growth - BPD'!B71 * 7)","v":""},{"$f":"IF('Growth - BPD'!C71=\"\",\"\",'Growth - BPD'!C71)","v":""},{"$f":"IF('Growth - BPD'!D71=\"\",\"\",'Growth - BPD'!D71)","v":""},{"$f":"IF('Growth - BPD'!E71=\"\",\"\",'Growth - BPD'!E71)","v":""}]
[68,{"$f":"IF('Growth - BPD'!B72=\"\",\"\",'Growth - BPD'!B72 * 7)","v":""},{"$f":"IF('Growth - BPD'!C72=\"\",\"\",'Growth - BPD'!C72)","v":""},{"$f":"IF('Growth - BPD'!D72=\"\",\"\",'Growth - BPD'!D72)","v":""},{"$f":"IF('Growth - BPD'!E72=\"\",\"\",'Growth - BPD'!E72)","v":""}]
[69,{"$f":"IF('Growth - BPD'!B73=\"\",\"\",'Growth - BPD'!B73 * 7)","v":""},{"$f":"IF('Growth - BPD'!C73=\"\",\"\",'Growth - BPD'!C73)","v":""},{"$f":"IF('Growth - BPD'!D73=\"\",\"\",'Growth - BPD'!D73)","v":""},{"$f":"IF('Growth - BPD'!E73=\"\",\"\",'Growth - BPD'!E73)","v":""}]
[70,{"$f":"IF('Growth - BPD'!B74=\"\",\"\",'Growth - BPD'!B74 * 7)","v":""},{"$f":"IF('Growth - BPD'!C74=\"\",\"\",'Growth - BPD'!C74)","v":""},{"$f":"IF('Growth - BPD'!D74=\"\",\"\",'Growth - BPD'!D74)","v":""},{"$f":"IF('Growth - BPD'!E74=\"\",\"\",'Growth - BPD'!E74)","v":""}]
[71,{"$f":"IF('Growth - BPD'!B75=\"\",\"\",'Growth - BPD'!B75 * 7)","v":""},{"$f":"IF('Growth - BPD'!C75=\"\",\"\",'Growth - BPD'!C75)","v":""},{"$f":"IF('Growth - BPD'!D75=\"\",\"\",'Growth - BPD'!D75)","v":""},{"$f":"IF('Growth - BPD'!E75=\"\",\"\",'Growth - BPD'!E75)","v":""}]
[72,{"$f":"IF('Growth - BPD'!B76=\"\",\"\",'Growth - BPD'!B76 * 7)","v":""},{"$f":"IF('Growth - BPD'!C76=\"\",\"\",'Growth - BPD'!C76)","v":""},{"$f":"IF('Growth - BPD'!D76=\"\",\"\",'Growth - BPD'!D76)","v":""},{"$f":"IF('Growth - BPD'!E76=\"\",\"\",'Growth - BPD'!E76)","v":""}]
[73,{"$f":"IF('Growth - BPD'!B77=\"\",\"\",'Growth - BPD'!B77 * 7)","v":""},{"$f":"IF('Growth - BPD'!C77=\"\",\"\",'Growth - BPD'!C77)","v":""},{"$f":"IF('Growth - BPD'!D77=\"\",\"\",'Growth - BPD'!D77)","v":""},{"$f":"IF('Growth - BPD'!E77=\"\",\"\",'Growth - BPD'!E77)","v":""}]
[74,{"$f":"IF('Growth - BPD'!B78=\"\",\"\",'Growth - BPD'!B78 * 7)","v":""},{"$f":"IF('Growth - BPD'!C78=\"\",\"\",'Growth - BPD'!C78)","v":""},{"$f":"IF('Growth - BPD'!D78=\"\",\"\",'Growth - BPD'!D78)","v":""},{"$f":"IF('Growth - BPD'!E78=\"\",\"\",'Growth - BPD'!E78)","v":""}]
[75,{"$f":"IF('Growth - BPD'!B79=\"\",\"\",'Growth - BPD'!B79 * 7)","v":""},{"$f":"IF('Growth - BPD'!C79=\"\",\"\",'Growth - BPD'!C79)","v":""},{"$f":"IF('Growth - BPD'!D79=\"\",\"\",'Growth - BPD'!D79)","v":""},{"$f":"IF('Growth - BPD'!E79=\"\",\"\",'Growth - BPD'!E79)","v":""}]
[76,{"$f":"IF('Growth - BPD'!B80=\"\",\"\",'Growth - BPD'!B80 * 7)","v":""},{"$f":"IF('Growth - BPD'!C80=\"\",\"\",'Growth - BPD'!C80)","v":""},{"$f":"IF('Growth - BPD'!D80=\"\",\"\",'Growth - BPD'!D80)","v":""},{"$f":"IF('Growth - BPD'!E80=\"\",\"\",'Growth - BPD'!E80)","v":""}]
[77,{"$f":"IF('Growth - BPD'!B81=\"\",\"\",'Growth - BPD'!B81 * 7)","v":""},{"$f":"IF('Growth - BPD'!C81=\"\",\"\",'Growth - BPD'!C81)","v":""},{"$f":"IF('Growth - BPD'!D81=\"\",\"\",'Growth - BPD'!D81)","v":""},{"$f":"IF('Growth - BPD'!E81=\"\",\"\",'Growth - BPD'!E81)","v":""}]
[78,{"$f":"IF('Growth - BPD'!B82=\"\",\"\",'Growth - BPD'!B82 * 7)","v":""},{"$f":"IF('Growth - BPD'!C82=\"\",\"\",'Growth - BPD'!C82)","v":""},{"$f":"IF('Growth - BPD'!D82=\"\",\"\",'Growth - BPD'!D82)","v":""},{"$f":"IF('Growth - BPD'!E82=\"\",\"\",'Growth - BPD'!E82)","v":""}]
[79,{"$f":"IF('Growth - BPD'!B83=\"\",\"\",'Growth - BPD'!B83 * 7)","v":""},{"$f":"IF('Growth - BPD'!C83=\"\",\"\",'Growth - BPD'!C83)","v":""},{"$f":"IF('Growth - BPD'!D83=\"\",\"\",'Growth - BPD'!D83)","v":""},{"$f":"IF('Growth - BPD'!E83=\"\",\"\",'Growth - BPD'!E83)","v":""}]
[80,{"$f":"IF('Growth - BPD'!B84=\"\",\"\",'Growth - BPD'!B84 * 7)","v":""},{"$f":"IF('Growth - BPD'!C84=\"\",\"\",'Growth - BPD'!C84)","v":""},{"$f":"IF('Growth - BPD'!D84=\"\",\"\",'Growth - BPD'!D84)","v":""},{"$f":"IF('Growth - BPD'!E84=\"\",\"\",'Growth - BPD'!E84)","v":""}]
[81,{"$f":"IF('Growth - BPD'!B85=\"\",\"\",'Growth - BPD'!B85 * 7)","v":""},{"$f":"IF('Growth - BPD'!C85=\"\",\"\",'Growth - BPD'!C85)","v":""},{"$f":"IF('Growth - BPD'!D85=\"\",\"\",'Growth - BPD'!D85)","v":""},{"$f":"IF('Growth - BPD'!E85=\"\",\"\",'Growth - BPD'!E85)","v":""}]
[82,{"$f":"IF('Growth - BPD'!B86=\"\",\"\",'Growth - BPD'!B86 * 7)","v":""},{"$f":"IF('Growth - BPD'!C86=\"\",\"\",'Growth - BPD'!C86)","v":""},{"$f":"IF('Growth - BPD'!D86=\"\",\"\",'Growth - BPD'!D86)","v":""},{"$f":"IF('Growth - BPD'!E86=\"\",\"\",'Growth - BPD'!E86)","v":""}]
[83,{"$f":"IF('Growth - BPD'!B87=\"\",\"\",'Growth - BPD'!B87 * 7)","v":""},{"$f":"IF('Growth - BPD'!C87=\"\",\"\",'Growth - BPD'!C87)","v":""},{"$f":"IF('Growth - BPD'!D87=\"\",\"\",'Growth - BPD'!D87)","v":""},{"$f":"IF('Growth - BPD'!E87=\"\",\"\",'Growth - BPD'!E87)","v":""}]
[84,{"$f":"IF('Growth - BPD'!B88=\"\",\"\",'Growth - BPD'!B88 * 7)","v":""},{"$f":"IF('Growth - BPD'!C88=\"\",\"\",'Growth - BPD'!C88)","v":""},{"$f":"IF('Growth - BPD'!D88=\"\",\"\",'Growth - BPD'!D88)","v":""},{"$f":"IF('Growth - BPD'!E88=\"\",\"\",'Growth - BPD'!E88)","v":""}]
[85,{"$f":"IF('Growth - BPD'!B89=\"\",\"\",'Growth - BPD'!B89 * 7)","v":""},{"$f":"IF('Growth - BPD'!C89=\"\",\"\",'Growth - BPD'!C89)","v":""},{"$f":"IF('Growth - BPD'!D89=\"\",\"\",'Growth - BPD'!D89)","v":""},{"$f":"IF('Growth - BPD'!E89=\"\",\"\",'Growth - BPD'!E89)","v":""}]
[86,{"$f":"IF('Growth - BPD'!B90=\"\",\"\",'Growth - BPD'!B90 * 7)","v":""},{"$f":"IF('Growth - BPD'!C90=\"\",\"\",'Growth - BPD'!C90)","v":""},{"$f":"IF('Growth - BPD'!D90=\"\",\"\",'Growth - BPD'!D90)","v":""},{"$f":"IF('Growth - BPD'!E90=\"\",\"\",'Growth - BPD'!E90)","v":""}]
[87,{"$f":"IF('Growth - BPD'!B91=\"\",\"\",'Growth - BPD'!B91 * 7)","v":""},{"$f":"IF('Growth - BPD'!C91=\"\",\"\",'Growth - BPD'!C91)","v":""},{"$f":"IF('Growth - BPD'!D91=\"\",\"\",'Growth - BPD'!D91)","v":""},{"$f":"IF('Growth - BPD'!E91=\"\",\"\",'Growth - BPD'!E91)","v":""}]
[88,{"$f":"IF('Growth - BPD'!B92=\"\",\"\",'Growth - BPD'!B92 * 7)","v":""},{"$f":"IF('Growth - BPD'!C92=\"\",\"\",'Growth - BPD'!C92)","v":""},{"$f":"IF('Growth - BPD'!D92=\"\",\"\",'Growth - BPD'!D92)","v":""},{"$f":"IF('Growth - BPD'!E92=\"\",\"\",'Growth - BPD'!E92)","v":""}]
[89,{"$f":"IF('Growth - BPD'!B93=\"\",\"\",'Growth - BPD'!B93 * 7)","v":""},{"$f":"IF('Growth - BPD'!C93=\"\",\"\",'Growth - BPD'!C93)","v":""},{"$f":"IF('Growth - BPD'!D93=\"\",\"\",'Growth - BPD'!D93)","v":""},{"$f":"IF('Growth - BPD'!E93=\"\",\"\",'Growth - BPD'!E93)","v":""}]
[90,{"$f":"IF('Growth - BPD'!B94=\"\",\"\",'Growth - BPD'!B94 * 7)","v":""},{"$f":"IF('Growth - BPD'!C94=\"\",\"\",'Growth - BPD'!C94)","v":""},{"$f":"IF('Growth - BPD'!D94=\"\",\"\",'Growth - BPD'!D94)","v":""},{"$f":"IF('Growth - BPD'!E94=\"\",\"\",'Growth - BPD'!E94)","v":""}]
[91,{"$f":"IF('Growth - BPD'!B95=\"\",\"\",'Growth - BPD'!B95 * 7)","v":""},{"$f":"IF('Growth - BPD'!C95=\"\",\"\",'Growth - BPD'!C95)","v":""},{"$f":"IF('Growth - BPD'!D95=\"\",\"\",'Growth - BPD'!D95)","v":""},{"$f":"IF('Growth - BPD'!E95=\"\",\"\",'Growth - BPD'!E95)","v":""}]
[92,{"$f":"IF('Growth - BPD'!B96=\"\",\"\",'Growth - BPD'!B96 * 7)","v":""},{"$f":"IF('Growth - BPD'!C96=\"\",\"\",'Growth - BPD'!C96)","v":""},{"$f":"IF('Growth - BPD'!D96=\"\",\"\",'Growth - BPD'!D96)","v":""},{"$f":"IF('Growth - BPD'!E96=\"\",\"\",'Growth - BPD'!E96)","v":""}]
[93,{"$f":"IF('Growth - BPD'!B97=\"\",\"\",'Growth - BPD'!B97 * 7)","v":""},{"$f":"IF('Growth - BPD'!C97=\"\",\"\",'Growth - BPD'!C97)","v":""},{"$f":"IF('Growth - BPD'!D97=\"\",\"\",'Growth - BPD'!D97)","v":""},{"$f":"IF('Growth - BPD'!E97=\"\",\"\",'Growth - BPD'!E97)","v":""}]
[94,{"$f":"IF('Growth - BPD'!B98=\"\",\"\",'Growth - BPD'!B98 * 7)","v":""},{"$f":"IF('Growth - BPD'!C98=\"\",\"\",'Growth - BPD'!C98)","v":""},{"$f":"IF('Growth - BPD'!D98=\"\",\"\",'Growth - BPD'!D98)","v":""},{"$f":"IF('Growth - BPD'!E98=\"\",\"\",'Growth - BPD'!E98)","v":""}]
[95,{"$f":"IF('Growth - BPD'!B99=\"\",\"\",'Growth - BPD'!B99 * 7)","v":""},{"$f":"IF('Growth - BPD'!C99=\"\",\"\",'Growth - BPD'!C99)","v":""},{"$f":"IF('Growth - BPD'!D99=\"\",\"\",'Growth - BPD'!D99)","v":""},{"$f":"IF('Growth - BPD'!E99=\"\",\"\",'Growth - BPD'!E99)","v":""}]
[96,{"$f":"IF('Growth - BPD'!B100=\"\",\"\",'Growth - BPD'!B100 * 7)","v":""},{"$f":"IF('Growth - BPD'!C100=\"\",\"\",'Growth - BPD'!C100)","v":""},{"$f":"IF('Growth - BPD'!D100=\"\",\"\",'Growth - BPD'!D100)","v":""},{"$f":"IF('Growth - BPD'!E100=\"\",\"\",'Growth - BPD'!E100)","v":""}]
[97,{"$f":"IF('Growth - BPD'!B101=\"\",\"\",'Growth - BPD'!B101 * 7)","v":""},{"$f":"IF('Growth - BPD'!C101=\"\",\"\",'Growth - BPD'!C101)","v":""},{"$f":"IF('Growth - BPD'!D101=\"\",\"\",'Growth - BPD'!D101)","v":""},{"$f":"IF('Growth - BPD'!E101=\"\",\"\",'Growth - BPD'!E101)","v":""}]
[98,{"$f":"IF('Growth - BPD'!B102=\"\",\"\",'Growth - BPD'!B102 * 7)","v":""},{"$f":"IF('Growth - BPD'!C102=\"\",\"\",'Growth - BPD'!C102)","v":""},{"$f":"IF('Growth - BPD'!D102=\"\",\"\",'Growth - BPD'!D102)","v":""},{"$f":"IF('Growth - BPD'!E102=\"\",\"\",'Growth - BPD'!E102)","v":""}]
[99,{"$f":"IF('Growth - BPD'!B103=\"\",\"\",'Growth - BPD'!B103 * 7)","v":""},{"$f":"IF('Growth - BPD'!C103=\"\",\"\",'Growth - BPD'!C103)","v":""},{"$f":"IF('Growth - BPD'!D103=\"\",\"\",'Growth - BPD'!D103)","v":""},{"$f":"IF('Growth - BPD'!E103=\"\",\"\",'Growth - BPD'!E103)","v":""}]
[100,{"$f":"IF('Growth - BPD'!B104=\"\",\"\",'Growth - BPD'!B104 * 7)","v":""},{"$f":"IF('Growth - BPD'!C104=\"\",\"\",'Growth - BPD'!C104)","v":""},{"$f":"IF('Growth - BPD'!D104=\"\",\"\",'Growth - BPD'!D104)","v":""},{"$f":"IF('Growth - BPD'!E104=\"\",\"\",'Growth - BPD'!E104)","v":""}]
[101,{"$f":"IF('Growth - BPD'!B105=\"\",\"\",'Growth - BPD'!B105 * 7)","v":""},{"$f":"IF('Growth - BPD'!C105=\"\",\"\",'Growth - BPD'!C105)","v":""},{"$f":"IF('Growth - BPD'!D105=\"\",\"\",'Growth - BPD'!D105)","v":""},{"$f":"IF('Growth - BPD'!E105=\"\",\"\",'Growth - BPD'!E105)","v":""}]
[102,{"$f":"IF('Growth - BPD'!B106=\"\",\"\",'Growth - BPD'!B106 * 7)","v":""},{"$f":"IF('Growth - BPD'!C106=\"\",\"\",'Growth - BPD'!C106)","v":""},{"$f":"IF('Growth - BPD'!D106=\"\",\"\",'Growth - BPD'!D106)","v":""},{"$f":"IF('Growth - BPD'!E106=\"\",\"\",'Growth - BPD'!E106)","v":""}]
[103,{"$f":"IF('Growth - BPD'!B107=\"\",\"\",'Growth - BPD'!B107 * 7)","v":""},{"$f":"IF('Growth - BPD'!C107=\"\",\"\",'Growth - BPD'!C107)","v":""},{"$f":"IF('Growth - BPD'!D107=\"\",\"\",'Growth - BPD'!D107)","v":""},{"$f":"IF('Growth - BPD'!E107=\"\",\"\",'Growth - BPD'!E107)","v":""}]
[104,{"$f":"IF('Growth - BPD'!B108=\"\",\"\",'Growth - BPD'!B108 * 7)","v":""},{"$f":"IF('Growth - BPD'!C108=\"\",\"\",'Growth - BPD'!C108)","v":""},{"$f":"IF('Growth - BPD'!D108=\"\",\"\",'Growth - BPD'!D108)","v":""},{"$f":"IF('Growth - BPD'!E108=\"\",\"\",'Growth - BPD'!E108)","v":""}]
[105,{"$f":"IF('Growth - BPD'!B109=\"\",\"\",'Growth - BPD'!B109 * 7)","v":""},{"$f":"IF('Growth - BPD'!C109=\"\",\"\",'Growth - BPD'!C109)","v":""},{"$f":"IF('Growth - BPD'!D109=\"\",\"\",'Growth - BPD'!D109)","v":""},{"$f":"IF('Growth - BPD'!E109=\"\",\"\",'Growth - BPD'!E109)","v":""}]
[106,{"$f":"IF('Growth - BPD'!B110=\"\",\"\",'Growth - BPD'!B110 * 7)","v":""},{"$f":"IF('Growth - BPD'!C110=\"\",\"\",'Growth - BPD'!C110)","v":""},{"$f":"IF('Growth - BPD'!D110=\"\",\"\",'Growth - BPD'!D110)","v":""},{"$f":"IF('Growth - BPD'!E110=\"\",\"\",'Growth - BPD'!E110)","v":""}]
[107,{"$f":"IF('Growth - BPD'!B111=\"\",\"\",'Growth - BPD'!B111 * 7)","v":""},{"$f":"IF('Growth - BPD'!C111=\"\",\"\",'Growth - BPD'!C111)","v":""},{"$f":"IF('Growth - BPD'!D111=\"\",\"\",'Growth - BPD'!D111)","v":""},{"$f":"IF('Growth - BPD'!E111=\"\",\"\",'Growth - BPD'!E111)","v":""}]
[108,{"$f":"IF('Growth - BPD'!B112=\"\",\"\",'Growth - BPD'!B112 * 7)","v":""},{"$f":"IF('Growth - BPD'!C112=\"\",\"\",'Growth - BPD'!C112)","v":""},{"$f":"IF('Growth - BPD'!D112=\"\",\"\",'Growth - BPD'!D112)","v":""},{"$f":"IF('Growth - BPD'!E112=\"\",\"\",'Growth - BPD'!E112)","v":""}]
[109,{"$f":"IF('Growth - BPD'!B113=\"\",\"\",'Growth - BPD'!B113 * 7)","v":""},{"$f":"IF('Growth - BPD'!C113=\"\",\"\",'Growth - BPD'!C113)","v":""},{"$f":"IF('Growth - BPD'!D113=\"\",\"\",'Growth - BPD'!D113)","v":""},{"$f":"IF('Growth - BPD'!E113=\"\",\"\",'Growth - BPD'!E113)","v":""}]
[110,{"$f":"IF('Growth - BPD'!B114=\"\",\"\",'Growth - BPD'!B114 * 7)","v":""},{"$f":"IF('Growth - BPD'!C114=\"\",\"\",'Growth - BPD'!C114)","v":""},{"$f":"IF('Growth - BPD'!D114=\"\",\"\",'Growth - BPD'!D114)","v":""},{"$f":"IF('Growth - BPD'!E114=\"\",\"\",'Growth - BPD'!E114)","v":""}]
[111,{"$f":"IF('Growth - BPD'!B115=\"\",\"\",'Growth - BPD'!B115 * 7)","v":""},{"$f":"IF('Growth - BPD'!C115=\"\",\"\",'Growth - BPD'!C115)","v":""},{"$f":"IF('Growth - BPD'!D115=\"\",\"\",'Growth - BPD'!D115)","v":""},{"$f":"IF('Growth - BPD'!E115=\"\",\"\",'Growth - BPD'!E115)","v":""}]
[112,{"$f":"IF('Growth - BPD'!B116=\"\",\"\",'Growth - BPD'!B116 * 7)","v":""},{"$f":"IF('Growth - BPD'!C116=\"\",\"\",'Growth - BPD'!C116)","v":""},{"$f":"IF('Growth - BPD'!D116=\"\",\"\",'Growth - BPD'!D116)","v":""},{"$f":"IF('Growth - BPD'!E116=\"\",\"\",'Growth - BPD'!E116)","v":""}]
[113,{"$f":"IF('Growth - BPD'!B117=\"\",\"\",'Growth - BPD'!B117 * 7)","v":""},{"$f":"IF('Growth - BPD'!C117=\"\",\"\",'Growth - BPD'!C117)","v":""},{"$f":"IF('Growth - BPD'!D117=\"\",\"\",'Growth - BPD'!D117)","v":""},{"$f":"IF('Growth - BPD'!E117=\"\",\"\",'Growth - BPD'!E117)","v":""}]
[114,{"$f":"IF('Growth - BPD'!B118=\"\",\"\",'Growth - BPD'!B118 * 7)","v":""},{"$f":"IF('Growth - BPD'!C118=\"\",\"\",'Growth - BPD'!C118)","v":""},{"$f":"IF('Growth - BPD'!D118=\"\",\"\",'Growth - BPD'!D118)","v":""},{"$f":"IF('Growth - BPD'!E118=\"\",\"\",'Growth - BPD'!E118)","v":""}]
[115,{"$f":"IF('Growth - BPD'!B119=\"\",\"\",'Growth - BPD'!B119 * 7)","v":""},{"$f":"IF('Growth - BPD'!C119=\"\",\"\",'Growth - BPD'!C119)","v":""},{"$f":"IF('Growth - BPD'!D119=\"\",\"\",'Growth - BPD'!D119)","v":""},{"$f":"IF('Growth - BPD'!E119=\"\",\"\",'Growth - BPD'!E119)","v":""}]
[116,{"$f":"IF('Growth - BPD'!B120=\"\",\"\",'Growth - BPD'!B120 * 7)","v":""},{"$f":"IF('Growth - BPD'!C120=\"\",\"\",'Growth - BPD'!C120)","v":""},{"$f":"IF('Growth - BPD'!D120=\"\",\"\",'Growth - BPD'!D120)","v":""},{"$f":"IF('Growth - BPD'!E120=\"\",\"\",'Growth - BPD'!E120)","v":""}]
[117,{"$f":"IF('Growth - BPD'!B121=\"\",\"\",'Growth - BPD'!B121 * 7)","v":""},{"$f":"IF('Growth - BPD'!C121=\"\",\"\",'Growth - BPD'!C121)","v":""},{"$f":"IF('Growth - BPD'!D121=\"\",\"\",'Growth - BPD'!D121)","v":""},{"$f":"IF('Growth - BPD'!E121=\"\",\"\",'Growth - BPD'!E121)","v":""}]
[118,{"$f":"IF('Growth - BPD'!B122=\"\",\"\",'Growth - BPD'!B122 * 7)","v":""},{"$f":"IF('Growth - BPD'!C122=\"\",\"\",'Growth - BPD'!C122)","v":""},{"$f":"IF('Growth - BPD'!D122=\"\",\"\",'Growth - BPD'!D122)","v":""},{"$f":"IF('Growth - BPD'!E122=\"\",\"\",'Growth - BPD'!E122)","v":""}]
[119,{"$f":"IF('Growth - BPD'!B123=\"\",\"\",'Growth - BPD'!B123 * 7)","v":""},{"$f":"IF('Growth - BPD'!C123=\"\",\"\",'Growth - BPD'!C123)","v":""},{"$f":"IF('Growth - BPD'!D123=\"\",\"\",'Growth - BPD'!D123)","v":""},{"$f":"IF('Growth - BPD'!E123=\"\",\"\",'Growth - BPD'!E123)","v":""}]
[120,{"$f":"IF('Growth - BPD'!B124=\"\",\"\",'Growth - BPD'!B124 * 7)","v":""},{"$f":"IF('Growth - BPD'!C124=\"\",\"\",'Growth - BPD'!C124)","v":""},{"$f":"IF('Growth - BPD'!D124=\"\",\"\",'Growth - BPD'!D124)","v":""},{"$f":"IF('Growth - BPD'!E124=\"\",\"\",'Growth - BPD'!E124)","v":""}]
[121,{"$f":"IF('Growth - BPD'!B125=\"\",\"\",'Growth - BPD'!B125 * 7)","v":""},{"$f":"IF('Growth - BPD'!C125=\"\",\"\",'Growth - BPD'!C125)","v":""},{"$f":"IF('Growth - BPD'!D125=\"\",\"\",'Growth - BPD'!D125)","v":""},{"$f":"IF('Growth - BPD'!E125=\"\",\"\",'Growth - BPD'!E125)","v":""}]
[122,{"$f":"IF('Growth - BPD'!B126=\"\",\"\",'Growth - BPD'!B126 * 7)","v":""},{"$f":"IF('Growth - BPD'!C126=\"\",\"\",'Growth - BPD'!C126)","v":""},{"$f":"IF('Growth - BPD'!D126=\"\",\"\",'Growth - BPD'!D126)","v":""},{"$f":"IF('Growth - BPD'!E126=\"\",\"\",'Growth - BPD'!E126)","v":""}]
[123,{"$f":"IF('Growth - BPD'!B127=\"\",\"\",'Growth - BPD'!B127 * 7)","v":""},{"$f":"IF('Growth - BPD'!C127=\"\",\"\",'Growth - BPD'!C127)","v":""},{"$f":"IF('Growth - BPD'!D127=\"\",\"\",'Growth - BPD'!D127)","v":""},{"$f":"IF('Growth - BPD'!E127=\"\",\"\",'Growth - BPD'!E127)","v":""}]
[124,{"$f":"IF('Growth - BPD'!B128=\"\",\"\",'Growth - BPD'!B128 * 7)","v":""},{"$f":"IF('Growth - BPD'!C128=\"\",\"\",'Growth - BPD'!C128)","v":""},{"$f":"IF('Growth - BPD'!D128=\"\",\"\",'Growth - BPD'!D128)","v":""},{"$f":"IF('Growth - BPD'!E128=\"\",\"\",'Growth - BPD'!E128)","v":""}]
[125,{"$f":"IF('Growth - BPD'!B129=\"\",\"\",'Growth - BPD'!B129 * 7)","v":""},{"$f":"IF('Growth - BPD'!C129=\"\",\"\",'Growth - BPD'!C129)","v":""},{"$f":"IF('Growth - BPD'!D129=\"\",\"\",'Growth - BPD'!D129)","v":""},{"$f":"IF('Growth - BPD'!E129=\"\",\"\",'Growth - BPD'!E129)","v":""}]
[126,{"$f":"IF('Growth - BPD'!B130=\"\",\"\",'Growth - BPD'!B130 * 7)","v":""},{"$f":"IF('Growth - BPD'!C130=\"\",\"\",'Growth - BPD'!C130)","v":""},{"$f":"IF('Growth - BPD'!D130=\"\",\"\",'Growth - BPD'!D130)","v":""},{"$f":"IF('Growth - BPD'!E130=\"\",\"\",'Growth - BPD'!E130)","v":""}]
[127,{"$f":"IF('Growth - BPD'!B131=\"\",\"\",'Growth - BPD'!B131 * 7)","v":""},{"$f":"IF('Growth - BPD'!C131=\"\",\"\",'Growth - BPD'!C131)","v":""},{"$f":"IF('Growth - BPD'!D131=\"\",\"\",'Growth - BPD'!D131)","v":""},{"$f":"IF('Growth - BPD'!E131=\"\",\"\",'Growth - BPD'!E131)","v":""}]
[128,{"$f":"IF('Growth - BPD'!B132=\"\",\"\",'Growth - BPD'!B132 * 7)","v":""},{"$f":"IF('Growth - BPD'!C132=\"\",\"\",'Growth - BPD'!C132)","v":""},{"$f":"IF('Growth - BPD'!D132=\"\",\"\",'Growth - BPD'!D132)","v":""},{"$f":"IF('Growth - BPD'!E132=\"\",\"\",'Growth - BPD'!E132)","v":""}]
[129,{"$f":"IF('Growth - BPD'!B133=\"\",\"\",'Growth - BPD'!B133 * 7)","v":""},{"$f":"IF('Growth - BPD'!C133=\"\",\"\",'Growth - BPD'!C133)","v":""},{"$f":"IF('Growth - BPD'!D133=\"\",\"\",'Growth - BPD'!D133)","v":""},{"$f":"IF('Growth - BPD'!E133=\"\",\"\",'Growth - BPD'!E133)","v":""}]
[130,{"$f":"IF('Growth - BPD'!B134=\"\",\"\",'Growth - BPD'!B134 * 7)","v":""},{"$f":"IF('Growth - BPD'!C134=\"\",\"\",'Growth - BPD'!C134)","v":""},{"$f":"IF('Growth - BPD'!D134=\"\",\"\",'Growth - BPD'!D134)","v":""},{"$f":"IF('Growth - BPD'!E134=\"\",\"\",'Growth - BPD'!E134)","v":""}]
[131,{"$f":"IF('Growth - BPD'!B135=\"\",\"\",'Growth - BPD'!B135 * 7)","v":""},{"$f":"IF('Growth - BPD'!C135=\"\",\"\",'Growth - BPD'!C135)","v":""},{"$f":"IF('Growth - BPD'!D135=\"\",\"\",'Growth - BPD'!D135)","v":""},{"$f":"IF('Growth - BPD'!E135=\"\",\"\",'Growth - BPD'!E135)","v":""}]
[132,{"$f":"IF('Growth - BPD'!B136=\"\",\"\",'Growth - BPD'!B136 * 7)","v":""},{"$f":"IF('Growth - BPD'!C136=\"\",\"\",'Growth - BPD'!C136)","v":""},{"$f":"IF('Growth - BPD'!D136=\"\",\"\",'Growth - BPD'!D136)","v":""},{"$f":"IF('Growth - BPD'!E136=\"\",\"\",'Growth - BPD'!E136)","v":""}]
[133,{"$f":"IF('Growth - BPD'!B137=\"\",\"\",'Growth - BPD'!B137 * 7)","v":""},{"$f":"IF('Growth - BPD'!C137=\"\",\"\",'Growth - BPD'!C137)","v":""},{"$f":"IF('Growth - BPD'!D137=\"\",\"\",'Growth - BPD'!D137)","v":""},{"$f":"IF('Growth - BPD'!E137=\"\",\"\",'Growth - BPD'!E137)","v":""}]
[134,{"$f":"IF('Growth - BPD'!B138=\"\",\"\",'Growth - BPD'!B138 * 7)","v":""},{"$f":"IF('Growth - BPD'!C138=\"\",\"\",'Growth - BPD'!C138)","v":""},{"$f":"IF('Growth - BPD'!D138=\"\",\"\",'Growth - BPD'!D138)","v":""},{"$f":"IF('Growth - BPD'!E138=\"\",\"\",'Growth - BPD'!E138)","v":""}]
[135,{"$f":"IF('Growth - BPD'!B139=\"\",\"\",'Growth - BPD'!B139 * 7)","v":""},{"$f":"IF('Growth - BPD'!C139=\"\",\"\",'Growth - BPD'!C139)","v":""},{"$f":"IF('Growth - BPD'!D139=\"\",\"\",'Growth - BPD'!D139)","v":""},{"$f":"IF('Growth - BPD'!E139=\"\",\"\",'Growth - BPD'!E139)","v":""}]
[136,{"$f":"IF('Growth - BPD'!B140=\"\",\"\",'Growth - BPD'!B140 * 7)","v":""},{"$f":"IF('Growth - BPD'!C140=\"\",\"\",'Growth - BPD'!C140)","v":""},{"$f":"IF('Growth - BPD'!D140=\"\",\"\",'Growth - BPD'!D140)","v":""},{"$f":"IF('Growth - BPD'!E140=\"\",\"\",'Growth - BPD'!E140)","v":""}]
[137,{"$f":"IF('Growth - BPD'!B141=\"\",\"\",'Growth - BPD'!B141 * 7)","v":""},{"$f":"IF('Growth - BPD'!C141=\"\",\"\",'Growth - BPD'!C141)","v":""},{"$f":"IF('Growth - BPD'!D141=\"\",\"\",'Growth - BPD'!D141)","v":""},{"$f":"IF('Growth - BPD'!E141=\"\",\"\",'Growth - BPD'!E141)","v":""}]
[138,{"$f":"IF('Growth - BPD'!B142=\"\",\"\",'Growth - BPD'!B142 * 7)","v":""},{"$f":"IF('Growth - BPD'!C142=\"\",\"\",'Growth - BPD'!C142)","v":""},{"$f":"IF('Growth - BPD'!D142=\"\",\"\",'Growth - BPD'!D142)","v":""},{"$f":"IF('Growth - BPD'!E142=\"\",\"\",'Growth - BPD'!E142)","v":""}]
[139,{"$f":"IF('Growth - BPD'!B143=\"\",\"\",'Growth - BPD'!B143 * 7)","v":""},{"$f":"IF('Growth - BPD'!C143=\"\",\"\",'Growth - BPD'!C143)","v":""},{"$f":"IF('Growth - BPD'!D143=\"\",\"\",'Growth - BPD'!D143)","v":""},{"$f":"IF('Growth - BPD'!E143=\"\",\"\",'Growth - BPD'!E143)","v":""}]
[140,{"$f":"IF('Growth - BPD'!B144=\"\",\"\",'Growth - BPD'!B144 * 7)","v":""},{"$f":"IF('Growth - BPD'!C144=\"\",\"\",'Growth - BPD'!C144)","v":""},{"$f":"IF('Growth - BPD'!D144=\"\",\"\",'Growth - BPD'!D144)","v":""},{"$f":"IF('Growth - BPD'!E144=\"\",\"\",'Growth - BPD'!E144)","v":""}]
[141,{"$f":"IF('Growth - BPD'!B145=\"\",\"\",'Growth - BPD'!B145 * 7)","v":""},{"$f":"IF('Growth - BPD'!C145=\"\",\"\",'Growth - BPD'!C145)","v":""},{"$f":"IF('Growth - BPD'!D145=\"\",\"\",'Growth - BPD'!D145)","v":""},{"$f":"IF('Growth - BPD'!E145=\"\",\"\",'Growth - BPD'!E145)","v":""}]
[142,{"$f":"IF('Growth - BPD'!B146=\"\",\"\",'Growth - BPD'!B146 * 7)","v":""},{"$f":"IF('Growth - BPD'!C146=\"\",\"\",'Growth - BPD'!C146)","v":""},{"$f":"IF('Growth - BPD'!D146=\"\",\"\",'Growth - BPD'!D146)","v":""},{"$f":"IF('Growth - BPD'!E146=\"\",\"\",'Growth - BPD'!E146)","v":""}]
[143,{"$f":"IF('Growth - BPD'!B147=\"\",\"\",'Growth - BPD'!B147 * 7)","v":""},{"$f":"IF('Growth - BPD'!C147=\"\",\"\",'Growth - BPD'!C147)","v":""},{"$f":"IF('Growth - BPD'!D147=\"\",\"\",'Growth - BPD'!D147)","v":""},{"$f":"IF('Growth - BPD'!E147=\"\",\"\",'Growth - BPD'!E147)","v":""}]
[144,{"$f":"IF('Growth - BPD'!B148=\"\",\"\",'Growth - BPD'!B148 * 7)","v":""},{"$f":"IF('Growth - BPD'!C148=\"\",\"\",'Growth - BPD'!C148)","v":""},{"$f":"IF('Growth - BPD'!D148=\"\",\"\",'Growth - BPD'!D148)","v":""},{"$f":"IF('Growth - BPD'!E148=\"\",\"\",'Growth - BPD'!E148)","v":""}]
[145,{"$f":"IF('Growth - BPD'!B149=\"\",\"\",'Growth - BPD'!B149 * 7)","v":""},{"$f":"IF('Growth - BPD'!C149=\"\",\"\",'Growth - BPD'!C149)","v":""},{"$f":"IF('Growth - BPD'!D149=\"\",\"\",'Growth - BPD'!D149)","v":""},{"$f":"IF('Growth - BPD'!E149=\"\",\"\",'Growth - BPD'!E149)","v":""}]
[146,{"$f":"IF('Growth - BPD'!B150=\"\",\"\",'Growth - BPD'!B150 * 7)","v":""},{"$f":"IF('Growth - BPD'!C150=\"\",\"\",'Growth - BPD'!C150)","v":""},{"$f":"IF('Growth - BPD'!D150=\"\",\"\",'Growth - BPD'!D150)","v":""},{"$f":"IF('Growth - BPD'!E150=\"\",\"\",'Growth - BPD'!E150)","v":""}]
[147,{"$f":"IF('Growth - BPD'!B151=\"\",\"\",'Growth - BPD'!B151 * 7)","v":""},{"$f":"IF('Growth - BPD'!C151=\"\",\"\",'Growth - BPD'!C151)","v":""},{"$f":"IF('Growth - BPD'!D151=\"\",\"\",'Growth - BPD'!D151)","v":""},{"$f":"IF('Growth - BPD'!E151=\"\",\"\",'Growth - BPD'!E151)","v":""}]
[148,{"$f":"IF('Growth - BPD'!B152=\"\",\"\",'Growth - BPD'!B152 * 7)","v":""},{"$f":"IF('Growth - BPD'!C152=\"\",\"\",'Growth - BPD'!C152)","v":""},{"$f":"IF('Growth - BPD'!D152=\"\",\"\",'Growth - BPD'!D152)","v":""},{"$f":"IF('Growth - BPD'!E152=\"\",\"\",'Growth - BPD'!E152)","v":""}]
[149,{"$f":"IF('Growth - BPD'!B153=\"\",\"\",'Growth - BPD'!B153 * 7)","v":""},{"$f":"IF('Growth - BPD'!C153=\"\",\"\",'Growth - BPD'!C153)","v":""},{"$f":"IF('Growth - BPD'!D153=\"\",\"\",'Growth - BPD'!D153)","v":""},{"$f":"IF('Growth - BPD'!E153=\"\",\"\",'Growth - BPD'!E153)","v":""}]
[150,{"$f":"IF('Growth - BPD'!B154=\"\",\"\",'Growth - BPD'!B154 * 7)","v":""},{"$f":"IF('Growth - BPD'!C154=\"\",\"\",'Growth - BPD'!C154)","v":""},{"$f":"IF('Growth - BPD'!D154=\"\",\"\",'Growth - BPD'!D154)","v":""},{"$f":"IF('Growth - BPD'!E154=\"\",\"\",'Growth - BPD'!E154)","v":""}]
[151,{"$f":"IF('Growth - BPD'!B155=\"\",\"\",'Growth - BPD'!B155 * 7)","v":""},{"$f":"IF('Growth - BPD'!C155=\"\",\"\",'Growth - BPD'!C155)","v":""},{"$f":"IF('Growth - BPD'!D155=\"\",\"\",'Growth - BPD'!D155)","v":""},{"$f":"IF('Growth - BPD'!E155=\"\",\"\",'Growth - BPD'!E155)","v":""}]
[152,{"$f":"IF('Growth - BPD'!B156=\"\",\"\",'Growth - BPD'!B156 * 7)","v":""},{"$f":"IF('Growth - BPD'!C156=\"\",\"\",'Growth - BPD'!C156)","v":""},{"$f":"IF('Growth - BPD'!D156=\"\",\"\",'Growth - BPD'!D156)","v":""},{"$f":"IF('Growth - BPD'!E156=\"\",\"\",'Growth - BPD'!E156)","v":""}]
[153,{"$f":"IF('Growth - BPD'!B157=\"\",\"\",'Growth - BPD'!B157 * 7)","v":""},{"$f":"IF('Growth - BPD'!C157=\"\",\"\",'Growth - BPD'!C157)","v":""},{"$f":"IF('Growth - BPD'!D157=\"\",\"\",'Growth - BPD'!D157)","v":""},{"$f":"IF('Growth - BPD'!E157=\"\",\"\",'Growth - BPD'!E157)","v":""}]
[154,{"$f":"IF('Growth - BPD'!B158=\"\",\"\",'Growth - BPD'!B158 * 7)","v":""},{"$f":"IF('Growth - BPD'!C158=\"\",\"\",'Growth - BPD'!C158)","v":""},{"$f":"IF('Growth - BPD'!D158=\"\",\"\",'Growth - BPD'!D158)","v":""},{"$f":"IF('Growth - BPD'!E158=\"\",\"\",'Growth - BPD'!E158)","v":""}]
[155,{"$f":"IF('Growth - BPD'!B159=\"\",\"\",'Growth - BPD'!B159 * 7)","v":""},{"$f":"IF('Growth - BPD'!C159=\"\",\"\",'Growth - BPD'!C159)","v":""},{"$f":"IF('Growth - BPD'!D159=\"\",\"\",'Growth - BPD'!D159)","v":""},{"$f":"IF('Growth - BPD'!E159=\"\",\"\",'Growth - BPD'!E159)","v":""}]
[156,{"$f":"IF('Growth - BPD'!B160=\"\",\"\",'Growth - BPD'!B160 * 7)","v":""},{"$f":"IF('Growth - BPD'!C160=\"\",\"\",'Growth - BPD'!C160)","v":""},{"$f":"IF('Growth - BPD'!D160=\"\",\"\",'Growth - BPD'!D160)","v":""},{"$f":"IF('Growth - BPD'!E160=\"\",\"\",'Growth - BPD'!E160)","v":""}]
[157,{"$f":"IF('Growth - BPD'!B161=\"\",\"\",'Growth - BPD'!B161 * 7)","v":""},{"$f":"IF('Growth - BPD'!C161=\"\",\"\",'Growth - BPD'!C161)","v":""},{"$f":"IF('Growth - BPD'!D161=\"\",\"\",'Growth - BPD'!D161)","v":""},{"$f":"IF('Growth - BPD'!E161=\"\",\"\",'Growth - BPD'!E161)","v":""}]
[158,{"$f":"IF('Growth - BPD'!B162=\"\",\"\",'Growth - BPD'!B162 * 7)","v":""},{"$f":"IF('Growth - BPD'!C162=\"\",\"\",'Growth - BPD'!C162)","v":""},{"$f":"IF('Growth - BPD'!D162=\"\",\"\",'Growth - BPD'!D162)","v":""},{"$f":"IF('Growth - BPD'!E162=\"\",\"\",'Growth - BPD'!E162)","v":""}]
[159,{"$f":"IF('Growth - BPD'!B163=\"\",\"\",'Growth - BPD'!B163 * 7)","v":""},{"$f":"IF('Growth - BPD'!C163=\"\",\"\",'Growth - BPD'!C163)","v":""},{"$f":"IF('Growth - BPD'!D163=\"\",\"\",'Growth - BPD'!D163)","v":""},{"$f":"IF('Growth - BPD'!E163=\"\",\"\",'Growth - BPD'!E163)","v":""}]
[160,{"$f":"IF('Growth - BPD'!B164=\"\",\"\",'Growth - BPD'!B164 * 7)","v":""},{"$f":"IF('Growth - BPD'!C164=\"\",\"\",'Growth - BPD'!C164)","v":""},{"$f":"IF('Growth - BPD'!D164=\"\",\"\",'Growth - BPD'!D164)","v":""},{"$f":"IF('Growth - BPD'!E164=\"\",\"\",'Growth - BPD'!E164)","v":""}]
[161,{"$f":"IF('Growth - BPD'!B165=\"\",\"\",'Growth - BPD'!B165 * 7)","v":""},{"$f":"IF('Growth - BPD'!C165=\"\",\"\",'Growth - BPD'!C165)","v":""},{"$f":"IF('Growth - BPD'!D165=\"\",\"\",'Growth - BPD'!D165)","v":""},{"$f":"IF('Growth - BPD'!E165=\"\",\"\",'Growth - BPD'!E165)","v":""}]
[162,{"$f":"IF('Growth - BPD'!B166=\"\",\"\",'Growth - BPD'!B166 * 7)","v":""},{"$f":"IF('Growth - BPD'!C166=\"\",\"\",'Growth - BPD'!C166)","v":""},{"$f":"IF('Growth - BPD'!D166=\"\",\"\",'Growth - BPD'!D166)","v":""},{"$f":"IF('Growth - BPD'!E166=\"\",\"\",'Growth - BPD'!E166)","v":""}]
[163,{"$f":"IF('Growth - BPD'!B167=\"\",\"\",'Growth - BPD'!B167 * 7)","v":""},{"$f":"IF('Growth - BPD'!C167=\"\",\"\",'Growth - BPD'!C167)","v":""},{"$f":"IF('Growth - BPD'!D167=\"\",\"\",'Growth - BPD'!D167)","v":""},{"$f":"IF('Growth - BPD'!E167=\"\",\"\",'Growth - BPD'!E167)","v":""}]
[164,{"$f":"IF('Growth - BPD'!B168=\"\",\"\",'Growth - BPD'!B168 * 7)","v":""},{"$f":"IF('Growth - BPD'!C168=\"\",\"\",'Growth - BPD'!C168)","v":""},{"$f":"IF('Growth - BPD'!D168=\"\",\"\",'Growth - BPD'!D168)","v":""},{"$f":"IF('Growth - BPD'!E168=\"\",\"\",'Growth - BPD'!E168)","v":""}]
[165,{"$f":"IF('Growth - BPD'!B169=\"\",\"\",'Growth - BPD'!B169 * 7)","v":""},{"$f":"IF('Growth - BPD'!C169=\"\",\"\",'Growth - BPD'!C169)","v":""},{"$f":"IF('Growth - BPD'!D169=\"\",\"\",'Growth - BPD'!D169)","v":""},{"$f":"IF('Growth - BPD'!E169=\"\",\"\",'Growth - BPD'!E169)","v":""}]
[166,{"$f":"IF('Growth - BPD'!B170=\"\",\"\",'Growth - BPD'!B170 * 7)","v":""},{"$f":"IF('Growth - BPD'!C170=\"\",\"\",'Growth - BPD'!C170)","v":""},{"$f":"IF('Growth - BPD'!D170=\"\",\"\",'Growth - BPD'!D170)","v":""},{"$f":"IF('Growth - BPD'!E170=\"\",\"\",'Growth - BPD'!E170)","v":""}]
[167,{"$f":"IF('Growth - BPD'!B171=\"\",\"\",'Growth - BPD'!B171 * 7)","v":""},{"$f":"IF('Growth - BPD'!C171=\"\",\"\",'Growth - BPD'!C171)","v":""},{"$f":"IF('Growth - BPD'!D171=\"\",\"\",'Growth - BPD'!D171)","v":""},{"$f":"IF('Growth - BPD'!E171=\"\",\"\",'Growth - BPD'!E171)","v":""}]
[168,{"$f":"IF('Growth - BPD'!B172=\"\",\"\",'Growth - BPD'!B172 * 7)","v":""},{"$f":"IF('Growth - BPD'!C172=\"\",\"\",'Growth - BPD'!C172)","v":""},{"$f":"IF('Growth - BPD'!D172=\"\",\"\",'Growth - BPD'!D172)","v":""},{"$f":"IF('Growth - BPD'!E172=\"\",\"\",'Growth - BPD'!E172)","v":""}]
[169,{"$f":"IF('Growth - BPD'!B173=\"\",\"\",'Growth - BPD'!B173 * 7)","v":""},{"$f":"IF('Growth - BPD'!C173=\"\",\"\",'Growth - BPD'!C173)","v":""},{"$f":"IF('Growth - BPD'!D173=\"\",\"\",'Growth - BPD'!D173)","v":""},{"$f":"IF('Growth - BPD'!E173=\"\",\"\",'Growth - BPD'!E173)","v":""}]
[170,{"$f":"IF('Growth - BPD'!B174=\"\",\"\",'Growth - BPD'!B174 * 7)","v":""},{"$f":"IF('Growth - BPD'!C174=\"\",\"\",'Growth - BPD'!C174)","v":""},{"$f":"IF('Growth - BPD'!D174=\"\",\"\",'Growth - BPD'!D174)","v":""},{"$f":"IF('Growth - BPD'!E174=\"\",\"\",'Growth - BPD'!E174)","v":""}]
[171,{"$f":"IF('Growth - BPD'!B175=\"\",\"\",'Growth - BPD'!B175 * 7)","v":""},{"$f":"IF('Growth - BPD'!C175=\"\",\"\",'Growth - BPD'!C175)","v":""},{"$f":"IF('Growth - BPD'!D175=\"\",\"\",'Growth - BPD'!D175)","v":""},{"$f":"IF('Growth - BPD'!E175=\"\",\"\",'Growth - BPD'!E175)","v":""}]
[172,{"$f":"IF('Growth - BPD'!B176=\"\",\"\",'Growth - BPD'!B176 * 7)","v":""},{"$f":"IF('Growth - BPD'!C176=\"\",\"\",'Growth - BPD'!C176)","v":""},{"$f":"IF('Growth - BPD'!D176=\"\",\"\",'Growth - BPD'!D176)","v":""},{"$f":"IF('Growth - BPD'!E176=\"\",\"\",'Growth - BPD'!E176)","v":""}]
[173,{"$f":"IF('Growth - BPD'!B177=\"\",\"\",'Growth - BPD'!B177 * 7)","v":""},{"$f":"IF('Growth - BPD'!C177=\"\",\"\",'Growth - BPD'!C177)","v":""},{"$f":"IF('Growth - BPD'!D177=\"\",\"\",'Growth - BPD'!D177)","v":""},{"$f":"IF('Growth - BPD'!E177=\"\",\"\",'Growth - BPD'!E177)","v":""}]
[174,{"$f":"IF('Growth - BPD'!B178=\"\",\"\",'Growth - BPD'!B178 * 7)","v":""},{"$f":"IF('Growth - BPD'!C178=\"\",\"\",'Growth - BPD'!C178)","v":""},{"$f":"IF('Growth - BPD'!D178=\"\",\"\",'Growth - BPD'!D178)","v":""},{"$f":"IF('Growth - BPD'!E178=\"\",\"\",'Growth - BPD'!E178)","v":""}]
[175,{"$f":"IF('Growth - BPD'!B179=\"\",\"\",'Growth - BPD'!B179 * 7)","v":""},{"$f":"IF('Growth - BPD'!C179=\"\",\"\",'Growth - BPD'!C179)","v":""},{"$f":"IF('Growth - BPD'!D179=\"\",\"\",'Growth - BPD'!D179)","v":""},{"$f":"IF('Growth - BPD'!E179=\"\",\"\",'Growth - BPD'!E179)","v":""}]
[176,{"$f":"IF('Growth - BPD'!B180=\"\",\"\",'Growth - BPD'!B180 * 7)","v":""},{"$f":"IF('Growth - BPD'!C180=\"\",\"\",'Growth - BPD'!C180)","v":""},{"$f":"IF('Growth - BPD'!D180=\"\",\"\",'Growth - BPD'!D180)","v":""},{"$f":"IF('Growth - BPD'!E180=\"\",\"\",'Growth - BPD'!E180)","v":""}]
[177,{"$f":"IF('Growth - BPD'!B181=\"\",\"\",'Growth - BPD'!B181 * 7)","v":""},{"$f":"IF('Growth - BPD'!C181=\"\",\"\",'Growth - BPD'!C181)","v":""},{"$f":"IF('Growth - BPD'!D181=\"\",\"\",'Growth - BPD'!D181)","v":""},{"$f":"IF('Growth - BPD'!E181=\"\",\"\",'Growth - BPD'!E181)","v":""}]
[178,{"$f":"IF('Growth - BPD'!B182=\"\",\"\",'Growth - BPD'!B182 * 7)","v":""},{"$f":"IF('Growth - BPD'!C182=\"\",\"\",'Growth - BPD'!C182)","v":""},{"$f":"IF('Growth - BPD'!D182=\"\",\"\",'Growth - BPD'!D182)","v":""},{"$f":"IF('Growth - BPD'!E182=\"\",\"\",'Growth - BPD'!E182)","v":""}]
[179,{"$f":"IF('Growth - BPD'!B183=\"\",\"\",'Growth - BPD'!B183 * 7)","v":""},{"$f":"IF('Growth - BPD'!C183=\"\",\"\",'Growth - BPD'!C183)","v":""},{"$f":"IF('Growth - BPD'!D183=\"\",\"\",'Growth - BPD'!D183)","v":""},{"$f":"IF('Growth - BPD'!E183=\"\",\"\",'Growth - BPD'!E183)","v":""}]
[180,{"$f":"IF('Growth - BPD'!B184=\"\",\"\",'Growth - BPD'!B184 * 7)","v":""},{"$f":"IF('Growth - BPD'!C184=\"\",\"\",'Growth - BPD'!C184)","v":""},{"$f":"IF('Growth - BPD'!D184=\"\",\"\",'Growth - BPD'!D184)","v":""},{"$f":"IF('Growth - BPD'!E184=\"\",\"\",'Growth - BPD'!E184)","v":""}]
[181,{"$f":"IF('Growth - BPD'!B185=\"\",\"\",'Growth - BPD'!B185 * 7)","v":""},{"$f":"IF('Growth - BPD'!C185=\"\",\"\",'Growth - BPD'!C185)","v":""},{"$f":"IF('Growth - BPD'!D185=\"\",\"\",'Growth - BPD'!D185)","v":""},{"$f":"IF('Growth - BPD'!E185=\"\",\"\",'Growth - BPD'!E185)","v":""}]
[182,{"$f":"IF('Growth - BPD'!B186=\"\",\"\",'Growth - BPD'!B186 * 7)","v":""},{"$f":"IF('Growth - BPD'!C186=\"\",\"\",'Growth - BPD'!C186)","v":""},{"$f":"IF('Growth - BPD'!D186=\"\",\"\",'Growth - BPD'!D186)","v":""},{"$f":"IF('Growth - BPD'!E186=\"\",\"\",'Growth - BPD'!E186)","v":""}]
[183,{"$f":"IF('Growth - BPD'!B187=\"\",\"\",'Growth - BPD'!B187 * 7)","v":""},{"$f":"IF('Growth - BPD'!C187=\"\",\"\",'Growth - BPD'!C187)","v":""},{"$f":"IF('Growth - BPD'!D187=\"\",\"\",'Growth - BPD'!D187)","v":""},{"$f":"IF('Growth - BPD'!E187=\"\",\"\",'Growth - BPD'!E187)","v":""}]
[184,{"$f":"IF('Growth - BPD'!B188=\"\",\"\",'Growth - BPD'!B188 * 7)","v":""},{"$f":"IF('Growth - BPD'!C188=\"\",\"\",'Growth - BPD'!C188)","v":""},{"$f":"IF('Growth - BPD'!D188=\"\",\"\",'Growth - BPD'!D188)","v":""},{"$f":"IF('Growth - BPD'!E188=\"\",\"\",'Growth - BPD'!E188)","v":""}]
[185,{"$f":"IF('Growth - BPD'!B189=\"\",\"\",'Growth - BPD'!B189 * 7)","v":""},{"$f":"IF('Growth - BPD'!C189=\"\",\"\",'Growth - BPD'!C189)","v":""},{"$f":"IF('Growth - BPD'!D189=\"\",\"\",'Growth - BPD'!D189)","v":""},{"$f":"IF('Growth - BPD'!E189=\"\",\"\",'Growth - BPD'!E189)","v":""}]
[186,{"$f":"IF('Growth - BPD'!B190=\"\",\"\",'Growth - BPD'!B190 * 7)","v":""},{"$f":"IF('Growth - BPD'!C190=\"\",\"\",'Growth - BPD'!C190)","v":""},{"$f":"IF('Growth - BPD'!D190=\"\",\"\",'Growth - BPD'!D190)","v":""},{"$f":"IF('Growth - BPD'!E190=\"\",\"\",'Growth - BPD'!E190)","v":""}]
[187,{"$f":"IF('Growth - BPD'!B191=\"\",\"\",'Growth - BPD'!B191 * 7)","v":""},{"$f":"IF('Growth - BPD'!C191=\"\",\"\",'Growth - BPD'!C191)","v":""},{"$f":"IF('Growth - BPD'!D191=\"\",\"\",'Growth - BPD'!D191)","v":""},{"$f":"IF('Growth - BPD'!E191=\"\",\"\",'Growth - BPD'!E191)","v":""}]
[188,{"$f":"IF('Growth - BPD'!B192=\"\",\"\",'Growth - BPD'!B192 * 7)","v":""},{"$f":"IF('Growth - BPD'!C192=\"\",\"\",'Growth - BPD'!C192)","v":""},{"$f":"IF('Growth - BPD'!D192=\"\",\"\",'Growth - BPD'!D192)","v":""},{"$f":"IF('Growth - BPD'!E192=\"\",\"\",'Growth - BPD'!E192)","v":""}]
[189,{"$f":"IF('Growth - BPD'!B193=\"\",\"\",'Growth - BPD'!B193 * 7)","v":""},{"$f":"IF('Growth - BPD'!C193=\"\",\"\",'Growth - BPD'!C193)","v":""},{"$f":"IF('Growth - BPD'!D193=\"\",\"\",'Growth - BPD'!D193)","v":""},{"$f":"IF('Growth - BPD'!E193=\"\",\"\",'Growth - BPD'!E193)","v":""}]
[190,{"$f":"IF('Growth - BPD'!B194=\"\",\"\",'Growth - BPD'!B194 * 7)","v":""},{"$f":"IF('Growth - BPD'!C194=\"\",\"\",'Growth - BPD'!C194)","v":""},{"$f":"IF('Growth - BPD'!D194=\"\",\"\",'Growth - BPD'!D194)","v":""},{"$f":"IF('Growth - BPD'!E194=\"\",\"\",'Growth - BPD'!E194)","v":""}]
[191,{"$f":"IF('Growth - BPD'!B195=\"\",\"\",'Growth - BPD'!B195 * 7)","v":""},{"$f":"IF('Growth - BPD'!C195=\"\",\"\",'Growth - BPD'!C195)","v":""},{"$f":"IF('Growth - BPD'!D195=\"\",\"\",'Growth - BPD'!D195)","v":""},{"$f":"IF('Growth - BPD'!E195=\"\",\"\",'Growth - BPD'!E195)","v":""}]
[192,{"$f":"IF('Growth - BPD'!B196=\"\",\"\",'Growth - BPD'!B196 * 7)","v":""},{"$f":"IF('Growth - BPD'!C196=\"\",\"\",'Growth - BPD'!C196)","v":""},{"$f":"IF('Growth - BPD'!D196=\"\",\"\",'Growth - BPD'!D196)","v":""},{"$f":"IF('Growth - BPD'!E196=\"\",\"\",'Growth - BPD'!E196)","v":""}]
[193,{"$f":"IF('Growth - BPD'!B197=\"\",\"\",'Growth - BPD'!B197 * 7)","v":""},{"$f":"IF('Growth - BPD'!C197=\"\",\"\",'Growth - BPD'!C197)","v":""},{"$f":"IF('Growth - BPD'!D197=\"\",\"\",'Growth - BPD'!D197)","v":""},{"$f":"IF('Growth - BPD'!E197=\"\",\"\",'Growth - BPD'!E197)","v":""}]
[194,{"$f":"IF('Growth - BPD'!B198=\"\",\"\",'Growth - BPD'!B198 * 7)","v":""},{"$f":"IF('Growth - BPD'!C198=\"\",\"\",'Growth - BPD'!C198)","v":""},{"$f":"IF('Growth - BPD'!D198=\"\",\"\",'Growth - BPD'!D198)","v":""},{"$f":"IF('Growth - BPD'!E198=\"\",\"\",'Growth - BPD'!E198)","v":""}]
[195,{"$f":"IF('Growth - BPD'!B199=\"\",\"\",'Growth - BPD'!B199 * 7)","v":""},{"$f":"IF('Growth - BPD'!C199=\"\",\"\",'Growth - BPD'!C199)","v":""},{"$f":"IF('Growth - BPD'!D199=\"\",\"\",'Growth - BPD'!D199)","v":""},{"$f":"IF('Growth - BPD'!E199=\"\",\"\",'Growth - BPD'!E199)","v":""}]
[196,{"$f":"IF('Growth - BPD'!B200=\"\",\"\",'Growth - BPD'!B200 * 7)","v":""},{"$f":"IF('Growth - BPD'!C200=\"\",\"\",'Growth - BPD'!C200)","v":""},{"$f":"IF('Growth - BPD'!D200=\"\",\"\",'Growth - BPD'!D200)","v":""},{"$f":"IF('Growth - BPD'!E200=\"\",\"\",'Growth - BPD'!E200)","v":""}]
[197,{"$f":"IF('Growth - BPD'!B201=\"\",\"\",'Growth - BPD'!B201 * 7)","v":""},{"$f":"IF('Growth - BPD'!C201=\"\",\"\",'Growth - BPD'!C201)","v":""},{"$f":"IF('Growth - BPD'!D201=\"\",\"\",'Growth - BPD'!D201)","v":""},{"$f":"IF('Growth - BPD'!E201=\"\",\"\",'Growth - BPD'!E201)","v":""}]
[198,{"$f":"IF('Growth - BPD'!B202=\"\",\"\",'Growth - BPD'!B202 * 7)","v":""},{"$f":"IF('Growth - BPD'!C202=\"\",\"\",'Growth - BPD'!C202)","v":""},{"$f":"IF('Growth - BPD'!D202=\"\",\"\",'Growth - BPD'!D202)","v":""},{"$f":"IF('Growth - BPD'!E202=\"\",\"\",'Growth - BPD'!E202)","v":""}]
[199,{"$f":"IF('Growth - BPD'!B203=\"\",\"\",'Growth - BPD'!B203 * 7)","v":""},{"$f":"IF('Growth - BPD'!C203=\"\",\"\",'Growth - BPD'!C203)","v":""},{"$f":"IF('Growth - BPD'!D203=\"\",\"\",'Growth - BPD'!D203)","v":""},{"$f":"IF('Growth - BPD'!E203=\"\",\"\",'Growth - BPD'!E203)","v":""}]
[200,{"$f":"IF('Growth - BPD'!B204=\"\",\"\",'Growth - BPD'!B204 * 7)","v":""},{"$f":"IF('Growth - BPD'!C204=\"\",\"\",'Growth - BPD'!C204)","v":""},{"$f":"IF('Growth - BPD'!D204=\"\",\"\",'Growth - BPD'!D204)","v":""},{"$f":"IF('Growth - BPD'!E204=\"\",\"\",'Growth - BPD'!E204)","v":""}]
[201,{"$f":"IF('Growth - BPD'!B205=\"\",\"\",'Growth - BPD'!B205 * 7)","v":""},{"$f":"IF('Growth - BPD'!C205=\"\",\"\",'Growth - BPD'!C205)","v":""},{"$f":"IF('Growth - BPD'!D205=\"\",\"\",'Growth - BPD'!D205)","v":""},{"$f":"IF('Growth - BPD'!E205=\"\",\"\",'Growth - BPD'!E205)","v":""}]
[202,{"$f":"IF('Growth - BPD'!B206=\"\",\"\",'Growth - BPD'!B206 * 7)","v":""},{"$f":"IF('Growth - BPD'!C206=\"\",\"\",'Growth - BPD'!C206)","v":""},{"$f":"IF('Growth - BPD'!D206=\"\",\"\",'Growth - BPD'!D206)","v":""},{"$f":"IF('Growth - BPD'!E206=\"\",\"\",'Growth - BPD'!E206)","v":""}]
[203,{"$f":"IF('Growth - BPD'!B207=\"\",\"\",'Growth - BPD'!B207 * 7)","v":""},{"$f":"IF('Growth - BPD'!C207=\"\",\"\",'Growth - BPD'!C207)","v":""},{"$f":"IF('Growth - BPD'!D207=\"\",\"\",'Growth - BPD'!D207)","v":""},{"$f":"IF('Growth - BPD'!E207=\"\",\"\",'Growth - BPD'!E207)","v":""}]
[204,{"$f":"IF('Growth - BPD'!B208=\"\",\"\",'Growth - BPD'!B208 * 7)","v":""},{"$f":"IF('Growth - BPD'!C208=\"\",\"\",'Growth - BPD'!C208)","v":""},{"$f":"IF('Growth - BPD'!D208=\"\",\"\",'Growth - BPD'!D208)","v":""},{"$f":"IF('Growth - BPD'!E208=\"\",\"\",'Growth - BPD'!E208)","v":""}]
[205,{"$f":"IF('Growth - BPD'!B209=\"\",\"\",'Growth - BPD'!B209 * 7)","v":""},{"$f":"IF('Growth - BPD'!C209=\"\",\"\",'Growth - BPD'!C209)","v":""},{"$f":"IF('Growth - BPD'!D209=\"\",\"\",'Growth - BPD'!D209)","v":""},{"$f":"IF('Growth - BPD'!E209=\"\",\"\",'Growth - BPD'!E209)","v":""}]
[206,{"$f":"IF('Growth - BPD'!B210=\"\",\"\",'Growth - BPD'!B210 * 7)","v":""},{"$f":"IF('Growth - BPD'!C210=\"\",\"\",'Growth - BPD'!C210)","v":""},{"$f":"IF('Growth - BPD'!D210=\"\",\"\",'Growth - BPD'!D210)","v":""},{"$f":"IF('Growth - BPD'!E210=\"\",\"\",'Growth - BPD'!E210)","v":""}]
[207,{"$f":"IF('Growth - BPD'!B211=\"\",\"\",'Growth - BPD'!B211 * 7)","v":""},{"$f":"IF('Growth - BPD'!C211=\"\",\"\",'Growth - BPD'!C211)","v":""},{"$f":"IF('Growth - BPD'!D211=\"\",\"\",'Growth - BPD'!D211)","v":""},{"$f":"IF('Growth - BPD'!E211=\"\",\"\",'Growth - BPD'!E211)","v":""}]
[208,{"$f":"IF('Growth - BPD'!B212=\"\",\"\",'Growth - BPD'!B212 * 7)","v":""},{"$f":"IF('Growth - BPD'!C212=\"\",\"\",'Growth - BPD'!C212)","v":""},{"$f":"IF('Growth - BPD'!D212=\"\",\"\",'Growth - BPD'!D212)","v":""},{"$f":"IF('Growth - BPD'!E212=\"\",\"\",'Growth - BPD'!E212)","v":""}]
[209,{"$f":"IF('Growth - BPD'!B213=\"\",\"\",'Growth - BPD'!B213 * 7)","v":""},{"$f":"IF('Growth - BPD'!C213=\"\",\"\",'Growth - BPD'!C213)","v":""},{"$f":"IF('Growth - BPD'!D213=\"\",\"\",'Growth - BPD'!D213)","v":""},{"$f":"IF('Growth - BPD'!E213=\"\",\"\",'Growth - BPD'!E213)","v":""}]
[210,{"$f":"IF('Growth - BPD'!B214=\"\",\"\",'Growth - BPD'!B214 * 7)","v":""},{"$f":"IF('Growth - BPD'!C214=\"\",\"\",'Growth - BPD'!C214)","v":""},{"$f":"IF('Growth - BPD'!D214=\"\",\"\",'Growth - BPD'!D214)","v":""},{"$f":"IF('Growth - BPD'!E214=\"\",\"\",'Growth - BPD'!E214)","v":""}]
[]
["User Growth Table: Head Circumference",null,null,null,{"$f":"IF('Growth - HC'!E1=\"\",\"\",'Growth - HC'!E1)","v":"Growth HC"}]
[null,null,null,null,{"$f":"ValidationData!DataVersion","v":"70.80.100.100"}]
["Index","Weeks * 7","Author",null,{"$f":"IF('Growth - HC'!H3=\"\",\"\",'Growth - HC'!H3)","v":""}]
[null,null,"Min","Mid","Max"]
[1,{"$f":"IF('Growth - HC'!B5=\"\",\"\",'Growth - HC'!B5 * 7)","v":""},{"$f":"IF('Growth - HC'!C5=\"\",\"\",'Growth - HC'!C5)","v":""},{"$f":"IF('Growth - HC'!D5=\"\",\"\",'Growth - HC'!D5)","v":""},{"$f":"IF('Growth - HC'!E5=\"\",\"\",'Growth - HC'!E5)","v":""}]
[2,{"$f":"IF('Growth - HC'!B6=\"\",\"\",'Growth - HC'!B6 * 7)","v":""},{"$f":"IF('Growth - HC'!C6=\"\",\"\",'Growth - HC'!C6)","v":""},{"$f":"IF('Growth - HC'!D6=\"\",\"\",'Growth - HC'!D6)","v":""},{"$f":"IF('Growth - HC'!E6=\"\",\"\",'Growth - HC'!E6)","v":""}]
[3,{"$f":"IF('Growth - HC'!B7=\"\",\"\",'Growth - HC'!B7 * 7)","v":""},{"$f":"IF('Growth - HC'!C7=\"\",\"\",'Growth - HC'!C7)","v":""},{"$f":"IF('Growth - HC'!D7=\"\",\"\",'Growth - HC'!D7)","v":""},{"$f":"IF('Growth - HC'!E7=\"\",\"\",'Growth - HC'!E7)","v":""}]
[4,{"$f":"IF('Growth - HC'!B8=\"\",\"\",'Growth - HC'!B8 * 7)","v":""},{"$f":"IF('Growth - HC'!C8=\"\",\"\",'Growth - HC'!C8)","v":""},{"$f":"IF('Growth - HC'!D8=\"\",\"\",'Growth - HC'!D8)","v":""},{"$f":"IF('Growth - HC'!E8=\"\",\"\",'Growth - HC'!E8)","v":""}]
[5,{"$f":"IF('Growth - HC'!B9=\"\",\"\",'Growth - HC'!B9 * 7)","v":""},{"$f":"IF('Growth - HC'!C9=\"\",\"\",'Growth - HC'!C9)","v":""},{"$f":"IF('Growth - HC'!D9=\"\",\"\",'Growth - HC'!D9)","v":""},{"$f":"IF('Growth - HC'!E9=\"\",\"\",'Growth - HC'!E9)","v":""}]
[6,{"$f":"IF('Growth - HC'!B10=\"\",\"\",'Growth - HC'!B10 * 7)","v":""},{"$f":"IF('Growth - HC'!C10=\"\",\"\",'Growth - HC'!C10)","v":""},{"$f":"IF('Growth - HC'!D10=\"\",\"\",'Growth - HC'!D10)","v":""},{"$f":"IF('Growth - HC'!E10=\"\",\"\",'Growth - HC'!E10)","v":""}]
[7,{"$f":"IF('Growth - HC'!B11=\"\",\"\",'Growth - HC'!B11 * 7)","v":""},{"$f":"IF('Growth - HC'!C11=\"\",\"\",'Growth - HC'!C11)","v":""},{"$f":"IF('Growth - HC'!D11=\"\",\"\",'Growth - HC'!D11)","v":""},{"$f":"IF('Growth - HC'!E11=\"\",\"\",'Growth - HC'!E11)","v":""}]
[8,{"$f":"IF('Growth - HC'!B12=\"\",\"\",'Growth - HC'!B12 * 7)","v":""},{"$f":"IF('Growth - HC'!C12=\"\",\"\",'Growth - HC'!C12)","v":""},{"$f":"IF('Growth - HC'!D12=\"\",\"\",'Growth - HC'!D12)","v":""},{"$f":"IF('Growth - HC'!E12=\"\",\"\",'Growth - HC'!E12)","v":""}]
[9,{"$f":"IF('Growth - HC'!B13=\"\",\"\",'Growth - HC'!B13 * 7)","v":""},{"$f":"IF('Growth - HC'!C13=\"\",\"\",'Growth - HC'!C13)","v":""},{"$f":"IF('Growth - HC'!D13=\"\",\"\",'Growth - HC'!D13)","v":""},{"$f":"IF('Growth - HC'!E13=\"\",\"\",'Growth - HC'!E13)","v":""}]
[10,{"$f":"IF('Growth - HC'!B14=\"\",\"\",'Growth - HC'!B14 * 7)","v":""},{"$f":"IF('Growth - HC'!C14=\"\",\"\",'Growth - HC'!C14)","v":""},{"$f":"IF('Growth - HC'!D14=\"\",\"\",'Growth - HC'!D14)","v":""},{"$f":"IF('Growth - HC'!E14=\"\",\"\",'Growth - HC'!E14)","v":""}]
[11,{"$f":"IF('Growth - HC'!B15=\"\",\"\",'Growth - HC'!B15 * 7)","v":""},{"$f":"IF('Growth - HC'!C15=\"\",\"\",'Growth - HC'!C15)","v":""},{"$f":"IF('Growth - HC'!D15=\"\",\"\",'Growth - HC'!D15)","v":""},{"$f":"IF('Growth - HC'!E15=\"\",\"\",'Growth - HC'!E15)","v":""}]
[12,{"$f":"IF('Growth - HC'!B16=\"\",\"\",'Growth - HC'!B16 * 7)","v":""},{"$f":"IF('Growth - HC'!C16=\"\",\"\",'Growth - HC'!C16)","v":""},{"$f":"IF('Growth - HC'!D16=\"\",\"\",'Growth - HC'!D16)","v":""},{"$f":"IF('Growth - HC'!E16=\"\",\"\",'Growth - HC'!E16)","v":""}]
[13,{"$f":"IF('Growth - HC'!B17=\"\",\"\",'Growth - HC'!B17 * 7)","v":""},{"$f":"IF('Growth - HC'!C17=\"\",\"\",'Growth - HC'!C17)","v":""},{"$f":"IF('Growth - HC'!D17=\"\",\"\",'Growth - HC'!D17)","v":""},{"$f":"IF('Growth - HC'!E17=\"\",\"\",'Growth - HC'!E17)","v":""}]
[14,{"$f":"IF('Growth - HC'!B18=\"\",\"\",'Growth - HC'!B18 * 7)","v":""},{"$f":"IF('Growth - HC'!C18=\"\",\"\",'Growth - HC'!C18)","v":""},{"$f":"IF('Growth - HC'!D18=\"\",\"\",'Growth - HC'!D18)","v":""},{"$f":"IF('Growth - HC'!E18=\"\",\"\",'Growth - HC'!E18)","v":""}]
[15,{"$f":"IF('Growth - HC'!B19=\"\",\"\",'Growth - HC'!B19 * 7)","v":""},{"$f":"IF('Growth - HC'!C19=\"\",\"\",'Growth - HC'!C19)","v":""},{"$f":"IF('Growth - HC'!D19=\"\",\"\",'Growth - HC'!D19)","v":""},{"$f":"IF('Growth - HC'!E19=\"\",\"\",'Growth - HC'!E19)","v":""}]
[16,{"$f":"IF('Growth - HC'!B20=\"\",\"\",'Growth - HC'!B20 * 7)","v":""},{"$f":"IF('Growth - HC'!C20=\"\",\"\",'Growth - HC'!C20)","v":""},{"$f":"IF('Growth - HC'!D20=\"\",\"\",'Growth - HC'!D20)","v":""},{"$f":"IF('Growth - HC'!E20=\"\",\"\",'Growth - HC'!E20)","v":""}]
[17,{"$f":"IF('Growth - HC'!B21=\"\",\"\",'Growth - HC'!B21 * 7)","v":""},{"$f":"IF('Growth - HC'!C21=\"\",\"\",'Growth - HC'!C21)","v":""},{"$f":"IF('Growth - HC'!D21=\"\",\"\",'Growth - HC'!D21)","v":""},{"$f":"IF('Growth - HC'!E21=\"\",\"\",'Growth - HC'!E21)","v":""}]
[18,{"$f":"IF('Growth - HC'!B22=\"\",\"\",'Growth - HC'!B22 * 7)","v":""},{"$f":"IF('Growth - HC'!C22=\"\",\"\",'Growth - HC'!C22)","v":""},{"$f":"IF('Growth - HC'!D22=\"\",\"\",'Growth - HC'!D22)","v":""},{"$f":"IF('Growth - HC'!E22=\"\",\"\",'Growth - HC'!E22)","v":""}]
[19,{"$f":"IF('Growth - HC'!B23=\"\",\"\",'Growth - HC'!B23 * 7)","v":""},{"$f":"IF('Growth - HC'!C23=\"\",\"\",'Growth - HC'!C23)","v":""},{"$f":"IF('Growth - HC'!D23=\"\",\"\",'Growth - HC'!D23)","v":""},{"$f":"IF('Growth - HC'!E23=\"\",\"\",'Growth - HC'!E23)","v":""}]
[20,{"$f":"IF('Growth - HC'!B24=\"\",\"\",'Growth - HC'!B24 * 7)","v":""},{"$f":"IF('Growth - HC'!C24=\"\",\"\",'Growth - HC'!C24)","v":""},{"$f":"IF('Growth - HC'!D24=\"\",\"\",'Growth - HC'!D24)","v":""},{"$f":"IF('Growth - HC'!E24=\"\",\"\",'Growth - HC'!E24)","v":""}]
[21,{"$f":"IF('Growth - HC'!B25=\"\",\"\",'Growth - HC'!B25 * 7)","v":""},{"$f":"IF('Growth - HC'!C25=\"\",\"\",'Growth - HC'!C25)","v":""},{"$f":"IF('Growth - HC'!D25=\"\",\"\",'Growth - HC'!D25)","v":""},{"$f":"IF('Growth - HC'!E25=\"\",\"\",'Growth - HC'!E25)","v":""}]
[22,{"$f":"IF('Growth - HC'!B26=\"\",\"\",'Growth - HC'!B26 * 7)","v":""},{"$f":"IF('Growth - HC'!C26=\"\",\"\",'Growth - HC'!C26)","v":""},{"$f":"IF('Growth - HC'!D26=\"\",\"\",'Growth - HC'!D26)","v":""},{"$f":"IF('Growth - HC'!E26=\"\",\"\",'Growth - HC'!E26)","v":""}]
[23,{"$f":"IF('Growth - HC'!B27=\"\",\"\",'Growth - HC'!B27 * 7)","v":""},{"$f":"IF('Growth - HC'!C27=\"\",\"\",'Growth - HC'!C27)","v":""},{"$f":"IF('Growth - HC'!D27=\"\",\"\",'Growth - HC'!D27)","v":""},{"$f":"IF('Growth - HC'!E27=\"\",\"\",'Growth - HC'!E27)","v":""}]
[24,{"$f":"IF('Growth - HC'!B28=\"\",\"\",'Growth - HC'!B28 * 7)","v":""},{"$f":"IF('Growth - HC'!C28=\"\",\"\",'Growth - HC'!C28)","v":""},{"$f":"IF('Growth - HC'!D28=\"\",\"\",'Growth - HC'!D28)","v":""},{"$f":"IF('Growth - HC'!E28=\"\",\"\",'Growth - HC'!E28)","v":""}]
[25,{"$f":"IF('Growth - HC'!B29=\"\",\"\",'Growth - HC'!B29 * 7)","v":""},{"$f":"IF('Growth - HC'!C29=\"\",\"\",'Growth - HC'!C29)","v":""},{"$f":"IF('Growth - HC'!D29=\"\",\"\",'Growth - HC'!D29)","v":""},{"$f":"IF('Growth - HC'!E29=\"\",\"\",'Growth - HC'!E29)","v":""}]
[26,{"$f":"IF('Growth - HC'!B30=\"\",\"\",'Growth - HC'!B30 * 7)","v":""},{"$f":"IF('Growth - HC'!C30=\"\",\"\",'Growth - HC'!C30)","v":""},{"$f":"IF('Growth - HC'!D30=\"\",\"\",'Growth - HC'!D30)","v":""},{"$f":"IF('Growth - HC'!E30=\"\",\"\",'Growth - HC'!E30)","v":""}]
[27,{"$f":"IF('Growth - HC'!B31=\"\",\"\",'Growth - HC'!B31 * 7)","v":""},{"$f":"IF('Growth - HC'!C31=\"\",\"\",'Growth - HC'!C31)","v":""},{"$f":"IF('Growth - HC'!D31=\"\",\"\",'Growth - HC'!D31)","v":""},{"$f":"IF('Growth - HC'!E31=\"\",\"\",'Growth - HC'!E31)","v":""}]
[28,{"$f":"IF('Growth - HC'!B32=\"\",\"\",'Growth - HC'!B32 * 7)","v":""},{"$f":"IF('Growth - HC'!C32=\"\",\"\",'Growth - HC'!C32)","v":""},{"$f":"IF('Growth - HC'!D32=\"\",\"\",'Growth - HC'!D32)","v":""},{"$f":"IF('Growth - HC'!E32=\"\",\"\",'Growth - HC'!E32)","v":""}]
[29,{"$f":"IF('Growth - HC'!B33=\"\",\"\",'Growth - HC'!B33 * 7)","v":""},{"$f":"IF('Growth - HC'!C33=\"\",\"\",'Growth - HC'!C33)","v":""},{"$f":"IF('Growth - HC'!D33=\"\",\"\",'Growth - HC'!D33)","v":""},{"$f":"IF('Growth - HC'!E33=\"\",\"\",'Growth - HC'!E33)","v":""}]
[30,{"$f":"IF('Growth - HC'!B34=\"\",\"\",'Growth - HC'!B34 * 7)","v":""},{"$f":"IF('Growth - HC'!C34=\"\",\"\",'Growth - HC'!C34)","v":""},{"$f":"IF('Growth - HC'!D34=\"\",\"\",'Growth - HC'!D34)","v":""},{"$f":"IF('Growth - HC'!E34=\"\",\"\",'Growth - HC'!E34)","v":""}]
[31,{"$f":"IF('Growth - HC'!B35=\"\",\"\",'Growth - HC'!B35 * 7)","v":""},{"$f":"IF('Growth - HC'!C35=\"\",\"\",'Growth - HC'!C35)","v":""},{"$f":"IF('Growth - HC'!D35=\"\",\"\",'Growth - HC'!D35)","v":""},{"$f":"IF('Growth - HC'!E35=\"\",\"\",'Growth - HC'!E35)","v":""}]
[32,{"$f":"IF('Growth - HC'!B36=\"\",\"\",'Growth - HC'!B36 * 7)","v":""},{"$f":"IF('Growth - HC'!C36=\"\",\"\",'Growth - HC'!C36)","v":""},{"$f":"IF('Growth - HC'!D36=\"\",\"\",'Growth - HC'!D36)","v":""},{"$f":"IF('Growth - HC'!E36=\"\",\"\",'Growth - HC'!E36)","v":""}]
[33,{"$f":"IF('Growth - HC'!B37=\"\",\"\",'Growth - HC'!B37 * 7)","v":""},{"$f":"IF('Growth - HC'!C37=\"\",\"\",'Growth - HC'!C37)","v":""},{"$f":"IF('Growth - HC'!D37=\"\",\"\",'Growth - HC'!D37)","v":""},{"$f":"IF('Growth - HC'!E37=\"\",\"\",'Growth - HC'!E37)","v":""}]
[34,{"$f":"IF('Growth - HC'!B38=\"\",\"\",'Growth - HC'!B38 * 7)","v":""},{"$f":"IF('Growth - HC'!C38=\"\",\"\",'Growth - HC'!C38)","v":""},{"$f":"IF('Growth - HC'!D38=\"\",\"\",'Growth - HC'!D38)","v":""},{"$f":"IF('Growth - HC'!E38=\"\",\"\",'Growth - HC'!E38)","v":""}]
[35,{"$f":"IF('Growth - HC'!B39=\"\",\"\",'Growth - HC'!B39 * 7)","v":""},{"$f":"IF('Growth - HC'!C39=\"\",\"\",'Growth - HC'!C39)","v":""},{"$f":"IF('Growth - HC'!D39=\"\",\"\",'Growth - HC'!D39)","v":""},{"$f":"IF('Growth - HC'!E39=\"\",\"\",'Growth - HC'!E39)","v":""}]
[36,{"$f":"IF('Growth - HC'!B40=\"\",\"\",'Growth - HC'!B40 * 7)","v":""},{"$f":"IF('Growth - HC'!C40=\"\",\"\",'Growth - HC'!C40)","v":""},{"$f":"IF('Growth - HC'!D40=\"\",\"\",'Growth - HC'!D40)","v":""},{"$f":"IF('Growth - HC'!E40=\"\",\"\",'Growth - HC'!E40)","v":""}]
[37,{"$f":"IF('Growth - HC'!B41=\"\",\"\",'Growth - HC'!B41 * 7)","v":""},{"$f":"IF('Growth - HC'!C41=\"\",\"\",'Growth - HC'!C41)","v":""},{"$f":"IF('Growth - HC'!D41=\"\",\"\",'Growth - HC'!D41)","v":""},{"$f":"IF('Growth - HC'!E41=\"\",\"\",'Growth - HC'!E41)","v":""}]
[38,{"$f":"IF('Growth - HC'!B42=\"\",\"\",'Growth - HC'!B42 * 7)","v":""},{"$f":"IF('Growth - HC'!C42=\"\",\"\",'Growth - HC'!C42)","v":""},{"$f":"IF('Growth - HC'!D42=\"\",\"\",'Growth - HC'!D42)","v":""},{"$f":"IF('Growth - HC'!E42=\"\",\"\",'Growth - HC'!E42)","v":""}]
[39,{"$f":"IF('Growth - HC'!B43=\"\",\"\",'Growth - HC'!B43 * 7)","v":""},{"$f":"IF('Growth - HC'!C43=\"\",\"\",'Growth - HC'!C43)","v":""},{"$f":"IF('Growth - HC'!D43=\"\",\"\",'Growth - HC'!D43)","v":""},{"$f":"IF('Growth - HC'!E43=\"\",\"\",'Growth - HC'!E43)","v":""}]
[40,{"$f":"IF('Growth - HC'!B44=\"\",\"\",'Growth - HC'!B44 * 7)","v":""},{"$f":"IF('Growth - HC'!C44=\"\",\"\",'Growth - HC'!C44)","v":""},{"$f":"IF('Growth - HC'!D44=\"\",\"\",'Growth - HC'!D44)","v":""},{"$f":"IF('Growth - HC'!E44=\"\",\"\",'Growth - HC'!E44)","v":""}]
[41,{"$f":"IF('Growth - HC'!B45=\"\",\"\",'Growth - HC'!B45 * 7)","v":""},{"$f":"IF('Growth - HC'!C45=\"\",\"\",'Growth - HC'!C45)","v":""},{"$f":"IF('Growth - HC'!D45=\"\",\"\",'Growth - HC'!D45)","v":""},{"$f":"IF('Growth - HC'!E45=\"\",\"\",'Growth - HC'!E45)","v":""}]
[42,{"$f":"IF('Growth - HC'!B46=\"\",\"\",'Growth - HC'!B46 * 7)","v":""},{"$f":"IF('Growth - HC'!C46=\"\",\"\",'Growth - HC'!C46)","v":""},{"$f":"IF('Growth - HC'!D46=\"\",\"\",'Growth - HC'!D46)","v":""},{"$f":"IF('Growth - HC'!E46=\"\",\"\",'Growth - HC'!E46)","v":""}]
[43,{"$f":"IF('Growth - HC'!B47=\"\",\"\",'Growth - HC'!B47 * 7)","v":""},{"$f":"IF('Growth - HC'!C47=\"\",\"\",'Growth - HC'!C47)","v":""},{"$f":"IF('Growth - HC'!D47=\"\",\"\",'Growth - HC'!D47)","v":""},{"$f":"IF('Growth - HC'!E47=\"\",\"\",'Growth - HC'!E47)","v":""}]
[44,{"$f":"IF('Growth - HC'!B48=\"\",\"\",'Growth - HC'!B48 * 7)","v":""},{"$f":"IF('Growth - HC'!C48=\"\",\"\",'Growth - HC'!C48)","v":""},{"$f":"IF('Growth - HC'!D48=\"\",\"\",'Growth - HC'!D48)","v":""},{"$f":"IF('Growth - HC'!E48=\"\",\"\",'Growth - HC'!E48)","v":""}]
[45,{"$f":"IF('Growth - HC'!B49=\"\",\"\",'Growth - HC'!B49 * 7)","v":""},{"$f":"IF('Growth - HC'!C49=\"\",\"\",'Growth - HC'!C49)","v":""},{"$f":"IF('Growth - HC'!D49=\"\",\"\",'Growth - HC'!D49)","v":""},{"$f":"IF('Growth - HC'!E49=\"\",\"\",'Growth - HC'!E49)","v":""}]
[46,{"$f":"IF('Growth - HC'!B50=\"\",\"\",'Growth - HC'!B50 * 7)","v":""},{"$f":"IF('Growth - HC'!C50=\"\",\"\",'Growth - HC'!C50)","v":""},{"$f":"IF('Growth - HC'!D50=\"\",\"\",'Growth - HC'!D50)","v":""},{"$f":"IF('Growth - HC'!E50=\"\",\"\",'Growth - HC'!E50)","v":""}]
[47,{"$f":"IF('Growth - HC'!B51=\"\",\"\",'Growth - HC'!B51 * 7)","v":""},{"$f":"IF('Growth - HC'!C51=\"\",\"\",'Growth - HC'!C51)","v":""},{"$f":"IF('Growth - HC'!D51=\"\",\"\",'Growth - HC'!D51)","v":""},{"$f":"IF('Growth - HC'!E51=\"\",\"\",'Growth - HC'!E51)","v":""}]
[48,{"$f":"IF('Growth - HC'!B52=\"\",\"\",'Growth - HC'!B52 * 7)","v":""},{"$f":"IF('Growth - HC'!C52=\"\",\"\",'Growth - HC'!C52)","v":""},{"$f":"IF('Growth - HC'!D52=\"\",\"\",'Growth - HC'!D52)","v":""},{"$f":"IF('Growth - HC'!E52=\"\",\"\",'Growth - HC'!E52)","v":""}]
[49,{"$f":"IF('Growth - HC'!B53=\"\",\"\",'Growth - HC'!B53 * 7)","v":""},{"$f":"IF('Growth - HC'!C53=\"\",\"\",'Growth - HC'!C53)","v":""},{"$f":"IF('Growth - HC'!D53=\"\",\"\",'Growth - HC'!D53)","v":""},{"$f":"IF('Growth - HC'!E53=\"\",\"\",'Growth - HC'!E53)","v":""}]
[50,{"$f":"IF('Growth - HC'!B54=\"\",\"\",'Growth - HC'!B54 * 7)","v":""},{"$f":"IF('Growth - HC'!C54=\"\",\"\",'Growth - HC'!C54)","v":""},{"$f":"IF('Growth - HC'!D54=\"\",\"\",'Growth - HC'!D54)","v":""},{"$f":"IF('Growth - HC'!E54=\"\",\"\",'Growth - HC'!E54)","v":""}]
[51,{"$f":"IF('Growth - HC'!B55=\"\",\"\",'Growth - HC'!B55 * 7)","v":""},{"$f":"IF('Growth - HC'!C55=\"\",\"\",'Growth - HC'!C55)","v":""},{"$f":"IF('Growth - HC'!D55=\"\",\"\",'Growth - HC'!D55)","v":""},{"$f":"IF('Growth - HC'!E55=\"\",\"\",'Growth - HC'!E55)","v":""}]
[52,{"$f":"IF('Growth - HC'!B56=\"\",\"\",'Growth - HC'!B56 * 7)","v":""},{"$f":"IF('Growth - HC'!C56=\"\",\"\",'Growth - HC'!C56)","v":""},{"$f":"IF('Growth - HC'!D56=\"\",\"\",'Growth - HC'!D56)","v":""},{"$f":"IF('Growth - HC'!E56=\"\",\"\",'Growth - HC'!E56)","v":""}]
[53,{"$f":"IF('Growth - HC'!B57=\"\",\"\",'Growth - HC'!B57 * 7)","v":""},{"$f":"IF('Growth - HC'!C57=\"\",\"\",'Growth - HC'!C57)","v":""},{"$f":"IF('Growth - HC'!D57=\"\",\"\",'Growth - HC'!D57)","v":""},{"$f":"IF('Growth - HC'!E57=\"\",\"\",'Growth - HC'!E57)","v":""}]
[54,{"$f":"IF('Growth - HC'!B58=\"\",\"\",'Growth - HC'!B58 * 7)","v":""},{"$f":"IF('Growth - HC'!C58=\"\",\"\",'Growth - HC'!C58)","v":""},{"$f":"IF('Growth - HC'!D58=\"\",\"\",'Growth - HC'!D58)","v":""},{"$f":"IF('Growth - HC'!E58=\"\",\"\",'Growth - HC'!E58)","v":""}]
[55,{"$f":"IF('Growth - HC'!B59=\"\",\"\",'Growth - HC'!B59 * 7)","v":""},{"$f":"IF('Growth - HC'!C59=\"\",\"\",'Growth - HC'!C59)","v":""},{"$f":"IF('Growth - HC'!D59=\"\",\"\",'Growth - HC'!D59)","v":""},{"$f":"IF('Growth - HC'!E59=\"\",\"\",'Growth - HC'!E59)","v":""}]
[56,{"$f":"IF('Growth - HC'!B60=\"\",\"\",'Growth - HC'!B60 * 7)","v":""},{"$f":"IF('Growth - HC'!C60=\"\",\"\",'Growth - HC'!C60)","v":""},{"$f":"IF('Growth - HC'!D60=\"\",\"\",'Growth - HC'!D60)","v":""},{"$f":"IF('Growth - HC'!E60=\"\",\"\",'Growth - HC'!E60)","v":""}]
[57,{"$f":"IF('Growth - HC'!B61=\"\",\"\",'Growth - HC'!B61 * 7)","v":""},{"$f":"IF('Growth - HC'!C61=\"\",\"\",'Growth - HC'!C61)","v":""},{"$f":"IF('Growth - HC'!D61=\"\",\"\",'Growth - HC'!D61)","v":""},{"$f":"IF('Growth - HC'!E61=\"\",\"\",'Growth - HC'!E61)","v":""}]
[58,{"$f":"IF('Growth - HC'!B62=\"\",\"\",'Growth - HC'!B62 * 7)","v":""},{"$f":"IF('Growth - HC'!C62=\"\",\"\",'Growth - HC'!C62)","v":""},{"$f":"IF('Growth - HC'!D62=\"\",\"\",'Growth - HC'!D62)","v":""},{"$f":"IF('Growth - HC'!E62=\"\",\"\",'Growth - HC'!E62)","v":""}]
[59,{"$f":"IF('Growth - HC'!B63=\"\",\"\",'Growth - HC'!B63 * 7)","v":""},{"$f":"IF('Growth - HC'!C63=\"\",\"\",'Growth - HC'!C63)","v":""},{"$f":"IF('Growth - HC'!D63=\"\",\"\",'Growth - HC'!D63)","v":""},{"$f":"IF('Growth - HC'!E63=\"\",\"\",'Growth - HC'!E63)","v":""}]
[60,{"$f":"IF('Growth - HC'!B64=\"\",\"\",'Growth - HC'!B64 * 7)","v":""},{"$f":"IF('Growth - HC'!C64=\"\",\"\",'Growth - HC'!C64)","v":""},{"$f":"IF('Growth - HC'!D64=\"\",\"\",'Growth - HC'!D64)","v":""},{"$f":"IF('Growth - HC'!E64=\"\",\"\",'Growth - HC'!E64)","v":""}]
[61,{"$f":"IF('Growth - HC'!B65=\"\",\"\",'Growth - HC'!B65 * 7)","v":""},{"$f":"IF('Growth - HC'!C65=\"\",\"\",'Growth - HC'!C65)","v":""},{"$f":"IF('Growth - HC'!D65=\"\",\"\",'Growth - HC'!D65)","v":""},{"$f":"IF('Growth - HC'!E65=\"\",\"\",'Growth - HC'!E65)","v":""}]
[62,{"$f":"IF('Growth - HC'!B66=\"\",\"\",'Growth - HC'!B66 * 7)","v":""},{"$f":"IF('Growth - HC'!C66=\"\",\"\",'Growth - HC'!C66)","v":""},{"$f":"IF('Growth - HC'!D66=\"\",\"\",'Growth - HC'!D66)","v":""},{"$f":"IF('Growth - HC'!E66=\"\",\"\",'Growth - HC'!E66)","v":""}]
[63,{"$f":"IF('Growth - HC'!B67=\"\",\"\",'Growth - HC'!B67 * 7)","v":""},{"$f":"IF('Growth - HC'!C67=\"\",\"\",'Growth - HC'!C67)","v":""},{"$f":"IF('Growth - HC'!D67=\"\",\"\",'Growth - HC'!D67)","v":""},{"$f":"IF('Growth - HC'!E67=\"\",\"\",'Growth - HC'!E67)","v":""}]
[64,{"$f":"IF('Growth - HC'!B68=\"\",\"\",'Growth - HC'!B68 * 7)","v":""},{"$f":"IF('Growth - HC'!C68=\"\",\"\",'Growth - HC'!C68)","v":""},{"$f":"IF('Growth - HC'!D68=\"\",\"\",'Growth - HC'!D68)","v":""},{"$f":"IF('Growth - HC'!E68=\"\",\"\",'Growth - HC'!E68)","v":""}]
[65,{"$f":"IF('Growth - HC'!B69=\"\",\"\",'Growth - HC'!B69 * 7)","v":""},{"$f":"IF('Growth - HC'!C69=\"\",\"\",'Growth - HC'!C69)","v":""},{"$f":"IF('Growth - HC'!D69=\"\",\"\",'Growth - HC'!D69)","v":""},{"$f":"IF('Growth - HC'!E69=\"\",\"\",'Growth - HC'!E69)","v":""}]
[66,{"$f":"IF('Growth - HC'!B70=\"\",\"\",'Growth - HC'!B70 * 7)","v":""},{"$f":"IF('Growth - HC'!C70=\"\",\"\",'Growth - HC'!C70)","v":""},{"$f":"IF('Growth - HC'!D70=\"\",\"\",'Growth - HC'!D70)","v":""},{"$f":"IF('Growth - HC'!E70=\"\",\"\",'Growth - HC'!E70)","v":""}]
[67,{"$f":"IF('Growth - HC'!B71=\"\",\"\",'Growth - HC'!B71 * 7)","v":""},{"$f":"IF('Growth - HC'!C71=\"\",\"\",'Growth - HC'!C71)","v":""},{"$f":"IF('Growth - HC'!D71=\"\",\"\",'Growth - HC'!D71)","v":""},{"$f":"IF('Growth - HC'!E71=\"\",\"\",'Growth - HC'!E71)","v":""}]
[68,{"$f":"IF('Growth - HC'!B72=\"\",\"\",'Growth - HC'!B72 * 7)","v":""},{"$f":"IF('Growth - HC'!C72=\"\",\"\",'Growth - HC'!C72)","v":""},{"$f":"IF('Growth - HC'!D72=\"\",\"\",'Growth - HC'!D72)","v":""},{"$f":"IF('Growth - HC'!E72=\"\",\"\",'Growth - HC'!E72)","v":""}]
[69,{"$f":"IF('Growth - HC'!B73=\"\",\"\",'Growth - HC'!B73 * 7)","v":""},{"$f":"IF('Growth - HC'!C73=\"\",\"\",'Growth - HC'!C73)","v":""},{"$f":"IF('Growth - HC'!D73=\"\",\"\",'Growth - HC'!D73)","v":""},{"$f":"IF('Growth - HC'!E73=\"\",\"\",'Growth - HC'!E73)","v":""}]
[70,{"$f":"IF('Growth - HC'!B74=\"\",\"\",'Growth - HC'!B74 * 7)","v":""},{"$f":"IF('Growth - HC'!C74=\"\",\"\",'Growth - HC'!C74)","v":""},{"$f":"IF('Growth - HC'!D74=\"\",\"\",'Growth - HC'!D74)","v":""},{"$f":"IF('Growth - HC'!E74=\"\",\"\",'Growth - HC'!E74)","v":""}]
[71,{"$f":"IF('Growth - HC'!B75=\"\",\"\",'Growth - HC'!B75 * 7)","v":""},{"$f":"IF('Growth - HC'!C75=\"\",\"\",'Growth - HC'!C75)","v":""},{"$f":"IF('Growth - HC'!D75=\"\",\"\",'Growth - HC'!D75)","v":""},{"$f":"IF('Growth - HC'!E75=\"\",\"\",'Growth - HC'!E75)","v":""}]
[72,{"$f":"IF('Growth - HC'!B76=\"\",\"\",'Growth - HC'!B76 * 7)","v":""},{"$f":"IF('Growth - HC'!C76=\"\",\"\",'Growth - HC'!C76)","v":""},{"$f":"IF('Growth - HC'!D76=\"\",\"\",'Growth - HC'!D76)","v":""},{"$f":"IF('Growth - HC'!E76=\"\",\"\",'Growth - HC'!E76)","v":""}]
[73,{"$f":"IF('Growth - HC'!B77=\"\",\"\",'Growth - HC'!B77 * 7)","v":""},{"$f":"IF('Growth - HC'!C77=\"\",\"\",'Growth - HC'!C77)","v":""},{"$f":"IF('Growth - HC'!D77=\"\",\"\",'Growth - HC'!D77)","v":""},{"$f":"IF('Growth - HC'!E77=\"\",\"\",'Growth - HC'!E77)","v":""}]
[74,{"$f":"IF('Growth - HC'!B78=\"\",\"\",'Growth - HC'!B78 * 7)","v":""},{"$f":"IF('Growth - HC'!C78=\"\",\"\",'Growth - HC'!C78)","v":""},{"$f":"IF('Growth - HC'!D78=\"\",\"\",'Growth - HC'!D78)","v":""},{"$f":"IF('Growth - HC'!E78=\"\",\"\",'Growth - HC'!E78)","v":""}]
[75,{"$f":"IF('Growth - HC'!B79=\"\",\"\",'Growth - HC'!B79 * 7)","v":""},{"$f":"IF('Growth - HC'!C79=\"\",\"\",'Growth - HC'!C79)","v":""},{"$f":"IF('Growth - HC'!D79=\"\",\"\",'Growth - HC'!D79)","v":""},{"$f":"IF('Growth - HC'!E79=\"\",\"\",'Growth - HC'!E79)","v":""}]
[76,{"$f":"IF('Growth - HC'!B80=\"\",\"\",'Growth - HC'!B80 * 7)","v":""},{"$f":"IF('Growth - HC'!C80=\"\",\"\",'Growth - HC'!C80)","v":""},{"$f":"IF('Growth - HC'!D80=\"\",\"\",'Growth - HC'!D80)","v":""},{"$f":"IF('Growth - HC'!E80=\"\",\"\",'Growth - HC'!E80)","v":""}]
[77,{"$f":"IF('Growth - HC'!B81=\"\",\"\",'Growth - HC'!B81 * 7)","v":""},{"$f":"IF('Growth - HC'!C81=\"\",\"\",'Growth - HC'!C81)","v":""},{"$f":"IF('Growth - HC'!D81=\"\",\"\",'Growth - HC'!D81)","v":""},{"$f":"IF('Growth - HC'!E81=\"\",\"\",'Growth - HC'!E81)","v":""}]
[78,{"$f":"IF('Growth - HC'!B82=\"\",\"\",'Growth - HC'!B82 * 7)","v":""},{"$f":"IF('Growth - HC'!C82=\"\",\"\",'Growth - HC'!C82)","v":""},{"$f":"IF('Growth - HC'!D82=\"\",\"\",'Growth - HC'!D82)","v":""},{"$f":"IF('Growth - HC'!E82=\"\",\"\",'Growth - HC'!E82)","v":""}]
[79,{"$f":"IF('Growth - HC'!B83=\"\",\"\",'Growth - HC'!B83 * 7)","v":""},{"$f":"IF('Growth - HC'!C83=\"\",\"\",'Growth - HC'!C83)","v":""},{"$f":"IF('Growth - HC'!D83=\"\",\"\",'Growth - HC'!D83)","v":""},{"$f":"IF('Growth - HC'!E83=\"\",\"\",'Growth - HC'!E83)","v":""}]
[80,{"$f":"IF('Growth - HC'!B84=\"\",\"\",'Growth - HC'!B84 * 7)","v":""},{"$f":"IF('Growth - HC'!C84=\"\",\"\",'Growth - HC'!C84)","v":""},{"$f":"IF('Growth - HC'!D84=\"\",\"\",'Growth - HC'!D84)","v":""},{"$f":"IF('Growth - HC'!E84=\"\",\"\",'Growth - HC'!E84)","v":""}]
[81,{"$f":"IF('Growth - HC'!B85=\"\",\"\",'Growth - HC'!B85 * 7)","v":""},{"$f":"IF('Growth - HC'!C85=\"\",\"\",'Growth - HC'!C85)","v":""},{"$f":"IF('Growth - HC'!D85=\"\",\"\",'Growth - HC'!D85)","v":""},{"$f":"IF('Growth - HC'!E85=\"\",\"\",'Growth - HC'!E85)","v":""}]
[82,{"$f":"IF('Growth - HC'!B86=\"\",\"\",'Growth - HC'!B86 * 7)","v":""},{"$f":"IF('Growth - HC'!C86=\"\",\"\",'Growth - HC'!C86)","v":""},{"$f":"IF('Growth - HC'!D86=\"\",\"\",'Growth - HC'!D86)","v":""},{"$f":"IF('Growth - HC'!E86=\"\",\"\",'Growth - HC'!E86)","v":""}]
[83,{"$f":"IF('Growth - HC'!B87=\"\",\"\",'Growth - HC'!B87 * 7)","v":""},{"$f":"IF('Growth - HC'!C87=\"\",\"\",'Growth - HC'!C87)","v":""},{"$f":"IF('Growth - HC'!D87=\"\",\"\",'Growth - HC'!D87)","v":""},{"$f":"IF('Growth - HC'!E87=\"\",\"\",'Growth - HC'!E87)","v":""}]
[84,{"$f":"IF('Growth - HC'!B88=\"\",\"\",'Growth - HC'!B88 * 7)","v":""},{"$f":"IF('Growth - HC'!C88=\"\",\"\",'Growth - HC'!C88)","v":""},{"$f":"IF('Growth - HC'!D88=\"\",\"\",'Growth - HC'!D88)","v":""},{"$f":"IF('Growth - HC'!E88=\"\",\"\",'Growth - HC'!E88)","v":""}]
[85,{"$f":"IF('Growth - HC'!B89=\"\",\"\",'Growth - HC'!B89 * 7)","v":""},{"$f":"IF('Growth - HC'!C89=\"\",\"\",'Growth - HC'!C89)","v":""},{"$f":"IF('Growth - HC'!D89=\"\",\"\",'Growth - HC'!D89)","v":""},{"$f":"IF('Growth - HC'!E89=\"\",\"\",'Growth - HC'!E89)","v":""}]
[86,{"$f":"IF('Growth - HC'!B90=\"\",\"\",'Growth - HC'!B90 * 7)","v":""},{"$f":"IF('Growth - HC'!C90=\"\",\"\",'Growth - HC'!C90)","v":""},{"$f":"IF('Growth - HC'!D90=\"\",\"\",'Growth - HC'!D90)","v":""},{"$f":"IF('Growth - HC'!E90=\"\",\"\",'Growth - HC'!E90)","v":""}]
[87,{"$f":"IF('Growth - HC'!B91=\"\",\"\",'Growth - HC'!B91 * 7)","v":""},{"$f":"IF('Growth - HC'!C91=\"\",\"\",'Growth - HC'!C91)","v":""},{"$f":"IF('Growth - HC'!D91=\"\",\"\",'Growth - HC'!D91)","v":""},{"$f":"IF('Growth - HC'!E91=\"\",\"\",'Growth - HC'!E91)","v":""}]
[88,{"$f":"IF('Growth - HC'!B92=\"\",\"\",'Growth - HC'!B92 * 7)","v":""},{"$f":"IF('Growth - HC'!C92=\"\",\"\",'Growth - HC'!C92)","v":""},{"$f":"IF('Growth - HC'!D92=\"\",\"\",'Growth - HC'!D92)","v":""},{"$f":"IF('Growth - HC'!E92=\"\",\"\",'Growth - HC'!E92)","v":""}]
[89,{"$f":"IF('Growth - HC'!B93=\"\",\"\",'Growth - HC'!B93 * 7)","v":""},{"$f":"IF('Growth - HC'!C93=\"\",\"\",'Growth - HC'!C93)","v":""},{"$f":"IF('Growth - HC'!D93=\"\",\"\",'Growth - HC'!D93)","v":""},{"$f":"IF('Growth - HC'!E93=\"\",\"\",'Growth - HC'!E93)","v":""}]
[90,{"$f":"IF('Growth - HC'!B94=\"\",\"\",'Growth - HC'!B94 * 7)","v":""},{"$f":"IF('Growth - HC'!C94=\"\",\"\",'Growth - HC'!C94)","v":""},{"$f":"IF('Growth - HC'!D94=\"\",\"\",'Growth - HC'!D94)","v":""},{"$f":"IF('Growth - HC'!E94=\"\",\"\",'Growth - HC'!E94)","v":""}]
[91,{"$f":"IF('Growth - HC'!B95=\"\",\"\",'Growth - HC'!B95 * 7)","v":""},{"$f":"IF('Growth - HC'!C95=\"\",\"\",'Growth - HC'!C95)","v":""},{"$f":"IF('Growth - HC'!D95=\"\",\"\",'Growth - HC'!D95)","v":""},{"$f":"IF('Growth - HC'!E95=\"\",\"\",'Growth - HC'!E95)","v":""}]
[92,{"$f":"IF('Growth - HC'!B96=\"\",\"\",'Growth - HC'!B96 * 7)","v":""},{"$f":"IF('Growth - HC'!C96=\"\",\"\",'Growth - HC'!C96)","v":""},{"$f":"IF('Growth - HC'!D96=\"\",\"\",'Growth - HC'!D96)","v":""},{"$f":"IF('Growth - HC'!E96=\"\",\"\",'Growth - HC'!E96)","v":""}]
[93,{"$f":"IF('Growth - HC'!B97=\"\",\"\",'Growth - HC'!B97 * 7)","v":""},{"$f":"IF('Growth - HC'!C97=\"\",\"\",'Growth - HC'!C97)","v":""},{"$f":"IF('Growth - HC'!D97=\"\",\"\",'Growth - HC'!D97)","v":""},{"$f":"IF('Growth - HC'!E97=\"\",\"\",'Growth - HC'!E97)","v":""}]
[94,{"$f":"IF('Growth - HC'!B98=\"\",\"\",'Growth - HC'!B98 * 7)","v":""},{"$f":"IF('Growth - HC'!C98=\"\",\"\",'Growth - HC'!C98)","v":""},{"$f":"IF('Growth - HC'!D98=\"\",\"\",'Growth - HC'!D98)","v":""},{"$f":"IF('Growth - HC'!E98=\"\",\"\",'Growth - HC'!E98)","v":""}]
[95,{"$f":"IF('Growth - HC'!B99=\"\",\"\",'Growth - HC'!B99 * 7)","v":""},{"$f":"IF('Growth - HC'!C99=\"\",\"\",'Growth - HC'!C99)","v":""},{"$f":"IF('Growth - HC'!D99=\"\",\"\",'Growth - HC'!D99)","v":""},{"$f":"IF('Growth - HC'!E99=\"\",\"\",'Growth - HC'!E99)","v":""}]
[96,{"$f":"IF('Growth - HC'!B100=\"\",\"\",'Growth - HC'!B100 * 7)","v":""},{"$f":"IF('Growth - HC'!C100=\"\",\"\",'Growth - HC'!C100)","v":""},{"$f":"IF('Growth - HC'!D100=\"\",\"\",'Growth - HC'!D100)","v":""},{"$f":"IF('Growth - HC'!E100=\"\",\"\",'Growth - HC'!E100)","v":""}]
[97,{"$f":"IF('Growth - HC'!B101=\"\",\"\",'Growth - HC'!B101 * 7)","v":""},{"$f":"IF('Growth - HC'!C101=\"\",\"\",'Growth - HC'!C101)","v":""},{"$f":"IF('Growth - HC'!D101=\"\",\"\",'Growth - HC'!D101)","v":""},{"$f":"IF('Growth - HC'!E101=\"\",\"\",'Growth - HC'!E101)","v":""}]
[98,{"$f":"IF('Growth - HC'!B102=\"\",\"\",'Growth - HC'!B102 * 7)","v":""},{"$f":"IF('Growth - HC'!C102=\"\",\"\",'Growth - HC'!C102)","v":""},{"$f":"IF('Growth - HC'!D102=\"\",\"\",'Growth - HC'!D102)","v":""},{"$f":"IF('Growth - HC'!E102=\"\",\"\",'Growth - HC'!E102)","v":""}]
[99,{"$f":"IF('Growth - HC'!B103=\"\",\"\",'Growth - HC'!B103 * 7)","v":""},{"$f":"IF('Growth - HC'!C103=\"\",\"\",'Growth - HC'!C103)","v":""},{"$f":"IF('Growth - HC'!D103=\"\",\"\",'Growth - HC'!D103)","v":""},{"$f":"IF('Growth - HC'!E103=\"\",\"\",'Growth - HC'!E103)","v":""}]
[100,{"$f":"IF('Growth - HC'!B104=\"\",\"\",'Growth - HC'!B104 * 7)","v":""},{"$f":"IF('Growth - HC'!C104=\"\",\"\",'Growth - HC'!C104)","v":""},{"$f":"IF('Growth - HC'!D104=\"\",\"\",'Growth - HC'!D104)","v":""},{"$f":"IF('Growth - HC'!E104=\"\",\"\",'Growth - HC'!E104)","v":""}]
[101,{"$f":"IF('Growth - HC'!B105=\"\",\"\",'Growth - HC'!B105 * 7)","v":""},{"$f":"IF('Growth - HC'!C105=\"\",\"\",'Growth - HC'!C105)","v":""},{"$f":"IF('Growth - HC'!D105=\"\",\"\",'Growth - HC'!D105)","v":""},{"$f":"IF('Growth - HC'!E105=\"\",\"\",'Growth - HC'!E105)","v":""}]
[102,{"$f":"IF('Growth - HC'!B106=\"\",\"\",'Growth - HC'!B106 * 7)","v":""},{"$f":"IF('Growth - HC'!C106=\"\",\"\",'Growth - HC'!C106)","v":""},{"$f":"IF('Growth - HC'!D106=\"\",\"\",'Growth - HC'!D106)","v":""},{"$f":"IF('Growth - HC'!E106=\"\",\"\",'Growth - HC'!E106)","v":""}]
[103,{"$f":"IF('Growth - HC'!B107=\"\",\"\",'Growth - HC'!B107 * 7)","v":""},{"$f":"IF('Growth - HC'!C107=\"\",\"\",'Growth - HC'!C107)","v":""},{"$f":"IF('Growth - HC'!D107=\"\",\"\",'Growth - HC'!D107)","v":""},{"$f":"IF('Growth - HC'!E107=\"\",\"\",'Growth - HC'!E107)","v":""}]
[104,{"$f":"IF('Growth - HC'!B108=\"\",\"\",'Growth - HC'!B108 * 7)","v":""},{"$f":"IF('Growth - HC'!C108=\"\",\"\",'Growth - HC'!C108)","v":""},{"$f":"IF('Growth - HC'!D108=\"\",\"\",'Growth - HC'!D108)","v":""},{"$f":"IF('Growth - HC'!E108=\"\",\"\",'Growth - HC'!E108)","v":""}]
[105,{"$f":"IF('Growth - HC'!B109=\"\",\"\",'Growth - HC'!B109 * 7)","v":""},{"$f":"IF('Growth - HC'!C109=\"\",\"\",'Growth - HC'!C109)","v":""},{"$f":"IF('Growth - HC'!D109=\"\",\"\",'Growth - HC'!D109)","v":""},{"$f":"IF('Growth - HC'!E109=\"\",\"\",'Growth - HC'!E109)","v":""}]
[106,{"$f":"IF('Growth - HC'!B110=\"\",\"\",'Growth - HC'!B110 * 7)","v":""},{"$f":"IF('Growth - HC'!C110=\"\",\"\",'Growth - HC'!C110)","v":""},{"$f":"IF('Growth - HC'!D110=\"\",\"\",'Growth - HC'!D110)","v":""},{"$f":"IF('Growth - HC'!E110=\"\",\"\",'Growth - HC'!E110)","v":""}]
[107,{"$f":"IF('Growth - HC'!B111=\"\",\"\",'Growth - HC'!B111 * 7)","v":""},{"$f":"IF('Growth - HC'!C111=\"\",\"\",'Growth - HC'!C111)","v":""},{"$f":"IF('Growth - HC'!D111=\"\",\"\",'Growth - HC'!D111)","v":""},{"$f":"IF('Growth - HC'!E111=\"\",\"\",'Growth - HC'!E111)","v":""}]
[108,{"$f":"IF('Growth - HC'!B112=\"\",\"\",'Growth - HC'!B112 * 7)","v":""},{"$f":"IF('Growth - HC'!C112=\"\",\"\",'Growth - HC'!C112)","v":""},{"$f":"IF('Growth - HC'!D112=\"\",\"\",'Growth - HC'!D112)","v":""},{"$f":"IF('Growth - HC'!E112=\"\",\"\",'Growth - HC'!E112)","v":""}]
[109,{"$f":"IF('Growth - HC'!B113=\"\",\"\",'Growth - HC'!B113 * 7)","v":""},{"$f":"IF('Growth - HC'!C113=\"\",\"\",'Growth - HC'!C113)","v":""},{"$f":"IF('Growth - HC'!D113=\"\",\"\",'Growth - HC'!D113)","v":""},{"$f":"IF('Growth - HC'!E113=\"\",\"\",'Growth - HC'!E113)","v":""}]
[110,{"$f":"IF('Growth - HC'!B114=\"\",\"\",'Growth - HC'!B114 * 7)","v":""},{"$f":"IF('Growth - HC'!C114=\"\",\"\",'Growth - HC'!C114)","v":""},{"$f":"IF('Growth - HC'!D114=\"\",\"\",'Growth - HC'!D114)","v":""},{"$f":"IF('Growth - HC'!E114=\"\",\"\",'Growth - HC'!E114)","v":""}]
[111,{"$f":"IF('Growth - HC'!B115=\"\",\"\",'Growth - HC'!B115 * 7)","v":""},{"$f":"IF('Growth - HC'!C115=\"\",\"\",'Growth - HC'!C115)","v":""},{"$f":"IF('Growth - HC'!D115=\"\",\"\",'Growth - HC'!D115)","v":""},{"$f":"IF('Growth - HC'!E115=\"\",\"\",'Growth - HC'!E115)","v":""}]
[112,{"$f":"IF('Growth - HC'!B116=\"\",\"\",'Growth - HC'!B116 * 7)","v":""},{"$f":"IF('Growth - HC'!C116=\"\",\"\",'Growth - HC'!C116)","v":""},{"$f":"IF('Growth - HC'!D116=\"\",\"\",'Growth - HC'!D116)","v":""},{"$f":"IF('Growth - HC'!E116=\"\",\"\",'Growth - HC'!E116)","v":""}]
[113,{"$f":"IF('Growth - HC'!B117=\"\",\"\",'Growth - HC'!B117 * 7)","v":""},{"$f":"IF('Growth - HC'!C117=\"\",\"\",'Growth - HC'!C117)","v":""},{"$f":"IF('Growth - HC'!D117=\"\",\"\",'Growth - HC'!D117)","v":""},{"$f":"IF('Growth - HC'!E117=\"\",\"\",'Growth - HC'!E117)","v":""}]
[114,{"$f":"IF('Growth - HC'!B118=\"\",\"\",'Growth - HC'!B118 * 7)","v":""},{"$f":"IF('Growth - HC'!C118=\"\",\"\",'Growth - HC'!C118)","v":""},{"$f":"IF('Growth - HC'!D118=\"\",\"\",'Growth - HC'!D118)","v":""},{"$f":"IF('Growth - HC'!E118=\"\",\"\",'Growth - HC'!E118)","v":""}]
[115,{"$f":"IF('Growth - HC'!B119=\"\",\"\",'Growth - HC'!B119 * 7)","v":""},{"$f":"IF('Growth - HC'!C119=\"\",\"\",'Growth - HC'!C119)","v":""},{"$f":"IF('Growth - HC'!D119=\"\",\"\",'Growth - HC'!D119)","v":""},{"$f":"IF('Growth - HC'!E119=\"\",\"\",'Growth - HC'!E119)","v":""}]
[116,{"$f":"IF('Growth - HC'!B120=\"\",\"\",'Growth - HC'!B120 * 7)","v":""},{"$f":"IF('Growth - HC'!C120=\"\",\"\",'Growth - HC'!C120)","v":""},{"$f":"IF('Growth - HC'!D120=\"\",\"\",'Growth - HC'!D120)","v":""},{"$f":"IF('Growth - HC'!E120=\"\",\"\",'Growth - HC'!E120)","v":""}]
[117,{"$f":"IF('Growth - HC'!B121=\"\",\"\",'Growth - HC'!B121 * 7)","v":""},{"$f":"IF('Growth - HC'!C121=\"\",\"\",'Growth - HC'!C121)","v":""},{"$f":"IF('Growth - HC'!D121=\"\",\"\",'Growth - HC'!D121)","v":""},{"$f":"IF('Growth - HC'!E121=\"\",\"\",'Growth - HC'!E121)","v":""}]
[118,{"$f":"IF('Growth - HC'!B122=\"\",\"\",'Growth - HC'!B122 * 7)","v":""},{"$f":"IF('Growth - HC'!C122=\"\",\"\",'Growth - HC'!C122)","v":""},{"$f":"IF('Growth - HC'!D122=\"\",\"\",'Growth - HC'!D122)","v":""},{"$f":"IF('Growth - HC'!E122=\"\",\"\",'Growth - HC'!E122)","v":""}]
[119,{"$f":"IF('Growth - HC'!B123=\"\",\"\",'Growth - HC'!B123 * 7)","v":""},{"$f":"IF('Growth - HC'!C123=\"\",\"\",'Growth - HC'!C123)","v":""},{"$f":"IF('Growth - HC'!D123=\"\",\"\",'Growth - HC'!D123)","v":""},{"$f":"IF('Growth - HC'!E123=\"\",\"\",'Growth - HC'!E123)","v":""}]
[120,{"$f":"IF('Growth - HC'!B124=\"\",\"\",'Growth - HC'!B124 * 7)","v":""},{"$f":"IF('Growth - HC'!C124=\"\",\"\",'Growth - HC'!C124)","v":""},{"$f":"IF('Growth - HC'!D124=\"\",\"\",'Growth - HC'!D124)","v":""},{"$f":"IF('Growth - HC'!E124=\"\",\"\",'Growth - HC'!E124)","v":""}]
[121,{"$f":"IF('Growth - HC'!B125=\"\",\"\",'Growth - HC'!B125 * 7)","v":""},{"$f":"IF('Growth - HC'!C125=\"\",\"\",'Growth - HC'!C125)","v":""},{"$f":"IF('Growth - HC'!D125=\"\",\"\",'Growth - HC'!D125)","v":""},{"$f":"IF('Growth - HC'!E125=\"\",\"\",'Growth - HC'!E125)","v":""}]
[122,{"$f":"IF('Growth - HC'!B126=\"\",\"\",'Growth - HC'!B126 * 7)","v":""},{"$f":"IF('Growth - HC'!C126=\"\",\"\",'Growth - HC'!C126)","v":""},{"$f":"IF('Growth - HC'!D126=\"\",\"\",'Growth - HC'!D126)","v":""},{"$f":"IF('Growth - HC'!E126=\"\",\"\",'Growth - HC'!E126)","v":""}]
[123,{"$f":"IF('Growth - HC'!B127=\"\",\"\",'Growth - HC'!B127 * 7)","v":""},{"$f":"IF('Growth - HC'!C127=\"\",\"\",'Growth - HC'!C127)","v":""},{"$f":"IF('Growth - HC'!D127=\"\",\"\",'Growth - HC'!D127)","v":""},{"$f":"IF('Growth - HC'!E127=\"\",\"\",'Growth - HC'!E127)","v":""}]
[124,{"$f":"IF('Growth - HC'!B128=\"\",\"\",'Growth - HC'!B128 * 7)","v":""},{"$f":"IF('Growth - HC'!C128=\"\",\"\",'Growth - HC'!C128)","v":""},{"$f":"IF('Growth - HC'!D128=\"\",\"\",'Growth - HC'!D128)","v":""},{"$f":"IF('Growth - HC'!E128=\"\",\"\",'Growth - HC'!E128)","v":""}]
[125,{"$f":"IF('Growth - HC'!B129=\"\",\"\",'Growth - HC'!B129 * 7)","v":""},{"$f":"IF('Growth - HC'!C129=\"\",\"\",'Growth - HC'!C129)","v":""},{"$f":"IF('Growth - HC'!D129=\"\",\"\",'Growth - HC'!D129)","v":""},{"$f":"IF('Growth - HC'!E129=\"\",\"\",'Growth - HC'!E129)","v":""}]
[126,{"$f":"IF('Growth - HC'!B130=\"\",\"\",'Growth - HC'!B130 * 7)","v":""},{"$f":"IF('Growth - HC'!C130=\"\",\"\",'Growth - HC'!C130)","v":""},{"$f":"IF('Growth - HC'!D130=\"\",\"\",'Growth - HC'!D130)","v":""},{"$f":"IF('Growth - HC'!E130=\"\",\"\",'Growth - HC'!E130)","v":""}]
[127,{"$f":"IF('Growth - HC'!B131=\"\",\"\",'Growth - HC'!B131 * 7)","v":""},{"$f":"IF('Growth - HC'!C131=\"\",\"\",'Growth - HC'!C131)","v":""},{"$f":"IF('Growth - HC'!D131=\"\",\"\",'Growth - HC'!D131)","v":""},{"$f":"IF('Growth - HC'!E131=\"\",\"\",'Growth - HC'!E131)","v":""}]
[128,{"$f":"IF('Growth - HC'!B132=\"\",\"\",'Growth - HC'!B132 * 7)","v":""},{"$f":"IF('Growth - HC'!C132=\"\",\"\",'Growth - HC'!C132)","v":""},{"$f":"IF('Growth - HC'!D132=\"\",\"\",'Growth - HC'!D132)","v":""},{"$f":"IF('Growth - HC'!E132=\"\",\"\",'Growth - HC'!E132)","v":""}]
[129,{"$f":"IF('Growth - HC'!B133=\"\",\"\",'Growth - HC'!B133 * 7)","v":""},{"$f":"IF('Growth - HC'!C133=\"\",\"\",'Growth - HC'!C133)","v":""},{"$f":"IF('Growth - HC'!D133=\"\",\"\",'Growth - HC'!D133)","v":""},{"$f":"IF('Growth - HC'!E133=\"\",\"\",'Growth - HC'!E133)","v":""}]
[130,{"$f":"IF('Growth - HC'!B134=\"\",\"\",'Growth - HC'!B134 * 7)","v":""},{"$f":"IF('Growth - HC'!C134=\"\",\"\",'Growth - HC'!C134)","v":""},{"$f":"IF('Growth - HC'!D134=\"\",\"\",'Growth - HC'!D134)","v":""},{"$f":"IF('Growth - HC'!E134=\"\",\"\",'Growth - HC'!E134)","v":""}]
[131,{"$f":"IF('Growth - HC'!B135=\"\",\"\",'Growth - HC'!B135 * 7)","v":""},{"$f":"IF('Growth - HC'!C135=\"\",\"\",'Growth - HC'!C135)","v":""},{"$f":"IF('Growth - HC'!D135=\"\",\"\",'Growth - HC'!D135)","v":""},{"$f":"IF('Growth - HC'!E135=\"\",\"\",'Growth - HC'!E135)","v":""}]
[132,{"$f":"IF('Growth - HC'!B136=\"\",\"\",'Growth - HC'!B136 * 7)","v":""},{"$f":"IF('Growth - HC'!C136=\"\",\"\",'Growth - HC'!C136)","v":""},{"$f":"IF('Growth - HC'!D136=\"\",\"\",'Growth - HC'!D136)","v":""},{"$f":"IF('Growth - HC'!E136=\"\",\"\",'Growth - HC'!E136)","v":""}]
[133,{"$f":"IF('Growth - HC'!B137=\"\",\"\",'Growth - HC'!B137 * 7)","v":""},{"$f":"IF('Growth - HC'!C137=\"\",\"\",'Growth - HC'!C137)","v":""},{"$f":"IF('Growth - HC'!D137=\"\",\"\",'Growth - HC'!D137)","v":""},{"$f":"IF('Growth - HC'!E137=\"\",\"\",'Growth - HC'!E137)","v":""}]
[134,{"$f":"IF('Growth - HC'!B138=\"\",\"\",'Growth - HC'!B138 * 7)","v":""},{"$f":"IF('Growth - HC'!C138=\"\",\"\",'Growth - HC'!C138)","v":""},{"$f":"IF('Growth - HC'!D138=\"\",\"\",'Growth - HC'!D138)","v":""},{"$f":"IF('Growth - HC'!E138=\"\",\"\",'Growth - HC'!E138)","v":""}]
[135,{"$f":"IF('Growth - HC'!B139=\"\",\"\",'Growth - HC'!B139 * 7)","v":""},{"$f":"IF('Growth - HC'!C139=\"\",\"\",'Growth - HC'!C139)","v":""},{"$f":"IF('Growth - HC'!D139=\"\",\"\",'Growth - HC'!D139)","v":""},{"$f":"IF('Growth - HC'!E139=\"\",\"\",'Growth - HC'!E139)","v":""}]
[136,{"$f":"IF('Growth - HC'!B140=\"\",\"\",'Growth - HC'!B140 * 7)","v":""},{"$f":"IF('Growth - HC'!C140=\"\",\"\",'Growth - HC'!C140)","v":""},{"$f":"IF('Growth - HC'!D140=\"\",\"\",'Growth - HC'!D140)","v":""},{"$f":"IF('Growth - HC'!E140=\"\",\"\",'Growth - HC'!E140)","v":""}]
[137,{"$f":"IF('Growth - HC'!B141=\"\",\"\",'Growth - HC'!B141 * 7)","v":""},{"$f":"IF('Growth - HC'!C141=\"\",\"\",'Growth - HC'!C141)","v":""},{"$f":"IF('Growth - HC'!D141=\"\",\"\",'Growth - HC'!D141)","v":""},{"$f":"IF('Growth - HC'!E141=\"\",\"\",'Growth - HC'!E141)","v":""}]
[138,{"$f":"IF('Growth - HC'!B142=\"\",\"\",'Growth - HC'!B142 * 7)","v":""},{"$f":"IF('Growth - HC'!C142=\"\",\"\",'Growth - HC'!C142)","v":""},{"$f":"IF('Growth - HC'!D142=\"\",\"\",'Growth - HC'!D142)","v":""},{"$f":"IF('Growth - HC'!E142=\"\",\"\",'Growth - HC'!E142)","v":""}]
[139,{"$f":"IF('Growth - HC'!B143=\"\",\"\",'Growth - HC'!B143 * 7)","v":""},{"$f":"IF('Growth - HC'!C143=\"\",\"\",'Growth - HC'!C143)","v":""},{"$f":"IF('Growth - HC'!D143=\"\",\"\",'Growth - HC'!D143)","v":""},{"$f":"IF('Growth - HC'!E143=\"\",\"\",'Growth - HC'!E143)","v":""}]
[140,{"$f":"IF('Growth - HC'!B144=\"\",\"\",'Growth - HC'!B144 * 7)","v":""},{"$f":"IF('Growth - HC'!C144=\"\",\"\",'Growth - HC'!C144)","v":""},{"$f":"IF('Growth - HC'!D144=\"\",\"\",'Growth - HC'!D144)","v":""},{"$f":"IF('Growth - HC'!E144=\"\",\"\",'Growth - HC'!E144)","v":""}]
[141,{"$f":"IF('Growth - HC'!B145=\"\",\"\",'Growth - HC'!B145 * 7)","v":""},{"$f":"IF('Growth - HC'!C145=\"\",\"\",'Growth - HC'!C145)","v":""},{"$f":"IF('Growth - HC'!D145=\"\",\"\",'Growth - HC'!D145)","v":""},{"$f":"IF('Growth - HC'!E145=\"\",\"\",'Growth - HC'!E145)","v":""}]
[142,{"$f":"IF('Growth - HC'!B146=\"\",\"\",'Growth - HC'!B146 * 7)","v":""},{"$f":"IF('Growth - HC'!C146=\"\",\"\",'Growth - HC'!C146)","v":""},{"$f":"IF('Growth - HC'!D146=\"\",\"\",'Growth - HC'!D146)","v":""},{"$f":"IF('Growth - HC'!E146=\"\",\"\",'Growth - HC'!E146)","v":""}]
[143,{"$f":"IF('Growth - HC'!B147=\"\",\"\",'Growth - HC'!B147 * 7)","v":""},{"$f":"IF('Growth - HC'!C147=\"\",\"\",'Growth - HC'!C147)","v":""},{"$f":"IF('Growth - HC'!D147=\"\",\"\",'Growth - HC'!D147)","v":""},{"$f":"IF('Growth - HC'!E147=\"\",\"\",'Growth - HC'!E147)","v":""}]
[144,{"$f":"IF('Growth - HC'!B148=\"\",\"\",'Growth - HC'!B148 * 7)","v":""},{"$f":"IF('Growth - HC'!C148=\"\",\"\",'Growth - HC'!C148)","v":""},{"$f":"IF('Growth - HC'!D148=\"\",\"\",'Growth - HC'!D148)","v":""},{"$f":"IF('Growth - HC'!E148=\"\",\"\",'Growth - HC'!E148)","v":""}]
[145,{"$f":"IF('Growth - HC'!B149=\"\",\"\",'Growth - HC'!B149 * 7)","v":""},{"$f":"IF('Growth - HC'!C149=\"\",\"\",'Growth - HC'!C149)","v":""},{"$f":"IF('Growth - HC'!D149=\"\",\"\",'Growth - HC'!D149)","v":""},{"$f":"IF('Growth - HC'!E149=\"\",\"\",'Growth - HC'!E149)","v":""}]
[146,{"$f":"IF('Growth - HC'!B150=\"\",\"\",'Growth - HC'!B150 * 7)","v":""},{"$f":"IF('Growth - HC'!C150=\"\",\"\",'Growth - HC'!C150)","v":""},{"$f":"IF('Growth - HC'!D150=\"\",\"\",'Growth - HC'!D150)","v":""},{"$f":"IF('Growth - HC'!E150=\"\",\"\",'Growth - HC'!E150)","v":""}]
[147,{"$f":"IF('Growth - HC'!B151=\"\",\"\",'Growth - HC'!B151 * 7)","v":""},{"$f":"IF('Growth - HC'!C151=\"\",\"\",'Growth - HC'!C151)","v":""},{"$f":"IF('Growth - HC'!D151=\"\",\"\",'Growth - HC'!D151)","v":""},{"$f":"IF('Growth - HC'!E151=\"\",\"\",'Growth - HC'!E151)","v":""}]
[148,{"$f":"IF('Growth - HC'!B152=\"\",\"\",'Growth - HC'!B152 * 7)","v":""},{"$f":"IF('Growth - HC'!C152=\"\",\"\",'Growth - HC'!C152)","v":""},{"$f":"IF('Growth - HC'!D152=\"\",\"\",'Growth - HC'!D152)","v":""},{"$f":"IF('Growth - HC'!E152=\"\",\"\",'Growth - HC'!E152)","v":""}]
[149,{"$f":"IF('Growth - HC'!B153=\"\",\"\",'Growth - HC'!B153 * 7)","v":""},{"$f":"IF('Growth - HC'!C153=\"\",\"\",'Growth - HC'!C153)","v":""},{"$f":"IF('Growth - HC'!D153=\"\",\"\",'Growth - HC'!D153)","v":""},{"$f":"IF('Growth - HC'!E153=\"\",\"\",'Growth - HC'!E153)","v":""}]
[150,{"$f":"IF('Growth - HC'!B154=\"\",\"\",'Growth - HC'!B154 * 7)","v":""},{"$f":"IF('Growth - HC'!C154=\"\",\"\",'Growth - HC'!C154)","v":""},{"$f":"IF('Growth - HC'!D154=\"\",\"\",'Growth - HC'!D154)","v":""},{"$f":"IF('Growth - HC'!E154=\"\",\"\",'Growth - HC'!E154)","v":""}]
[151,{"$f":"IF('Growth - HC'!B155=\"\",\"\",'Growth - HC'!B155 * 7)","v":""},{"$f":"IF('Growth - HC'!C155=\"\",\"\",'Growth - HC'!C155)","v":""},{"$f":"IF('Growth - HC'!D155=\"\",\"\",'Growth - HC'!D155)","v":""},{"$f":"IF('Growth - HC'!E155=\"\",\"\",'Growth - HC'!E155)","v":""}]
[152,{"$f":"IF('Growth - HC'!B156=\"\",\"\",'Growth - HC'!B156 * 7)","v":""},{"$f":"IF('Growth - HC'!C156=\"\",\"\",'Growth - HC'!C156)","v":""},{"$f":"IF('Growth - HC'!D156=\"\",\"\",'Growth - HC'!D156)","v":""},{"$f":"IF('Growth - HC'!E156=\"\",\"\",'Growth - HC'!E156)","v":""}]
[153,{"$f":"IF('Growth - HC'!B157=\"\",\"\",'Growth - HC'!B157 * 7)","v":""},{"$f":"IF('Growth - HC'!C157=\"\",\"\",'Growth - HC'!C157)","v":""},{"$f":"IF('Growth - HC'!D157=\"\",\"\",'Growth - HC'!D157)","v":""},{"$f":"IF('Growth - HC'!E157=\"\",\"\",'Growth - HC'!E157)","v":""}]
[154,{"$f":"IF('Growth - HC'!B158=\"\",\"\",'Growth - HC'!B158 * 7)","v":""},{"$f":"IF('Growth - HC'!C158=\"\",\"\",'Growth - HC'!C158)","v":""},{"$f":"IF('Growth - HC'!D158=\"\",\"\",'Growth - HC'!D158)","v":""},{"$f":"IF('Growth - HC'!E158=\"\",\"\",'Growth - HC'!E158)","v":""}]
[155,{"$f":"IF('Growth - HC'!B159=\"\",\"\",'Growth - HC'!B159 * 7)","v":""},{"$f":"IF('Growth - HC'!C159=\"\",\"\",'Growth - HC'!C159)","v":""},{"$f":"IF('Growth - HC'!D159=\"\",\"\",'Growth - HC'!D159)","v":""},{"$f":"IF('Growth - HC'!E159=\"\",\"\",'Growth - HC'!E159)","v":""}]
[156,{"$f":"IF('Growth - HC'!B160=\"\",\"\",'Growth - HC'!B160 * 7)","v":""},{"$f":"IF('Growth - HC'!C160=\"\",\"\",'Growth - HC'!C160)","v":""},{"$f":"IF('Growth - HC'!D160=\"\",\"\",'Growth - HC'!D160)","v":""},{"$f":"IF('Growth - HC'!E160=\"\",\"\",'Growth - HC'!E160)","v":""}]
[157,{"$f":"IF('Growth - HC'!B161=\"\",\"\",'Growth - HC'!B161 * 7)","v":""},{"$f":"IF('Growth - HC'!C161=\"\",\"\",'Growth - HC'!C161)","v":""},{"$f":"IF('Growth - HC'!D161=\"\",\"\",'Growth - HC'!D161)","v":""},{"$f":"IF('Growth - HC'!E161=\"\",\"\",'Growth - HC'!E161)","v":""}]
[158,{"$f":"IF('Growth - HC'!B162=\"\",\"\",'Growth - HC'!B162 * 7)","v":""},{"$f":"IF('Growth - HC'!C162=\"\",\"\",'Growth - HC'!C162)","v":""},{"$f":"IF('Growth - HC'!D162=\"\",\"\",'Growth - HC'!D162)","v":""},{"$f":"IF('Growth - HC'!E162=\"\",\"\",'Growth - HC'!E162)","v":""}]
[159,{"$f":"IF('Growth - HC'!B163=\"\",\"\",'Growth - HC'!B163 * 7)","v":""},{"$f":"IF('Growth - HC'!C163=\"\",\"\",'Growth - HC'!C163)","v":""},{"$f":"IF('Growth - HC'!D163=\"\",\"\",'Growth - HC'!D163)","v":""},{"$f":"IF('Growth - HC'!E163=\"\",\"\",'Growth - HC'!E163)","v":""}]
[160,{"$f":"IF('Growth - HC'!B164=\"\",\"\",'Growth - HC'!B164 * 7)","v":""},{"$f":"IF('Growth - HC'!C164=\"\",\"\",'Growth - HC'!C164)","v":""},{"$f":"IF('Growth - HC'!D164=\"\",\"\",'Growth - HC'!D164)","v":""},{"$f":"IF('Growth - HC'!E164=\"\",\"\",'Growth - HC'!E164)","v":""}]
[161,{"$f":"IF('Growth - HC'!B165=\"\",\"\",'Growth - HC'!B165 * 7)","v":""},{"$f":"IF('Growth - HC'!C165=\"\",\"\",'Growth - HC'!C165)","v":""},{"$f":"IF('Growth - HC'!D165=\"\",\"\",'Growth - HC'!D165)","v":""},{"$f":"IF('Growth - HC'!E165=\"\",\"\",'Growth - HC'!E165)","v":""}]
[162,{"$f":"IF('Growth - HC'!B166=\"\",\"\",'Growth - HC'!B166 * 7)","v":""},{"$f":"IF('Growth - HC'!C166=\"\",\"\",'Growth - HC'!C166)","v":""},{"$f":"IF('Growth - HC'!D166=\"\",\"\",'Growth - HC'!D166)","v":""},{"$f":"IF('Growth - HC'!E166=\"\",\"\",'Growth - HC'!E166)","v":""}]
[163,{"$f":"IF('Growth - HC'!B167=\"\",\"\",'Growth - HC'!B167 * 7)","v":""},{"$f":"IF('Growth - HC'!C167=\"\",\"\",'Growth - HC'!C167)","v":""},{"$f":"IF('Growth - HC'!D167=\"\",\"\",'Growth - HC'!D167)","v":""},{"$f":"IF('Growth - HC'!E167=\"\",\"\",'Growth - HC'!E167)","v":""}]
[164,{"$f":"IF('Growth - HC'!B168=\"\",\"\",'Growth - HC'!B168 * 7)","v":""},{"$f":"IF('Growth - HC'!C168=\"\",\"\",'Growth - HC'!C168)","v":""},{"$f":"IF('Growth - HC'!D168=\"\",\"\",'Growth - HC'!D168)","v":""},{"$f":"IF('Growth - HC'!E168=\"\",\"\",'Growth - HC'!E168)","v":""}]
[165,{"$f":"IF('Growth - HC'!B169=\"\",\"\",'Growth - HC'!B169 * 7)","v":""},{"$f":"IF('Growth - HC'!C169=\"\",\"\",'Growth - HC'!C169)","v":""},{"$f":"IF('Growth - HC'!D169=\"\",\"\",'Growth - HC'!D169)","v":""},{"$f":"IF('Growth - HC'!E169=\"\",\"\",'Growth - HC'!E169)","v":""}]
[166,{"$f":"IF('Growth - HC'!B170=\"\",\"\",'Growth - HC'!B170 * 7)","v":""},{"$f":"IF('Growth - HC'!C170=\"\",\"\",'Growth - HC'!C170)","v":""},{"$f":"IF('Growth - HC'!D170=\"\",\"\",'Growth - HC'!D170)","v":""},{"$f":"IF('Growth - HC'!E170=\"\",\"\",'Growth - HC'!E170)","v":""}]
[167,{"$f":"IF('Growth - HC'!B171=\"\",\"\",'Growth - HC'!B171 * 7)","v":""},{"$f":"IF('Growth - HC'!C171=\"\",\"\",'Growth - HC'!C171)","v":""},{"$f":"IF('Growth - HC'!D171=\"\",\"\",'Growth - HC'!D171)","v":""},{"$f":"IF('Growth - HC'!E171=\"\",\"\",'Growth - HC'!E171)","v":""}]
[168,{"$f":"IF('Growth - HC'!B172=\"\",\"\",'Growth - HC'!B172 * 7)","v":""},{"$f":"IF('Growth - HC'!C172=\"\",\"\",'Growth - HC'!C172)","v":""},{"$f":"IF('Growth - HC'!D172=\"\",\"\",'Growth - HC'!D172)","v":""},{"$f":"IF('Growth - HC'!E172=\"\",\"\",'Growth - HC'!E172)","v":""}]
[169,{"$f":"IF('Growth - HC'!B173=\"\",\"\",'Growth - HC'!B173 * 7)","v":""},{"$f":"IF('Growth - HC'!C173=\"\",\"\",'Growth - HC'!C173)","v":""},{"$f":"IF('Growth - HC'!D173=\"\",\"\",'Growth - HC'!D173)","v":""},{"$f":"IF('Growth - HC'!E173=\"\",\"\",'Growth - HC'!E173)","v":""}]
[170,{"$f":"IF('Growth - HC'!B174=\"\",\"\",'Growth - HC'!B174 * 7)","v":""},{"$f":"IF('Growth - HC'!C174=\"\",\"\",'Growth - HC'!C174)","v":""},{"$f":"IF('Growth - HC'!D174=\"\",\"\",'Growth - HC'!D174)","v":""},{"$f":"IF('Growth - HC'!E174=\"\",\"\",'Growth - HC'!E174)","v":""}]
[171,{"$f":"IF('Growth - HC'!B175=\"\",\"\",'Growth - HC'!B175 * 7)","v":""},{"$f":"IF('Growth - HC'!C175=\"\",\"\",'Growth - HC'!C175)","v":""},{"$f":"IF('Growth - HC'!D175=\"\",\"\",'Growth - HC'!D175)","v":""},{"$f":"IF('Growth - HC'!E175=\"\",\"\",'Growth - HC'!E175)","v":""}]
[172,{"$f":"IF('Growth - HC'!B176=\"\",\"\",'Growth - HC'!B176 * 7)","v":""},{"$f":"IF('Growth - HC'!C176=\"\",\"\",'Growth - HC'!C176)","v":""},{"$f":"IF('Growth - HC'!D176=\"\",\"\",'Growth - HC'!D176)","v":""},{"$f":"IF('Growth - HC'!E176=\"\",\"\",'Growth - HC'!E176)","v":""}]
[173,{"$f":"IF('Growth - HC'!B177=\"\",\"\",'Growth - HC'!B177 * 7)","v":""},{"$f":"IF('Growth - HC'!C177=\"\",\"\",'Growth - HC'!C177)","v":""},{"$f":"IF('Growth - HC'!D177=\"\",\"\",'Growth - HC'!D177)","v":""},{"$f":"IF('Growth - HC'!E177=\"\",\"\",'Growth - HC'!E177)","v":""}]
[174,{"$f":"IF('Growth - HC'!B178=\"\",\"\",'Growth - HC'!B178 * 7)","v":""},{"$f":"IF('Growth - HC'!C178=\"\",\"\",'Growth - HC'!C178)","v":""},{"$f":"IF('Growth - HC'!D178=\"\",\"\",'Growth - HC'!D178)","v":""},{"$f":"IF('Growth - HC'!E178=\"\",\"\",'Growth - HC'!E178)","v":""}]
[175,{"$f":"IF('Growth - HC'!B179=\"\",\"\",'Growth - HC'!B179 * 7)","v":""},{"$f":"IF('Growth - HC'!C179=\"\",\"\",'Growth - HC'!C179)","v":""},{"$f":"IF('Growth - HC'!D179=\"\",\"\",'Growth - HC'!D179)","v":""},{"$f":"IF('Growth - HC'!E179=\"\",\"\",'Growth - HC'!E179)","v":""}]
[176,{"$f":"IF('Growth - HC'!B180=\"\",\"\",'Growth - HC'!B180 * 7)","v":""},{"$f":"IF('Growth - HC'!C180=\"\",\"\",'Growth - HC'!C180)","v":""},{"$f":"IF('Growth - HC'!D180=\"\",\"\",'Growth - HC'!D180)","v":""},{"$f":"IF('Growth - HC'!E180=\"\",\"\",'Growth - HC'!E180)","v":""}]
[177,{"$f":"IF('Growth - HC'!B181=\"\",\"\",'Growth - HC'!B181 * 7)","v":""},{"$f":"IF('Growth - HC'!C181=\"\",\"\",'Growth - HC'!C181)","v":""},{"$f":"IF('Growth - HC'!D181=\"\",\"\",'Growth - HC'!D181)","v":""},{"$f":"IF('Growth - HC'!E181=\"\",\"\",'Growth - HC'!E181)","v":""}]
[178,{"$f":"IF('Growth - HC'!B182=\"\",\"\",'Growth - HC'!B182 * 7)","v":""},{"$f":"IF('Growth - HC'!C182=\"\",\"\",'Growth - HC'!C182)","v":""},{"$f":"IF('Growth - HC'!D182=\"\",\"\",'Growth - HC'!D182)","v":""},{"$f":"IF('Growth - HC'!E182=\"\",\"\",'Growth - HC'!E182)","v":""}]
[179,{"$f":"IF('Growth - HC'!B183=\"\",\"\",'Growth - HC'!B183 * 7)","v":""},{"$f":"IF('Growth - HC'!C183=\"\",\"\",'Growth - HC'!C183)","v":""},{"$f":"IF('Growth - HC'!D183=\"\",\"\",'Growth - HC'!D183)","v":""},{"$f":"IF('Growth - HC'!E183=\"\",\"\",'Growth - HC'!E183)","v":""}]
[180,{"$f":"IF('Growth - HC'!B184=\"\",\"\",'Growth - HC'!B184 * 7)","v":""},{"$f":"IF('Growth - HC'!C184=\"\",\"\",'Growth - HC'!C184)","v":""},{"$f":"IF('Growth - HC'!D184=\"\",\"\",'Growth - HC'!D184)","v":""},{"$f":"IF('Growth - HC'!E184=\"\",\"\",'Growth - HC'!E184)","v":""}]
[181,{"$f":"IF('Growth - HC'!B185=\"\",\"\",'Growth - HC'!B185 * 7)","v":""},{"$f":"IF('Growth - HC'!C185=\"\",\"\",'Growth - HC'!C185)","v":""},{"$f":"IF('Growth - HC'!D185=\"\",\"\",'Growth - HC'!D185)","v":""},{"$f":"IF('Growth - HC'!E185=\"\",\"\",'Growth - HC'!E185)","v":""}]
[182,{"$f":"IF('Growth - HC'!B186=\"\",\"\",'Growth - HC'!B186 * 7)","v":""},{"$f":"IF('Growth - HC'!C186=\"\",\"\",'Growth - HC'!C186)","v":""},{"$f":"IF('Growth - HC'!D186=\"\",\"\",'Growth - HC'!D186)","v":""},{"$f":"IF('Growth - HC'!E186=\"\",\"\",'Growth - HC'!E186)","v":""}]
[183,{"$f":"IF('Growth - HC'!B187=\"\",\"\",'Growth - HC'!B187 * 7)","v":""},{"$f":"IF('Growth - HC'!C187=\"\",\"\",'Growth - HC'!C187)","v":""},{"$f":"IF('Growth - HC'!D187=\"\",\"\",'Growth - HC'!D187)","v":""},{"$f":"IF('Growth - HC'!E187=\"\",\"\",'Growth - HC'!E187)","v":""}]
[184,{"$f":"IF('Growth - HC'!B188=\"\",\"\",'Growth - HC'!B188 * 7)","v":""},{"$f":"IF('Growth - HC'!C188=\"\",\"\",'Growth - HC'!C188)","v":""},{"$f":"IF('Growth - HC'!D188=\"\",\"\",'Growth - HC'!D188)","v":""},{"$f":"IF('Growth - HC'!E188=\"\",\"\",'Growth - HC'!E188)","v":""}]
[185,{"$f":"IF('Growth - HC'!B189=\"\",\"\",'Growth - HC'!B189 * 7)","v":""},{"$f":"IF('Growth - HC'!C189=\"\",\"\",'Growth - HC'!C189)","v":""},{"$f":"IF('Growth - HC'!D189=\"\",\"\",'Growth - HC'!D189)","v":""},{"$f":"IF('Growth - HC'!E189=\"\",\"\",'Growth - HC'!E189)","v":""}]
[186,{"$f":"IF('Growth - HC'!B190=\"\",\"\",'Growth - HC'!B190 * 7)","v":""},{"$f":"IF('Growth - HC'!C190=\"\",\"\",'Growth - HC'!C190)","v":""},{"$f":"IF('Growth - HC'!D190=\"\",\"\",'Growth - HC'!D190)","v":""},{"$f":"IF('Growth - HC'!E190=\"\",\"\",'Growth - HC'!E190)","v":""}]
[187,{"$f":"IF('Growth - HC'!B191=\"\",\"\",'Growth - HC'!B191 * 7)","v":""},{"$f":"IF('Growth - HC'!C191=\"\",\"\",'Growth - HC'!C191)","v":""},{"$f":"IF('Growth - HC'!D191=\"\",\"\",'Growth - HC'!D191)","v":""},{"$f":"IF('Growth - HC'!E191=\"\",\"\",'Growth - HC'!E191)","v":""}]
[188,{"$f":"IF('Growth - HC'!B192=\"\",\"\",'Growth - HC'!B192 * 7)","v":""},{"$f":"IF('Growth - HC'!C192=\"\",\"\",'Growth - HC'!C192)","v":""},{"$f":"IF('Growth - HC'!D192=\"\",\"\",'Growth - HC'!D192)","v":""},{"$f":"IF('Growth - HC'!E192=\"\",\"\",'Growth - HC'!E192)","v":""}]
[189,{"$f":"IF('Growth - HC'!B193=\"\",\"\",'Growth - HC'!B193 * 7)","v":""},{"$f":"IF('Growth - HC'!C193=\"\",\"\",'Growth - HC'!C193)","v":""},{"$f":"IF('Growth - HC'!D193=\"\",\"\",'Growth - HC'!D193)","v":""},{"$f":"IF('Growth - HC'!E193=\"\",\"\",'Growth - HC'!E193)","v":""}]
[190,{"$f":"IF('Growth - HC'!B194=\"\",\"\",'Growth - HC'!B194 * 7)","v":""},{"$f":"IF('Growth - HC'!C194=\"\",\"\",'Growth - HC'!C194)","v":""},{"$f":"IF('Growth - HC'!D194=\"\",\"\",'Growth - HC'!D194)","v":""},{"$f":"IF('Growth - HC'!E194=\"\",\"\",'Growth - HC'!E194)","v":""}]
[191,{"$f":"IF('Growth - HC'!B195=\"\",\"\",'Growth - HC'!B195 * 7)","v":""},{"$f":"IF('Growth - HC'!C195=\"\",\"\",'Growth - HC'!C195)","v":""},{"$f":"IF('Growth - HC'!D195=\"\",\"\",'Growth - HC'!D195)","v":""},{"$f":"IF('Growth - HC'!E195=\"\",\"\",'Growth - HC'!E195)","v":""}]
[192,{"$f":"IF('Growth - HC'!B196=\"\",\"\",'Growth - HC'!B196 * 7)","v":""},{"$f":"IF('Growth - HC'!C196=\"\",\"\",'Growth - HC'!C196)","v":""},{"$f":"IF('Growth - HC'!D196=\"\",\"\",'Growth - HC'!D196)","v":""},{"$f":"IF('Growth - HC'!E196=\"\",\"\",'Growth - HC'!E196)","v":""}]
[193,{"$f":"IF('Growth - HC'!B197=\"\",\"\",'Growth - HC'!B197 * 7)","v":""},{"$f":"IF('Growth - HC'!C197=\"\",\"\",'Growth - HC'!C197)","v":""},{"$f":"IF('Growth - HC'!D197=\"\",\"\",'Growth - HC'!D197)","v":""},{"$f":"IF('Growth - HC'!E197=\"\",\"\",'Growth - HC'!E197)","v":""}]
[194,{"$f":"IF('Growth - HC'!B198=\"\",\"\",'Growth - HC'!B198 * 7)","v":""},{"$f":"IF('Growth - HC'!C198=\"\",\"\",'Growth - HC'!C198)","v":""},{"$f":"IF('Growth - HC'!D198=\"\",\"\",'Growth - HC'!D198)","v":""},{"$f":"IF('Growth - HC'!E198=\"\",\"\",'Growth - HC'!E198)","v":""}]
[195,{"$f":"IF('Growth - HC'!B199=\"\",\"\",'Growth - HC'!B199 * 7)","v":""},{"$f":"IF('Growth - HC'!C199=\"\",\"\",'Growth - HC'!C199)","v":""},{"$f":"IF('Growth - HC'!D199=\"\",\"\",'Growth - HC'!D199)","v":""},{"$f":"IF('Growth - HC'!E199=\"\",\"\",'Growth - HC'!E199)","v":""}]
[196,{"$f":"IF('Growth - HC'!B200=\"\",\"\",'Growth - HC'!B200 * 7)","v":""},{"$f":"IF('Growth - HC'!C200=\"\",\"\",'Growth - HC'!C200)","v":""},{"$f":"IF('Growth - HC'!D200=\"\",\"\",'Growth - HC'!D200)","v":""},{"$f":"IF('Growth - HC'!E200=\"\",\"\",'Growth - HC'!E200)","v":""}]
[197,{"$f":"IF('Growth - HC'!B201=\"\",\"\",'Growth - HC'!B201 * 7)","v":""},{"$f":"IF('Growth - HC'!C201=\"\",\"\",'Growth - HC'!C201)","v":""},{"$f":"IF('Growth - HC'!D201=\"\",\"\",'Growth - HC'!D201)","v":""},{"$f":"IF('Growth - HC'!E201=\"\",\"\",'Growth - HC'!E201)","v":""}]
[198,{"$f":"IF('Growth - HC'!B202=\"\",\"\",'Growth - HC'!B202 * 7)","v":""},{"$f":"IF('Growth - HC'!C202=\"\",\"\",'Growth - HC'!C202)","v":""},{"$f":"IF('Growth - HC'!D202=\"\",\"\",'Growth - HC'!D202)","v":""},{"$f":"IF('Growth - HC'!E202=\"\",\"\",'Growth - HC'!E202)","v":""}]
[199,{"$f":"IF('Growth - HC'!B203=\"\",\"\",'Growth - HC'!B203 * 7)","v":""},{"$f":"IF('Growth - HC'!C203=\"\",\"\",'Growth - HC'!C203)","v":""},{"$f":"IF('Growth - HC'!D203=\"\",\"\",'Growth - HC'!D203)","v":""},{"$f":"IF('Growth - HC'!E203=\"\",\"\",'Growth - HC'!E203)","v":""}]
[200,{"$f":"IF('Growth - HC'!B204=\"\",\"\",'Growth - HC'!B204 * 7)","v":""},{"$f":"IF('Growth - HC'!C204=\"\",\"\",'Growth - HC'!C204)","v":""},{"$f":"IF('Growth - HC'!D204=\"\",\"\",'Growth - HC'!D204)","v":""},{"$f":"IF('Growth - HC'!E204=\"\",\"\",'Growth - HC'!E204)","v":""}]
[201,{"$f":"IF('Growth - HC'!B205=\"\",\"\",'Growth - HC'!B205 * 7)","v":""},{"$f":"IF('Growth - HC'!C205=\"\",\"\",'Growth - HC'!C205)","v":""},{"$f":"IF('Growth - HC'!D205=\"\",\"\",'Growth - HC'!D205)","v":""},{"$f":"IF('Growth - HC'!E205=\"\",\"\",'Growth - HC'!E205)","v":""}]
[202,{"$f":"IF('Growth - HC'!B206=\"\",\"\",'Growth - HC'!B206 * 7)","v":""},{"$f":"IF('Growth - HC'!C206=\"\",\"\",'Growth - HC'!C206)","v":""},{"$f":"IF('Growth - HC'!D206=\"\",\"\",'Growth - HC'!D206)","v":""},{"$f":"IF('Growth - HC'!E206=\"\",\"\",'Growth - HC'!E206)","v":""}]
[203,{"$f":"IF('Growth - HC'!B207=\"\",\"\",'Growth - HC'!B207 * 7)","v":""},{"$f":"IF('Growth - HC'!C207=\"\",\"\",'Growth - HC'!C207)","v":""},{"$f":"IF('Growth - HC'!D207=\"\",\"\",'Growth - HC'!D207)","v":""},{"$f":"IF('Growth - HC'!E207=\"\",\"\",'Growth - HC'!E207)","v":""}]
[204,{"$f":"IF('Growth - HC'!B208=\"\",\"\",'Growth - HC'!B208 * 7)","v":""},{"$f":"IF('Growth - HC'!C208=\"\",\"\",'Growth - HC'!C208)","v":""},{"$f":"IF('Growth - HC'!D208=\"\",\"\",'Growth - HC'!D208)","v":""},{"$f":"IF('Growth - HC'!E208=\"\",\"\",'Growth - HC'!E208)","v":""}]
[205,{"$f":"IF('Growth - HC'!B209=\"\",\"\",'Growth - HC'!B209 * 7)","v":""},{"$f":"IF('Growth - HC'!C209=\"\",\"\",'Growth - HC'!C209)","v":""},{"$f":"IF('Growth - HC'!D209=\"\",\"\",'Growth - HC'!D209)","v":""},{"$f":"IF('Growth - HC'!E209=\"\",\"\",'Growth - HC'!E209)","v":""}]
[206,{"$f":"IF('Growth - HC'!B210=\"\",\"\",'Growth - HC'!B210 * 7)","v":""},{"$f":"IF('Growth - HC'!C210=\"\",\"\",'Growth - HC'!C210)","v":""},{"$f":"IF('Growth - HC'!D210=\"\",\"\",'Growth - HC'!D210)","v":""},{"$f":"IF('Growth - HC'!E210=\"\",\"\",'Growth - HC'!E210)","v":""}]
[207,{"$f":"IF('Growth - HC'!B211=\"\",\"\",'Growth - HC'!B211 * 7)","v":""},{"$f":"IF('Growth - HC'!C211=\"\",\"\",'Growth - HC'!C211)","v":""},{"$f":"IF('Growth - HC'!D211=\"\",\"\",'Growth - HC'!D211)","v":""},{"$f":"IF('Growth - HC'!E211=\"\",\"\",'Growth - HC'!E211)","v":""}]
[208,{"$f":"IF('Growth - HC'!B212=\"\",\"\",'Growth - HC'!B212 * 7)","v":""},{"$f":"IF('Growth - HC'!C212=\"\",\"\",'Growth - HC'!C212)","v":""},{"$f":"IF('Growth - HC'!D212=\"\",\"\",'Growth - HC'!D212)","v":""},{"$f":"IF('Growth - HC'!E212=\"\",\"\",'Growth - HC'!E212)","v":""}]
[209,{"$f":"IF('Growth - HC'!B213=\"\",\"\",'Growth - HC'!B213 * 7)","v":""},{"$f":"IF('Growth - HC'!C213=\"\",\"\",'Growth - HC'!C213)","v":""},{"$f":"IF('Growth - HC'!D213=\"\",\"\",'Growth - HC'!D213)","v":""},{"$f":"IF('Growth - HC'!E213=\"\",\"\",'Growth - HC'!E213)","v":""}]
[210,{"$f":"IF('Growth - HC'!B214=\"\",\"\",'Growth - HC'!B214 * 7)","v":""},{"$f":"IF('Growth - HC'!C214=\"\",\"\",'Growth - HC'!C214)","v":""},{"$f":"IF('Growth - HC'!D214=\"\",\"\",'Growth - HC'!D214)","v":""},{"$f":"IF('Growth - HC'!E214=\"\",\"\",'Growth - HC'!E214)","v":""}]
[]
["User Growth Table: Abdominal Circumference",null,null,null,{"$f":"IF('Growth - AC'!E1=\"\",\"\",'Growth - AC'!E1)","v":"Growth AC"}]
[null,null,null,null,{"$f":"ValidationData!DataVersion","v":"70.80.100.100"}]
["Index","Weeks * 7","Author",null,{"$f":"IF('Growth - AC'!H3=\"\",\"\",'Growth - AC'!H3)","v":""}]
[null,null,"Min","Mid","Max"]
[1,{"$f":"IF('Growth - AC'!B5=\"\",\"\",'Growth - AC'!B5 * 7)","v":""},{"$f":"IF('Growth - AC'!C5=\"\",\"\",'Growth - AC'!C5)","v":""},{"$f":"IF('Growth - AC'!D5=\"\",\"\",'Growth - AC'!D5)","v":""},{"$f":"IF('Growth - AC'!E5=\"\",\"\",'Growth - AC'!E5)","v":""}]
[2,{"$f":"IF('Growth - AC'!B6=\"\",\"\",'Growth - AC'!B6 * 7)","v":""},{"$f":"IF('Growth - AC'!C6=\"\",\"\",'Growth - AC'!C6)","v":""},{"$f":"IF('Growth - AC'!D6=\"\",\"\",'Growth - AC'!D6)","v":""},{"$f":"IF('Growth - AC'!E6=\"\",\"\",'Growth - AC'!E6)","v":""}]
[3,{"$f":"IF('Growth - AC'!B7=\"\",\"\",'Growth - AC'!B7 * 7)","v":""},{"$f":"IF('Growth - AC'!C7=\"\",\"\",'Growth - AC'!C7)","v":""},{"$f":"IF('Growth - AC'!D7=\"\",\"\",'Growth - AC'!D7)","v":""},{"$f":"IF('Growth - AC'!E7=\"\",\"\",'Growth - AC'!E7)","v":""}]
[4,{"$f":"IF('Growth - AC'!B8=\"\",\"\",'Growth - AC'!B8 * 7)","v":""},{"$f":"IF('Growth - AC'!C8=\"\",\"\",'Growth - AC'!C8)","v":""},{"$f":"IF('Growth - AC'!D8=\"\",\"\",'Growth - AC'!D8)","v":""},{"$f":"IF('Growth - AC'!E8=\"\",\"\",'Growth - AC'!E8)","v":""}]
[5,{"$f":"IF('Growth - AC'!B9=\"\",\"\",'Growth - AC'!B9 * 7)","v":""},{"$f":"IF('Growth - AC'!C9=\"\",\"\",'Growth - AC'!C9)","v":""},{"$f":"IF('Growth - AC'!D9=\"\",\"\",'Growth - AC'!D9)","v":""},{"$f":"IF('Growth - AC'!E9=\"\",\"\",'Growth - AC'!E9)","v":""}]
[6,{"$f":"IF('Growth - AC'!B10=\"\",\"\",'Growth - AC'!B10 * 7)","v":""},{"$f":"IF('Growth - AC'!C10=\"\",\"\",'Growth - AC'!C10)","v":""},{"$f":"IF('Growth - AC'!D10=\"\",\"\",'Growth - AC'!D10)","v":""},{"$f":"IF('Growth - AC'!E10=\"\",\"\",'Growth - AC'!E10)","v":""}]
[7,{"$f":"IF('Growth - AC'!B11=\"\",\"\",'Growth - AC'!B11 * 7)","v":""},{"$f":"IF('Growth - AC'!C11=\"\",\"\",'Growth - AC'!C11)","v":""},{"$f":"IF('Growth - AC'!D11=\"\",\"\",'Growth - AC'!D11)","v":""},{"$f":"IF('Growth - AC'!E11=\"\",\"\",'Growth - AC'!E11)","v":""}]
[8,{"$f":"IF('Growth - AC'!B12=\"\",\"\",'Growth - AC'!B12 * 7)","v":""},{"$f":"IF('Growth - AC'!C12=\"\",\"\",'Growth - AC'!C12)","v":""},{"$f":"IF('Growth - AC'!D12=\"\",\"\",'Growth - AC'!D12)","v":""},{"$f":"IF('Growth - AC'!E12=\"\",\"\",'Growth - AC'!E12)","v":""}]
[9,{"$f":"IF('Growth - AC'!B13=\"\",\"\",'Growth - AC'!B13 * 7)","v":""},{"$f":"IF('Growth - AC'!C13=\"\",\"\",'Growth - AC'!C13)","v":""},{"$f":"IF('Growth - AC'!D13=\"\",\"\",'Growth - AC'!D13)","v":""},{"$f":"IF('Growth - AC'!E13=\"\",\"\",'Growth - AC'!E13)","v":""}]
[10,{"$f":"IF('Growth - AC'!B14=\"\",\"\",'Growth - AC'!B14 * 7)","v":""},{"$f":"IF('Growth - AC'!C14=\"\",\"\",'Growth - AC'!C14)","v":""},{"$f":"IF('Growth - AC'!D14=\"\",\"\",'Growth - AC'!D14)","v":""},{"$f":"IF('Growth - AC'!E14=\"\",\"\",'Growth - AC'!E14)","v":""}]
[11,{"$f":"IF('Growth - AC'!B15=\"\",\"\",'Growth - AC'!B15 * 7)","v":""},{"$f":"IF('Growth - AC'!C15=\"\",\"\",'Growth - AC'!C15)","v":""},{"$f":"IF('Growth - AC'!D15=\"\",\"\",'Growth - AC'!D15)","v":""},{"$f":"IF('Growth - AC'!E15=\"\",\"\",'Growth - AC'!E15)","v":""}]
[12,{"$f":"IF('Growth - AC'!B16=\"\",\"\",'Growth - AC'!B16 * 7)","v":""},{"$f":"IF('Growth - AC'!C16=\"\",\"\",'Growth - AC'!C16)","v":""},{"$f":"IF('Growth - AC'!D16=\"\",\"\",'Growth - AC'!D16)","v":""},{"$f":"IF('Growth - AC'!E16=\"\",\"\",'Growth - AC'!E16)","v":""}]
[13,{"$f":"IF('Growth - AC'!B17=\"\",\"\",'Growth - AC'!B17 * 7)","v":""},{"$f":"IF('Growth - AC'!C17=\"\",\"\",'Growth - AC'!C17)","v":""},{"$f":"IF('Growth - AC'!D17=\"\",\"\",'Growth - AC'!D17)","v":""},{"$f":"IF('Growth - AC'!E17=\"\",\"\",'Growth - AC'!E17)","v":""}]
[14,{"$f":"IF('Growth - AC'!B18=\"\",\"\",'Growth - AC'!B18 * 7)","v":""},{"$f":"IF('Growth - AC'!C18=\"\",\"\",'Growth - AC'!C18)","v":""},{"$f":"IF('Growth - AC'!D18=\"\",\"\",'Growth - AC'!D18)","v":""},{"$f":"IF('Growth - AC'!E18=\"\",\"\",'Growth - AC'!E18)","v":""}]
[15,{"$f":"IF('Growth - AC'!B19=\"\",\"\",'Growth - AC'!B19 * 7)","v":""},{"$f":"IF('Growth - AC'!C19=\"\",\"\",'Growth - AC'!C19)","v":""},{"$f":"IF('Growth - AC'!D19=\"\",\"\",'Growth - AC'!D19)","v":""},{"$f":"IF('Growth - AC'!E19=\"\",\"\",'Growth - AC'!E19)","v":""}]
[16,{"$f":"IF('Growth - AC'!B20=\"\",\"\",'Growth - AC'!B20 * 7)","v":""},{"$f":"IF('Growth - AC'!C20=\"\",\"\",'Growth - AC'!C20)","v":""},{"$f":"IF('Growth - AC'!D20=\"\",\"\",'Growth - AC'!D20)","v":""},{"$f":"IF('Growth - AC'!E20=\"\",\"\",'Growth - AC'!E20)","v":""}]
[17,{"$f":"IF('Growth - AC'!B21=\"\",\"\",'Growth - AC'!B21 * 7)","v":""},{"$f":"IF('Growth - AC'!C21=\"\",\"\",'Growth - AC'!C21)","v":""},{"$f":"IF('Growth - AC'!D21=\"\",\"\",'Growth - AC'!D21)","v":""},{"$f":"IF('Growth - AC'!E21=\"\",\"\",'Growth - AC'!E21)","v":""}]
[18,{"$f":"IF('Growth - AC'!B22=\"\",\"\",'Growth - AC'!B22 * 7)","v":""},{"$f":"IF('Growth - AC'!C22=\"\",\"\",'Growth - AC'!C22)","v":""},{"$f":"IF('Growth - AC'!D22=\"\",\"\",'Growth - AC'!D22)","v":""},{"$f":"IF('Growth - AC'!E22=\"\",\"\",'Growth - AC'!E22)","v":""}]
[19,{"$f":"IF('Growth - AC'!B23=\"\",\"\",'Growth - AC'!B23 * 7)","v":""},{"$f":"IF('Growth - AC'!C23=\"\",\"\",'Growth - AC'!C23)","v":""},{"$f":"IF('Growth - AC'!D23=\"\",\"\",'Growth - AC'!D23)","v":""},{"$f":"IF('Growth - AC'!E23=\"\",\"\",'Growth - AC'!E23)","v":""}]
[20,{"$f":"IF('Growth - AC'!B24=\"\",\"\",'Growth - AC'!B24 * 7)","v":""},{"$f":"IF('Growth - AC'!C24=\"\",\"\",'Growth - AC'!C24)","v":""},{"$f":"IF('Growth - AC'!D24=\"\",\"\",'Growth - AC'!D24)","v":""},{"$f":"IF('Growth - AC'!E24=\"\",\"\",'Growth - AC'!E24)","v":""}]
[21,{"$f":"IF('Growth - AC'!B25=\"\",\"\",'Growth - AC'!B25 * 7)","v":""},{"$f":"IF('Growth - AC'!C25=\"\",\"\",'Growth - AC'!C25)","v":""},{"$f":"IF('Growth - AC'!D25=\"\",\"\",'Growth - AC'!D25)","v":""},{"$f":"IF('Growth - AC'!E25=\"\",\"\",'Growth - AC'!E25)","v":""}]
[22,{"$f":"IF('Growth - AC'!B26=\"\",\"\",'Growth - AC'!B26 * 7)","v":""},{"$f":"IF('Growth - AC'!C26=\"\",\"\",'Growth - AC'!C26)","v":""},{"$f":"IF('Growth - AC'!D26=\"\",\"\",'Growth - AC'!D26)","v":""},{"$f":"IF('Growth - AC'!E26=\"\",\"\",'Growth - AC'!E26)","v":""}]
[23,{"$f":"IF('Growth - AC'!B27=\"\",\"\",'Growth - AC'!B27 * 7)","v":""},{"$f":"IF('Growth - AC'!C27=\"\",\"\",'Growth - AC'!C27)","v":""},{"$f":"IF('Growth - AC'!D27=\"\",\"\",'Growth - AC'!D27)","v":""},{"$f":"IF('Growth - AC'!E27=\"\",\"\",'Growth - AC'!E27)","v":""}]
[24,{"$f":"IF('Growth - AC'!B28=\"\",\"\",'Growth - AC'!B28 * 7)","v":""},{"$f":"IF('Growth - AC'!C28=\"\",\"\",'Growth - AC'!C28)","v":""},{"$f":"IF('Growth - AC'!D28=\"\",\"\",'Growth - AC'!D28)","v":""},{"$f":"IF('Growth - AC'!E28=\"\",\"\",'Growth - AC'!E28)","v":""}]
[25,{"$f":"IF('Growth - AC'!B29=\"\",\"\",'Growth - AC'!B29 * 7)","v":""},{"$f":"IF('Growth - AC'!C29=\"\",\"\",'Growth - AC'!C29)","v":""},{"$f":"IF('Growth - AC'!D29=\"\",\"\",'Growth - AC'!D29)","v":""},{"$f":"IF('Growth - AC'!E29=\"\",\"\",'Growth - AC'!E29)","v":""}]
[26,{"$f":"IF('Growth - AC'!B30=\"\",\"\",'Growth - AC'!B30 * 7)","v":""},{"$f":"IF('Growth - AC'!C30=\"\",\"\",'Growth - AC'!C30)","v":""},{"$f":"IF('Growth - AC'!D30=\"\",\"\",'Growth - AC'!D30)","v":""},{"$f":"IF('Growth - AC'!E30=\"\",\"\",'Growth - AC'!E30)","v":""}]
[27,{"$f":"IF('Growth - AC'!B31=\"\",\"\",'Growth - AC'!B31 * 7)","v":""},{"$f":"IF('Growth - AC'!C31=\"\",\"\",'Growth - AC'!C31)","v":""},{"$f":"IF('Growth - AC'!D31=\"\",\"\",'Growth - AC'!D31)","v":""},{"$f":"IF('Growth - AC'!E31=\"\",\"\",'Growth - AC'!E31)","v":""}]
[28,{"$f":"IF('Growth - AC'!B32=\"\",\"\",'Growth - AC'!B32 * 7)","v":""},{"$f":"IF('Growth - AC'!C32=\"\",\"\",'Growth - AC'!C32)","v":""},{"$f":"IF('Growth - AC'!D32=\"\",\"\",'Growth - AC'!D32)","v":""},{"$f":"IF('Growth - AC'!E32=\"\",\"\",'Growth - AC'!E32)","v":""}]
[29,{"$f":"IF('Growth - AC'!B33=\"\",\"\",'Growth - AC'!B33 * 7)","v":""},{"$f":"IF('Growth - AC'!C33=\"\",\"\",'Growth - AC'!C33)","v":""},{"$f":"IF('Growth - AC'!D33=\"\",\"\",'Growth - AC'!D33)","v":""},{"$f":"IF('Growth - AC'!E33=\"\",\"\",'Growth - AC'!E33)","v":""}]
[30,{"$f":"IF('Growth - AC'!B34=\"\",\"\",'Growth - AC'!B34 * 7)","v":""},{"$f":"IF('Growth - AC'!C34=\"\",\"\",'Growth - AC'!C34)","v":""},{"$f":"IF('Growth - AC'!D34=\"\",\"\",'Growth - AC'!D34)","v":""},{"$f":"IF('Growth - AC'!E34=\"\",\"\",'Growth - AC'!E34)","v":""}]
[31,{"$f":"IF('Growth - AC'!B35=\"\",\"\",'Growth - AC'!B35 * 7)","v":""},{"$f":"IF('Growth - AC'!C35=\"\",\"\",'Growth - AC'!C35)","v":""},{"$f":"IF('Growth - AC'!D35=\"\",\"\",'Growth - AC'!D35)","v":""},{"$f":"IF('Growth - AC'!E35=\"\",\"\",'Growth - AC'!E35)","v":""}]
[32,{"$f":"IF('Growth - AC'!B36=\"\",\"\",'Growth - AC'!B36 * 7)","v":""},{"$f":"IF('Growth - AC'!C36=\"\",\"\",'Growth - AC'!C36)","v":""},{"$f":"IF('Growth - AC'!D36=\"\",\"\",'Growth - AC'!D36)","v":""},{"$f":"IF('Growth - AC'!E36=\"\",\"\",'Growth - AC'!E36)","v":""}]
[33,{"$f":"IF('Growth - AC'!B37=\"\",\"\",'Growth - AC'!B37 * 7)","v":""},{"$f":"IF('Growth - AC'!C37=\"\",\"\",'Growth - AC'!C37)","v":""},{"$f":"IF('Growth - AC'!D37=\"\",\"\",'Growth - AC'!D37)","v":""},{"$f":"IF('Growth - AC'!E37=\"\",\"\",'Growth - AC'!E37)","v":""}]
[34,{"$f":"IF('Growth - AC'!B38=\"\",\"\",'Growth - AC'!B38 * 7)","v":""},{"$f":"IF('Growth - AC'!C38=\"\",\"\",'Growth - AC'!C38)","v":""},{"$f":"IF('Growth - AC'!D38=\"\",\"\",'Growth - AC'!D38)","v":""},{"$f":"IF('Growth - AC'!E38=\"\",\"\",'Growth - AC'!E38)","v":""}]
[35,{"$f":"IF('Growth - AC'!B39=\"\",\"\",'Growth - AC'!B39 * 7)","v":""},{"$f":"IF('Growth - AC'!C39=\"\",\"\",'Growth - AC'!C39)","v":""},{"$f":"IF('Growth - AC'!D39=\"\",\"\",'Growth - AC'!D39)","v":""},{"$f":"IF('Growth - AC'!E39=\"\",\"\",'Growth - AC'!E39)","v":""}]
[36,{"$f":"IF('Growth - AC'!B40=\"\",\"\",'Growth - AC'!B40 * 7)","v":""},{"$f":"IF('Growth - AC'!C40=\"\",\"\",'Growth - AC'!C40)","v":""},{"$f":"IF('Growth - AC'!D40=\"\",\"\",'Growth - AC'!D40)","v":""},{"$f":"IF('Growth - AC'!E40=\"\",\"\",'Growth - AC'!E40)","v":""}]
[37,{"$f":"IF('Growth - AC'!B41=\"\",\"\",'Growth - AC'!B41 * 7)","v":""},{"$f":"IF('Growth - AC'!C41=\"\",\"\",'Growth - AC'!C41)","v":""},{"$f":"IF('Growth - AC'!D41=\"\",\"\",'Growth - AC'!D41)","v":""},{"$f":"IF('Growth - AC'!E41=\"\",\"\",'Growth - AC'!E41)","v":""}]
[38,{"$f":"IF('Growth - AC'!B42=\"\",\"\",'Growth - AC'!B42 * 7)","v":""},{"$f":"IF('Growth - AC'!C42=\"\",\"\",'Growth - AC'!C42)","v":""},{"$f":"IF('Growth - AC'!D42=\"\",\"\",'Growth - AC'!D42)","v":""},{"$f":"IF('Growth - AC'!E42=\"\",\"\",'Growth - AC'!E42)","v":""}]
[39,{"$f":"IF('Growth - AC'!B43=\"\",\"\",'Growth - AC'!B43 * 7)","v":""},{"$f":"IF('Growth - AC'!C43=\"\",\"\",'Growth - AC'!C43)","v":""},{"$f":"IF('Growth - AC'!D43=\"\",\"\",'Growth - AC'!D43)","v":""},{"$f":"IF('Growth - AC'!E43=\"\",\"\",'Growth - AC'!E43)","v":""}]
[40,{"$f":"IF('Growth - AC'!B44=\"\",\"\",'Growth - AC'!B44 * 7)","v":""},{"$f":"IF('Growth - AC'!C44=\"\",\"\",'Growth - AC'!C44)","v":""},{"$f":"IF('Growth - AC'!D44=\"\",\"\",'Growth - AC'!D44)","v":""},{"$f":"IF('Growth - AC'!E44=\"\",\"\",'Growth - AC'!E44)","v":""}]
[41,{"$f":"IF('Growth - AC'!B45=\"\",\"\",'Growth - AC'!B45 * 7)","v":""},{"$f":"IF('Growth - AC'!C45=\"\",\"\",'Growth - AC'!C45)","v":""},{"$f":"IF('Growth - AC'!D45=\"\",\"\",'Growth - AC'!D45)","v":""},{"$f":"IF('Growth - AC'!E45=\"\",\"\",'Growth - AC'!E45)","v":""}]
[42,{"$f":"IF('Growth - AC'!B46=\"\",\"\",'Growth - AC'!B46 * 7)","v":""},{"$f":"IF('Growth - AC'!C46=\"\",\"\",'Growth - AC'!C46)","v":""},{"$f":"IF('Growth - AC'!D46=\"\",\"\",'Growth - AC'!D46)","v":""},{"$f":"IF('Growth - AC'!E46=\"\",\"\",'Growth - AC'!E46)","v":""}]
[43,{"$f":"IF('Growth - AC'!B47=\"\",\"\",'Growth - AC'!B47 * 7)","v":""},{"$f":"IF('Growth - AC'!C47=\"\",\"\",'Growth - AC'!C47)","v":""},{"$f":"IF('Growth - AC'!D47=\"\",\"\",'Growth - AC'!D47)","v":""},{"$f":"IF('Growth - AC'!E47=\"\",\"\",'Growth - AC'!E47)","v":""}]
[44,{"$f":"IF('Growth - AC'!B48=\"\",\"\",'Growth - AC'!B48 * 7)","v":""},{"$f":"IF('Growth - AC'!C48=\"\",\"\",'Growth - AC'!C48)","v":""},{"$f":"IF('Growth - AC'!D48=\"\",\"\",'Growth - AC'!D48)","v":""},{"$f":"IF('Growth - AC'!E48=\"\",\"\",'Growth - AC'!E48)","v":""}]
[45,{"$f":"IF('Growth - AC'!B49=\"\",\"\",'Growth - AC'!B49 * 7)","v":""},{"$f":"IF('Growth - AC'!C49=\"\",\"\",'Growth - AC'!C49)","v":""},{"$f":"IF('Growth - AC'!D49=\"\",\"\",'Growth - AC'!D49)","v":""},{"$f":"IF('Growth - AC'!E49=\"\",\"\",'Growth - AC'!E49)","v":""}]
[46,{"$f":"IF('Growth - AC'!B50=\"\",\"\",'Growth - AC'!B50 * 7)","v":""},{"$f":"IF('Growth - AC'!C50=\"\",\"\",'Growth - AC'!C50)","v":""},{"$f":"IF('Growth - AC'!D50=\"\",\"\",'Growth - AC'!D50)","v":""},{"$f":"IF('Growth - AC'!E50=\"\",\"\",'Growth - AC'!E50)","v":""}]
[47,{"$f":"IF('Growth - AC'!B51=\"\",\"\",'Growth - AC'!B51 * 7)","v":""},{"$f":"IF('Growth - AC'!C51=\"\",\"\",'Growth - AC'!C51)","v":""},{"$f":"IF('Growth - AC'!D51=\"\",\"\",'Growth - AC'!D51)","v":""},{"$f":"IF('Growth - AC'!E51=\"\",\"\",'Growth - AC'!E51)","v":""}]
[48,{"$f":"IF('Growth - AC'!B52=\"\",\"\",'Growth - AC'!B52 * 7)","v":""},{"$f":"IF('Growth - AC'!C52=\"\",\"\",'Growth - AC'!C52)","v":""},{"$f":"IF('Growth - AC'!D52=\"\",\"\",'Growth - AC'!D52)","v":""},{"$f":"IF('Growth - AC'!E52=\"\",\"\",'Growth - AC'!E52)","v":""}]
[49,{"$f":"IF('Growth - AC'!B53=\"\",\"\",'Growth - AC'!B53 * 7)","v":""},{"$f":"IF('Growth - AC'!C53=\"\",\"\",'Growth - AC'!C53)","v":""},{"$f":"IF('Growth - AC'!D53=\"\",\"\",'Growth - AC'!D53)","v":""},{"$f":"IF('Growth - AC'!E53=\"\",\"\",'Growth - AC'!E53)","v":""}]
[50,{"$f":"IF('Growth - AC'!B54=\"\",\"\",'Growth - AC'!B54 * 7)","v":""},{"$f":"IF('Growth - AC'!C54=\"\",\"\",'Growth - AC'!C54)","v":""},{"$f":"IF('Growth - AC'!D54=\"\",\"\",'Growth - AC'!D54)","v":""},{"$f":"IF('Growth - AC'!E54=\"\",\"\",'Growth - AC'!E54)","v":""}]
[51,{"$f":"IF('Growth - AC'!B55=\"\",\"\",'Growth - AC'!B55 * 7)","v":""},{"$f":"IF('Growth - AC'!C55=\"\",\"\",'Growth - AC'!C55)","v":""},{"$f":"IF('Growth - AC'!D55=\"\",\"\",'Growth - AC'!D55)","v":""},{"$f":"IF('Growth - AC'!E55=\"\",\"\",'Growth - AC'!E55)","v":""}]
[52,{"$f":"IF('Growth - AC'!B56=\"\",\"\",'Growth - AC'!B56 * 7)","v":""},{"$f":"IF('Growth - AC'!C56=\"\",\"\",'Growth - AC'!C56)","v":""},{"$f":"IF('Growth - AC'!D56=\"\",\"\",'Growth - AC'!D56)","v":""},{"$f":"IF('Growth - AC'!E56=\"\",\"\",'Growth - AC'!E56)","v":""}]
[53,{"$f":"IF('Growth - AC'!B57=\"\",\"\",'Growth - AC'!B57 * 7)","v":""},{"$f":"IF('Growth - AC'!C57=\"\",\"\",'Growth - AC'!C57)","v":""},{"$f":"IF('Growth - AC'!D57=\"\",\"\",'Growth - AC'!D57)","v":""},{"$f":"IF('Growth - AC'!E57=\"\",\"\",'Growth - AC'!E57)","v":""}]
[54,{"$f":"IF('Growth - AC'!B58=\"\",\"\",'Growth - AC'!B58 * 7)","v":""},{"$f":"IF('Growth - AC'!C58=\"\",\"\",'Growth - AC'!C58)","v":""},{"$f":"IF('Growth - AC'!D58=\"\",\"\",'Growth - AC'!D58)","v":""},{"$f":"IF('Growth - AC'!E58=\"\",\"\",'Growth - AC'!E58)","v":""}]
[55,{"$f":"IF('Growth - AC'!B59=\"\",\"\",'Growth - AC'!B59 * 7)","v":""},{"$f":"IF('Growth - AC'!C59=\"\",\"\",'Growth - AC'!C59)","v":""},{"$f":"IF('Growth - AC'!D59=\"\",\"\",'Growth - AC'!D59)","v":""},{"$f":"IF('Growth - AC'!E59=\"\",\"\",'Growth - AC'!E59)","v":""}]
[56,{"$f":"IF('Growth - AC'!B60=\"\",\"\",'Growth - AC'!B60 * 7)","v":""},{"$f":"IF('Growth - AC'!C60=\"\",\"\",'Growth - AC'!C60)","v":""},{"$f":"IF('Growth - AC'!D60=\"\",\"\",'Growth - AC'!D60)","v":""},{"$f":"IF('Growth - AC'!E60=\"\",\"\",'Growth - AC'!E60)","v":""}]
[57,{"$f":"IF('Growth - AC'!B61=\"\",\"\",'Growth - AC'!B61 * 7)","v":""},{"$f":"IF('Growth - AC'!C61=\"\",\"\",'Growth - AC'!C61)","v":""},{"$f":"IF('Growth - AC'!D61=\"\",\"\",'Growth - AC'!D61)","v":""},{"$f":"IF('Growth - AC'!E61=\"\",\"\",'Growth - AC'!E61)","v":""}]
[58,{"$f":"IF('Growth - AC'!B62=\"\",\"\",'Growth - AC'!B62 * 7)","v":""},{"$f":"IF('Growth - AC'!C62=\"\",\"\",'Growth - AC'!C62)","v":""},{"$f":"IF('Growth - AC'!D62=\"\",\"\",'Growth - AC'!D62)","v":""},{"$f":"IF('Growth - AC'!E62=\"\",\"\",'Growth - AC'!E62)","v":""}]
[59,{"$f":"IF('Growth - AC'!B63=\"\",\"\",'Growth - AC'!B63 * 7)","v":""},{"$f":"IF('Growth - AC'!C63=\"\",\"\",'Growth - AC'!C63)","v":""},{"$f":"IF('Growth - AC'!D63=\"\",\"\",'Growth - AC'!D63)","v":""},{"$f":"IF('Growth - AC'!E63=\"\",\"\",'Growth - AC'!E63)","v":""}]
[60,{"$f":"IF('Growth - AC'!B64=\"\",\"\",'Growth - AC'!B64 * 7)","v":""},{"$f":"IF('Growth - AC'!C64=\"\",\"\",'Growth - AC'!C64)","v":""},{"$f":"IF('Growth - AC'!D64=\"\",\"\",'Growth - AC'!D64)","v":""},{"$f":"IF('Growth - AC'!E64=\"\",\"\",'Growth - AC'!E64)","v":""}]
[61,{"$f":"IF('Growth - AC'!B65=\"\",\"\",'Growth - AC'!B65 * 7)","v":""},{"$f":"IF('Growth - AC'!C65=\"\",\"\",'Growth - AC'!C65)","v":""},{"$f":"IF('Growth - AC'!D65=\"\",\"\",'Growth - AC'!D65)","v":""},{"$f":"IF('Growth - AC'!E65=\"\",\"\",'Growth - AC'!E65)","v":""}]
[62,{"$f":"IF('Growth - AC'!B66=\"\",\"\",'Growth - AC'!B66 * 7)","v":""},{"$f":"IF('Growth - AC'!C66=\"\",\"\",'Growth - AC'!C66)","v":""},{"$f":"IF('Growth - AC'!D66=\"\",\"\",'Growth - AC'!D66)","v":""},{"$f":"IF('Growth - AC'!E66=\"\",\"\",'Growth - AC'!E66)","v":""}]
[63,{"$f":"IF('Growth - AC'!B67=\"\",\"\",'Growth - AC'!B67 * 7)","v":""},{"$f":"IF('Growth - AC'!C67=\"\",\"\",'Growth - AC'!C67)","v":""},{"$f":"IF('Growth - AC'!D67=\"\",\"\",'Growth - AC'!D67)","v":""},{"$f":"IF('Growth - AC'!E67=\"\",\"\",'Growth - AC'!E67)","v":""}]
[64,{"$f":"IF('Growth - AC'!B68=\"\",\"\",'Growth - AC'!B68 * 7)","v":""},{"$f":"IF('Growth - AC'!C68=\"\",\"\",'Growth - AC'!C68)","v":""},{"$f":"IF('Growth - AC'!D68=\"\",\"\",'Growth - AC'!D68)","v":""},{"$f":"IF('Growth - AC'!E68=\"\",\"\",'Growth - AC'!E68)","v":""}]
[65,{"$f":"IF('Growth - AC'!B69=\"\",\"\",'Growth - AC'!B69 * 7)","v":""},{"$f":"IF('Growth - AC'!C69=\"\",\"\",'Growth - AC'!C69)","v":""},{"$f":"IF('Growth - AC'!D69=\"\",\"\",'Growth - AC'!D69)","v":""},{"$f":"IF('Growth - AC'!E69=\"\",\"\",'Growth - AC'!E69)","v":""}]
[66,{"$f":"IF('Growth - AC'!B70=\"\",\"\",'Growth - AC'!B70 * 7)","v":""},{"$f":"IF('Growth - AC'!C70=\"\",\"\",'Growth - AC'!C70)","v":""},{"$f":"IF('Growth - AC'!D70=\"\",\"\",'Growth - AC'!D70)","v":""},{"$f":"IF('Growth - AC'!E70=\"\",\"\",'Growth - AC'!E70)","v":""}]
[67,{"$f":"IF('Growth - AC'!B71=\"\",\"\",'Growth - AC'!B71 * 7)","v":""},{"$f":"IF('Growth - AC'!C71=\"\",\"\",'Growth - AC'!C71)","v":""},{"$f":"IF('Growth - AC'!D71=\"\",\"\",'Growth - AC'!D71)","v":""},{"$f":"IF('Growth - AC'!E71=\"\",\"\",'Growth - AC'!E71)","v":""}]
[68,{"$f":"IF('Growth - AC'!B72=\"\",\"\",'Growth - AC'!B72 * 7)","v":""},{"$f":"IF('Growth - AC'!C72=\"\",\"\",'Growth - AC'!C72)","v":""},{"$f":"IF('Growth - AC'!D72=\"\",\"\",'Growth - AC'!D72)","v":""},{"$f":"IF('Growth - AC'!E72=\"\",\"\",'Growth - AC'!E72)","v":""}]
[69,{"$f":"IF('Growth - AC'!B73=\"\",\"\",'Growth - AC'!B73 * 7)","v":""},{"$f":"IF('Growth - AC'!C73=\"\",\"\",'Growth - AC'!C73)","v":""},{"$f":"IF('Growth - AC'!D73=\"\",\"\",'Growth - AC'!D73)","v":""},{"$f":"IF('Growth - AC'!E73=\"\",\"\",'Growth - AC'!E73)","v":""}]
[70,{"$f":"IF('Growth - AC'!B74=\"\",\"\",'Growth - AC'!B74 * 7)","v":""},{"$f":"IF('Growth - AC'!C74=\"\",\"\",'Growth - AC'!C74)","v":""},{"$f":"IF('Growth - AC'!D74=\"\",\"\",'Growth - AC'!D74)","v":""},{"$f":"IF('Growth - AC'!E74=\"\",\"\",'Growth - AC'!E74)","v":""}]
[71,{"$f":"IF('Growth - AC'!B75=\"\",\"\",'Growth - AC'!B75 * 7)","v":""},{"$f":"IF('Growth - AC'!C75=\"\",\"\",'Growth - AC'!C75)","v":""},{"$f":"IF('Growth - AC'!D75=\"\",\"\",'Growth - AC'!D75)","v":""},{"$f":"IF('Growth - AC'!E75=\"\",\"\",'Growth - AC'!E75)","v":""}]
[72,{"$f":"IF('Growth - AC'!B76=\"\",\"\",'Growth - AC'!B76 * 7)","v":""},{"$f":"IF('Growth - AC'!C76=\"\",\"\",'Growth - AC'!C76)","v":""},{"$f":"IF('Growth - AC'!D76=\"\",\"\",'Growth - AC'!D76)","v":""},{"$f":"IF('Growth - AC'!E76=\"\",\"\",'Growth - AC'!E76)","v":""}]
[73,{"$f":"IF('Growth - AC'!B77=\"\",\"\",'Growth - AC'!B77 * 7)","v":""},{"$f":"IF('Growth - AC'!C77=\"\",\"\",'Growth - AC'!C77)","v":""},{"$f":"IF('Growth - AC'!D77=\"\",\"\",'Growth - AC'!D77)","v":""},{"$f":"IF('Growth - AC'!E77=\"\",\"\",'Growth - AC'!E77)","v":""}]
[74,{"$f":"IF('Growth - AC'!B78=\"\",\"\",'Growth - AC'!B78 * 7)","v":""},{"$f":"IF('Growth - AC'!C78=\"\",\"\",'Growth - AC'!C78)","v":""},{"$f":"IF('Growth - AC'!D78=\"\",\"\",'Growth - AC'!D78)","v":""},{"$f":"IF('Growth - AC'!E78=\"\",\"\",'Growth - AC'!E78)","v":""}]
[75,{"$f":"IF('Growth - AC'!B79=\"\",\"\",'Growth - AC'!B79 * 7)","v":""},{"$f":"IF('Growth - AC'!C79=\"\",\"\",'Growth - AC'!C79)","v":""},{"$f":"IF('Growth - AC'!D79=\"\",\"\",'Growth - AC'!D79)","v":""},{"$f":"IF('Growth - AC'!E79=\"\",\"\",'Growth - AC'!E79)","v":""}]
[76,{"$f":"IF('Growth - AC'!B80=\"\",\"\",'Growth - AC'!B80 * 7)","v":""},{"$f":"IF('Growth - AC'!C80=\"\",\"\",'Growth - AC'!C80)","v":""},{"$f":"IF('Growth - AC'!D80=\"\",\"\",'Growth - AC'!D80)","v":""},{"$f":"IF('Growth - AC'!E80=\"\",\"\",'Growth - AC'!E80)","v":""}]
[77,{"$f":"IF('Growth - AC'!B81=\"\",\"\",'Growth - AC'!B81 * 7)","v":""},{"$f":"IF('Growth - AC'!C81=\"\",\"\",'Growth - AC'!C81)","v":""},{"$f":"IF('Growth - AC'!D81=\"\",\"\",'Growth - AC'!D81)","v":""},{"$f":"IF('Growth - AC'!E81=\"\",\"\",'Growth - AC'!E81)","v":""}]
[78,{"$f":"IF('Growth - AC'!B82=\"\",\"\",'Growth - AC'!B82 * 7)","v":""},{"$f":"IF('Growth - AC'!C82=\"\",\"\",'Growth - AC'!C82)","v":""},{"$f":"IF('Growth - AC'!D82=\"\",\"\",'Growth - AC'!D82)","v":""},{"$f":"IF('Growth - AC'!E82=\"\",\"\",'Growth - AC'!E82)","v":""}]
[79,{"$f":"IF('Growth - AC'!B83=\"\",\"\",'Growth - AC'!B83 * 7)","v":""},{"$f":"IF('Growth - AC'!C83=\"\",\"\",'Growth - AC'!C83)","v":""},{"$f":"IF('Growth - AC'!D83=\"\",\"\",'Growth - AC'!D83)","v":""},{"$f":"IF('Growth - AC'!E83=\"\",\"\",'Growth - AC'!E83)","v":""}]
[80,{"$f":"IF('Growth - AC'!B84=\"\",\"\",'Growth - AC'!B84 * 7)","v":""},{"$f":"IF('Growth - AC'!C84=\"\",\"\",'Growth - AC'!C84)","v":""},{"$f":"IF('Growth - AC'!D84=\"\",\"\",'Growth - AC'!D84)","v":""},{"$f":"IF('Growth - AC'!E84=\"\",\"\",'Growth - AC'!E84)","v":""}]
[81,{"$f":"IF('Growth - AC'!B85=\"\",\"\",'Growth - AC'!B85 * 7)","v":""},{"$f":"IF('Growth - AC'!C85=\"\",\"\",'Growth - AC'!C85)","v":""},{"$f":"IF('Growth - AC'!D85=\"\",\"\",'Growth - AC'!D85)","v":""},{"$f":"IF('Growth - AC'!E85=\"\",\"\",'Growth - AC'!E85)","v":""}]
[82,{"$f":"IF('Growth - AC'!B86=\"\",\"\",'Growth - AC'!B86 * 7)","v":""},{"$f":"IF('Growth - AC'!C86=\"\",\"\",'Growth - AC'!C86)","v":""},{"$f":"IF('Growth - AC'!D86=\"\",\"\",'Growth - AC'!D86)","v":""},{"$f":"IF('Growth - AC'!E86=\"\",\"\",'Growth - AC'!E86)","v":""}]
[83,{"$f":"IF('Growth - AC'!B87=\"\",\"\",'Growth - AC'!B87 * 7)","v":""},{"$f":"IF('Growth - AC'!C87=\"\",\"\",'Growth - AC'!C87)","v":""},{"$f":"IF('Growth - AC'!D87=\"\",\"\",'Growth - AC'!D87)","v":""},{"$f":"IF('Growth - AC'!E87=\"\",\"\",'Growth - AC'!E87)","v":""}]
[84,{"$f":"IF('Growth - AC'!B88=\"\",\"\",'Growth - AC'!B88 * 7)","v":""},{"$f":"IF('Growth - AC'!C88=\"\",\"\",'Growth - AC'!C88)","v":""},{"$f":"IF('Growth - AC'!D88=\"\",\"\",'Growth - AC'!D88)","v":""},{"$f":"IF('Growth - AC'!E88=\"\",\"\",'Growth - AC'!E88)","v":""}]
[85,{"$f":"IF('Growth - AC'!B89=\"\",\"\",'Growth - AC'!B89 * 7)","v":""},{"$f":"IF('Growth - AC'!C89=\"\",\"\",'Growth - AC'!C89)","v":""},{"$f":"IF('Growth - AC'!D89=\"\",\"\",'Growth - AC'!D89)","v":""},{"$f":"IF('Growth - AC'!E89=\"\",\"\",'Growth - AC'!E89)","v":""}]
[86,{"$f":"IF('Growth - AC'!B90=\"\",\"\",'Growth - AC'!B90 * 7)","v":""},{"$f":"IF('Growth - AC'!C90=\"\",\"\",'Growth - AC'!C90)","v":""},{"$f":"IF('Growth - AC'!D90=\"\",\"\",'Growth - AC'!D90)","v":""},{"$f":"IF('Growth - AC'!E90=\"\",\"\",'Growth - AC'!E90)","v":""}]
[87,{"$f":"IF('Growth - AC'!B91=\"\",\"\",'Growth - AC'!B91 * 7)","v":""},{"$f":"IF('Growth - AC'!C91=\"\",\"\",'Growth - AC'!C91)","v":""},{"$f":"IF('Growth - AC'!D91=\"\",\"\",'Growth - AC'!D91)","v":""},{"$f":"IF('Growth - AC'!E91=\"\",\"\",'Growth - AC'!E91)","v":""}]
[88,{"$f":"IF('Growth - AC'!B92=\"\",\"\",'Growth - AC'!B92 * 7)","v":""},{"$f":"IF('Growth - AC'!C92=\"\",\"\",'Growth - AC'!C92)","v":""},{"$f":"IF('Growth - AC'!D92=\"\",\"\",'Growth - AC'!D92)","v":""},{"$f":"IF('Growth - AC'!E92=\"\",\"\",'Growth - AC'!E92)","v":""}]
[89,{"$f":"IF('Growth - AC'!B93=\"\",\"\",'Growth - AC'!B93 * 7)","v":""},{"$f":"IF('Growth - AC'!C93=\"\",\"\",'Growth - AC'!C93)","v":""},{"$f":"IF('Growth - AC'!D93=\"\",\"\",'Growth - AC'!D93)","v":""},{"$f":"IF('Growth - AC'!E93=\"\",\"\",'Growth - AC'!E93)","v":""}]
[90,{"$f":"IF('Growth - AC'!B94=\"\",\"\",'Growth - AC'!B94 * 7)","v":""},{"$f":"IF('Growth - AC'!C94=\"\",\"\",'Growth - AC'!C94)","v":""},{"$f":"IF('Growth - AC'!D94=\"\",\"\",'Growth - AC'!D94)","v":""},{"$f":"IF('Growth - AC'!E94=\"\",\"\",'Growth - AC'!E94)","v":""}]
[91,{"$f":"IF('Growth - AC'!B95=\"\",\"\",'Growth - AC'!B95 * 7)","v":""},{"$f":"IF('Growth - AC'!C95=\"\",\"\",'Growth - AC'!C95)","v":""},{"$f":"IF('Growth - AC'!D95=\"\",\"\",'Growth - AC'!D95)","v":""},{"$f":"IF('Growth - AC'!E95=\"\",\"\",'Growth - AC'!E95)","v":""}]
[92,{"$f":"IF('Growth - AC'!B96=\"\",\"\",'Growth - AC'!B96 * 7)","v":""},{"$f":"IF('Growth - AC'!C96=\"\",\"\",'Growth - AC'!C96)","v":""},{"$f":"IF('Growth - AC'!D96=\"\",\"\",'Growth - AC'!D96)","v":""},{"$f":"IF('Growth - AC'!E96=\"\",\"\",'Growth - AC'!E96)","v":""}]
[93,{"$f":"IF('Growth - AC'!B97=\"\",\"\",'Growth - AC'!B97 * 7)","v":""},{"$f":"IF('Growth - AC'!C97=\"\",\"\",'Growth - AC'!C97)","v":""},{"$f":"IF('Growth - AC'!D97=\"\",\"\",'Growth - AC'!D97)","v":""},{"$f":"IF('Growth - AC'!E97=\"\",\"\",'Growth - AC'!E97)","v":""}]
[94,{"$f":"IF('Growth - AC'!B98=\"\",\"\",'Growth - AC'!B98 * 7)","v":""},{"$f":"IF('Growth - AC'!C98=\"\",\"\",'Growth - AC'!C98)","v":""},{"$f":"IF('Growth - AC'!D98=\"\",\"\",'Growth - AC'!D98)","v":""},{"$f":"IF('Growth - AC'!E98=\"\",\"\",'Growth - AC'!E98)","v":""}]
[95,{"$f":"IF('Growth - AC'!B99=\"\",\"\",'Growth - AC'!B99 * 7)","v":""},{"$f":"IF('Growth - AC'!C99=\"\",\"\",'Growth - AC'!C99)","v":""},{"$f":"IF('Growth - AC'!D99=\"\",\"\",'Growth - AC'!D99)","v":""},{"$f":"IF('Growth - AC'!E99=\"\",\"\",'Growth - AC'!E99)","v":""}]
[96,{"$f":"IF('Growth - AC'!B100=\"\",\"\",'Growth - AC'!B100 * 7)","v":""},{"$f":"IF('Growth - AC'!C100=\"\",\"\",'Growth - AC'!C100)","v":""},{"$f":"IF('Growth - AC'!D100=\"\",\"\",'Growth - AC'!D100)","v":""},{"$f":"IF('Growth - AC'!E100=\"\",\"\",'Growth - AC'!E100)","v":""}]
[97,{"$f":"IF('Growth - AC'!B101=\"\",\"\",'Growth - AC'!B101 * 7)","v":""},{"$f":"IF('Growth - AC'!C101=\"\",\"\",'Growth - AC'!C101)","v":""},{"$f":"IF('Growth - AC'!D101=\"\",\"\",'Growth - AC'!D101)","v":""},{"$f":"IF('Growth - AC'!E101=\"\",\"\",'Growth - AC'!E101)","v":""}]
[98,{"$f":"IF('Growth - AC'!B102=\"\",\"\",'Growth - AC'!B102 * 7)","v":""},{"$f":"IF('Growth - AC'!C102=\"\",\"\",'Growth - AC'!C102)","v":""},{"$f":"IF('Growth - AC'!D102=\"\",\"\",'Growth - AC'!D102)","v":""},{"$f":"IF('Growth - AC'!E102=\"\",\"\",'Growth - AC'!E102)","v":""}]
[99,{"$f":"IF('Growth - AC'!B103=\"\",\"\",'Growth - AC'!B103 * 7)","v":""},{"$f":"IF('Growth - AC'!C103=\"\",\"\",'Growth - AC'!C103)","v":""},{"$f":"IF('Growth - AC'!D103=\"\",\"\",'Growth - AC'!D103)","v":""},{"$f":"IF('Growth - AC'!E103=\"\",\"\",'Growth - AC'!E103)","v":""}]
[100,{"$f":"IF('Growth - AC'!B104=\"\",\"\",'Growth - AC'!B104 * 7)","v":""},{"$f":"IF('Growth - AC'!C104=\"\",\"\",'Growth - AC'!C104)","v":""},{"$f":"IF('Growth - AC'!D104=\"\",\"\",'Growth - AC'!D104)","v":""},{"$f":"IF('Growth - AC'!E104=\"\",\"\",'Growth - AC'!E104)","v":""}]
[101,{"$f":"IF('Growth - AC'!B105=\"\",\"\",'Growth - AC'!B105 * 7)","v":""},{"$f":"IF('Growth - AC'!C105=\"\",\"\",'Growth - AC'!C105)","v":""},{"$f":"IF('Growth - AC'!D105=\"\",\"\",'Growth - AC'!D105)","v":""},{"$f":"IF('Growth - AC'!E105=\"\",\"\",'Growth - AC'!E105)","v":""}]
[102,{"$f":"IF('Growth - AC'!B106=\"\",\"\",'Growth - AC'!B106 * 7)","v":""},{"$f":"IF('Growth - AC'!C106=\"\",\"\",'Growth - AC'!C106)","v":""},{"$f":"IF('Growth - AC'!D106=\"\",\"\",'Growth - AC'!D106)","v":""},{"$f":"IF('Growth - AC'!E106=\"\",\"\",'Growth - AC'!E106)","v":""}]
[103,{"$f":"IF('Growth - AC'!B107=\"\",\"\",'Growth - AC'!B107 * 7)","v":""},{"$f":"IF('Growth - AC'!C107=\"\",\"\",'Growth - AC'!C107)","v":""},{"$f":"IF('Growth - AC'!D107=\"\",\"\",'Growth - AC'!D107)","v":""},{"$f":"IF('Growth - AC'!E107=\"\",\"\",'Growth - AC'!E107)","v":""}]
[104,{"$f":"IF('Growth - AC'!B108=\"\",\"\",'Growth - AC'!B108 * 7)","v":""},{"$f":"IF('Growth - AC'!C108=\"\",\"\",'Growth - AC'!C108)","v":""},{"$f":"IF('Growth - AC'!D108=\"\",\"\",'Growth - AC'!D108)","v":""},{"$f":"IF('Growth - AC'!E108=\"\",\"\",'Growth - AC'!E108)","v":""}]
[105,{"$f":"IF('Growth - AC'!B109=\"\",\"\",'Growth - AC'!B109 * 7)","v":""},{"$f":"IF('Growth - AC'!C109=\"\",\"\",'Growth - AC'!C109)","v":""},{"$f":"IF('Growth - AC'!D109=\"\",\"\",'Growth - AC'!D109)","v":""},{"$f":"IF('Growth - AC'!E109=\"\",\"\",'Growth - AC'!E109)","v":""}]
[106,{"$f":"IF('Growth - AC'!B110=\"\",\"\",'Growth - AC'!B110 * 7)","v":""},{"$f":"IF('Growth - AC'!C110=\"\",\"\",'Growth - AC'!C110)","v":""},{"$f":"IF('Growth - AC'!D110=\"\",\"\",'Growth - AC'!D110)","v":""},{"$f":"IF('Growth - AC'!E110=\"\",\"\",'Growth - AC'!E110)","v":""}]
[107,{"$f":"IF('Growth - AC'!B111=\"\",\"\",'Growth - AC'!B111 * 7)","v":""},{"$f":"IF('Growth - AC'!C111=\"\",\"\",'Growth - AC'!C111)","v":""},{"$f":"IF('Growth - AC'!D111=\"\",\"\",'Growth - AC'!D111)","v":""},{"$f":"IF('Growth - AC'!E111=\"\",\"\",'Growth - AC'!E111)","v":""}]
[108,{"$f":"IF('Growth - AC'!B112=\"\",\"\",'Growth - AC'!B112 * 7)","v":""},{"$f":"IF('Growth - AC'!C112=\"\",\"\",'Growth - AC'!C112)","v":""},{"$f":"IF('Growth - AC'!D112=\"\",\"\",'Growth - AC'!D112)","v":""},{"$f":"IF('Growth - AC'!E112=\"\",\"\",'Growth - AC'!E112)","v":""}]
[109,{"$f":"IF('Growth - AC'!B113=\"\",\"\",'Growth - AC'!B113 * 7)","v":""},{"$f":"IF('Growth - AC'!C113=\"\",\"\",'Growth - AC'!C113)","v":""},{"$f":"IF('Growth - AC'!D113=\"\",\"\",'Growth - AC'!D113)","v":""},{"$f":"IF('Growth - AC'!E113=\"\",\"\",'Growth - AC'!E113)","v":""}]
[110,{"$f":"IF('Growth - AC'!B114=\"\",\"\",'Growth - AC'!B114 * 7)","v":""},{"$f":"IF('Growth - AC'!C114=\"\",\"\",'Growth - AC'!C114)","v":""},{"$f":"IF('Growth - AC'!D114=\"\",\"\",'Growth - AC'!D114)","v":""},{"$f":"IF('Growth - AC'!E114=\"\",\"\",'Growth - AC'!E114)","v":""}]
[111,{"$f":"IF('Growth - AC'!B115=\"\",\"\",'Growth - AC'!B115 * 7)","v":""},{"$f":"IF('Growth - AC'!C115=\"\",\"\",'Growth - AC'!C115)","v":""},{"$f":"IF('Growth - AC'!D115=\"\",\"\",'Growth - AC'!D115)","v":""},{"$f":"IF('Growth - AC'!E115=\"\",\"\",'Growth - AC'!E115)","v":""}]
[112,{"$f":"IF('Growth - AC'!B116=\"\",\"\",'Growth - AC'!B116 * 7)","v":""},{"$f":"IF('Growth - AC'!C116=\"\",\"\",'Growth - AC'!C116)","v":""},{"$f":"IF('Growth - AC'!D116=\"\",\"\",'Growth - AC'!D116)","v":""},{"$f":"IF('Growth - AC'!E116=\"\",\"\",'Growth - AC'!E116)","v":""}]
[113,{"$f":"IF('Growth - AC'!B117=\"\",\"\",'Growth - AC'!B117 * 7)","v":""},{"$f":"IF('Growth - AC'!C117=\"\",\"\",'Growth - AC'!C117)","v":""},{"$f":"IF('Growth - AC'!D117=\"\",\"\",'Growth - AC'!D117)","v":""},{"$f":"IF('Growth - AC'!E117=\"\",\"\",'Growth - AC'!E117)","v":""}]
[114,{"$f":"IF('Growth - AC'!B118=\"\",\"\",'Growth - AC'!B118 * 7)","v":""},{"$f":"IF('Growth - AC'!C118=\"\",\"\",'Growth - AC'!C118)","v":""},{"$f":"IF('Growth - AC'!D118=\"\",\"\",'Growth - AC'!D118)","v":""},{"$f":"IF('Growth - AC'!E118=\"\",\"\",'Growth - AC'!E118)","v":""}]
[115,{"$f":"IF('Growth - AC'!B119=\"\",\"\",'Growth - AC'!B119 * 7)","v":""},{"$f":"IF('Growth - AC'!C119=\"\",\"\",'Growth - AC'!C119)","v":""},{"$f":"IF('Growth - AC'!D119=\"\",\"\",'Growth - AC'!D119)","v":""},{"$f":"IF('Growth - AC'!E119=\"\",\"\",'Growth - AC'!E119)","v":""}]
[116,{"$f":"IF('Growth - AC'!B120=\"\",\"\",'Growth - AC'!B120 * 7)","v":""},{"$f":"IF('Growth - AC'!C120=\"\",\"\",'Growth - AC'!C120)","v":""},{"$f":"IF('Growth - AC'!D120=\"\",\"\",'Growth - AC'!D120)","v":""},{"$f":"IF('Growth - AC'!E120=\"\",\"\",'Growth - AC'!E120)","v":""}]
[117,{"$f":"IF('Growth - AC'!B121=\"\",\"\",'Growth - AC'!B121 * 7)","v":""},{"$f":"IF('Growth - AC'!C121=\"\",\"\",'Growth - AC'!C121)","v":""},{"$f":"IF('Growth - AC'!D121=\"\",\"\",'Growth - AC'!D121)","v":""},{"$f":"IF('Growth - AC'!E121=\"\",\"\",'Growth - AC'!E121)","v":""}]
[118,{"$f":"IF('Growth - AC'!B122=\"\",\"\",'Growth - AC'!B122 * 7)","v":""},{"$f":"IF('Growth - AC'!C122=\"\",\"\",'Growth - AC'!C122)","v":""},{"$f":"IF('Growth - AC'!D122=\"\",\"\",'Growth - AC'!D122)","v":""},{"$f":"IF('Growth - AC'!E122=\"\",\"\",'Growth - AC'!E122)","v":""}]
[119,{"$f":"IF('Growth - AC'!B123=\"\",\"\",'Growth - AC'!B123 * 7)","v":""},{"$f":"IF('Growth - AC'!C123=\"\",\"\",'Growth - AC'!C123)","v":""},{"$f":"IF('Growth - AC'!D123=\"\",\"\",'Growth - AC'!D123)","v":""},{"$f":"IF('Growth - AC'!E123=\"\",\"\",'Growth - AC'!E123)","v":""}]
[120,{"$f":"IF('Growth - AC'!B124=\"\",\"\",'Growth - AC'!B124 * 7)","v":""},{"$f":"IF('Growth - AC'!C124=\"\",\"\",'Growth - AC'!C124)","v":""},{"$f":"IF('Growth - AC'!D124=\"\",\"\",'Growth - AC'!D124)","v":""},{"$f":"IF('Growth - AC'!E124=\"\",\"\",'Growth - AC'!E124)","v":""}]
[121,{"$f":"IF('Growth - AC'!B125=\"\",\"\",'Growth - AC'!B125 * 7)","v":""},{"$f":"IF('Growth - AC'!C125=\"\",\"\",'Growth - AC'!C125)","v":""},{"$f":"IF('Growth - AC'!D125=\"\",\"\",'Growth - AC'!D125)","v":""},{"$f":"IF('Growth - AC'!E125=\"\",\"\",'Growth - AC'!E125)","v":""}]
[122,{"$f":"IF('Growth - AC'!B126=\"\",\"\",'Growth - AC'!B126 * 7)","v":""},{"$f":"IF('Growth - AC'!C126=\"\",\"\",'Growth - AC'!C126)","v":""},{"$f":"IF('Growth - AC'!D126=\"\",\"\",'Growth - AC'!D126)","v":""},{"$f":"IF('Growth - AC'!E126=\"\",\"\",'Growth - AC'!E126)","v":""}]
[123,{"$f":"IF('Growth - AC'!B127=\"\",\"\",'Growth - AC'!B127 * 7)","v":""},{"$f":"IF('Growth - AC'!C127=\"\",\"\",'Growth - AC'!C127)","v":""},{"$f":"IF('Growth - AC'!D127=\"\",\"\",'Growth - AC'!D127)","v":""},{"$f":"IF('Growth - AC'!E127=\"\",\"\",'Growth - AC'!E127)","v":""}]
[124,{"$f":"IF('Growth - AC'!B128=\"\",\"\",'Growth - AC'!B128 * 7)","v":""},{"$f":"IF('Growth - AC'!C128=\"\",\"\",'Growth - AC'!C128)","v":""},{"$f":"IF('Growth - AC'!D128=\"\",\"\",'Growth - AC'!D128)","v":""},{"$f":"IF('Growth - AC'!E128=\"\",\"\",'Growth - AC'!E128)","v":""}]
[125,{"$f":"IF('Growth - AC'!B129=\"\",\"\",'Growth - AC'!B129 * 7)","v":""},{"$f":"IF('Growth - AC'!C129=\"\",\"\",'Growth - AC'!C129)","v":""},{"$f":"IF('Growth - AC'!D129=\"\",\"\",'Growth - AC'!D129)","v":""},{"$f":"IF('Growth - AC'!E129=\"\",\"\",'Growth - AC'!E129)","v":""}]
[126,{"$f":"IF('Growth - AC'!B130=\"\",\"\",'Growth - AC'!B130 * 7)","v":""},{"$f":"IF('Growth - AC'!C130=\"\",\"\",'Growth - AC'!C130)","v":""},{"$f":"IF('Growth - AC'!D130=\"\",\"\",'Growth - AC'!D130)","v":""},{"$f":"IF('Growth - AC'!E130=\"\",\"\",'Growth - AC'!E130)","v":""}]
[127,{"$f":"IF('Growth - AC'!B131=\"\",\"\",'Growth - AC'!B131 * 7)","v":""},{"$f":"IF('Growth - AC'!C131=\"\",\"\",'Growth - AC'!C131)","v":""},{"$f":"IF('Growth - AC'!D131=\"\",\"\",'Growth - AC'!D131)","v":""},{"$f":"IF('Growth - AC'!E131=\"\",\"\",'Growth - AC'!E131)","v":""}]
[128,{"$f":"IF('Growth - AC'!B132=\"\",\"\",'Growth - AC'!B132 * 7)","v":""},{"$f":"IF('Growth - AC'!C132=\"\",\"\",'Growth - AC'!C132)","v":""},{"$f":"IF('Growth - AC'!D132=\"\",\"\",'Growth - AC'!D132)","v":""},{"$f":"IF('Growth - AC'!E132=\"\",\"\",'Growth - AC'!E132)","v":""}]
[129,{"$f":"IF('Growth - AC'!B133=\"\",\"\",'Growth - AC'!B133 * 7)","v":""},{"$f":"IF('Growth - AC'!C133=\"\",\"\",'Growth - AC'!C133)","v":""},{"$f":"IF('Growth - AC'!D133=\"\",\"\",'Growth - AC'!D133)","v":""},{"$f":"IF('Growth - AC'!E133=\"\",\"\",'Growth - AC'!E133)","v":""}]
[130,{"$f":"IF('Growth - AC'!B134=\"\",\"\",'Growth - AC'!B134 * 7)","v":""},{"$f":"IF('Growth - AC'!C134=\"\",\"\",'Growth - AC'!C134)","v":""},{"$f":"IF('Growth - AC'!D134=\"\",\"\",'Growth - AC'!D134)","v":""},{"$f":"IF('Growth - AC'!E134=\"\",\"\",'Growth - AC'!E134)","v":""}]
[131,{"$f":"IF('Growth - AC'!B135=\"\",\"\",'Growth - AC'!B135 * 7)","v":""},{"$f":"IF('Growth - AC'!C135=\"\",\"\",'Growth - AC'!C135)","v":""},{"$f":"IF('Growth - AC'!D135=\"\",\"\",'Growth - AC'!D135)","v":""},{"$f":"IF('Growth - AC'!E135=\"\",\"\",'Growth - AC'!E135)","v":""}]
[132,{"$f":"IF('Growth - AC'!B136=\"\",\"\",'Growth - AC'!B136 * 7)","v":""},{"$f":"IF('Growth - AC'!C136=\"\",\"\",'Growth - AC'!C136)","v":""},{"$f":"IF('Growth - AC'!D136=\"\",\"\",'Growth - AC'!D136)","v":""},{"$f":"IF('Growth - AC'!E136=\"\",\"\",'Growth - AC'!E136)","v":""}]
[133,{"$f":"IF('Growth - AC'!B137=\"\",\"\",'Growth - AC'!B137 * 7)","v":""},{"$f":"IF('Growth - AC'!C137=\"\",\"\",'Growth - AC'!C137)","v":""},{"$f":"IF('Growth - AC'!D137=\"\",\"\",'Growth - AC'!D137)","v":""},{"$f":"IF('Growth - AC'!E137=\"\",\"\",'Growth - AC'!E137)","v":""}]
[134,{"$f":"IF('Growth - AC'!B138=\"\",\"\",'Growth - AC'!B138 * 7)","v":""},{"$f":"IF('Growth - AC'!C138=\"\",\"\",'Growth - AC'!C138)","v":""},{"$f":"IF('Growth - AC'!D138=\"\",\"\",'Growth - AC'!D138)","v":""},{"$f":"IF('Growth - AC'!E138=\"\",\"\",'Growth - AC'!E138)","v":""}]
[135,{"$f":"IF('Growth - AC'!B139=\"\",\"\",'Growth - AC'!B139 * 7)","v":""},{"$f":"IF('Growth - AC'!C139=\"\",\"\",'Growth - AC'!C139)","v":""},{"$f":"IF('Growth - AC'!D139=\"\",\"\",'Growth - AC'!D139)","v":""},{"$f":"IF('Growth - AC'!E139=\"\",\"\",'Growth - AC'!E139)","v":""}]
[136,{"$f":"IF('Growth - AC'!B140=\"\",\"\",'Growth - AC'!B140 * 7)","v":""},{"$f":"IF('Growth - AC'!C140=\"\",\"\",'Growth - AC'!C140)","v":""},{"$f":"IF('Growth - AC'!D140=\"\",\"\",'Growth - AC'!D140)","v":""},{"$f":"IF('Growth - AC'!E140=\"\",\"\",'Growth - AC'!E140)","v":""}]
[137,{"$f":"IF('Growth - AC'!B141=\"\",\"\",'Growth - AC'!B141 * 7)","v":""},{"$f":"IF('Growth - AC'!C141=\"\",\"\",'Growth - AC'!C141)","v":""},{"$f":"IF('Growth - AC'!D141=\"\",\"\",'Growth - AC'!D141)","v":""},{"$f":"IF('Growth - AC'!E141=\"\",\"\",'Growth - AC'!E141)","v":""}]
[138,{"$f":"IF('Growth - AC'!B142=\"\",\"\",'Growth - AC'!B142 * 7)","v":""},{"$f":"IF('Growth - AC'!C142=\"\",\"\",'Growth - AC'!C142)","v":""},{"$f":"IF('Growth - AC'!D142=\"\",\"\",'Growth - AC'!D142)","v":""},{"$f":"IF('Growth - AC'!E142=\"\",\"\",'Growth - AC'!E142)","v":""}]
[139,{"$f":"IF('Growth - AC'!B143=\"\",\"\",'Growth - AC'!B143 * 7)","v":""},{"$f":"IF('Growth - AC'!C143=\"\",\"\",'Growth - AC'!C143)","v":""},{"$f":"IF('Growth - AC'!D143=\"\",\"\",'Growth - AC'!D143)","v":""},{"$f":"IF('Growth - AC'!E143=\"\",\"\",'Growth - AC'!E143)","v":""}]
[140,{"$f":"IF('Growth - AC'!B144=\"\",\"\",'Growth - AC'!B144 * 7)","v":""},{"$f":"IF('Growth - AC'!C144=\"\",\"\",'Growth - AC'!C144)","v":""},{"$f":"IF('Growth - AC'!D144=\"\",\"\",'Growth - AC'!D144)","v":""},{"$f":"IF('Growth - AC'!E144=\"\",\"\",'Growth - AC'!E144)","v":""}]
[141,{"$f":"IF('Growth - AC'!B145=\"\",\"\",'Growth - AC'!B145 * 7)","v":""},{"$f":"IF('Growth - AC'!C145=\"\",\"\",'Growth - AC'!C145)","v":""},{"$f":"IF('Growth - AC'!D145=\"\",\"\",'Growth - AC'!D145)","v":""},{"$f":"IF('Growth - AC'!E145=\"\",\"\",'Growth - AC'!E145)","v":""}]
[142,{"$f":"IF('Growth - AC'!B146=\"\",\"\",'Growth - AC'!B146 * 7)","v":""},{"$f":"IF('Growth - AC'!C146=\"\",\"\",'Growth - AC'!C146)","v":""},{"$f":"IF('Growth - AC'!D146=\"\",\"\",'Growth - AC'!D146)","v":""},{"$f":"IF('Growth - AC'!E146=\"\",\"\",'Growth - AC'!E146)","v":""}]
[143,{"$f":"IF('Growth - AC'!B147=\"\",\"\",'Growth - AC'!B147 * 7)","v":""},{"$f":"IF('Growth - AC'!C147=\"\",\"\",'Growth - AC'!C147)","v":""},{"$f":"IF('Growth - AC'!D147=\"\",\"\",'Growth - AC'!D147)","v":""},{"$f":"IF('Growth - AC'!E147=\"\",\"\",'Growth - AC'!E147)","v":""}]
[144,{"$f":"IF('Growth - AC'!B148=\"\",\"\",'Growth - AC'!B148 * 7)","v":""},{"$f":"IF('Growth - AC'!C148=\"\",\"\",'Growth - AC'!C148)","v":""},{"$f":"IF('Growth - AC'!D148=\"\",\"\",'Growth - AC'!D148)","v":""},{"$f":"IF('Growth - AC'!E148=\"\",\"\",'Growth - AC'!E148)","v":""}]
[145,{"$f":"IF('Growth - AC'!B149=\"\",\"\",'Growth - AC'!B149 * 7)","v":""},{"$f":"IF('Growth - AC'!C149=\"\",\"\",'Growth - AC'!C149)","v":""},{"$f":"IF('Growth - AC'!D149=\"\",\"\",'Growth - AC'!D149)","v":""},{"$f":"IF('Growth - AC'!E149=\"\",\"\",'Growth - AC'!E149)","v":""}]
[146,{"$f":"IF('Growth - AC'!B150=\"\",\"\",'Growth - AC'!B150 * 7)","v":""},{"$f":"IF('Growth - AC'!C150=\"\",\"\",'Growth - AC'!C150)","v":""},{"$f":"IF('Growth - AC'!D150=\"\",\"\",'Growth - AC'!D150)","v":""},{"$f":"IF('Growth - AC'!E150=\"\",\"\",'Growth - AC'!E150)","v":""}]
[147,{"$f":"IF('Growth - AC'!B151=\"\",\"\",'Growth - AC'!B151 * 7)","v":""},{"$f":"IF('Growth - AC'!C151=\"\",\"\",'Growth - AC'!C151)","v":""},{"$f":"IF('Growth - AC'!D151=\"\",\"\",'Growth - AC'!D151)","v":""},{"$f":"IF('Growth - AC'!E151=\"\",\"\",'Growth - AC'!E151)","v":""}]
[148,{"$f":"IF('Growth - AC'!B152=\"\",\"\",'Growth - AC'!B152 * 7)","v":""},{"$f":"IF('Growth - AC'!C152=\"\",\"\",'Growth - AC'!C152)","v":""},{"$f":"IF('Growth - AC'!D152=\"\",\"\",'Growth - AC'!D152)","v":""},{"$f":"IF('Growth - AC'!E152=\"\",\"\",'Growth - AC'!E152)","v":""}]
[149,{"$f":"IF('Growth - AC'!B153=\"\",\"\",'Growth - AC'!B153 * 7)","v":""},{"$f":"IF('Growth - AC'!C153=\"\",\"\",'Growth - AC'!C153)","v":""},{"$f":"IF('Growth - AC'!D153=\"\",\"\",'Growth - AC'!D153)","v":""},{"$f":"IF('Growth - AC'!E153=\"\",\"\",'Growth - AC'!E153)","v":""}]
[150,{"$f":"IF('Growth - AC'!B154=\"\",\"\",'Growth - AC'!B154 * 7)","v":""},{"$f":"IF('Growth - AC'!C154=\"\",\"\",'Growth - AC'!C154)","v":""},{"$f":"IF('Growth - AC'!D154=\"\",\"\",'Growth - AC'!D154)","v":""},{"$f":"IF('Growth - AC'!E154=\"\",\"\",'Growth - AC'!E154)","v":""}]
[151,{"$f":"IF('Growth - AC'!B155=\"\",\"\",'Growth - AC'!B155 * 7)","v":""},{"$f":"IF('Growth - AC'!C155=\"\",\"\",'Growth - AC'!C155)","v":""},{"$f":"IF('Growth - AC'!D155=\"\",\"\",'Growth - AC'!D155)","v":""},{"$f":"IF('Growth - AC'!E155=\"\",\"\",'Growth - AC'!E155)","v":""}]
[152,{"$f":"IF('Growth - AC'!B156=\"\",\"\",'Growth - AC'!B156 * 7)","v":""},{"$f":"IF('Growth - AC'!C156=\"\",\"\",'Growth - AC'!C156)","v":""},{"$f":"IF('Growth - AC'!D156=\"\",\"\",'Growth - AC'!D156)","v":""},{"$f":"IF('Growth - AC'!E156=\"\",\"\",'Growth - AC'!E156)","v":""}]
[153,{"$f":"IF('Growth - AC'!B157=\"\",\"\",'Growth - AC'!B157 * 7)","v":""},{"$f":"IF('Growth - AC'!C157=\"\",\"\",'Growth - AC'!C157)","v":""},{"$f":"IF('Growth - AC'!D157=\"\",\"\",'Growth - AC'!D157)","v":""},{"$f":"IF('Growth - AC'!E157=\"\",\"\",'Growth - AC'!E157)","v":""}]
[154,{"$f":"IF('Growth - AC'!B158=\"\",\"\",'Growth - AC'!B158 * 7)","v":""},{"$f":"IF('Growth - AC'!C158=\"\",\"\",'Growth - AC'!C158)","v":""},{"$f":"IF('Growth - AC'!D158=\"\",\"\",'Growth - AC'!D158)","v":""},{"$f":"IF('Growth - AC'!E158=\"\",\"\",'Growth - AC'!E158)","v":""}]
[155,{"$f":"IF('Growth - AC'!B159=\"\",\"\",'Growth - AC'!B159 * 7)","v":""},{"$f":"IF('Growth - AC'!C159=\"\",\"\",'Growth - AC'!C159)","v":""},{"$f":"IF('Growth - AC'!D159=\"\",\"\",'Growth - AC'!D159)","v":""},{"$f":"IF('Growth - AC'!E159=\"\",\"\",'Growth - AC'!E159)","v":""}]
[156,{"$f":"IF('Growth - AC'!B160=\"\",\"\",'Growth - AC'!B160 * 7)","v":""},{"$f":"IF('Growth - AC'!C160=\"\",\"\",'Growth - AC'!C160)","v":""},{"$f":"IF('Growth - AC'!D160=\"\",\"\",'Growth - AC'!D160)","v":""},{"$f":"IF('Growth - AC'!E160=\"\",\"\",'Growth - AC'!E160)","v":""}]
[157,{"$f":"IF('Growth - AC'!B161=\"\",\"\",'Growth - AC'!B161 * 7)","v":""},{"$f":"IF('Growth - AC'!C161=\"\",\"\",'Growth - AC'!C161)","v":""},{"$f":"IF('Growth - AC'!D161=\"\",\"\",'Growth - AC'!D161)","v":""},{"$f":"IF('Growth - AC'!E161=\"\",\"\",'Growth - AC'!E161)","v":""}]
[158,{"$f":"IF('Growth - AC'!B162=\"\",\"\",'Growth - AC'!B162 * 7)","v":""},{"$f":"IF('Growth - AC'!C162=\"\",\"\",'Growth - AC'!C162)","v":""},{"$f":"IF('Growth - AC'!D162=\"\",\"\",'Growth - AC'!D162)","v":""},{"$f":"IF('Growth - AC'!E162=\"\",\"\",'Growth - AC'!E162)","v":""}]
[159,{"$f":"IF('Growth - AC'!B163=\"\",\"\",'Growth - AC'!B163 * 7)","v":""},{"$f":"IF('Growth - AC'!C163=\"\",\"\",'Growth - AC'!C163)","v":""},{"$f":"IF('Growth - AC'!D163=\"\",\"\",'Growth - AC'!D163)","v":""},{"$f":"IF('Growth - AC'!E163=\"\",\"\",'Growth - AC'!E163)","v":""}]
[160,{"$f":"IF('Growth - AC'!B164=\"\",\"\",'Growth - AC'!B164 * 7)","v":""},{"$f":"IF('Growth - AC'!C164=\"\",\"\",'Growth - AC'!C164)","v":""},{"$f":"IF('Growth - AC'!D164=\"\",\"\",'Growth - AC'!D164)","v":""},{"$f":"IF('Growth - AC'!E164=\"\",\"\",'Growth - AC'!E164)","v":""}]
[161,{"$f":"IF('Growth - AC'!B165=\"\",\"\",'Growth - AC'!B165 * 7)","v":""},{"$f":"IF('Growth - AC'!C165=\"\",\"\",'Growth - AC'!C165)","v":""},{"$f":"IF('Growth - AC'!D165=\"\",\"\",'Growth - AC'!D165)","v":""},{"$f":"IF('Growth - AC'!E165=\"\",\"\",'Growth - AC'!E165)","v":""}]
[162,{"$f":"IF('Growth - AC'!B166=\"\",\"\",'Growth - AC'!B166 * 7)","v":""},{"$f":"IF('Growth - AC'!C166=\"\",\"\",'Growth - AC'!C166)","v":""},{"$f":"IF('Growth - AC'!D166=\"\",\"\",'Growth - AC'!D166)","v":""},{"$f":"IF('Growth - AC'!E166=\"\",\"\",'Growth - AC'!E166)","v":""}]
[163,{"$f":"IF('Growth - AC'!B167=\"\",\"\",'Growth - AC'!B167 * 7)","v":""},{"$f":"IF('Growth - AC'!C167=\"\",\"\",'Growth - AC'!C167)","v":""},{"$f":"IF('Growth - AC'!D167=\"\",\"\",'Growth - AC'!D167)","v":""},{"$f":"IF('Growth - AC'!E167=\"\",\"\",'Growth - AC'!E167)","v":""}]
[164,{"$f":"IF('Growth - AC'!B168=\"\",\"\",'Growth - AC'!B168 * 7)","v":""},{"$f":"IF('Growth - AC'!C168=\"\",\"\",'Growth - AC'!C168)","v":""},{"$f":"IF('Growth - AC'!D168=\"\",\"\",'Growth - AC'!D168)","v":""},{"$f":"IF('Growth - AC'!E168=\"\",\"\",'Growth - AC'!E168)","v":""}]
[165,{"$f":"IF('Growth - AC'!B169=\"\",\"\",'Growth - AC'!B169 * 7)","v":""},{"$f":"IF('Growth - AC'!C169=\"\",\"\",'Growth - AC'!C169)","v":""},{"$f":"IF('Growth - AC'!D169=\"\",\"\",'Growth - AC'!D169)","v":""},{"$f":"IF('Growth - AC'!E169=\"\",\"\",'Growth - AC'!E169)","v":""}]
[166,{"$f":"IF('Growth - AC'!B170=\"\",\"\",'Growth - AC'!B170 * 7)","v":""},{"$f":"IF('Growth - AC'!C170=\"\",\"\",'Growth - AC'!C170)","v":""},{"$f":"IF('Growth - AC'!D170=\"\",\"\",'Growth - AC'!D170)","v":""},{"$f":"IF('Growth - AC'!E170=\"\",\"\",'Growth - AC'!E170)","v":""}]
[167,{"$f":"IF('Growth - AC'!B171=\"\",\"\",'Growth - AC'!B171 * 7)","v":""},{"$f":"IF('Growth - AC'!C171=\"\",\"\",'Growth - AC'!C171)","v":""},{"$f":"IF('Growth - AC'!D171=\"\",\"\",'Growth - AC'!D171)","v":""},{"$f":"IF('Growth - AC'!E171=\"\",\"\",'Growth - AC'!E171)","v":""}]
[168,{"$f":"IF('Growth - AC'!B172=\"\",\"\",'Growth - AC'!B172 * 7)","v":""},{"$f":"IF('Growth - AC'!C172=\"\",\"\",'Growth - AC'!C172)","v":""},{"$f":"IF('Growth - AC'!D172=\"\",\"\",'Growth - AC'!D172)","v":""},{"$f":"IF('Growth - AC'!E172=\"\",\"\",'Growth - AC'!E172)","v":""}]
[169,{"$f":"IF('Growth - AC'!B173=\"\",\"\",'Growth - AC'!B173 * 7)","v":""},{"$f":"IF('Growth - AC'!C173=\"\",\"\",'Growth - AC'!C173)","v":""},{"$f":"IF('Growth - AC'!D173=\"\",\"\",'Growth - AC'!D173)","v":""},{"$f":"IF('Growth - AC'!E173=\"\",\"\",'Growth - AC'!E173)","v":""}]
[170,{"$f":"IF('Growth - AC'!B174=\"\",\"\",'Growth - AC'!B174 * 7)","v":""},{"$f":"IF('Growth - AC'!C174=\"\",\"\",'Growth - AC'!C174)","v":""},{"$f":"IF('Growth - AC'!D174=\"\",\"\",'Growth - AC'!D174)","v":""},{"$f":"IF('Growth - AC'!E174=\"\",\"\",'Growth - AC'!E174)","v":""}]
[171,{"$f":"IF('Growth - AC'!B175=\"\",\"\",'Growth - AC'!B175 * 7)","v":""},{"$f":"IF('Growth - AC'!C175=\"\",\"\",'Growth - AC'!C175)","v":""},{"$f":"IF('Growth - AC'!D175=\"\",\"\",'Growth - AC'!D175)","v":""},{"$f":"IF('Growth - AC'!E175=\"\",\"\",'Growth - AC'!E175)","v":""}]
[172,{"$f":"IF('Growth - AC'!B176=\"\",\"\",'Growth - AC'!B176 * 7)","v":""},{"$f":"IF('Growth - AC'!C176=\"\",\"\",'Growth - AC'!C176)","v":""},{"$f":"IF('Growth - AC'!D176=\"\",\"\",'Growth - AC'!D176)","v":""},{"$f":"IF('Growth - AC'!E176=\"\",\"\",'Growth - AC'!E176)","v":""}]
[173,{"$f":"IF('Growth - AC'!B177=\"\",\"\",'Growth - AC'!B177 * 7)","v":""},{"$f":"IF('Growth - AC'!C177=\"\",\"\",'Growth - AC'!C177)","v":""},{"$f":"IF('Growth - AC'!D177=\"\",\"\",'Growth - AC'!D177)","v":""},{"$f":"IF('Growth - AC'!E177=\"\",\"\",'Growth - AC'!E177)","v":""}]
[174,{"$f":"IF('Growth - AC'!B178=\"\",\"\",'Growth - AC'!B178 * 7)","v":""},{"$f":"IF('Growth - AC'!C178=\"\",\"\",'Growth - AC'!C178)","v":""},{"$f":"IF('Growth - AC'!D178=\"\",\"\",'Growth - AC'!D178)","v":""},{"$f":"IF('Growth - AC'!E178=\"\",\"\",'Growth - AC'!E178)","v":""}]
[175,{"$f":"IF('Growth - AC'!B179=\"\",\"\",'Growth - AC'!B179 * 7)","v":""},{"$f":"IF('Growth - AC'!C179=\"\",\"\",'Growth - AC'!C179)","v":""},{"$f":"IF('Growth - AC'!D179=\"\",\"\",'Growth - AC'!D179)","v":""},{"$f":"IF('Growth - AC'!E179=\"\",\"\",'Growth - AC'!E179)","v":""}]
[176,{"$f":"IF('Growth - AC'!B180=\"\",\"\",'Growth - AC'!B180 * 7)","v":""},{"$f":"IF('Growth - AC'!C180=\"\",\"\",'Growth - AC'!C180)","v":""},{"$f":"IF('Growth - AC'!D180=\"\",\"\",'Growth - AC'!D180)","v":""},{"$f":"IF('Growth - AC'!E180=\"\",\"\",'Growth - AC'!E180)","v":""}]
[177,{"$f":"IF('Growth - AC'!B181=\"\",\"\",'Growth - AC'!B181 * 7)","v":""},{"$f":"IF('Growth - AC'!C181=\"\",\"\",'Growth - AC'!C181)","v":""},{"$f":"IF('Growth - AC'!D181=\"\",\"\",'Growth - AC'!D181)","v":""},{"$f":"IF('Growth - AC'!E181=\"\",\"\",'Growth - AC'!E181)","v":""}]
[178,{"$f":"IF('Growth - AC'!B182=\"\",\"\",'Growth - AC'!B182 * 7)","v":""},{"$f":"IF('Growth - AC'!C182=\"\",\"\",'Growth - AC'!C182)","v":""},{"$f":"IF('Growth - AC'!D182=\"\",\"\",'Growth - AC'!D182)","v":""},{"$f":"IF('Growth - AC'!E182=\"\",\"\",'Growth - AC'!E182)","v":""}]
[179,{"$f":"IF('Growth - AC'!B183=\"\",\"\",'Growth - AC'!B183 * 7)","v":""},{"$f":"IF('Growth - AC'!C183=\"\",\"\",'Growth - AC'!C183)","v":""},{"$f":"IF('Growth - AC'!D183=\"\",\"\",'Growth - AC'!D183)","v":""},{"$f":"IF('Growth - AC'!E183=\"\",\"\",'Growth - AC'!E183)","v":""}]
[180,{"$f":"IF('Growth - AC'!B184=\"\",\"\",'Growth - AC'!B184 * 7)","v":""},{"$f":"IF('Growth - AC'!C184=\"\",\"\",'Growth - AC'!C184)","v":""},{"$f":"IF('Growth - AC'!D184=\"\",\"\",'Growth - AC'!D184)","v":""},{"$f":"IF('Growth - AC'!E184=\"\",\"\",'Growth - AC'!E184)","v":""}]
[181,{"$f":"IF('Growth - AC'!B185=\"\",\"\",'Growth - AC'!B185 * 7)","v":""},{"$f":"IF('Growth - AC'!C185=\"\",\"\",'Growth - AC'!C185)","v":""},{"$f":"IF('Growth - AC'!D185=\"\",\"\",'Growth - AC'!D185)","v":""},{"$f":"IF('Growth - AC'!E185=\"\",\"\",'Growth - AC'!E185)","v":""}]
[182,{"$f":"IF('Growth - AC'!B186=\"\",\"\",'Growth - AC'!B186 * 7)","v":""},{"$f":"IF('Growth - AC'!C186=\"\",\"\",'Growth - AC'!C186)","v":""},{"$f":"IF('Growth - AC'!D186=\"\",\"\",'Growth - AC'!D186)","v":""},{"$f":"IF('Growth - AC'!E186=\"\",\"\",'Growth - AC'!E186)","v":""}]
[183,{"$f":"IF('Growth - AC'!B187=\"\",\"\",'Growth - AC'!B187 * 7)","v":""},{"$f":"IF('Growth - AC'!C187=\"\",\"\",'Growth - AC'!C187)","v":""},{"$f":"IF('Growth - AC'!D187=\"\",\"\",'Growth - AC'!D187)","v":""},{"$f":"IF('Growth - AC'!E187=\"\",\"\",'Growth - AC'!E187)","v":""}]
[184,{"$f":"IF('Growth - AC'!B188=\"\",\"\",'Growth - AC'!B188 * 7)","v":""},{"$f":"IF('Growth - AC'!C188=\"\",\"\",'Growth - AC'!C188)","v":""},{"$f":"IF('Growth - AC'!D188=\"\",\"\",'Growth - AC'!D188)","v":""},{"$f":"IF('Growth - AC'!E188=\"\",\"\",'Growth - AC'!E188)","v":""}]
[185,{"$f":"IF('Growth - AC'!B189=\"\",\"\",'Growth - AC'!B189 * 7)","v":""},{"$f":"IF('Growth - AC'!C189=\"\",\"\",'Growth - AC'!C189)","v":""},{"$f":"IF('Growth - AC'!D189=\"\",\"\",'Growth - AC'!D189)","v":""},{"$f":"IF('Growth - AC'!E189=\"\",\"\",'Growth - AC'!E189)","v":""}]
[186,{"$f":"IF('Growth - AC'!B190=\"\",\"\",'Growth - AC'!B190 * 7)","v":""},{"$f":"IF('Growth - AC'!C190=\"\",\"\",'Growth - AC'!C190)","v":""},{"$f":"IF('Growth - AC'!D190=\"\",\"\",'Growth - AC'!D190)","v":""},{"$f":"IF('Growth - AC'!E190=\"\",\"\",'Growth - AC'!E190)","v":""}]
[187,{"$f":"IF('Growth - AC'!B191=\"\",\"\",'Growth - AC'!B191 * 7)","v":""},{"$f":"IF('Growth - AC'!C191=\"\",\"\",'Growth - AC'!C191)","v":""},{"$f":"IF('Growth - AC'!D191=\"\",\"\",'Growth - AC'!D191)","v":""},{"$f":"IF('Growth - AC'!E191=\"\",\"\",'Growth - AC'!E191)","v":""}]
[188,{"$f":"IF('Growth - AC'!B192=\"\",\"\",'Growth - AC'!B192 * 7)","v":""},{"$f":"IF('Growth - AC'!C192=\"\",\"\",'Growth - AC'!C192)","v":""},{"$f":"IF('Growth - AC'!D192=\"\",\"\",'Growth - AC'!D192)","v":""},{"$f":"IF('Growth - AC'!E192=\"\",\"\",'Growth - AC'!E192)","v":""}]
[189,{"$f":"IF('Growth - AC'!B193=\"\",\"\",'Growth - AC'!B193 * 7)","v":""},{"$f":"IF('Growth - AC'!C193=\"\",\"\",'Growth - AC'!C193)","v":""},{"$f":"IF('Growth - AC'!D193=\"\",\"\",'Growth - AC'!D193)","v":""},{"$f":"IF('Growth - AC'!E193=\"\",\"\",'Growth - AC'!E193)","v":""}]
[190,{"$f":"IF('Growth - AC'!B194=\"\",\"\",'Growth - AC'!B194 * 7)","v":""},{"$f":"IF('Growth - AC'!C194=\"\",\"\",'Growth - AC'!C194)","v":""},{"$f":"IF('Growth - AC'!D194=\"\",\"\",'Growth - AC'!D194)","v":""},{"$f":"IF('Growth - AC'!E194=\"\",\"\",'Growth - AC'!E194)","v":""}]
[191,{"$f":"IF('Growth - AC'!B195=\"\",\"\",'Growth - AC'!B195 * 7)","v":""},{"$f":"IF('Growth - AC'!C195=\"\",\"\",'Growth - AC'!C195)","v":""},{"$f":"IF('Growth - AC'!D195=\"\",\"\",'Growth - AC'!D195)","v":""},{"$f":"IF('Growth - AC'!E195=\"\",\"\",'Growth - AC'!E195)","v":""}]
[192,{"$f":"IF('Growth - AC'!B196=\"\",\"\",'Growth - AC'!B196 * 7)","v":""},{"$f":"IF('Growth - AC'!C196=\"\",\"\",'Growth - AC'!C196)","v":""},{"$f":"IF('Growth - AC'!D196=\"\",\"\",'Growth - AC'!D196)","v":""},{"$f":"IF('Growth - AC'!E196=\"\",\"\",'Growth - AC'!E196)","v":""}]
[193,{"$f":"IF('Growth - AC'!B197=\"\",\"\",'Growth - AC'!B197 * 7)","v":""},{"$f":"IF('Growth - AC'!C197=\"\",\"\",'Growth - AC'!C197)","v":""},{"$f":"IF('Growth - AC'!D197=\"\",\"\",'Growth - AC'!D197)","v":""},{"$f":"IF('Growth - AC'!E197=\"\",\"\",'Growth - AC'!E197)","v":""}]
[194,{"$f":"IF('Growth - AC'!B198=\"\",\"\",'Growth - AC'!B198 * 7)","v":""},{"$f":"IF('Growth - AC'!C198=\"\",\"\",'Growth - AC'!C198)","v":""},{"$f":"IF('Growth - AC'!D198=\"\",\"\",'Growth - AC'!D198)","v":""},{"$f":"IF('Growth - AC'!E198=\"\",\"\",'Growth - AC'!E198)","v":""}]
[195,{"$f":"IF('Growth - AC'!B199=\"\",\"\",'Growth - AC'!B199 * 7)","v":""},{"$f":"IF('Growth - AC'!C199=\"\",\"\",'Growth - AC'!C199)","v":""},{"$f":"IF('Growth - AC'!D199=\"\",\"\",'Growth - AC'!D199)","v":""},{"$f":"IF('Growth - AC'!E199=\"\",\"\",'Growth - AC'!E199)","v":""}]
[196,{"$f":"IF('Growth - AC'!B200=\"\",\"\",'Growth - AC'!B200 * 7)","v":""},{"$f":"IF('Growth - AC'!C200=\"\",\"\",'Growth - AC'!C200)","v":""},{"$f":"IF('Growth - AC'!D200=\"\",\"\",'Growth - AC'!D200)","v":""},{"$f":"IF('Growth - AC'!E200=\"\",\"\",'Growth - AC'!E200)","v":""}]
[197,{"$f":"IF('Growth - AC'!B201=\"\",\"\",'Growth - AC'!B201 * 7)","v":""},{"$f":"IF('Growth - AC'!C201=\"\",\"\",'Growth - AC'!C201)","v":""},{"$f":"IF('Growth - AC'!D201=\"\",\"\",'Growth - AC'!D201)","v":""},{"$f":"IF('Growth - AC'!E201=\"\",\"\",'Growth - AC'!E201)","v":""}]
[198,{"$f":"IF('Growth - AC'!B202=\"\",\"\",'Growth - AC'!B202 * 7)","v":""},{"$f":"IF('Growth - AC'!C202=\"\",\"\",'Growth - AC'!C202)","v":""},{"$f":"IF('Growth - AC'!D202=\"\",\"\",'Growth - AC'!D202)","v":""},{"$f":"IF('Growth - AC'!E202=\"\",\"\",'Growth - AC'!E202)","v":""}]
[199,{"$f":"IF('Growth - AC'!B203=\"\",\"\",'Growth - AC'!B203 * 7)","v":""},{"$f":"IF('Growth - AC'!C203=\"\",\"\",'Growth - AC'!C203)","v":""},{"$f":"IF('Growth - AC'!D203=\"\",\"\",'Growth - AC'!D203)","v":""},{"$f":"IF('Growth - AC'!E203=\"\",\"\",'Growth - AC'!E203)","v":""}]
[200,{"$f":"IF('Growth - AC'!B204=\"\",\"\",'Growth - AC'!B204 * 7)","v":""},{"$f":"IF('Growth - AC'!C204=\"\",\"\",'Growth - AC'!C204)","v":""},{"$f":"IF('Growth - AC'!D204=\"\",\"\",'Growth - AC'!D204)","v":""},{"$f":"IF('Growth - AC'!E204=\"\",\"\",'Growth - AC'!E204)","v":""}]
[201,{"$f":"IF('Growth - AC'!B205=\"\",\"\",'Growth - AC'!B205 * 7)","v":""},{"$f":"IF('Growth - AC'!C205=\"\",\"\",'Growth - AC'!C205)","v":""},{"$f":"IF('Growth - AC'!D205=\"\",\"\",'Growth - AC'!D205)","v":""},{"$f":"IF('Growth - AC'!E205=\"\",\"\",'Growth - AC'!E205)","v":""}]
[202,{"$f":"IF('Growth - AC'!B206=\"\",\"\",'Growth - AC'!B206 * 7)","v":""},{"$f":"IF('Growth - AC'!C206=\"\",\"\",'Growth - AC'!C206)","v":""},{"$f":"IF('Growth - AC'!D206=\"\",\"\",'Growth - AC'!D206)","v":""},{"$f":"IF('Growth - AC'!E206=\"\",\"\",'Growth - AC'!E206)","v":""}]
[203,{"$f":"IF('Growth - AC'!B207=\"\",\"\",'Growth - AC'!B207 * 7)","v":""},{"$f":"IF('Growth - AC'!C207=\"\",\"\",'Growth - AC'!C207)","v":""},{"$f":"IF('Growth - AC'!D207=\"\",\"\",'Growth - AC'!D207)","v":""},{"$f":"IF('Growth - AC'!E207=\"\",\"\",'Growth - AC'!E207)","v":""}]
[204,{"$f":"IF('Growth - AC'!B208=\"\",\"\",'Growth - AC'!B208 * 7)","v":""},{"$f":"IF('Growth - AC'!C208=\"\",\"\",'Growth - AC'!C208)","v":""},{"$f":"IF('Growth - AC'!D208=\"\",\"\",'Growth - AC'!D208)","v":""},{"$f":"IF('Growth - AC'!E208=\"\",\"\",'Growth - AC'!E208)","v":""}]
[205,{"$f":"IF('Growth - AC'!B209=\"\",\"\",'Growth - AC'!B209 * 7)","v":""},{"$f":"IF('Growth - AC'!C209=\"\",\"\",'Growth - AC'!C209)","v":""},{"$f":"IF('Growth - AC'!D209=\"\",\"\",'Growth - AC'!D209)","v":""},{"$f":"IF('Growth - AC'!E209=\"\",\"\",'Growth - AC'!E209)","v":""}]
[206,{"$f":"IF('Growth - AC'!B210=\"\",\"\",'Growth - AC'!B210 * 7)","v":""},{"$f":"IF('Growth - AC'!C210=\"\",\"\",'Growth - AC'!C210)","v":""},{"$f":"IF('Growth - AC'!D210=\"\",\"\",'Growth - AC'!D210)","v":""},{"$f":"IF('Growth - AC'!E210=\"\",\"\",'Growth - AC'!E210)","v":""}]
[207,{"$f":"IF('Growth - AC'!B211=\"\",\"\",'Growth - AC'!B211 * 7)","v":""},{"$f":"IF('Growth - AC'!C211=\"\",\"\",'Growth - AC'!C211)","v":""},{"$f":"IF('Growth - AC'!D211=\"\",\"\",'Growth - AC'!D211)","v":""},{"$f":"IF('Growth - AC'!E211=\"\",\"\",'Growth - AC'!E211)","v":""}]
[208,{"$f":"IF('Growth - AC'!B212=\"\",\"\",'Growth - AC'!B212 * 7)","v":""},{"$f":"IF('Growth - AC'!C212=\"\",\"\",'Growth - AC'!C212)","v":""},{"$f":"IF('Growth - AC'!D212=\"\",\"\",'Growth - AC'!D212)","v":""},{"$f":"IF('Growth - AC'!E212=\"\",\"\",'Growth - AC'!E212)","v":""}]
[209,{"$f":"IF('Growth - AC'!B213=\"\",\"\",'Growth - AC'!B213 * 7)","v":""},{"$f":"IF('Growth - AC'!C213=\"\",\"\",'Growth - AC'!C213)","v":""},{"$f":"IF('Growth - AC'!D213=\"\",\"\",'Growth - AC'!D213)","v":""},{"$f":"IF('Growth - AC'!E213=\"\",\"\",'Growth - AC'!E213)","v":""}]
[210,{"$f":"IF('Growth - AC'!B214=\"\",\"\",'Growth - AC'!B214 * 7)","v":""},{"$f":"IF('Growth - AC'!C214=\"\",\"\",'Growth - AC'!C214)","v":""},{"$f":"IF('Growth - AC'!D214=\"\",\"\",'Growth - AC'!D214)","v":""},{"$f":"IF('Growth - AC'!E214=\"\",\"\",'Growth - AC'!E214)","v":""}]
[]
["User Growth Table: Femur Length",null,null,null,{"$f":"IF('Growth - FL'!E1=\"\",\"\",'Growth - FL'!E1)","v":"Growth FL"}]
[null,null,null,null,{"$f":"ValidationData!DataVersion","v":"70.80.100.100"}]
["Index","Weeks * 7","Author",null,{"$f":"IF('Growth - FL'!H3=\"\",\"\",'Growth - FL'!H3)","v":""}]
[null,null,"Min","Mid","Max"]
[1,{"$f":"IF('Growth - FL'!B5=\"\",\"\",'Growth - FL'!B5 * 7)","v":""},{"$f":"IF('Growth - FL'!C5=\"\",\"\",'Growth - FL'!C5)","v":""},{"$f":"IF('Growth - FL'!D5=\"\",\"\",'Growth - FL'!D5)","v":""},{"$f":"IF('Growth - FL'!E5=\"\",\"\",'Growth - FL'!E5)","v":""}]
[2,{"$f":"IF('Growth - FL'!B6=\"\",\"\",'Growth - FL'!B6 * 7)","v":""},{"$f":"IF('Growth - FL'!C6=\"\",\"\",'Growth - FL'!C6)","v":""},{"$f":"IF('Growth - FL'!D6=\"\",\"\",'Growth - FL'!D6)","v":""},{"$f":"IF('Growth - FL'!E6=\"\",\"\",'Growth - FL'!E6)","v":""}]
[3,{"$f":"IF('Growth - FL'!B7=\"\",\"\",'Growth - FL'!B7 * 7)","v":""},{"$f":"IF('Growth - FL'!C7=\"\",\"\",'Growth - FL'!C7)","v":""},{"$f":"IF('Growth - FL'!D7=\"\",\"\",'Growth - FL'!D7)","v":""},{"$f":"IF('Growth - FL'!E7=\"\",\"\",'Growth - FL'!E7)","v":""}]
[4,{"$f":"IF('Growth - FL'!B8=\"\",\"\",'Growth - FL'!B8 * 7)","v":""},{"$f":"IF('Growth - FL'!C8=\"\",\"\",'Growth - FL'!C8)","v":""},{"$f":"IF('Growth - FL'!D8=\"\",\"\",'Growth - FL'!D8)","v":""},{"$f":"IF('Growth - FL'!E8=\"\",\"\",'Growth - FL'!E8)","v":""}]
[5,{"$f":"IF('Growth - FL'!B9=\"\",\"\",'Growth - FL'!B9 * 7)","v":""},{"$f":"IF('Growth - FL'!C9=\"\",\"\",'Growth - FL'!C9)","v":""},{"$f":"IF('Growth - FL'!D9=\"\",\"\",'Growth - FL'!D9)","v":""},{"$f":"IF('Growth - FL'!E9=\"\",\"\",'Growth - FL'!E9)","v":""}]
[6,{"$f":"IF('Growth - FL'!B10=\"\",\"\",'Growth - FL'!B10 * 7)","v":""},{"$f":"IF('Growth - FL'!C10=\"\",\"\",'Growth - FL'!C10)","v":""},{"$f":"IF('Growth - FL'!D10=\"\",\"\",'Growth - FL'!D10)","v":""},{"$f":"IF('Growth - FL'!E10=\"\",\"\",'Growth - FL'!E10)","v":""}]
[7,{"$f":"IF('Growth - FL'!B11=\"\",\"\",'Growth - FL'!B11 * 7)","v":""},{"$f":"IF('Growth - FL'!C11=\"\",\"\",'Growth - FL'!C11)","v":""},{"$f":"IF('Growth - FL'!D11=\"\",\"\",'Growth - FL'!D11)","v":""},{"$f":"IF('Growth - FL'!E11=\"\",\"\",'Growth - FL'!E11)","v":""}]
[8,{"$f":"IF('Growth - FL'!B12=\"\",\"\",'Growth - FL'!B12 * 7)","v":""},{"$f":"IF('Growth - FL'!C12=\"\",\"\",'Growth - FL'!C12)","v":""},{"$f":"IF('Growth - FL'!D12=\"\",\"\",'Growth - FL'!D12)","v":""},{"$f":"IF('Growth - FL'!E12=\"\",\"\",'Growth - FL'!E12)","v":""}]
[9,{"$f":"IF('Growth - FL'!B13=\"\",\"\",'Growth - FL'!B13 * 7)","v":""},{"$f":"IF('Growth - FL'!C13=\"\",\"\",'Growth - FL'!C13)","v":""},{"$f":"IF('Growth - FL'!D13=\"\",\"\",'Growth - FL'!D13)","v":""},{"$f":"IF('Growth - FL'!E13=\"\",\"\",'Growth - FL'!E13)","v":""}]
[10,{"$f":"IF('Growth - FL'!B14=\"\",\"\",'Growth - FL'!B14 * 7)","v":""},{"$f":"IF('Growth - FL'!C14=\"\",\"\",'Growth - FL'!C14)","v":""},{"$f":"IF('Growth - FL'!D14=\"\",\"\",'Growth - FL'!D14)","v":""},{"$f":"IF('Growth - FL'!E14=\"\",\"\",'Growth - FL'!E14)","v":""}]
[11,{"$f":"IF('Growth - FL'!B15=\"\",\"\",'Growth - FL'!B15 * 7)","v":""},{"$f":"IF('Growth - FL'!C15=\"\",\"\",'Growth - FL'!C15)","v":""},{"$f":"IF('Growth - FL'!D15=\"\",\"\",'Growth - FL'!D15)","v":""},{"$f":"IF('Growth - FL'!E15=\"\",\"\",'Growth - FL'!E15)","v":""}]
[12,{"$f":"IF('Growth - FL'!B16=\"\",\"\",'Growth - FL'!B16 * 7)","v":""},{"$f":"IF('Growth - FL'!C16=\"\",\"\",'Growth - FL'!C16)","v":""},{"$f":"IF('Growth - FL'!D16=\"\",\"\",'Growth - FL'!D16)","v":""},{"$f":"IF('Growth - FL'!E16=\"\",\"\",'Growth - FL'!E16)","v":""}]
[13,{"$f":"IF('Growth - FL'!B17=\"\",\"\",'Growth - FL'!B17 * 7)","v":""},{"$f":"IF('Growth - FL'!C17=\"\",\"\",'Growth - FL'!C17)","v":""},{"$f":"IF('Growth - FL'!D17=\"\",\"\",'Growth - FL'!D17)","v":""},{"$f":"IF('Growth - FL'!E17=\"\",\"\",'Growth - FL'!E17)","v":""}]
[14,{"$f":"IF('Growth - FL'!B18=\"\",\"\",'Growth - FL'!B18 * 7)","v":""},{"$f":"IF('Growth - FL'!C18=\"\",\"\",'Growth - FL'!C18)","v":""},{"$f":"IF('Growth - FL'!D18=\"\",\"\",'Growth - FL'!D18)","v":""},{"$f":"IF('Growth - FL'!E18=\"\",\"\",'Growth - FL'!E18)","v":""}]
[15,{"$f":"IF('Growth - FL'!B19=\"\",\"\",'Growth - FL'!B19 * 7)","v":""},{"$f":"IF('Growth - FL'!C19=\"\",\"\",'Growth - FL'!C19)","v":""},{"$f":"IF('Growth - FL'!D19=\"\",\"\",'Growth - FL'!D19)","v":""},{"$f":"IF('Growth - FL'!E19=\"\",\"\",'Growth - FL'!E19)","v":""}]
[16,{"$f":"IF('Growth - FL'!B20=\"\",\"\",'Growth - FL'!B20 * 7)","v":""},{"$f":"IF('Growth - FL'!C20=\"\",\"\",'Growth - FL'!C20)","v":""},{"$f":"IF('Growth - FL'!D20=\"\",\"\",'Growth - FL'!D20)","v":""},{"$f":"IF('Growth - FL'!E20=\"\",\"\",'Growth - FL'!E20)","v":""}]
[17,{"$f":"IF('Growth - FL'!B21=\"\",\"\",'Growth - FL'!B21 * 7)","v":""},{"$f":"IF('Growth - FL'!C21=\"\",\"\",'Growth - FL'!C21)","v":""},{"$f":"IF('Growth - FL'!D21=\"\",\"\",'Growth - FL'!D21)","v":""},{"$f":"IF('Growth - FL'!E21=\"\",\"\",'Growth - FL'!E21)","v":""}]
[18,{"$f":"IF('Growth - FL'!B22=\"\",\"\",'Growth - FL'!B22 * 7)","v":""},{"$f":"IF('Growth - FL'!C22=\"\",\"\",'Growth - FL'!C22)","v":""},{"$f":"IF('Growth - FL'!D22=\"\",\"\",'Growth - FL'!D22)","v":""},{"$f":"IF('Growth - FL'!E22=\"\",\"\",'Growth - FL'!E22)","v":""}]
[19,{"$f":"IF('Growth - FL'!B23=\"\",\"\",'Growth - FL'!B23 * 7)","v":""},{"$f":"IF('Growth - FL'!C23=\"\",\"\",'Growth - FL'!C23)","v":""},{"$f":"IF('Growth - FL'!D23=\"\",\"\",'Growth - FL'!D23)","v":""},{"$f":"IF('Growth - FL'!E23=\"\",\"\",'Growth - FL'!E23)","v":""}]
[20,{"$f":"IF('Growth - FL'!B24=\"\",\"\",'Growth - FL'!B24 * 7)","v":""},{"$f":"IF('Growth - FL'!C24=\"\",\"\",'Growth - FL'!C24)","v":""},{"$f":"IF('Growth - FL'!D24=\"\",\"\",'Growth - FL'!D24)","v":""},{"$f":"IF('Growth - FL'!E24=\"\",\"\",'Growth - FL'!E24)","v":""}]
[21,{"$f":"IF('Growth - FL'!B25=\"\",\"\",'Growth - FL'!B25 * 7)","v":""},{"$f":"IF('Growth - FL'!C25=\"\",\"\",'Growth - FL'!C25)","v":""},{"$f":"IF('Growth - FL'!D25=\"\",\"\",'Growth - FL'!D25)","v":""},{"$f":"IF('Growth - FL'!E25=\"\",\"\",'Growth - FL'!E25)","v":""}]
[22,{"$f":"IF('Growth - FL'!B26=\"\",\"\",'Growth - FL'!B26 * 7)","v":""},{"$f":"IF('Growth - FL'!C26=\"\",\"\",'Growth - FL'!C26)","v":""},{"$f":"IF('Growth - FL'!D26=\"\",\"\",'Growth - FL'!D26)","v":""},{"$f":"IF('Growth - FL'!E26=\"\",\"\",'Growth - FL'!E26)","v":""}]
[23,{"$f":"IF('Growth - FL'!B27=\"\",\"\",'Growth - FL'!B27 * 7)","v":""},{"$f":"IF('Growth - FL'!C27=\"\",\"\",'Growth - FL'!C27)","v":""},{"$f":"IF('Growth - FL'!D27=\"\",\"\",'Growth - FL'!D27)","v":""},{"$f":"IF('Growth - FL'!E27=\"\",\"\",'Growth - FL'!E27)","v":""}]
[24,{"$f":"IF('Growth - FL'!B28=\"\",\"\",'Growth - FL'!B28 * 7)","v":""},{"$f":"IF('Growth - FL'!C28=\"\",\"\",'Growth - FL'!C28)","v":""},{"$f":"IF('Growth - FL'!D28=\"\",\"\",'Growth - FL'!D28)","v":""},{"$f":"IF('Growth - FL'!E28=\"\",\"\",'Growth - FL'!E28)","v":""}]
[25,{"$f":"IF('Growth - FL'!B29=\"\",\"\",'Growth - FL'!B29 * 7)","v":""},{"$f":"IF('Growth - FL'!C29=\"\",\"\",'Growth - FL'!C29)","v":""},{"$f":"IF('Growth - FL'!D29=\"\",\"\",'Growth - FL'!D29)","v":""},{"$f":"IF('Growth - FL'!E29=\"\",\"\",'Growth - FL'!E29)","v":""}]
[26,{"$f":"IF('Growth - FL'!B30=\"\",\"\",'Growth - FL'!B30 * 7)","v":""},{"$f":"IF('Growth - FL'!C30=\"\",\"\",'Growth - FL'!C30)","v":""},{"$f":"IF('Growth - FL'!D30=\"\",\"\",'Growth - FL'!D30)","v":""},{"$f":"IF('Growth - FL'!E30=\"\",\"\",'Growth - FL'!E30)","v":""}]
[27,{"$f":"IF('Growth - FL'!B31=\"\",\"\",'Growth - FL'!B31 * 7)","v":""},{"$f":"IF('Growth - FL'!C31=\"\",\"\",'Growth - FL'!C31)","v":""},{"$f":"IF('Growth - FL'!D31=\"\",\"\",'Growth - FL'!D31)","v":""},{"$f":"IF('Growth - FL'!E31=\"\",\"\",'Growth - FL'!E31)","v":""}]
[28,{"$f":"IF('Growth - FL'!B32=\"\",\"\",'Growth - FL'!B32 * 7)","v":""},{"$f":"IF('Growth - FL'!C32=\"\",\"\",'Growth - FL'!C32)","v":""},{"$f":"IF('Growth - FL'!D32=\"\",\"\",'Growth - FL'!D32)","v":""},{"$f":"IF('Growth - FL'!E32=\"\",\"\",'Growth - FL'!E32)","v":""}]
[29,{"$f":"IF('Growth - FL'!B33=\"\",\"\",'Growth - FL'!B33 * 7)","v":""},{"$f":"IF('Growth - FL'!C33=\"\",\"\",'Growth - FL'!C33)","v":""},{"$f":"IF('Growth - FL'!D33=\"\",\"\",'Growth - FL'!D33)","v":""},{"$f":"IF('Growth - FL'!E33=\"\",\"\",'Growth - FL'!E33)","v":""}]
[30,{"$f":"IF('Growth - FL'!B34=\"\",\"\",'Growth - FL'!B34 * 7)","v":""},{"$f":"IF('Growth - FL'!C34=\"\",\"\",'Growth - FL'!C34)","v":""},{"$f":"IF('Growth - FL'!D34=\"\",\"\",'Growth - FL'!D34)","v":""},{"$f":"IF('Growth - FL'!E34=\"\",\"\",'Growth - FL'!E34)","v":""}]
[31,{"$f":"IF('Growth - FL'!B35=\"\",\"\",'Growth - FL'!B35 * 7)","v":""},{"$f":"IF('Growth - FL'!C35=\"\",\"\",'Growth - FL'!C35)","v":""},{"$f":"IF('Growth - FL'!D35=\"\",\"\",'Growth - FL'!D35)","v":""},{"$f":"IF('Growth - FL'!E35=\"\",\"\",'Growth - FL'!E35)","v":""}]
[32,{"$f":"IF('Growth - FL'!B36=\"\",\"\",'Growth - FL'!B36 * 7)","v":""},{"$f":"IF('Growth - FL'!C36=\"\",\"\",'Growth - FL'!C36)","v":""},{"$f":"IF('Growth - FL'!D36=\"\",\"\",'Growth - FL'!D36)","v":""},{"$f":"IF('Growth - FL'!E36=\"\",\"\",'Growth - FL'!E36)","v":""}]
[33,{"$f":"IF('Growth - FL'!B37=\"\",\"\",'Growth - FL'!B37 * 7)","v":""},{"$f":"IF('Growth - FL'!C37=\"\",\"\",'Growth - FL'!C37)","v":""},{"$f":"IF('Growth - FL'!D37=\"\",\"\",'Growth - FL'!D37)","v":""},{"$f":"IF('Growth - FL'!E37=\"\",\"\",'Growth - FL'!E37)","v":""}]
[34,{"$f":"IF('Growth - FL'!B38=\"\",\"\",'Growth - FL'!B38 * 7)","v":""},{"$f":"IF('Growth - FL'!C38=\"\",\"\",'Growth - FL'!C38)","v":""},{"$f":"IF('Growth - FL'!D38=\"\",\"\",'Growth - FL'!D38)","v":""},{"$f":"IF('Growth - FL'!E38=\"\",\"\",'Growth - FL'!E38)","v":""}]
[35,{"$f":"IF('Growth - FL'!B39=\"\",\"\",'Growth - FL'!B39 * 7)","v":""},{"$f":"IF('Growth - FL'!C39=\"\",\"\",'Growth - FL'!C39)","v":""},{"$f":"IF('Growth - FL'!D39=\"\",\"\",'Growth - FL'!D39)","v":""},{"$f":"IF('Growth - FL'!E39=\"\",\"\",'Growth - FL'!E39)","v":""}]
[36,{"$f":"IF('Growth - FL'!B40=\"\",\"\",'Growth - FL'!B40 * 7)","v":""},{"$f":"IF('Growth - FL'!C40=\"\",\"\",'Growth - FL'!C40)","v":""},{"$f":"IF('Growth - FL'!D40=\"\",\"\",'Growth - FL'!D40)","v":""},{"$f":"IF('Growth - FL'!E40=\"\",\"\",'Growth - FL'!E40)","v":""}]
[37,{"$f":"IF('Growth - FL'!B41=\"\",\"\",'Growth - FL'!B41 * 7)","v":""},{"$f":"IF('Growth - FL'!C41=\"\",\"\",'Growth - FL'!C41)","v":""},{"$f":"IF('Growth - FL'!D41=\"\",\"\",'Growth - FL'!D41)","v":""},{"$f":"IF('Growth - FL'!E41=\"\",\"\",'Growth - FL'!E41)","v":""}]
[38,{"$f":"IF('Growth - FL'!B42=\"\",\"\",'Growth - FL'!B42 * 7)","v":""},{"$f":"IF('Growth - FL'!C42=\"\",\"\",'Growth - FL'!C42)","v":""},{"$f":"IF('Growth - FL'!D42=\"\",\"\",'Growth - FL'!D42)","v":""},{"$f":"IF('Growth - FL'!E42=\"\",\"\",'Growth - FL'!E42)","v":""}]
[39,{"$f":"IF('Growth - FL'!B43=\"\",\"\",'Growth - FL'!B43 * 7)","v":""},{"$f":"IF('Growth - FL'!C43=\"\",\"\",'Growth - FL'!C43)","v":""},{"$f":"IF('Growth - FL'!D43=\"\",\"\",'Growth - FL'!D43)","v":""},{"$f":"IF('Growth - FL'!E43=\"\",\"\",'Growth - FL'!E43)","v":""}]
[40,{"$f":"IF('Growth - FL'!B44=\"\",\"\",'Growth - FL'!B44 * 7)","v":""},{"$f":"IF('Growth - FL'!C44=\"\",\"\",'Growth - FL'!C44)","v":""},{"$f":"IF('Growth - FL'!D44=\"\",\"\",'Growth - FL'!D44)","v":""},{"$f":"IF('Growth - FL'!E44=\"\",\"\",'Growth - FL'!E44)","v":""}]
[41,{"$f":"IF('Growth - FL'!B45=\"\",\"\",'Growth - FL'!B45 * 7)","v":""},{"$f":"IF('Growth - FL'!C45=\"\",\"\",'Growth - FL'!C45)","v":""},{"$f":"IF('Growth - FL'!D45=\"\",\"\",'Growth - FL'!D45)","v":""},{"$f":"IF('Growth - FL'!E45=\"\",\"\",'Growth - FL'!E45)","v":""}]
[42,{"$f":"IF('Growth - FL'!B46=\"\",\"\",'Growth - FL'!B46 * 7)","v":""},{"$f":"IF('Growth - FL'!C46=\"\",\"\",'Growth - FL'!C46)","v":""},{"$f":"IF('Growth - FL'!D46=\"\",\"\",'Growth - FL'!D46)","v":""},{"$f":"IF('Growth - FL'!E46=\"\",\"\",'Growth - FL'!E46)","v":""}]
[43,{"$f":"IF('Growth - FL'!B47=\"\",\"\",'Growth - FL'!B47 * 7)","v":""},{"$f":"IF('Growth - FL'!C47=\"\",\"\",'Growth - FL'!C47)","v":""},{"$f":"IF('Growth - FL'!D47=\"\",\"\",'Growth - FL'!D47)","v":""},{"$f":"IF('Growth - FL'!E47=\"\",\"\",'Growth - FL'!E47)","v":""}]
[44,{"$f":"IF('Growth - FL'!B48=\"\",\"\",'Growth - FL'!B48 * 7)","v":""},{"$f":"IF('Growth - FL'!C48=\"\",\"\",'Growth - FL'!C48)","v":""},{"$f":"IF('Growth - FL'!D48=\"\",\"\",'Growth - FL'!D48)","v":""},{"$f":"IF('Growth - FL'!E48=\"\",\"\",'Growth - FL'!E48)","v":""}]
[45,{"$f":"IF('Growth - FL'!B49=\"\",\"\",'Growth - FL'!B49 * 7)","v":""},{"$f":"IF('Growth - FL'!C49=\"\",\"\",'Growth - FL'!C49)","v":""},{"$f":"IF('Growth - FL'!D49=\"\",\"\",'Growth - FL'!D49)","v":""},{"$f":"IF('Growth - FL'!E49=\"\",\"\",'Growth - FL'!E49)","v":""}]
[46,{"$f":"IF('Growth - FL'!B50=\"\",\"\",'Growth - FL'!B50 * 7)","v":""},{"$f":"IF('Growth - FL'!C50=\"\",\"\",'Growth - FL'!C50)","v":""},{"$f":"IF('Growth - FL'!D50=\"\",\"\",'Growth - FL'!D50)","v":""},{"$f":"IF('Growth - FL'!E50=\"\",\"\",'Growth - FL'!E50)","v":""}]
[47,{"$f":"IF('Growth - FL'!B51=\"\",\"\",'Growth - FL'!B51 * 7)","v":""},{"$f":"IF('Growth - FL'!C51=\"\",\"\",'Growth - FL'!C51)","v":""},{"$f":"IF('Growth - FL'!D51=\"\",\"\",'Growth - FL'!D51)","v":""},{"$f":"IF('Growth - FL'!E51=\"\",\"\",'Growth - FL'!E51)","v":""}]
[48,{"$f":"IF('Growth - FL'!B52=\"\",\"\",'Growth - FL'!B52 * 7)","v":""},{"$f":"IF('Growth - FL'!C52=\"\",\"\",'Growth - FL'!C52)","v":""},{"$f":"IF('Growth - FL'!D52=\"\",\"\",'Growth - FL'!D52)","v":""},{"$f":"IF('Growth - FL'!E52=\"\",\"\",'Growth - FL'!E52)","v":""}]
[49,{"$f":"IF('Growth - FL'!B53=\"\",\"\",'Growth - FL'!B53 * 7)","v":""},{"$f":"IF('Growth - FL'!C53=\"\",\"\",'Growth - FL'!C53)","v":""},{"$f":"IF('Growth - FL'!D53=\"\",\"\",'Growth - FL'!D53)","v":""},{"$f":"IF('Growth - FL'!E53=\"\",\"\",'Growth - FL'!E53)","v":""}]
[50,{"$f":"IF('Growth - FL'!B54=\"\",\"\",'Growth - FL'!B54 * 7)","v":""},{"$f":"IF('Growth - FL'!C54=\"\",\"\",'Growth - FL'!C54)","v":""},{"$f":"IF('Growth - FL'!D54=\"\",\"\",'Growth - FL'!D54)","v":""},{"$f":"IF('Growth - FL'!E54=\"\",\"\",'Growth - FL'!E54)","v":""}]
[51,{"$f":"IF('Growth - FL'!B55=\"\",\"\",'Growth - FL'!B55 * 7)","v":""},{"$f":"IF('Growth - FL'!C55=\"\",\"\",'Growth - FL'!C55)","v":""},{"$f":"IF('Growth - FL'!D55=\"\",\"\",'Growth - FL'!D55)","v":""},{"$f":"IF('Growth - FL'!E55=\"\",\"\",'Growth - FL'!E55)","v":""}]
[52,{"$f":"IF('Growth - FL'!B56=\"\",\"\",'Growth - FL'!B56 * 7)","v":""},{"$f":"IF('Growth - FL'!C56=\"\",\"\",'Growth - FL'!C56)","v":""},{"$f":"IF('Growth - FL'!D56=\"\",\"\",'Growth - FL'!D56)","v":""},{"$f":"IF('Growth - FL'!E56=\"\",\"\",'Growth - FL'!E56)","v":""}]
[53,{"$f":"IF('Growth - FL'!B57=\"\",\"\",'Growth - FL'!B57 * 7)","v":""},{"$f":"IF('Growth - FL'!C57=\"\",\"\",'Growth - FL'!C57)","v":""},{"$f":"IF('Growth - FL'!D57=\"\",\"\",'Growth - FL'!D57)","v":""},{"$f":"IF('Growth - FL'!E57=\"\",\"\",'Growth - FL'!E57)","v":""}]
[54,{"$f":"IF('Growth - FL'!B58=\"\",\"\",'Growth - FL'!B58 * 7)","v":""},{"$f":"IF('Growth - FL'!C58=\"\",\"\",'Growth - FL'!C58)","v":""},{"$f":"IF('Growth - FL'!D58=\"\",\"\",'Growth - FL'!D58)","v":""},{"$f":"IF('Growth - FL'!E58=\"\",\"\",'Growth - FL'!E58)","v":""}]
[55,{"$f":"IF('Growth - FL'!B59=\"\",\"\",'Growth - FL'!B59 * 7)","v":""},{"$f":"IF('Growth - FL'!C59=\"\",\"\",'Growth - FL'!C59)","v":""},{"$f":"IF('Growth - FL'!D59=\"\",\"\",'Growth - FL'!D59)","v":""},{"$f":"IF('Growth - FL'!E59=\"\",\"\",'Growth - FL'!E59)","v":""}]
[56,{"$f":"IF('Growth - FL'!B60=\"\",\"\",'Growth - FL'!B60 * 7)","v":""},{"$f":"IF('Growth - FL'!C60=\"\",\"\",'Growth - FL'!C60)","v":""},{"$f":"IF('Growth - FL'!D60=\"\",\"\",'Growth - FL'!D60)","v":""},{"$f":"IF('Growth - FL'!E60=\"\",\"\",'Growth - FL'!E60)","v":""}]
[57,{"$f":"IF('Growth - FL'!B61=\"\",\"\",'Growth - FL'!B61 * 7)","v":""},{"$f":"IF('Growth - FL'!C61=\"\",\"\",'Growth - FL'!C61)","v":""},{"$f":"IF('Growth - FL'!D61=\"\",\"\",'Growth - FL'!D61)","v":""},{"$f":"IF('Growth - FL'!E61=\"\",\"\",'Growth - FL'!E61)","v":""}]
[58,{"$f":"IF('Growth - FL'!B62=\"\",\"\",'Growth - FL'!B62 * 7)","v":""},{"$f":"IF('Growth - FL'!C62=\"\",\"\",'Growth - FL'!C62)","v":""},{"$f":"IF('Growth - FL'!D62=\"\",\"\",'Growth - FL'!D62)","v":""},{"$f":"IF('Growth - FL'!E62=\"\",\"\",'Growth - FL'!E62)","v":""}]
[59,{"$f":"IF('Growth - FL'!B63=\"\",\"\",'Growth - FL'!B63 * 7)","v":""},{"$f":"IF('Growth - FL'!C63=\"\",\"\",'Growth - FL'!C63)","v":""},{"$f":"IF('Growth - FL'!D63=\"\",\"\",'Growth - FL'!D63)","v":""},{"$f":"IF('Growth - FL'!E63=\"\",\"\",'Growth - FL'!E63)","v":""}]
[60,{"$f":"IF('Growth - FL'!B64=\"\",\"\",'Growth - FL'!B64 * 7)","v":""},{"$f":"IF('Growth - FL'!C64=\"\",\"\",'Growth - FL'!C64)","v":""},{"$f":"IF('Growth - FL'!D64=\"\",\"\",'Growth - FL'!D64)","v":""},{"$f":"IF('Growth - FL'!E64=\"\",\"\",'Growth - FL'!E64)","v":""}]
[61,{"$f":"IF('Growth - FL'!B65=\"\",\"\",'Growth - FL'!B65 * 7)","v":""},{"$f":"IF('Growth - FL'!C65=\"\",\"\",'Growth - FL'!C65)","v":""},{"$f":"IF('Growth - FL'!D65=\"\",\"\",'Growth - FL'!D65)","v":""},{"$f":"IF('Growth - FL'!E65=\"\",\"\",'Growth - FL'!E65)","v":""}]
[62,{"$f":"IF('Growth - FL'!B66=\"\",\"\",'Growth - FL'!B66 * 7)","v":""},{"$f":"IF('Growth - FL'!C66=\"\",\"\",'Growth - FL'!C66)","v":""},{"$f":"IF('Growth - FL'!D66=\"\",\"\",'Growth - FL'!D66)","v":""},{"$f":"IF('Growth - FL'!E66=\"\",\"\",'Growth - FL'!E66)","v":""}]
[63,{"$f":"IF('Growth - FL'!B67=\"\",\"\",'Growth - FL'!B67 * 7)","v":""},{"$f":"IF('Growth - FL'!C67=\"\",\"\",'Growth - FL'!C67)","v":""},{"$f":"IF('Growth - FL'!D67=\"\",\"\",'Growth - FL'!D67)","v":""},{"$f":"IF('Growth - FL'!E67=\"\",\"\",'Growth - FL'!E67)","v":""}]
[64,{"$f":"IF('Growth - FL'!B68=\"\",\"\",'Growth - FL'!B68 * 7)","v":""},{"$f":"IF('Growth - FL'!C68=\"\",\"\",'Growth - FL'!C68)","v":""},{"$f":"IF('Growth - FL'!D68=\"\",\"\",'Growth - FL'!D68)","v":""},{"$f":"IF('Growth - FL'!E68=\"\",\"\",'Growth - FL'!E68)","v":""}]
[65,{"$f":"IF('Growth - FL'!B69=\"\",\"\",'Growth - FL'!B69 * 7)","v":""},{"$f":"IF('Growth - FL'!C69=\"\",\"\",'Growth - FL'!C69)","v":""},{"$f":"IF('Growth - FL'!D69=\"\",\"\",'Growth - FL'!D69)","v":""},{"$f":"IF('Growth - FL'!E69=\"\",\"\",'Growth - FL'!E69)","v":""}]
[66,{"$f":"IF('Growth - FL'!B70=\"\",\"\",'Growth - FL'!B70 * 7)","v":""},{"$f":"IF('Growth - FL'!C70=\"\",\"\",'Growth - FL'!C70)","v":""},{"$f":"IF('Growth - FL'!D70=\"\",\"\",'Growth - FL'!D70)","v":""},{"$f":"IF('Growth - FL'!E70=\"\",\"\",'Growth - FL'!E70)","v":""}]
[67,{"$f":"IF('Growth - FL'!B71=\"\",\"\",'Growth - FL'!B71 * 7)","v":""},{"$f":"IF('Growth - FL'!C71=\"\",\"\",'Growth - FL'!C71)","v":""},{"$f":"IF('Growth - FL'!D71=\"\",\"\",'Growth - FL'!D71)","v":""},{"$f":"IF('Growth - FL'!E71=\"\",\"\",'Growth - FL'!E71)","v":""}]
[68,{"$f":"IF('Growth - FL'!B72=\"\",\"\",'Growth - FL'!B72 * 7)","v":""},{"$f":"IF('Growth - FL'!C72=\"\",\"\",'Growth - FL'!C72)","v":""},{"$f":"IF('Growth - FL'!D72=\"\",\"\",'Growth - FL'!D72)","v":""},{"$f":"IF('Growth - FL'!E72=\"\",\"\",'Growth - FL'!E72)","v":""}]
[69,{"$f":"IF('Growth - FL'!B73=\"\",\"\",'Growth - FL'!B73 * 7)","v":""},{"$f":"IF('Growth - FL'!C73=\"\",\"\",'Growth - FL'!C73)","v":""},{"$f":"IF('Growth - FL'!D73=\"\",\"\",'Growth - FL'!D73)","v":""},{"$f":"IF('Growth - FL'!E73=\"\",\"\",'Growth - FL'!E73)","v":""}]
[70,{"$f":"IF('Growth - FL'!B74=\"\",\"\",'Growth - FL'!B74 * 7)","v":""},{"$f":"IF('Growth - FL'!C74=\"\",\"\",'Growth - FL'!C74)","v":""},{"$f":"IF('Growth - FL'!D74=\"\",\"\",'Growth - FL'!D74)","v":""},{"$f":"IF('Growth - FL'!E74=\"\",\"\",'Growth - FL'!E74)","v":""}]
[71,{"$f":"IF('Growth - FL'!B75=\"\",\"\",'Growth - FL'!B75 * 7)","v":""},{"$f":"IF('Growth - FL'!C75=\"\",\"\",'Growth - FL'!C75)","v":""},{"$f":"IF('Growth - FL'!D75=\"\",\"\",'Growth - FL'!D75)","v":""},{"$f":"IF('Growth - FL'!E75=\"\",\"\",'Growth - FL'!E75)","v":""}]
[72,{"$f":"IF('Growth - FL'!B76=\"\",\"\",'Growth - FL'!B76 * 7)","v":""},{"$f":"IF('Growth - FL'!C76=\"\",\"\",'Growth - FL'!C76)","v":""},{"$f":"IF('Growth - FL'!D76=\"\",\"\",'Growth - FL'!D76)","v":""},{"$f":"IF('Growth - FL'!E76=\"\",\"\",'Growth - FL'!E76)","v":""}]
[73,{"$f":"IF('Growth - FL'!B77=\"\",\"\",'Growth - FL'!B77 * 7)","v":""},{"$f":"IF('Growth - FL'!C77=\"\",\"\",'Growth - FL'!C77)","v":""},{"$f":"IF('Growth - FL'!D77=\"\",\"\",'Growth - FL'!D77)","v":""},{"$f":"IF('Growth - FL'!E77=\"\",\"\",'Growth - FL'!E77)","v":""}]
[74,{"$f":"IF('Growth - FL'!B78=\"\",\"\",'Growth - FL'!B78 * 7)","v":""},{"$f":"IF('Growth - FL'!C78=\"\",\"\",'Growth - FL'!C78)","v":""},{"$f":"IF('Growth - FL'!D78=\"\",\"\",'Growth - FL'!D78)","v":""},{"$f":"IF('Growth - FL'!E78=\"\",\"\",'Growth - FL'!E78)","v":""}]
[75,{"$f":"IF('Growth - FL'!B79=\"\",\"\",'Growth - FL'!B79 * 7)","v":""},{"$f":"IF('Growth - FL'!C79=\"\",\"\",'Growth - FL'!C79)","v":""},{"$f":"IF('Growth - FL'!D79=\"\",\"\",'Growth - FL'!D79)","v":""},{"$f":"IF('Growth - FL'!E79=\"\",\"\",'Growth - FL'!E79)","v":""}]
[76,{"$f":"IF('Growth - FL'!B80=\"\",\"\",'Growth - FL'!B80 * 7)","v":""},{"$f":"IF('Growth - FL'!C80=\"\",\"\",'Growth - FL'!C80)","v":""},{"$f":"IF('Growth - FL'!D80=\"\",\"\",'Growth - FL'!D80)","v":""},{"$f":"IF('Growth - FL'!E80=\"\",\"\",'Growth - FL'!E80)","v":""}]
[77,{"$f":"IF('Growth - FL'!B81=\"\",\"\",'Growth - FL'!B81 * 7)","v":""},{"$f":"IF('Growth - FL'!C81=\"\",\"\",'Growth - FL'!C81)","v":""},{"$f":"IF('Growth - FL'!D81=\"\",\"\",'Growth - FL'!D81)","v":""},{"$f":"IF('Growth - FL'!E81=\"\",\"\",'Growth - FL'!E81)","v":""}]
[78,{"$f":"IF('Growth - FL'!B82=\"\",\"\",'Growth - FL'!B82 * 7)","v":""},{"$f":"IF('Growth - FL'!C82=\"\",\"\",'Growth - FL'!C82)","v":""},{"$f":"IF('Growth - FL'!D82=\"\",\"\",'Growth - FL'!D82)","v":""},{"$f":"IF('Growth - FL'!E82=\"\",\"\",'Growth - FL'!E82)","v":""}]
[79,{"$f":"IF('Growth - FL'!B83=\"\",\"\",'Growth - FL'!B83 * 7)","v":""},{"$f":"IF('Growth - FL'!C83=\"\",\"\",'Growth - FL'!C83)","v":""},{"$f":"IF('Growth - FL'!D83=\"\",\"\",'Growth - FL'!D83)","v":""},{"$f":"IF('Growth - FL'!E83=\"\",\"\",'Growth - FL'!E83)","v":""}]
[80,{"$f":"IF('Growth - FL'!B84=\"\",\"\",'Growth - FL'!B84 * 7)","v":""},{"$f":"IF('Growth - FL'!C84=\"\",\"\",'Growth - FL'!C84)","v":""},{"$f":"IF('Growth - FL'!D84=\"\",\"\",'Growth - FL'!D84)","v":""},{"$f":"IF('Growth - FL'!E84=\"\",\"\",'Growth - FL'!E84)","v":""}]
[81,{"$f":"IF('Growth - FL'!B85=\"\",\"\",'Growth - FL'!B85 * 7)","v":""},{"$f":"IF('Growth - FL'!C85=\"\",\"\",'Growth - FL'!C85)","v":""},{"$f":"IF('Growth - FL'!D85=\"\",\"\",'Growth - FL'!D85)","v":""},{"$f":"IF('Growth - FL'!E85=\"\",\"\",'Growth - FL'!E85)","v":""}]
[82,{"$f":"IF('Growth - FL'!B86=\"\",\"\",'Growth - FL'!B86 * 7)","v":""},{"$f":"IF('Growth - FL'!C86=\"\",\"\",'Growth - FL'!C86)","v":""},{"$f":"IF('Growth - FL'!D86=\"\",\"\",'Growth - FL'!D86)","v":""},{"$f":"IF('Growth - FL'!E86=\"\",\"\",'Growth - FL'!E86)","v":""}]
[83,{"$f":"IF('Growth - FL'!B87=\"\",\"\",'Growth - FL'!B87 * 7)","v":""},{"$f":"IF('Growth - FL'!C87=\"\",\"\",'Growth - FL'!C87)","v":""},{"$f":"IF('Growth - FL'!D87=\"\",\"\",'Growth - FL'!D87)","v":""},{"$f":"IF('Growth - FL'!E87=\"\",\"\",'Growth - FL'!E87)","v":""}]
[84,{"$f":"IF('Growth - FL'!B88=\"\",\"\",'Growth - FL'!B88 * 7)","v":""},{"$f":"IF('Growth - FL'!C88=\"\",\"\",'Growth - FL'!C88)","v":""},{"$f":"IF('Growth - FL'!D88=\"\",\"\",'Growth - FL'!D88)","v":""},{"$f":"IF('Growth - FL'!E88=\"\",\"\",'Growth - FL'!E88)","v":""}]
[85,{"$f":"IF('Growth - FL'!B89=\"\",\"\",'Growth - FL'!B89 * 7)","v":""},{"$f":"IF('Growth - FL'!C89=\"\",\"\",'Growth - FL'!C89)","v":""},{"$f":"IF('Growth - FL'!D89=\"\",\"\",'Growth - FL'!D89)","v":""},{"$f":"IF('Growth - FL'!E89=\"\",\"\",'Growth - FL'!E89)","v":""}]
[86,{"$f":"IF('Growth - FL'!B90=\"\",\"\",'Growth - FL'!B90 * 7)","v":""},{"$f":"IF('Growth - FL'!C90=\"\",\"\",'Growth - FL'!C90)","v":""},{"$f":"IF('Growth - FL'!D90=\"\",\"\",'Growth - FL'!D90)","v":""},{"$f":"IF('Growth - FL'!E90=\"\",\"\",'Growth - FL'!E90)","v":""}]
[87,{"$f":"IF('Growth - FL'!B91=\"\",\"\",'Growth - FL'!B91 * 7)","v":""},{"$f":"IF('Growth - FL'!C91=\"\",\"\",'Growth - FL'!C91)","v":""},{"$f":"IF('Growth - FL'!D91=\"\",\"\",'Growth - FL'!D91)","v":""},{"$f":"IF('Growth - FL'!E91=\"\",\"\",'Growth - FL'!E91)","v":""}]
[88,{"$f":"IF('Growth - FL'!B92=\"\",\"\",'Growth - FL'!B92 * 7)","v":""},{"$f":"IF('Growth - FL'!C92=\"\",\"\",'Growth - FL'!C92)","v":""},{"$f":"IF('Growth - FL'!D92=\"\",\"\",'Growth - FL'!D92)","v":""},{"$f":"IF('Growth - FL'!E92=\"\",\"\",'Growth - FL'!E92)","v":""}]
[89,{"$f":"IF('Growth - FL'!B93=\"\",\"\",'Growth - FL'!B93 * 7)","v":""},{"$f":"IF('Growth - FL'!C93=\"\",\"\",'Growth - FL'!C93)","v":""},{"$f":"IF('Growth - FL'!D93=\"\",\"\",'Growth - FL'!D93)","v":""},{"$f":"IF('Growth - FL'!E93=\"\",\"\",'Growth - FL'!E93)","v":""}]
[90,{"$f":"IF('Growth - FL'!B94=\"\",\"\",'Growth - FL'!B94 * 7)","v":""},{"$f":"IF('Growth - FL'!C94=\"\",\"\",'Growth - FL'!C94)","v":""},{"$f":"IF('Growth - FL'!D94=\"\",\"\",'Growth - FL'!D94)","v":""},{"$f":"IF('Growth - FL'!E94=\"\",\"\",'Growth - FL'!E94)","v":""}]
[91,{"$f":"IF('Growth - FL'!B95=\"\",\"\",'Growth - FL'!B95 * 7)","v":""},{"$f":"IF('Growth - FL'!C95=\"\",\"\",'Growth - FL'!C95)","v":""},{"$f":"IF('Growth - FL'!D95=\"\",\"\",'Growth - FL'!D95)","v":""},{"$f":"IF('Growth - FL'!E95=\"\",\"\",'Growth - FL'!E95)","v":""}]
[92,{"$f":"IF('Growth - FL'!B96=\"\",\"\",'Growth - FL'!B96 * 7)","v":""},{"$f":"IF('Growth - FL'!C96=\"\",\"\",'Growth - FL'!C96)","v":""},{"$f":"IF('Growth - FL'!D96=\"\",\"\",'Growth - FL'!D96)","v":""},{"$f":"IF('Growth - FL'!E96=\"\",\"\",'Growth - FL'!E96)","v":""}]
[93,{"$f":"IF('Growth - FL'!B97=\"\",\"\",'Growth - FL'!B97 * 7)","v":""},{"$f":"IF('Growth - FL'!C97=\"\",\"\",'Growth - FL'!C97)","v":""},{"$f":"IF('Growth - FL'!D97=\"\",\"\",'Growth - FL'!D97)","v":""},{"$f":"IF('Growth - FL'!E97=\"\",\"\",'Growth - FL'!E97)","v":""}]
[94,{"$f":"IF('Growth - FL'!B98=\"\",\"\",'Growth - FL'!B98 * 7)","v":""},{"$f":"IF('Growth - FL'!C98=\"\",\"\",'Growth - FL'!C98)","v":""},{"$f":"IF('Growth - FL'!D98=\"\",\"\",'Growth - FL'!D98)","v":""},{"$f":"IF('Growth - FL'!E98=\"\",\"\",'Growth - FL'!E98)","v":""}]
[95,{"$f":"IF('Growth - FL'!B99=\"\",\"\",'Growth - FL'!B99 * 7)","v":""},{"$f":"IF('Growth - FL'!C99=\"\",\"\",'Growth - FL'!C99)","v":""},{"$f":"IF('Growth - FL'!D99=\"\",\"\",'Growth - FL'!D99)","v":""},{"$f":"IF('Growth - FL'!E99=\"\",\"\",'Growth - FL'!E99)","v":""}]
[96,{"$f":"IF('Growth - FL'!B100=\"\",\"\",'Growth - FL'!B100 * 7)","v":""},{"$f":"IF('Growth - FL'!C100=\"\",\"\",'Growth - FL'!C100)","v":""},{"$f":"IF('Growth - FL'!D100=\"\",\"\",'Growth - FL'!D100)","v":""},{"$f":"IF('Growth - FL'!E100=\"\",\"\",'Growth - FL'!E100)","v":""}]
[97,{"$f":"IF('Growth - FL'!B101=\"\",\"\",'Growth - FL'!B101 * 7)","v":""},{"$f":"IF('Growth - FL'!C101=\"\",\"\",'Growth - FL'!C101)","v":""},{"$f":"IF('Growth - FL'!D101=\"\",\"\",'Growth - FL'!D101)","v":""},{"$f":"IF('Growth - FL'!E101=\"\",\"\",'Growth - FL'!E101)","v":""}]
[98,{"$f":"IF('Growth - FL'!B102=\"\",\"\",'Growth - FL'!B102 * 7)","v":""},{"$f":"IF('Growth - FL'!C102=\"\",\"\",'Growth - FL'!C102)","v":""},{"$f":"IF('Growth - FL'!D102=\"\",\"\",'Growth - FL'!D102)","v":""},{"$f":"IF('Growth - FL'!E102=\"\",\"\",'Growth - FL'!E102)","v":""}]
[99,{"$f":"IF('Growth - FL'!B103=\"\",\"\",'Growth - FL'!B103 * 7)","v":""},{"$f":"IF('Growth - FL'!C103=\"\",\"\",'Growth - FL'!C103)","v":""},{"$f":"IF('Growth - FL'!D103=\"\",\"\",'Growth - FL'!D103)","v":""},{"$f":"IF('Growth - FL'!E103=\"\",\"\",'Growth - FL'!E103)","v":""}]
[100,{"$f":"IF('Growth - FL'!B104=\"\",\"\",'Growth - FL'!B104 * 7)","v":""},{"$f":"IF('Growth - FL'!C104=\"\",\"\",'Growth - FL'!C104)","v":""},{"$f":"IF('Growth - FL'!D104=\"\",\"\",'Growth - FL'!D104)","v":""},{"$f":"IF('Growth - FL'!E104=\"\",\"\",'Growth - FL'!E104)","v":""}]
[101,{"$f":"IF('Growth - FL'!B105=\"\",\"\",'Growth - FL'!B105 * 7)","v":""},{"$f":"IF('Growth - FL'!C105=\"\",\"\",'Growth - FL'!C105)","v":""},{"$f":"IF('Growth - FL'!D105=\"\",\"\",'Growth - FL'!D105)","v":""},{"$f":"IF('Growth - FL'!E105=\"\",\"\",'Growth - FL'!E105)","v":""}]
[102,{"$f":"IF('Growth - FL'!B106=\"\",\"\",'Growth - FL'!B106 * 7)","v":""},{"$f":"IF('Growth - FL'!C106=\"\",\"\",'Growth - FL'!C106)","v":""},{"$f":"IF('Growth - FL'!D106=\"\",\"\",'Growth - FL'!D106)","v":""},{"$f":"IF('Growth - FL'!E106=\"\",\"\",'Growth - FL'!E106)","v":""}]
[103,{"$f":"IF('Growth - FL'!B107=\"\",\"\",'Growth - FL'!B107 * 7)","v":""},{"$f":"IF('Growth - FL'!C107=\"\",\"\",'Growth - FL'!C107)","v":""},{"$f":"IF('Growth - FL'!D107=\"\",\"\",'Growth - FL'!D107)","v":""},{"$f":"IF('Growth - FL'!E107=\"\",\"\",'Growth - FL'!E107)","v":""}]
[104,{"$f":"IF('Growth - FL'!B108=\"\",\"\",'Growth - FL'!B108 * 7)","v":""},{"$f":"IF('Growth - FL'!C108=\"\",\"\",'Growth - FL'!C108)","v":""},{"$f":"IF('Growth - FL'!D108=\"\",\"\",'Growth - FL'!D108)","v":""},{"$f":"IF('Growth - FL'!E108=\"\",\"\",'Growth - FL'!E108)","v":""}]
[105,{"$f":"IF('Growth - FL'!B109=\"\",\"\",'Growth - FL'!B109 * 7)","v":""},{"$f":"IF('Growth - FL'!C109=\"\",\"\",'Growth - FL'!C109)","v":""},{"$f":"IF('Growth - FL'!D109=\"\",\"\",'Growth - FL'!D109)","v":""},{"$f":"IF('Growth - FL'!E109=\"\",\"\",'Growth - FL'!E109)","v":""}]
[106,{"$f":"IF('Growth - FL'!B110=\"\",\"\",'Growth - FL'!B110 * 7)","v":""},{"$f":"IF('Growth - FL'!C110=\"\",\"\",'Growth - FL'!C110)","v":""},{"$f":"IF('Growth - FL'!D110=\"\",\"\",'Growth - FL'!D110)","v":""},{"$f":"IF('Growth - FL'!E110=\"\",\"\",'Growth - FL'!E110)","v":""}]
[107,{"$f":"IF('Growth - FL'!B111=\"\",\"\",'Growth - FL'!B111 * 7)","v":""},{"$f":"IF('Growth - FL'!C111=\"\",\"\",'Growth - FL'!C111)","v":""},{"$f":"IF('Growth - FL'!D111=\"\",\"\",'Growth - FL'!D111)","v":""},{"$f":"IF('Growth - FL'!E111=\"\",\"\",'Growth - FL'!E111)","v":""}]
[108,{"$f":"IF('Growth - FL'!B112=\"\",\"\",'Growth - FL'!B112 * 7)","v":""},{"$f":"IF('Growth - FL'!C112=\"\",\"\",'Growth - FL'!C112)","v":""},{"$f":"IF('Growth - FL'!D112=\"\",\"\",'Growth - FL'!D112)","v":""},{"$f":"IF('Growth - FL'!E112=\"\",\"\",'Growth - FL'!E112)","v":""}]
[109,{"$f":"IF('Growth - FL'!B113=\"\",\"\",'Growth - FL'!B113 * 7)","v":""},{"$f":"IF('Growth - FL'!C113=\"\",\"\",'Growth - FL'!C113)","v":""},{"$f":"IF('Growth - FL'!D113=\"\",\"\",'Growth - FL'!D113)","v":""},{"$f":"IF('Growth - FL'!E113=\"\",\"\",'Growth - FL'!E113)","v":""}]
[110,{"$f":"IF('Growth - FL'!B114=\"\",\"\",'Growth - FL'!B114 * 7)","v":""},{"$f":"IF('Growth - FL'!C114=\"\",\"\",'Growth - FL'!C114)","v":""},{"$f":"IF('Growth - FL'!D114=\"\",\"\",'Growth - FL'!D114)","v":""},{"$f":"IF('Growth - FL'!E114=\"\",\"\",'Growth - FL'!E114)","v":""}]
[111,{"$f":"IF('Growth - FL'!B115=\"\",\"\",'Growth - FL'!B115 * 7)","v":""},{"$f":"IF('Growth - FL'!C115=\"\",\"\",'Growth - FL'!C115)","v":""},{"$f":"IF('Growth - FL'!D115=\"\",\"\",'Growth - FL'!D115)","v":""},{"$f":"IF('Growth - FL'!E115=\"\",\"\",'Growth - FL'!E115)","v":""}]
[112,{"$f":"IF('Growth - FL'!B116=\"\",\"\",'Growth - FL'!B116 * 7)","v":""},{"$f":"IF('Growth - FL'!C116=\"\",\"\",'Growth - FL'!C116)","v":""},{"$f":"IF('Growth - FL'!D116=\"\",\"\",'Growth - FL'!D116)","v":""},{"$f":"IF('Growth - FL'!E116=\"\",\"\",'Growth - FL'!E116)","v":""}]
[113,{"$f":"IF('Growth - FL'!B117=\"\",\"\",'Growth - FL'!B117 * 7)","v":""},{"$f":"IF('Growth - FL'!C117=\"\",\"\",'Growth - FL'!C117)","v":""},{"$f":"IF('Growth - FL'!D117=\"\",\"\",'Growth - FL'!D117)","v":""},{"$f":"IF('Growth - FL'!E117=\"\",\"\",'Growth - FL'!E117)","v":""}]
[114,{"$f":"IF('Growth - FL'!B118=\"\",\"\",'Growth - FL'!B118 * 7)","v":""},{"$f":"IF('Growth - FL'!C118=\"\",\"\",'Growth - FL'!C118)","v":""},{"$f":"IF('Growth - FL'!D118=\"\",\"\",'Growth - FL'!D118)","v":""},{"$f":"IF('Growth - FL'!E118=\"\",\"\",'Growth - FL'!E118)","v":""}]
[115,{"$f":"IF('Growth - FL'!B119=\"\",\"\",'Growth - FL'!B119 * 7)","v":""},{"$f":"IF('Growth - FL'!C119=\"\",\"\",'Growth - FL'!C119)","v":""},{"$f":"IF('Growth - FL'!D119=\"\",\"\",'Growth - FL'!D119)","v":""},{"$f":"IF('Growth - FL'!E119=\"\",\"\",'Growth - FL'!E119)","v":""}]
[116,{"$f":"IF('Growth - FL'!B120=\"\",\"\",'Growth - FL'!B120 * 7)","v":""},{"$f":"IF('Growth - FL'!C120=\"\",\"\",'Growth - FL'!C120)","v":""},{"$f":"IF('Growth - FL'!D120=\"\",\"\",'Growth - FL'!D120)","v":""},{"$f":"IF('Growth - FL'!E120=\"\",\"\",'Growth - FL'!E120)","v":""}]
[117,{"$f":"IF('Growth - FL'!B121=\"\",\"\",'Growth - FL'!B121 * 7)","v":""},{"$f":"IF('Growth - FL'!C121=\"\",\"\",'Growth - FL'!C121)","v":""},{"$f":"IF('Growth - FL'!D121=\"\",\"\",'Growth - FL'!D121)","v":""},{"$f":"IF('Growth - FL'!E121=\"\",\"\",'Growth - FL'!E121)","v":""}]
[118,{"$f":"IF('Growth - FL'!B122=\"\",\"\",'Growth - FL'!B122 * 7)","v":""},{"$f":"IF('Growth - FL'!C122=\"\",\"\",'Growth - FL'!C122)","v":""},{"$f":"IF('Growth - FL'!D122=\"\",\"\",'Growth - FL'!D122)","v":""},{"$f":"IF('Growth - FL'!E122=\"\",\"\",'Growth - FL'!E122)","v":""}]
[119,{"$f":"IF('Growth - FL'!B123=\"\",\"\",'Growth - FL'!B123 * 7)","v":""},{"$f":"IF('Growth - FL'!C123=\"\",\"\",'Growth - FL'!C123)","v":""},{"$f":"IF('Growth - FL'!D123=\"\",\"\",'Growth - FL'!D123)","v":""},{"$f":"IF('Growth - FL'!E123=\"\",\"\",'Growth - FL'!E123)","v":""}]
[120,{"$f":"IF('Growth - FL'!B124=\"\",\"\",'Growth - FL'!B124 * 7)","v":""},{"$f":"IF('Growth - FL'!C124=\"\",\"\",'Growth - FL'!C124)","v":""},{"$f":"IF('Growth - FL'!D124=\"\",\"\",'Growth - FL'!D124)","v":""},{"$f":"IF('Growth - FL'!E124=\"\",\"\",'Growth - FL'!E124)","v":""}]
[121,{"$f":"IF('Growth - FL'!B125=\"\",\"\",'Growth - FL'!B125 * 7)","v":""},{"$f":"IF('Growth - FL'!C125=\"\",\"\",'Growth - FL'!C125)","v":""},{"$f":"IF('Growth - FL'!D125=\"\",\"\",'Growth - FL'!D125)","v":""},{"$f":"IF('Growth - FL'!E125=\"\",\"\",'Growth - FL'!E125)","v":""}]
[122,{"$f":"IF('Growth - FL'!B126=\"\",\"\",'Growth - FL'!B126 * 7)","v":""},{"$f":"IF('Growth - FL'!C126=\"\",\"\",'Growth - FL'!C126)","v":""},{"$f":"IF('Growth - FL'!D126=\"\",\"\",'Growth - FL'!D126)","v":""},{"$f":"IF('Growth - FL'!E126=\"\",\"\",'Growth - FL'!E126)","v":""}]
[123,{"$f":"IF('Growth - FL'!B127=\"\",\"\",'Growth - FL'!B127 * 7)","v":""},{"$f":"IF('Growth - FL'!C127=\"\",\"\",'Growth - FL'!C127)","v":""},{"$f":"IF('Growth - FL'!D127=\"\",\"\",'Growth - FL'!D127)","v":""},{"$f":"IF('Growth - FL'!E127=\"\",\"\",'Growth - FL'!E127)","v":""}]
[124,{"$f":"IF('Growth - FL'!B128=\"\",\"\",'Growth - FL'!B128 * 7)","v":""},{"$f":"IF('Growth - FL'!C128=\"\",\"\",'Growth - FL'!C128)","v":""},{"$f":"IF('Growth - FL'!D128=\"\",\"\",'Growth - FL'!D128)","v":""},{"$f":"IF('Growth - FL'!E128=\"\",\"\",'Growth - FL'!E128)","v":""}]
[125,{"$f":"IF('Growth - FL'!B129=\"\",\"\",'Growth - FL'!B129 * 7)","v":""},{"$f":"IF('Growth - FL'!C129=\"\",\"\",'Growth - FL'!C129)","v":""},{"$f":"IF('Growth - FL'!D129=\"\",\"\",'Growth - FL'!D129)","v":""},{"$f":"IF('Growth - FL'!E129=\"\",\"\",'Growth - FL'!E129)","v":""}]
[126,{"$f":"IF('Growth - FL'!B130=\"\",\"\",'Growth - FL'!B130 * 7)","v":""},{"$f":"IF('Growth - FL'!C130=\"\",\"\",'Growth - FL'!C130)","v":""},{"$f":"IF('Growth - FL'!D130=\"\",\"\",'Growth - FL'!D130)","v":""},{"$f":"IF('Growth - FL'!E130=\"\",\"\",'Growth - FL'!E130)","v":""}]
[127,{"$f":"IF('Growth - FL'!B131=\"\",\"\",'Growth - FL'!B131 * 7)","v":""},{"$f":"IF('Growth - FL'!C131=\"\",\"\",'Growth - FL'!C131)","v":""},{"$f":"IF('Growth - FL'!D131=\"\",\"\",'Growth - FL'!D131)","v":""},{"$f":"IF('Growth - FL'!E131=\"\",\"\",'Growth - FL'!E131)","v":""}]
[128,{"$f":"IF('Growth - FL'!B132=\"\",\"\",'Growth - FL'!B132 * 7)","v":""},{"$f":"IF('Growth - FL'!C132=\"\",\"\",'Growth - FL'!C132)","v":""},{"$f":"IF('Growth - FL'!D132=\"\",\"\",'Growth - FL'!D132)","v":""},{"$f":"IF('Growth - FL'!E132=\"\",\"\",'Growth - FL'!E132)","v":""}]
[129,{"$f":"IF('Growth - FL'!B133=\"\",\"\",'Growth - FL'!B133 * 7)","v":""},{"$f":"IF('Growth - FL'!C133=\"\",\"\",'Growth - FL'!C133)","v":""},{"$f":"IF('Growth - FL'!D133=\"\",\"\",'Growth - FL'!D133)","v":""},{"$f":"IF('Growth - FL'!E133=\"\",\"\",'Growth - FL'!E133)","v":""}]
[130,{"$f":"IF('Growth - FL'!B134=\"\",\"\",'Growth - FL'!B134 * 7)","v":""},{"$f":"IF('Growth - FL'!C134=\"\",\"\",'Growth - FL'!C134)","v":""},{"$f":"IF('Growth - FL'!D134=\"\",\"\",'Growth - FL'!D134)","v":""},{"$f":"IF('Growth - FL'!E134=\"\",\"\",'Growth - FL'!E134)","v":""}]
[131,{"$f":"IF('Growth - FL'!B135=\"\",\"\",'Growth - FL'!B135 * 7)","v":""},{"$f":"IF('Growth - FL'!C135=\"\",\"\",'Growth - FL'!C135)","v":""},{"$f":"IF('Growth - FL'!D135=\"\",\"\",'Growth - FL'!D135)","v":""},{"$f":"IF('Growth - FL'!E135=\"\",\"\",'Growth - FL'!E135)","v":""}]
[132,{"$f":"IF('Growth - FL'!B136=\"\",\"\",'Growth - FL'!B136 * 7)","v":""},{"$f":"IF('Growth - FL'!C136=\"\",\"\",'Growth - FL'!C136)","v":""},{"$f":"IF('Growth - FL'!D136=\"\",\"\",'Growth - FL'!D136)","v":""},{"$f":"IF('Growth - FL'!E136=\"\",\"\",'Growth - FL'!E136)","v":""}]
[133,{"$f":"IF('Growth - FL'!B137=\"\",\"\",'Growth - FL'!B137 * 7)","v":""},{"$f":"IF('Growth - FL'!C137=\"\",\"\",'Growth - FL'!C137)","v":""},{"$f":"IF('Growth - FL'!D137=\"\",\"\",'Growth - FL'!D137)","v":""},{"$f":"IF('Growth - FL'!E137=\"\",\"\",'Growth - FL'!E137)","v":""}]
[134,{"$f":"IF('Growth - FL'!B138=\"\",\"\",'Growth - FL'!B138 * 7)","v":""},{"$f":"IF('Growth - FL'!C138=\"\",\"\",'Growth - FL'!C138)","v":""},{"$f":"IF('Growth - FL'!D138=\"\",\"\",'Growth - FL'!D138)","v":""},{"$f":"IF('Growth - FL'!E138=\"\",\"\",'Growth - FL'!E138)","v":""}]
[135,{"$f":"IF('Growth - FL'!B139=\"\",\"\",'Growth - FL'!B139 * 7)","v":""},{"$f":"IF('Growth - FL'!C139=\"\",\"\",'Growth - FL'!C139)","v":""},{"$f":"IF('Growth - FL'!D139=\"\",\"\",'Growth - FL'!D139)","v":""},{"$f":"IF('Growth - FL'!E139=\"\",\"\",'Growth - FL'!E139)","v":""}]
[136,{"$f":"IF('Growth - FL'!B140=\"\",\"\",'Growth - FL'!B140 * 7)","v":""},{"$f":"IF('Growth - FL'!C140=\"\",\"\",'Growth - FL'!C140)","v":""},{"$f":"IF('Growth - FL'!D140=\"\",\"\",'Growth - FL'!D140)","v":""},{"$f":"IF('Growth - FL'!E140=\"\",\"\",'Growth - FL'!E140)","v":""}]
[137,{"$f":"IF('Growth - FL'!B141=\"\",\"\",'Growth - FL'!B141 * 7)","v":""},{"$f":"IF('Growth - FL'!C141=\"\",\"\",'Growth - FL'!C141)","v":""},{"$f":"IF('Growth - FL'!D141=\"\",\"\",'Growth - FL'!D141)","v":""},{"$f":"IF('Growth - FL'!E141=\"\",\"\",'Growth - FL'!E141)","v":""}]
[138,{"$f":"IF('Growth - FL'!B142=\"\",\"\",'Growth - FL'!B142 * 7)","v":""},{"$f":"IF('Growth - FL'!C142=\"\",\"\",'Growth - FL'!C142)","v":""},{"$f":"IF('Growth - FL'!D142=\"\",\"\",'Growth - FL'!D142)","v":""},{"$f":"IF('Growth - FL'!E142=\"\",\"\",'Growth - FL'!E142)","v":""}]
[139,{"$f":"IF('Growth - FL'!B143=\"\",\"\",'Growth - FL'!B143 * 7)","v":""},{"$f":"IF('Growth - FL'!C143=\"\",\"\",'Growth - FL'!C143)","v":""},{"$f":"IF('Growth - FL'!D143=\"\",\"\",'Growth - FL'!D143)","v":""},{"$f":"IF('Growth - FL'!E143=\"\",\"\",'Growth - FL'!E143)","v":""}]
[140,{"$f":"IF('Growth - FL'!B144=\"\",\"\",'Growth - FL'!B144 * 7)","v":""},{"$f":"IF('Growth - FL'!C144=\"\",\"\",'Growth - FL'!C144)","v":""},{"$f":"IF('Growth - FL'!D144=\"\",\"\",'Growth - FL'!D144)","v":""},{"$f":"IF('Growth - FL'!E144=\"\",\"\",'Growth - FL'!E144)","v":""}]
[141,{"$f":"IF('Growth - FL'!B145=\"\",\"\",'Growth - FL'!B145 * 7)","v":""},{"$f":"IF('Growth - FL'!C145=\"\",\"\",'Growth - FL'!C145)","v":""},{"$f":"IF('Growth - FL'!D145=\"\",\"\",'Growth - FL'!D145)","v":""},{"$f":"IF('Growth - FL'!E145=\"\",\"\",'Growth - FL'!E145)","v":""}]
[142,{"$f":"IF('Growth - FL'!B146=\"\",\"\",'Growth - FL'!B146 * 7)","v":""},{"$f":"IF('Growth - FL'!C146=\"\",\"\",'Growth - FL'!C146)","v":""},{"$f":"IF('Growth - FL'!D146=\"\",\"\",'Growth - FL'!D146)","v":""},{"$f":"IF('Growth - FL'!E146=\"\",\"\",'Growth - FL'!E146)","v":""}]
[143,{"$f":"IF('Growth - FL'!B147=\"\",\"\",'Growth - FL'!B147 * 7)","v":""},{"$f":"IF('Growth - FL'!C147=\"\",\"\",'Growth - FL'!C147)","v":""},{"$f":"IF('Growth - FL'!D147=\"\",\"\",'Growth - FL'!D147)","v":""},{"$f":"IF('Growth - FL'!E147=\"\",\"\",'Growth - FL'!E147)","v":""}]
[144,{"$f":"IF('Growth - FL'!B148=\"\",\"\",'Growth - FL'!B148 * 7)","v":""},{"$f":"IF('Growth - FL'!C148=\"\",\"\",'Growth - FL'!C148)","v":""},{"$f":"IF('Growth - FL'!D148=\"\",\"\",'Growth - FL'!D148)","v":""},{"$f":"IF('Growth - FL'!E148=\"\",\"\",'Growth - FL'!E148)","v":""}]
[145,{"$f":"IF('Growth - FL'!B149=\"\",\"\",'Growth - FL'!B149 * 7)","v":""},{"$f":"IF('Growth - FL'!C149=\"\",\"\",'Growth - FL'!C149)","v":""},{"$f":"IF('Growth - FL'!D149=\"\",\"\",'Growth - FL'!D149)","v":""},{"$f":"IF('Growth - FL'!E149=\"\",\"\",'Growth - FL'!E149)","v":""}]
[146,{"$f":"IF('Growth - FL'!B150=\"\",\"\",'Growth - FL'!B150 * 7)","v":""},{"$f":"IF('Growth - FL'!C150=\"\",\"\",'Growth - FL'!C150)","v":""},{"$f":"IF('Growth - FL'!D150=\"\",\"\",'Growth - FL'!D150)","v":""},{"$f":"IF('Growth - FL'!E150=\"\",\"\",'Growth - FL'!E150)","v":""}]
[147,{"$f":"IF('Growth - FL'!B151=\"\",\"\",'Growth - FL'!B151 * 7)","v":""},{"$f":"IF('Growth - FL'!C151=\"\",\"\",'Growth - FL'!C151)","v":""},{"$f":"IF('Growth - FL'!D151=\"\",\"\",'Growth - FL'!D151)","v":""},{"$f":"IF('Growth - FL'!E151=\"\",\"\",'Growth - FL'!E151)","v":""}]
[148,{"$f":"IF('Growth - FL'!B152=\"\",\"\",'Growth - FL'!B152 * 7)","v":""},{"$f":"IF('Growth - FL'!C152=\"\",\"\",'Growth - FL'!C152)","v":""},{"$f":"IF('Growth - FL'!D152=\"\",\"\",'Growth - FL'!D152)","v":""},{"$f":"IF('Growth - FL'!E152=\"\",\"\",'Growth - FL'!E152)","v":""}]
[149,{"$f":"IF('Growth - FL'!B153=\"\",\"\",'Growth - FL'!B153 * 7)","v":""},{"$f":"IF('Growth - FL'!C153=\"\",\"\",'Growth - FL'!C153)","v":""},{"$f":"IF('Growth - FL'!D153=\"\",\"\",'Growth - FL'!D153)","v":""},{"$f":"IF('Growth - FL'!E153=\"\",\"\",'Growth - FL'!E153)","v":""}]
[150,{"$f":"IF('Growth - FL'!B154=\"\",\"\",'Growth - FL'!B154 * 7)","v":""},{"$f":"IF('Growth - FL'!C154=\"\",\"\",'Growth - FL'!C154)","v":""},{"$f":"IF('Growth - FL'!D154=\"\",\"\",'Growth - FL'!D154)","v":""},{"$f":"IF('Growth - FL'!E154=\"\",\"\",'Growth - FL'!E154)","v":""}]
[151,{"$f":"IF('Growth - FL'!B155=\"\",\"\",'Growth - FL'!B155 * 7)","v":""},{"$f":"IF('Growth - FL'!C155=\"\",\"\",'Growth - FL'!C155)","v":""},{"$f":"IF('Growth - FL'!D155=\"\",\"\",'Growth - FL'!D155)","v":""},{"$f":"IF('Growth - FL'!E155=\"\",\"\",'Growth - FL'!E155)","v":""}]
[152,{"$f":"IF('Growth - FL'!B156=\"\",\"\",'Growth - FL'!B156 * 7)","v":""},{"$f":"IF('Growth - FL'!C156=\"\",\"\",'Growth - FL'!C156)","v":""},{"$f":"IF('Growth - FL'!D156=\"\",\"\",'Growth - FL'!D156)","v":""},{"$f":"IF('Growth - FL'!E156=\"\",\"\",'Growth - FL'!E156)","v":""}]
[153,{"$f":"IF('Growth - FL'!B157=\"\",\"\",'Growth - FL'!B157 * 7)","v":""},{"$f":"IF('Growth - FL'!C157=\"\",\"\",'Growth - FL'!C157)","v":""},{"$f":"IF('Growth - FL'!D157=\"\",\"\",'Growth - FL'!D157)","v":""},{"$f":"IF('Growth - FL'!E157=\"\",\"\",'Growth - FL'!E157)","v":""}]
[154,{"$f":"IF('Growth - FL'!B158=\"\",\"\",'Growth - FL'!B158 * 7)","v":""},{"$f":"IF('Growth - FL'!C158=\"\",\"\",'Growth - FL'!C158)","v":""},{"$f":"IF('Growth - FL'!D158=\"\",\"\",'Growth - FL'!D158)","v":""},{"$f":"IF('Growth - FL'!E158=\"\",\"\",'Growth - FL'!E158)","v":""}]
[155,{"$f":"IF('Growth - FL'!B159=\"\",\"\",'Growth - FL'!B159 * 7)","v":""},{"$f":"IF('Growth - FL'!C159=\"\",\"\",'Growth - FL'!C159)","v":""},{"$f":"IF('Growth - FL'!D159=\"\",\"\",'Growth - FL'!D159)","v":""},{"$f":"IF('Growth - FL'!E159=\"\",\"\",'Growth - FL'!E159)","v":""}]
[156,{"$f":"IF('Growth - FL'!B160=\"\",\"\",'Growth - FL'!B160 * 7)","v":""},{"$f":"IF('Growth - FL'!C160=\"\",\"\",'Growth - FL'!C160)","v":""},{"$f":"IF('Growth - FL'!D160=\"\",\"\",'Growth - FL'!D160)","v":""},{"$f":"IF('Growth - FL'!E160=\"\",\"\",'Growth - FL'!E160)","v":""}]
[157,{"$f":"IF('Growth - FL'!B161=\"\",\"\",'Growth - FL'!B161 * 7)","v":""},{"$f":"IF('Growth - FL'!C161=\"\",\"\",'Growth - FL'!C161)","v":""},{"$f":"IF('Growth - FL'!D161=\"\",\"\",'Growth - FL'!D161)","v":""},{"$f":"IF('Growth - FL'!E161=\"\",\"\",'Growth - FL'!E161)","v":""}]
[158,{"$f":"IF('Growth - FL'!B162=\"\",\"\",'Growth - FL'!B162 * 7)","v":""},{"$f":"IF('Growth - FL'!C162=\"\",\"\",'Growth - FL'!C162)","v":""},{"$f":"IF('Growth - FL'!D162=\"\",\"\",'Growth - FL'!D162)","v":""},{"$f":"IF('Growth - FL'!E162=\"\",\"\",'Growth - FL'!E162)","v":""}]
[159,{"$f":"IF('Growth - FL'!B163=\"\",\"\",'Growth - FL'!B163 * 7)","v":""},{"$f":"IF('Growth - FL'!C163=\"\",\"\",'Growth - FL'!C163)","v":""},{"$f":"IF('Growth - FL'!D163=\"\",\"\",'Growth - FL'!D163)","v":""},{"$f":"IF('Growth - FL'!E163=\"\",\"\",'Growth - FL'!E163)","v":""}]
[160,{"$f":"IF('Growth - FL'!B164=\"\",\"\",'Growth - FL'!B164 * 7)","v":""},{"$f":"IF('Growth - FL'!C164=\"\",\"\",'Growth - FL'!C164)","v":""},{"$f":"IF('Growth - FL'!D164=\"\",\"\",'Growth - FL'!D164)","v":""},{"$f":"IF('Growth - FL'!E164=\"\",\"\",'Growth - FL'!E164)","v":""}]
[161,{"$f":"IF('Growth - FL'!B165=\"\",\"\",'Growth - FL'!B165 * 7)","v":""},{"$f":"IF('Growth - FL'!C165=\"\",\"\",'Growth - FL'!C165)","v":""},{"$f":"IF('Growth - FL'!D165=\"\",\"\",'Growth - FL'!D165)","v":""},{"$f":"IF('Growth - FL'!E165=\"\",\"\",'Growth - FL'!E165)","v":""}]
[162,{"$f":"IF('Growth - FL'!B166=\"\",\"\",'Growth - FL'!B166 * 7)","v":""},{"$f":"IF('Growth - FL'!C166=\"\",\"\",'Growth - FL'!C166)","v":""},{"$f":"IF('Growth - FL'!D166=\"\",\"\",'Growth - FL'!D166)","v":""},{"$f":"IF('Growth - FL'!E166=\"\",\"\",'Growth - FL'!E166)","v":""}]
[163,{"$f":"IF('Growth - FL'!B167=\"\",\"\",'Growth - FL'!B167 * 7)","v":""},{"$f":"IF('Growth - FL'!C167=\"\",\"\",'Growth - FL'!C167)","v":""},{"$f":"IF('Growth - FL'!D167=\"\",\"\",'Growth - FL'!D167)","v":""},{"$f":"IF('Growth - FL'!E167=\"\",\"\",'Growth - FL'!E167)","v":""}]
[164,{"$f":"IF('Growth - FL'!B168=\"\",\"\",'Growth - FL'!B168 * 7)","v":""},{"$f":"IF('Growth - FL'!C168=\"\",\"\",'Growth - FL'!C168)","v":""},{"$f":"IF('Growth - FL'!D168=\"\",\"\",'Growth - FL'!D168)","v":""},{"$f":"IF('Growth - FL'!E168=\"\",\"\",'Growth - FL'!E168)","v":""}]
[165,{"$f":"IF('Growth - FL'!B169=\"\",\"\",'Growth - FL'!B169 * 7)","v":""},{"$f":"IF('Growth - FL'!C169=\"\",\"\",'Growth - FL'!C169)","v":""},{"$f":"IF('Growth - FL'!D169=\"\",\"\",'Growth - FL'!D169)","v":""},{"$f":"IF('Growth - FL'!E169=\"\",\"\",'Growth - FL'!E169)","v":""}]
[166,{"$f":"IF('Growth - FL'!B170=\"\",\"\",'Growth - FL'!B170 * 7)","v":""},{"$f":"IF('Growth - FL'!C170=\"\",\"\",'Growth - FL'!C170)","v":""},{"$f":"IF('Growth - FL'!D170=\"\",\"\",'Growth - FL'!D170)","v":""},{"$f":"IF('Growth - FL'!E170=\"\",\"\",'Growth - FL'!E170)","v":""}]
[167,{"$f":"IF('Growth - FL'!B171=\"\",\"\",'Growth - FL'!B171 * 7)","v":""},{"$f":"IF('Growth - FL'!C171=\"\",\"\",'Growth - FL'!C171)","v":""},{"$f":"IF('Growth - FL'!D171=\"\",\"\",'Growth - FL'!D171)","v":""},{"$f":"IF('Growth - FL'!E171=\"\",\"\",'Growth - FL'!E171)","v":""}]
[168,{"$f":"IF('Growth - FL'!B172=\"\",\"\",'Growth - FL'!B172 * 7)","v":""},{"$f":"IF('Growth - FL'!C172=\"\",\"\",'Growth - FL'!C172)","v":""},{"$f":"IF('Growth - FL'!D172=\"\",\"\",'Growth - FL'!D172)","v":""},{"$f":"IF('Growth - FL'!E172=\"\",\"\",'Growth - FL'!E172)","v":""}]
[169,{"$f":"IF('Growth - FL'!B173=\"\",\"\",'Growth - FL'!B173 * 7)","v":""},{"$f":"IF('Growth - FL'!C173=\"\",\"\",'Growth - FL'!C173)","v":""},{"$f":"IF('Growth - FL'!D173=\"\",\"\",'Growth - FL'!D173)","v":""},{"$f":"IF('Growth - FL'!E173=\"\",\"\",'Growth - FL'!E173)","v":""}]
[170,{"$f":"IF('Growth - FL'!B174=\"\",\"\",'Growth - FL'!B174 * 7)","v":""},{"$f":"IF('Growth - FL'!C174=\"\",\"\",'Growth - FL'!C174)","v":""},{"$f":"IF('Growth - FL'!D174=\"\",\"\",'Growth - FL'!D174)","v":""},{"$f":"IF('Growth - FL'!E174=\"\",\"\",'Growth - FL'!E174)","v":""}]
[171,{"$f":"IF('Growth - FL'!B175=\"\",\"\",'Growth - FL'!B175 * 7)","v":""},{"$f":"IF('Growth - FL'!C175=\"\",\"\",'Growth - FL'!C175)","v":""},{"$f":"IF('Growth - FL'!D175=\"\",\"\",'Growth - FL'!D175)","v":""},{"$f":"IF('Growth - FL'!E175=\"\",\"\",'Growth - FL'!E175)","v":""}]
[172,{"$f":"IF('Growth - FL'!B176=\"\",\"\",'Growth - FL'!B176 * 7)","v":""},{"$f":"IF('Growth - FL'!C176=\"\",\"\",'Growth - FL'!C176)","v":""},{"$f":"IF('Growth - FL'!D176=\"\",\"\",'Growth - FL'!D176)","v":""},{"$f":"IF('Growth - FL'!E176=\"\",\"\",'Growth - FL'!E176)","v":""}]
[173,{"$f":"IF('Growth - FL'!B177=\"\",\"\",'Growth - FL'!B177 * 7)","v":""},{"$f":"IF('Growth - FL'!C177=\"\",\"\",'Growth - FL'!C177)","v":""},{"$f":"IF('Growth - FL'!D177=\"\",\"\",'Growth - FL'!D177)","v":""},{"$f":"IF('Growth - FL'!E177=\"\",\"\",'Growth - FL'!E177)","v":""}]
[174,{"$f":"IF('Growth - FL'!B178=\"\",\"\",'Growth - FL'!B178 * 7)","v":""},{"$f":"IF('Growth - FL'!C178=\"\",\"\",'Growth - FL'!C178)","v":""},{"$f":"IF('Growth - FL'!D178=\"\",\"\",'Growth - FL'!D178)","v":""},{"$f":"IF('Growth - FL'!E178=\"\",\"\",'Growth - FL'!E178)","v":""}]
[175,{"$f":"IF('Growth - FL'!B179=\"\",\"\",'Growth - FL'!B179 * 7)","v":""},{"$f":"IF('Growth - FL'!C179=\"\",\"\",'Growth - FL'!C179)","v":""},{"$f":"IF('Growth - FL'!D179=\"\",\"\",'Growth - FL'!D179)","v":""},{"$f":"IF('Growth - FL'!E179=\"\",\"\",'Growth - FL'!E179)","v":""}]
[176,{"$f":"IF('Growth - FL'!B180=\"\",\"\",'Growth - FL'!B180 * 7)","v":""},{"$f":"IF('Growth - FL'!C180=\"\",\"\",'Growth - FL'!C180)","v":""},{"$f":"IF('Growth - FL'!D180=\"\",\"\",'Growth - FL'!D180)","v":""},{"$f":"IF('Growth - FL'!E180=\"\",\"\",'Growth - FL'!E180)","v":""}]
[177,{"$f":"IF('Growth - FL'!B181=\"\",\"\",'Growth - FL'!B181 * 7)","v":""},{"$f":"IF('Growth - FL'!C181=\"\",\"\",'Growth - FL'!C181)","v":""},{"$f":"IF('Growth - FL'!D181=\"\",\"\",'Growth - FL'!D181)","v":""},{"$f":"IF('Growth - FL'!E181=\"\",\"\",'Growth - FL'!E181)","v":""}]
[178,{"$f":"IF('Growth - FL'!B182=\"\",\"\",'Growth - FL'!B182 * 7)","v":""},{"$f":"IF('Growth - FL'!C182=\"\",\"\",'Growth - FL'!C182)","v":""},{"$f":"IF('Growth - FL'!D182=\"\",\"\",'Growth - FL'!D182)","v":""},{"$f":"IF('Growth - FL'!E182=\"\",\"\",'Growth - FL'!E182)","v":""}]
[179,{"$f":"IF('Growth - FL'!B183=\"\",\"\",'Growth - FL'!B183 * 7)","v":""},{"$f":"IF('Growth - FL'!C183=\"\",\"\",'Growth - FL'!C183)","v":""},{"$f":"IF('Growth - FL'!D183=\"\",\"\",'Growth - FL'!D183)","v":""},{"$f":"IF('Growth - FL'!E183=\"\",\"\",'Growth - FL'!E183)","v":""}]
[180,{"$f":"IF('Growth - FL'!B184=\"\",\"\",'Growth - FL'!B184 * 7)","v":""},{"$f":"IF('Growth - FL'!C184=\"\",\"\",'Growth - FL'!C184)","v":""},{"$f":"IF('Growth - FL'!D184=\"\",\"\",'Growth - FL'!D184)","v":""},{"$f":"IF('Growth - FL'!E184=\"\",\"\",'Growth - FL'!E184)","v":""}]
[181,{"$f":"IF('Growth - FL'!B185=\"\",\"\",'Growth - FL'!B185 * 7)","v":""},{"$f":"IF('Growth - FL'!C185=\"\",\"\",'Growth - FL'!C185)","v":""},{"$f":"IF('Growth - FL'!D185=\"\",\"\",'Growth - FL'!D185)","v":""},{"$f":"IF('Growth - FL'!E185=\"\",\"\",'Growth - FL'!E185)","v":""}]
[182,{"$f":"IF('Growth - FL'!B186=\"\",\"\",'Growth - FL'!B186 * 7)","v":""},{"$f":"IF('Growth - FL'!C186=\"\",\"\",'Growth - FL'!C186)","v":""},{"$f":"IF('Growth - FL'!D186=\"\",\"\",'Growth - FL'!D186)","v":""},{"$f":"IF('Growth - FL'!E186=\"\",\"\",'Growth - FL'!E186)","v":""}]
[183,{"$f":"IF('Growth - FL'!B187=\"\",\"\",'Growth - FL'!B187 * 7)","v":""},{"$f":"IF('Growth - FL'!C187=\"\",\"\",'Growth - FL'!C187)","v":""},{"$f":"IF('Growth - FL'!D187=\"\",\"\",'Growth - FL'!D187)","v":""},{"$f":"IF('Growth - FL'!E187=\"\",\"\",'Growth - FL'!E187)","v":""}]
[184,{"$f":"IF('Growth - FL'!B188=\"\",\"\",'Growth - FL'!B188 * 7)","v":""},{"$f":"IF('Growth - FL'!C188=\"\",\"\",'Growth - FL'!C188)","v":""},{"$f":"IF('Growth - FL'!D188=\"\",\"\",'Growth - FL'!D188)","v":""},{"$f":"IF('Growth - FL'!E188=\"\",\"\",'Growth - FL'!E188)","v":""}]
[185,{"$f":"IF('Growth - FL'!B189=\"\",\"\",'Growth - FL'!B189 * 7)","v":""},{"$f":"IF('Growth - FL'!C189=\"\",\"\",'Growth - FL'!C189)","v":""},{"$f":"IF('Growth - FL'!D189=\"\",\"\",'Growth - FL'!D189)","v":""},{"$f":"IF('Growth - FL'!E189=\"\",\"\",'Growth - FL'!E189)","v":""}]
[186,{"$f":"IF('Growth - FL'!B190=\"\",\"\",'Growth - FL'!B190 * 7)","v":""},{"$f":"IF('Growth - FL'!C190=\"\",\"\",'Growth - FL'!C190)","v":""},{"$f":"IF('Growth - FL'!D190=\"\",\"\",'Growth - FL'!D190)","v":""},{"$f":"IF('Growth - FL'!E190=\"\",\"\",'Growth - FL'!E190)","v":""}]
[187,{"$f":"IF('Growth - FL'!B191=\"\",\"\",'Growth - FL'!B191 * 7)","v":""},{"$f":"IF('Growth - FL'!C191=\"\",\"\",'Growth - FL'!C191)","v":""},{"$f":"IF('Growth - FL'!D191=\"\",\"\",'Growth - FL'!D191)","v":""},{"$f":"IF('Growth - FL'!E191=\"\",\"\",'Growth - FL'!E191)","v":""}]
[188,{"$f":"IF('Growth - FL'!B192=\"\",\"\",'Growth - FL'!B192 * 7)","v":""},{"$f":"IF('Growth - FL'!C192=\"\",\"\",'Growth - FL'!C192)","v":""},{"$f":"IF('Growth - FL'!D192=\"\",\"\",'Growth - FL'!D192)","v":""},{"$f":"IF('Growth - FL'!E192=\"\",\"\",'Growth - FL'!E192)","v":""}]
[189,{"$f":"IF('Growth - FL'!B193=\"\",\"\",'Growth - FL'!B193 * 7)","v":""},{"$f":"IF('Growth - FL'!C193=\"\",\"\",'Growth - FL'!C193)","v":""},{"$f":"IF('Growth - FL'!D193=\"\",\"\",'Growth - FL'!D193)","v":""},{"$f":"IF('Growth - FL'!E193=\"\",\"\",'Growth - FL'!E193)","v":""}]
[190,{"$f":"IF('Growth - FL'!B194=\"\",\"\",'Growth - FL'!B194 * 7)","v":""},{"$f":"IF('Growth - FL'!C194=\"\",\"\",'Growth - FL'!C194)","v":""},{"$f":"IF('Growth - FL'!D194=\"\",\"\",'Growth - FL'!D194)","v":""},{"$f":"IF('Growth - FL'!E194=\"\",\"\",'Growth - FL'!E194)","v":""}]
[191,{"$f":"IF('Growth - FL'!B195=\"\",\"\",'Growth - FL'!B195 * 7)","v":""},{"$f":"IF('Growth - FL'!C195=\"\",\"\",'Growth - FL'!C195)","v":""},{"$f":"IF('Growth - FL'!D195=\"\",\"\",'Growth - FL'!D195)","v":""},{"$f":"IF('Growth - FL'!E195=\"\",\"\",'Growth - FL'!E195)","v":""}]
[192,{"$f":"IF('Growth - FL'!B196=\"\",\"\",'Growth - FL'!B196 * 7)","v":""},{"$f":"IF('Growth - FL'!C196=\"\",\"\",'Growth - FL'!C196)","v":""},{"$f":"IF('Growth - FL'!D196=\"\",\"\",'Growth - FL'!D196)","v":""},{"$f":"IF('Growth - FL'!E196=\"\",\"\",'Growth - FL'!E196)","v":""}]
[193,{"$f":"IF('Growth - FL'!B197=\"\",\"\",'Growth - FL'!B197 * 7)","v":""},{"$f":"IF('Growth - FL'!C197=\"\",\"\",'Growth - FL'!C197)","v":""},{"$f":"IF('Growth - FL'!D197=\"\",\"\",'Growth - FL'!D197)","v":""},{"$f":"IF('Growth - FL'!E197=\"\",\"\",'Growth - FL'!E197)","v":""}]
[194,{"$f":"IF('Growth - FL'!B198=\"\",\"\",'Growth - FL'!B198 * 7)","v":""},{"$f":"IF('Growth - FL'!C198=\"\",\"\",'Growth - FL'!C198)","v":""},{"$f":"IF('Growth - FL'!D198=\"\",\"\",'Growth - FL'!D198)","v":""},{"$f":"IF('Growth - FL'!E198=\"\",\"\",'Growth - FL'!E198)","v":""}]
[195,{"$f":"IF('Growth - FL'!B199=\"\",\"\",'Growth - FL'!B199 * 7)","v":""},{"$f":"IF('Growth - FL'!C199=\"\",\"\",'Growth - FL'!C199)","v":""},{"$f":"IF('Growth - FL'!D199=\"\",\"\",'Growth - FL'!D199)","v":""},{"$f":"IF('Growth - FL'!E199=\"\",\"\",'Growth - FL'!E199)","v":""}]
[196,{"$f":"IF('Growth - FL'!B200=\"\",\"\",'Growth - FL'!B200 * 7)","v":""},{"$f":"IF('Growth - FL'!C200=\"\",\"\",'Growth - FL'!C200)","v":""},{"$f":"IF('Growth - FL'!D200=\"\",\"\",'Growth - FL'!D200)","v":""},{"$f":"IF('Growth - FL'!E200=\"\",\"\",'Growth - FL'!E200)","v":""}]
[197,{"$f":"IF('Growth - FL'!B201=\"\",\"\",'Growth - FL'!B201 * 7)","v":""},{"$f":"IF('Growth - FL'!C201=\"\",\"\",'Growth - FL'!C201)","v":""},{"$f":"IF('Growth - FL'!D201=\"\",\"\",'Growth - FL'!D201)","v":""},{"$f":"IF('Growth - FL'!E201=\"\",\"\",'Growth - FL'!E201)","v":""}]
[198,{"$f":"IF('Growth - FL'!B202=\"\",\"\",'Growth - FL'!B202 * 7)","v":""},{"$f":"IF('Growth - FL'!C202=\"\",\"\",'Growth - FL'!C202)","v":""},{"$f":"IF('Growth - FL'!D202=\"\",\"\",'Growth - FL'!D202)","v":""},{"$f":"IF('Growth - FL'!E202=\"\",\"\",'Growth - FL'!E202)","v":""}]
[199,{"$f":"IF('Growth - FL'!B203=\"\",\"\",'Growth - FL'!B203 * 7)","v":""},{"$f":"IF('Growth - FL'!C203=\"\",\"\",'Growth - FL'!C203)","v":""},{"$f":"IF('Growth - FL'!D203=\"\",\"\",'Growth - FL'!D203)","v":""},{"$f":"IF('Growth - FL'!E203=\"\",\"\",'Growth - FL'!E203)","v":""}]
[200,{"$f":"IF('Growth - FL'!B204=\"\",\"\",'Growth - FL'!B204 * 7)","v":""},{"$f":"IF('Growth - FL'!C204=\"\",\"\",'Growth - FL'!C204)","v":""},{"$f":"IF('Growth - FL'!D204=\"\",\"\",'Growth - FL'!D204)","v":""},{"$f":"IF('Growth - FL'!E204=\"\",\"\",'Growth - FL'!E204)","v":""}]
[201,{"$f":"IF('Growth - FL'!B205=\"\",\"\",'Growth - FL'!B205 * 7)","v":""},{"$f":"IF('Growth - FL'!C205=\"\",\"\",'Growth - FL'!C205)","v":""},{"$f":"IF('Growth - FL'!D205=\"\",\"\",'Growth - FL'!D205)","v":""},{"$f":"IF('Growth - FL'!E205=\"\",\"\",'Growth - FL'!E205)","v":""}]
[202,{"$f":"IF('Growth - FL'!B206=\"\",\"\",'Growth - FL'!B206 * 7)","v":""},{"$f":"IF('Growth - FL'!C206=\"\",\"\",'Growth - FL'!C206)","v":""},{"$f":"IF('Growth - FL'!D206=\"\",\"\",'Growth - FL'!D206)","v":""},{"$f":"IF('Growth - FL'!E206=\"\",\"\",'Growth - FL'!E206)","v":""}]
[203,{"$f":"IF('Growth - FL'!B207=\"\",\"\",'Growth - FL'!B207 * 7)","v":""},{"$f":"IF('Growth - FL'!C207=\"\",\"\",'Growth - FL'!C207)","v":""},{"$f":"IF('Growth - FL'!D207=\"\",\"\",'Growth - FL'!D207)","v":""},{"$f":"IF('Growth - FL'!E207=\"\",\"\",'Growth - FL'!E207)","v":""}]
[204,{"$f":"IF('Growth - FL'!B208=\"\",\"\",'Growth - FL'!B208 * 7)","v":""},{"$f":"IF('Growth - FL'!C208=\"\",\"\",'Growth - FL'!C208)","v":""},{"$f":"IF('Growth - FL'!D208=\"\",\"\",'Growth - FL'!D208)","v":""},{"$f":"IF('Growth - FL'!E208=\"\",\"\",'Growth - FL'!E208)","v":""}]
[205,{"$f":"IF('Growth - FL'!B209=\"\",\"\",'Growth - FL'!B209 * 7)","v":""},{"$f":"IF('Growth - FL'!C209=\"\",\"\",'Growth - FL'!C209)","v":""},{"$f":"IF('Growth - FL'!D209=\"\",\"\",'Growth - FL'!D209)","v":""},{"$f":"IF('Growth - FL'!E209=\"\",\"\",'Growth - FL'!E209)","v":""}]
[206,{"$f":"IF('Growth - FL'!B210=\"\",\"\",'Growth - FL'!B210 * 7)","v":""},{"$f":"IF('Growth - FL'!C210=\"\",\"\",'Growth - FL'!C210)","v":""},{"$f":"IF('Growth - FL'!D210=\"\",\"\",'Growth - FL'!D210)","v":""},{"$f":"IF('Growth - FL'!E210=\"\",\"\",'Growth - FL'!E210)","v":""}]
[207,{"$f":"IF('Growth - FL'!B211=\"\",\"\",'Growth - FL'!B211 * 7)","v":""},{"$f":"IF('Growth - FL'!C211=\"\",\"\",'Growth - FL'!C211)","v":""},{"$f":"IF('Growth - FL'!D211=\"\",\"\",'Growth - FL'!D211)","v":""},{"$f":"IF('Growth - FL'!E211=\"\",\"\",'Growth - FL'!E211)","v":""}]
[208,{"$f":"IF('Growth - FL'!B212=\"\",\"\",'Growth - FL'!B212 * 7)","v":""},{"$f":"IF('Growth - FL'!C212=\"\",\"\",'Growth - FL'!C212)","v":""},{"$f":"IF('Growth - FL'!D212=\"\",\"\",'Growth - FL'!D212)","v":""},{"$f":"IF('Growth - FL'!E212=\"\",\"\",'Growth - FL'!E212)","v":""}]
[209,{"$f":"IF('Growth - FL'!B213=\"\",\"\",'Growth - FL'!B213 * 7)","v":""},{"$f":"IF('Growth - FL'!C213=\"\",\"\",'Growth - FL'!C213)","v":""},{"$f":"IF('Growth - FL'!D213=\"\",\"\",'Growth - FL'!D213)","v":""},{"$f":"IF('Growth - FL'!E213=\"\",\"\",'Growth - FL'!E213)","v":""}]
[210,{"$f":"IF('Growth - FL'!B214=\"\",\"\",'Growth - FL'!B214 * 7)","v":""},{"$f":"IF('Growth - FL'!C214=\"\",\"\",'Growth - FL'!C214)","v":""},{"$f":"IF('Growth - FL'!D214=\"\",\"\",'Growth - FL'!D214)","v":""},{"$f":"IF('Growth - FL'!E214=\"\",\"\",'Growth - FL'!E214)","v":""}]
[]
["User Growth Table: Estimated Fetal Weight",null,null,null,{"$f":"IF('Growth - EFW'!E1=\"\",\"\",'Growth - EFW'!E1)","v":"Growth EFW"}]
[null,null,null,null,{"$f":"ValidationData!DataVersion","v":"70.80.100.100"}]
["Index","Weeks * 7","Author",null,{"$f":"IF('Growth - EFW'!H3=\"\",\"\",'Growth - EFW'!H3)","v":""}]
[null,null,"Min","Mid","Max"]
[1,{"$f":"IF('Growth - EFW'!B5=\"\",\"\",'Growth - EFW'!B5 * 7)","v":""},{"$f":"IF('Growth - EFW'!C5=\"\",\"\",'Growth - EFW'!C5)","v":""},{"$f":"IF('Growth - EFW'!D5=\"\",\"\",'Growth - EFW'!D5)","v":""},{"$f":"IF('Growth - EFW'!E5=\"\",\"\",'Growth - EFW'!E5)","v":""}]
[2,{"$f":"IF('Growth - EFW'!B6=\"\",\"\",'Growth - EFW'!B6 * 7)","v":""},{"$f":"IF('Growth - EFW'!C6=\"\",\"\",'Growth - EFW'!C6)","v":""},{"$f":"IF('Growth - EFW'!D6=\"\",\"\",'Growth - EFW'!D6)","v":""},{"$f":"IF('Growth - EFW'!E6=\"\",\"\",'Growth - EFW'!E6)","v":""}]
[3,{"$f":"IF('Growth - EFW'!B7=\"\",\"\",'Growth - EFW'!B7 * 7)","v":""},{"$f":"IF('Growth - EFW'!C7=\"\",\"\",'Growth - EFW'!C7)","v":""},{"$f":"IF('Growth - EFW'!D7=\"\",\"\",'Growth - EFW'!D7)","v":""},{"$f":"IF('Growth - EFW'!E7=\"\",\"\",'Growth - EFW'!E7)","v":""}]
[4,{"$f":"IF('Growth - EFW'!B8=\"\",\"\",'Growth - EFW'!B8 * 7)","v":""},{"$f":"IF('Growth - EFW'!C8=\"\",\"\",'Growth - EFW'!C8)","v":""},{"$f":"IF('Growth - EFW'!D8=\"\",\"\",'Growth - EFW'!D8)","v":""},{"$f":"IF('Growth - EFW'!E8=\"\",\"\",'Growth - EFW'!E8)","v":""}]
[5,{"$f":"IF('Growth - EFW'!B9=\"\",\"\",'Growth - EFW'!B9 * 7)","v":""},{"$f":"IF('Growth - EFW'!C9=\"\",\"\",'Growth - EFW'!C9)","v":""},{"$f":"IF('Growth - EFW'!D9=\"\",\"\",'Growth - EFW'!D9)","v":""},{"$f":"IF('Growth - EFW'!E9=\"\",\"\",'Growth - EFW'!E9)","v":""}]
[6,{"$f":"IF('Growth - EFW'!B10=\"\",\"\",'Growth - EFW'!B10 * 7)","v":""},{"$f":"IF('Growth - EFW'!C10=\"\",\"\",'Growth - EFW'!C10)","v":""},{"$f":"IF('Growth - EFW'!D10=\"\",\"\",'Growth - EFW'!D10)","v":""},{"$f":"IF('Growth - EFW'!E10=\"\",\"\",'Growth - EFW'!E10)","v":""}]
[7,{"$f":"IF('Growth - EFW'!B11=\"\",\"\",'Growth - EFW'!B11 * 7)","v":""},{"$f":"IF('Growth - EFW'!C11=\"\",\"\",'Growth - EFW'!C11)","v":""},{"$f":"IF('Growth - EFW'!D11=\"\",\"\",'Growth - EFW'!D11)","v":""},{"$f":"IF('Growth - EFW'!E11=\"\",\"\",'Growth - EFW'!E11)","v":""}]
[8,{"$f":"IF('Growth - EFW'!B12=\"\",\"\",'Growth - EFW'!B12 * 7)","v":""},{"$f":"IF('Growth - EFW'!C12=\"\",\"\",'Growth - EFW'!C12)","v":""},{"$f":"IF('Growth - EFW'!D12=\"\",\"\",'Growth - EFW'!D12)","v":""},{"$f":"IF('Growth - EFW'!E12=\"\",\"\",'Growth - EFW'!E12)","v":""}]
[9,{"$f":"IF('Growth - EFW'!B13=\"\",\"\",'Growth - EFW'!B13 * 7)","v":""},{"$f":"IF('Growth - EFW'!C13=\"\",\"\",'Growth - EFW'!C13)","v":""},{"$f":"IF('Growth - EFW'!D13=\"\",\"\",'Growth - EFW'!D13)","v":""},{"$f":"IF('Growth - EFW'!E13=\"\",\"\",'Growth - EFW'!E13)","v":""}]
[10,{"$f":"IF('Growth - EFW'!B14=\"\",\"\",'Growth - EFW'!B14 * 7)","v":""},{"$f":"IF('Growth - EFW'!C14=\"\",\"\",'Growth - EFW'!C14)","v":""},{"$f":"IF('Growth - EFW'!D14=\"\",\"\",'Growth - EFW'!D14)","v":""},{"$f":"IF('Growth - EFW'!E14=\"\",\"\",'Growth - EFW'!E14)","v":""}]
[11,{"$f":"IF('Growth - EFW'!B15=\"\",\"\",'Growth - EFW'!B15 * 7)","v":""},{"$f":"IF('Growth - EFW'!C15=\"\",\"\",'Growth - EFW'!C15)","v":""},{"$f":"IF('Growth - EFW'!D15=\"\",\"\",'Growth - EFW'!D15)","v":""},{"$f":"IF('Growth - EFW'!E15=\"\",\"\",'Growth - EFW'!E15)","v":""}]
[12,{"$f":"IF('Growth - EFW'!B16=\"\",\"\",'Growth - EFW'!B16 * 7)","v":""},{"$f":"IF('Growth - EFW'!C16=\"\",\"\",'Growth - EFW'!C16)","v":""},{"$f":"IF('Growth - EFW'!D16=\"\",\"\",'Growth - EFW'!D16)","v":""},{"$f":"IF('Growth - EFW'!E16=\"\",\"\",'Growth - EFW'!E16)","v":""}]
[13,{"$f":"IF('Growth - EFW'!B17=\"\",\"\",'Growth - EFW'!B17 * 7)","v":""},{"$f":"IF('Growth - EFW'!C17=\"\",\"\",'Growth - EFW'!C17)","v":""},{"$f":"IF('Growth - EFW'!D17=\"\",\"\",'Growth - EFW'!D17)","v":""},{"$f":"IF('Growth - EFW'!E17=\"\",\"\",'Growth - EFW'!E17)","v":""}]
[14,{"$f":"IF('Growth - EFW'!B18=\"\",\"\",'Growth - EFW'!B18 * 7)","v":""},{"$f":"IF('Growth - EFW'!C18=\"\",\"\",'Growth - EFW'!C18)","v":""},{"$f":"IF('Growth - EFW'!D18=\"\",\"\",'Growth - EFW'!D18)","v":""},{"$f":"IF('Growth - EFW'!E18=\"\",\"\",'Growth - EFW'!E18)","v":""}]
[15,{"$f":"IF('Growth - EFW'!B19=\"\",\"\",'Growth - EFW'!B19 * 7)","v":""},{"$f":"IF('Growth - EFW'!C19=\"\",\"\",'Growth - EFW'!C19)","v":""},{"$f":"IF('Growth - EFW'!D19=\"\",\"\",'Growth - EFW'!D19)","v":""},{"$f":"IF('Growth - EFW'!E19=\"\",\"\",'Growth - EFW'!E19)","v":""}]
[16,{"$f":"IF('Growth - EFW'!B20=\"\",\"\",'Growth - EFW'!B20 * 7)","v":""},{"$f":"IF('Growth - EFW'!C20=\"\",\"\",'Growth - EFW'!C20)","v":""},{"$f":"IF('Growth - EFW'!D20=\"\",\"\",'Growth - EFW'!D20)","v":""},{"$f":"IF('Growth - EFW'!E20=\"\",\"\",'Growth - EFW'!E20)","v":""}]
[17,{"$f":"IF('Growth - EFW'!B21=\"\",\"\",'Growth - EFW'!B21 * 7)","v":""},{"$f":"IF('Growth - EFW'!C21=\"\",\"\",'Growth - EFW'!C21)","v":""},{"$f":"IF('Growth - EFW'!D21=\"\",\"\",'Growth - EFW'!D21)","v":""},{"$f":"IF('Growth - EFW'!E21=\"\",\"\",'Growth - EFW'!E21)","v":""}]
[18,{"$f":"IF('Growth - EFW'!B22=\"\",\"\",'Growth - EFW'!B22 * 7)","v":""},{"$f":"IF('Growth - EFW'!C22=\"\",\"\",'Growth - EFW'!C22)","v":""},{"$f":"IF('Growth - EFW'!D22=\"\",\"\",'Growth - EFW'!D22)","v":""},{"$f":"IF('Growth - EFW'!E22=\"\",\"\",'Growth - EFW'!E22)","v":""}]
[19,{"$f":"IF('Growth - EFW'!B23=\"\",\"\",'Growth - EFW'!B23 * 7)","v":""},{"$f":"IF('Growth - EFW'!C23=\"\",\"\",'Growth - EFW'!C23)","v":""},{"$f":"IF('Growth - EFW'!D23=\"\",\"\",'Growth - EFW'!D23)","v":""},{"$f":"IF('Growth - EFW'!E23=\"\",\"\",'Growth - EFW'!E23)","v":""}]
[20,{"$f":"IF('Growth - EFW'!B24=\"\",\"\",'Growth - EFW'!B24 * 7)","v":""},{"$f":"IF('Growth - EFW'!C24=\"\",\"\",'Growth - EFW'!C24)","v":""},{"$f":"IF('Growth - EFW'!D24=\"\",\"\",'Growth - EFW'!D24)","v":""},{"$f":"IF('Growth - EFW'!E24=\"\",\"\",'Growth - EFW'!E24)","v":""}]
[21,{"$f":"IF('Growth - EFW'!B25=\"\",\"\",'Growth - EFW'!B25 * 7)","v":""},{"$f":"IF('Growth - EFW'!C25=\"\",\"\",'Growth - EFW'!C25)","v":""},{"$f":"IF('Growth - EFW'!D25=\"\",\"\",'Growth - EFW'!D25)","v":""},{"$f":"IF('Growth - EFW'!E25=\"\",\"\",'Growth - EFW'!E25)","v":""}]
[22,{"$f":"IF('Growth - EFW'!B26=\"\",\"\",'Growth - EFW'!B26 * 7)","v":""},{"$f":"IF('Growth - EFW'!C26=\"\",\"\",'Growth - EFW'!C26)","v":""},{"$f":"IF('Growth - EFW'!D26=\"\",\"\",'Growth - EFW'!D26)","v":""},{"$f":"IF('Growth - EFW'!E26=\"\",\"\",'Growth - EFW'!E26)","v":""}]
[23,{"$f":"IF('Growth - EFW'!B27=\"\",\"\",'Growth - EFW'!B27 * 7)","v":""},{"$f":"IF('Growth - EFW'!C27=\"\",\"\",'Growth - EFW'!C27)","v":""},{"$f":"IF('Growth - EFW'!D27=\"\",\"\",'Growth - EFW'!D27)","v":""},{"$f":"IF('Growth - EFW'!E27=\"\",\"\",'Growth - EFW'!E27)","v":""}]
[24,{"$f":"IF('Growth - EFW'!B28=\"\",\"\",'Growth - EFW'!B28 * 7)","v":""},{"$f":"IF('Growth - EFW'!C28=\"\",\"\",'Growth - EFW'!C28)","v":""},{"$f":"IF('Growth - EFW'!D28=\"\",\"\",'Growth - EFW'!D28)","v":""},{"$f":"IF('Growth - EFW'!E28=\"\",\"\",'Growth - EFW'!E28)","v":""}]
[25,{"$f":"IF('Growth - EFW'!B29=\"\",\"\",'Growth - EFW'!B29 * 7)","v":""},{"$f":"IF('Growth - EFW'!C29=\"\",\"\",'Growth - EFW'!C29)","v":""},{"$f":"IF('Growth - EFW'!D29=\"\",\"\",'Growth - EFW'!D29)","v":""},{"$f":"IF('Growth - EFW'!E29=\"\",\"\",'Growth - EFW'!E29)","v":""}]
[26,{"$f":"IF('Growth - EFW'!B30=\"\",\"\",'Growth - EFW'!B30 * 7)","v":""},{"$f":"IF('Growth - EFW'!C30=\"\",\"\",'Growth - EFW'!C30)","v":""},{"$f":"IF('Growth - EFW'!D30=\"\",\"\",'Growth - EFW'!D30)","v":""},{"$f":"IF('Growth - EFW'!E30=\"\",\"\",'Growth - EFW'!E30)","v":""}]
[27,{"$f":"IF('Growth - EFW'!B31=\"\",\"\",'Growth - EFW'!B31 * 7)","v":""},{"$f":"IF('Growth - EFW'!C31=\"\",\"\",'Growth - EFW'!C31)","v":""},{"$f":"IF('Growth - EFW'!D31=\"\",\"\",'Growth - EFW'!D31)","v":""},{"$f":"IF('Growth - EFW'!E31=\"\",\"\",'Growth - EFW'!E31)","v":""}]
[28,{"$f":"IF('Growth - EFW'!B32=\"\",\"\",'Growth - EFW'!B32 * 7)","v":""},{"$f":"IF('Growth - EFW'!C32=\"\",\"\",'Growth - EFW'!C32)","v":""},{"$f":"IF('Growth - EFW'!D32=\"\",\"\",'Growth - EFW'!D32)","v":""},{"$f":"IF('Growth - EFW'!E32=\"\",\"\",'Growth - EFW'!E32)","v":""}]
[29,{"$f":"IF('Growth - EFW'!B33=\"\",\"\",'Growth - EFW'!B33 * 7)","v":""},{"$f":"IF('Growth - EFW'!C33=\"\",\"\",'Growth - EFW'!C33)","v":""},{"$f":"IF('Growth - EFW'!D33=\"\",\"\",'Growth - EFW'!D33)","v":""},{"$f":"IF('Growth - EFW'!E33=\"\",\"\",'Growth - EFW'!E33)","v":""}]
[30,{"$f":"IF('Growth - EFW'!B34=\"\",\"\",'Growth - EFW'!B34 * 7)","v":""},{"$f":"IF('Growth - EFW'!C34=\"\",\"\",'Growth - EFW'!C34)","v":""},{"$f":"IF('Growth - EFW'!D34=\"\",\"\",'Growth - EFW'!D34)","v":""},{"$f":"IF('Growth - EFW'!E34=\"\",\"\",'Growth - EFW'!E34)","v":""}]
[31,{"$f":"IF('Growth - EFW'!B35=\"\",\"\",'Growth - EFW'!B35 * 7)","v":""},{"$f":"IF('Growth - EFW'!C35=\"\",\"\",'Growth - EFW'!C35)","v":""},{"$f":"IF('Growth - EFW'!D35=\"\",\"\",'Growth - EFW'!D35)","v":""},{"$f":"IF('Growth - EFW'!E35=\"\",\"\",'Growth - EFW'!E35)","v":""}]
[32,{"$f":"IF('Growth - EFW'!B36=\"\",\"\",'Growth - EFW'!B36 * 7)","v":""},{"$f":"IF('Growth - EFW'!C36=\"\",\"\",'Growth - EFW'!C36)","v":""},{"$f":"IF('Growth - EFW'!D36=\"\",\"\",'Growth - EFW'!D36)","v":""},{"$f":"IF('Growth - EFW'!E36=\"\",\"\",'Growth - EFW'!E36)","v":""}]
[33,{"$f":"IF('Growth - EFW'!B37=\"\",\"\",'Growth - EFW'!B37 * 7)","v":""},{"$f":"IF('Growth - EFW'!C37=\"\",\"\",'Growth - EFW'!C37)","v":""},{"$f":"IF('Growth - EFW'!D37=\"\",\"\",'Growth - EFW'!D37)","v":""},{"$f":"IF('Growth - EFW'!E37=\"\",\"\",'Growth - EFW'!E37)","v":""}]
[34,{"$f":"IF('Growth - EFW'!B38=\"\",\"\",'Growth - EFW'!B38 * 7)","v":""},{"$f":"IF('Growth - EFW'!C38=\"\",\"\",'Growth - EFW'!C38)","v":""},{"$f":"IF('Growth - EFW'!D38=\"\",\"\",'Growth - EFW'!D38)","v":""},{"$f":"IF('Growth - EFW'!E38=\"\",\"\",'Growth - EFW'!E38)","v":""}]
[35,{"$f":"IF('Growth - EFW'!B39=\"\",\"\",'Growth - EFW'!B39 * 7)","v":""},{"$f":"IF('Growth - EFW'!C39=\"\",\"\",'Growth - EFW'!C39)","v":""},{"$f":"IF('Growth - EFW'!D39=\"\",\"\",'Growth - EFW'!D39)","v":""},{"$f":"IF('Growth - EFW'!E39=\"\",\"\",'Growth - EFW'!E39)","v":""}]
[36,{"$f":"IF('Growth - EFW'!B40=\"\",\"\",'Growth - EFW'!B40 * 7)","v":""},{"$f":"IF('Growth - EFW'!C40=\"\",\"\",'Growth - EFW'!C40)","v":""},{"$f":"IF('Growth - EFW'!D40=\"\",\"\",'Growth - EFW'!D40)","v":""},{"$f":"IF('Growth - EFW'!E40=\"\",\"\",'Growth - EFW'!E40)","v":""}]
[37,{"$f":"IF('Growth - EFW'!B41=\"\",\"\",'Growth - EFW'!B41 * 7)","v":""},{"$f":"IF('Growth - EFW'!C41=\"\",\"\",'Growth - EFW'!C41)","v":""},{"$f":"IF('Growth - EFW'!D41=\"\",\"\",'Growth - EFW'!D41)","v":""},{"$f":"IF('Growth - EFW'!E41=\"\",\"\",'Growth - EFW'!E41)","v":""}]
[38,{"$f":"IF('Growth - EFW'!B42=\"\",\"\",'Growth - EFW'!B42 * 7)","v":""},{"$f":"IF('Growth - EFW'!C42=\"\",\"\",'Growth - EFW'!C42)","v":""},{"$f":"IF('Growth - EFW'!D42=\"\",\"\",'Growth - EFW'!D42)","v":""},{"$f":"IF('Growth - EFW'!E42=\"\",\"\",'Growth - EFW'!E42)","v":""}]
[39,{"$f":"IF('Growth - EFW'!B43=\"\",\"\",'Growth - EFW'!B43 * 7)","v":""},{"$f":"IF('Growth - EFW'!C43=\"\",\"\",'Growth - EFW'!C43)","v":""},{"$f":"IF('Growth - EFW'!D43=\"\",\"\",'Growth - EFW'!D43)","v":""},{"$f":"IF('Growth - EFW'!E43=\"\",\"\",'Growth - EFW'!E43)","v":""}]
[40,{"$f":"IF('Growth - EFW'!B44=\"\",\"\",'Growth - EFW'!B44 * 7)","v":""},{"$f":"IF('Growth - EFW'!C44=\"\",\"\",'Growth - EFW'!C44)","v":""},{"$f":"IF('Growth - EFW'!D44=\"\",\"\",'Growth - EFW'!D44)","v":""},{"$f":"IF('Growth - EFW'!E44=\"\",\"\",'Growth - EFW'!E44)","v":""}]
[41,{"$f":"IF('Growth - EFW'!B45=\"\",\"\",'Growth - EFW'!B45 * 7)","v":""},{"$f":"IF('Growth - EFW'!C45=\"\",\"\",'Growth - EFW'!C45)","v":""},{"$f":"IF('Growth - EFW'!D45=\"\",\"\",'Growth - EFW'!D45)","v":""},{"$f":"IF('Growth - EFW'!E45=\"\",\"\",'Growth - EFW'!E45)","v":""}]
[42,{"$f":"IF('Growth - EFW'!B46=\"\",\"\",'Growth - EFW'!B46 * 7)","v":""},{"$f":"IF('Growth - EFW'!C46=\"\",\"\",'Growth - EFW'!C46)","v":""},{"$f":"IF('Growth - EFW'!D46=\"\",\"\",'Growth - EFW'!D46)","v":""},{"$f":"IF('Growth - EFW'!E46=\"\",\"\",'Growth - EFW'!E46)","v":""}]
[43,{"$f":"IF('Growth - EFW'!B47=\"\",\"\",'Growth - EFW'!B47 * 7)","v":""},{"$f":"IF('Growth - EFW'!C47=\"\",\"\",'Growth - EFW'!C47)","v":""},{"$f":"IF('Growth - EFW'!D47=\"\",\"\",'Growth - EFW'!D47)","v":""},{"$f":"IF('Growth - EFW'!E47=\"\",\"\",'Growth - EFW'!E47)","v":""}]
[44,{"$f":"IF('Growth - EFW'!B48=\"\",\"\",'Growth - EFW'!B48 * 7)","v":""},{"$f":"IF('Growth - EFW'!C48=\"\",\"\",'Growth - EFW'!C48)","v":""},{"$f":"IF('Growth - EFW'!D48=\"\",\"\",'Growth - EFW'!D48)","v":""},{"$f":"IF('Growth - EFW'!E48=\"\",\"\",'Growth - EFW'!E48)","v":""}]
[45,{"$f":"IF('Growth - EFW'!B49=\"\",\"\",'Growth - EFW'!B49 * 7)","v":""},{"$f":"IF('Growth - EFW'!C49=\"\",\"\",'Growth - EFW'!C49)","v":""},{"$f":"IF('Growth - EFW'!D49=\"\",\"\",'Growth - EFW'!D49)","v":""},{"$f":"IF('Growth - EFW'!E49=\"\",\"\",'Growth - EFW'!E49)","v":""}]
[46,{"$f":"IF('Growth - EFW'!B50=\"\",\"\",'Growth - EFW'!B50 * 7)","v":""},{"$f":"IF('Growth - EFW'!C50=\"\",\"\",'Growth - EFW'!C50)","v":""},{"$f":"IF('Growth - EFW'!D50=\"\",\"\",'Growth - EFW'!D50)","v":""},{"$f":"IF('Growth - EFW'!E50=\"\",\"\",'Growth - EFW'!E50)","v":""}]
[47,{"$f":"IF('Growth - EFW'!B51=\"\",\"\",'Growth - EFW'!B51 * 7)","v":""},{"$f":"IF('Growth - EFW'!C51=\"\",\"\",'Growth - EFW'!C51)","v":""},{"$f":"IF('Growth - EFW'!D51=\"\",\"\",'Growth - EFW'!D51)","v":""},{"$f":"IF('Growth - EFW'!E51=\"\",\"\",'Growth - EFW'!E51)","v":""}]
[48,{"$f":"IF('Growth - EFW'!B52=\"\",\"\",'Growth - EFW'!B52 * 7)","v":""},{"$f":"IF('Growth - EFW'!C52=\"\",\"\",'Growth - EFW'!C52)","v":""},{"$f":"IF('Growth - EFW'!D52=\"\",\"\",'Growth - EFW'!D52)","v":""},{"$f":"IF('Growth - EFW'!E52=\"\",\"\",'Growth - EFW'!E52)","v":""}]
[49,{"$f":"IF('Growth - EFW'!B53=\"\",\"\",'Growth - EFW'!B53 * 7)","v":""},{"$f":"IF('Growth - EFW'!C53=\"\",\"\",'Growth - EFW'!C53)","v":""},{"$f":"IF('Growth - EFW'!D53=\"\",\"\",'Growth - EFW'!D53)","v":""},{"$f":"IF('Growth - EFW'!E53=\"\",\"\",'Growth - EFW'!E53)","v":""}]
[50,{"$f":"IF('Growth - EFW'!B54=\"\",\"\",'Growth - EFW'!B54 * 7)","v":""},{"$f":"IF('Growth - EFW'!C54=\"\",\"\",'Growth - EFW'!C54)","v":""},{"$f":"IF('Growth - EFW'!D54=\"\",\"\",'Growth - EFW'!D54)","v":""},{"$f":"IF('Growth - EFW'!E54=\"\",\"\",'Growth - EFW'!E54)","v":""}]
[51,{"$f":"IF('Growth - EFW'!B55=\"\",\"\",'Growth - EFW'!B55 * 7)","v":""},{"$f":"IF('Growth - EFW'!C55=\"\",\"\",'Growth - EFW'!C55)","v":""},{"$f":"IF('Growth - EFW'!D55=\"\",\"\",'Growth - EFW'!D55)","v":""},{"$f":"IF('Growth - EFW'!E55=\"\",\"\",'Growth - EFW'!E55)","v":""}]
[52,{"$f":"IF('Growth - EFW'!B56=\"\",\"\",'Growth - EFW'!B56 * 7)","v":""},{"$f":"IF('Growth - EFW'!C56=\"\",\"\",'Growth - EFW'!C56)","v":""},{"$f":"IF('Growth - EFW'!D56=\"\",\"\",'Growth - EFW'!D56)","v":""},{"$f":"IF('Growth - EFW'!E56=\"\",\"\",'Growth - EFW'!E56)","v":""}]
[53,{"$f":"IF('Growth - EFW'!B57=\"\",\"\",'Growth - EFW'!B57 * 7)","v":""},{"$f":"IF('Growth - EFW'!C57=\"\",\"\",'Growth - EFW'!C57)","v":""},{"$f":"IF('Growth - EFW'!D57=\"\",\"\",'Growth - EFW'!D57)","v":""},{"$f":"IF('Growth - EFW'!E57=\"\",\"\",'Growth - EFW'!E57)","v":""}]
[54,{"$f":"IF('Growth - EFW'!B58=\"\",\"\",'Growth - EFW'!B58 * 7)","v":""},{"$f":"IF('Growth - EFW'!C58=\"\",\"\",'Growth - EFW'!C58)","v":""},{"$f":"IF('Growth - EFW'!D58=\"\",\"\",'Growth - EFW'!D58)","v":""},{"$f":"IF('Growth - EFW'!E58=\"\",\"\",'Growth - EFW'!E58)","v":""}]
[55,{"$f":"IF('Growth - EFW'!B59=\"\",\"\",'Growth - EFW'!B59 * 7)","v":""},{"$f":"IF('Growth - EFW'!C59=\"\",\"\",'Growth - EFW'!C59)","v":""},{"$f":"IF('Growth - EFW'!D59=\"\",\"\",'Growth - EFW'!D59)","v":""},{"$f":"IF('Growth - EFW'!E59=\"\",\"\",'Growth - EFW'!E59)","v":""}]
[56,{"$f":"IF('Growth - EFW'!B60=\"\",\"\",'Growth - EFW'!B60 * 7)","v":""},{"$f":"IF('Growth - EFW'!C60=\"\",\"\",'Growth - EFW'!C60)","v":""},{"$f":"IF('Growth - EFW'!D60=\"\",\"\",'Growth - EFW'!D60)","v":""},{"$f":"IF('Growth - EFW'!E60=\"\",\"\",'Growth - EFW'!E60)","v":""}]
[57,{"$f":"IF('Growth - EFW'!B61=\"\",\"\",'Growth - EFW'!B61 * 7)","v":""},{"$f":"IF('Growth - EFW'!C61=\"\",\"\",'Growth - EFW'!C61)","v":""},{"$f":"IF('Growth - EFW'!D61=\"\",\"\",'Growth - EFW'!D61)","v":""},{"$f":"IF('Growth - EFW'!E61=\"\",\"\",'Growth - EFW'!E61)","v":""}]
[58,{"$f":"IF('Growth - EFW'!B62=\"\",\"\",'Growth - EFW'!B62 * 7)","v":""},{"$f":"IF('Growth - EFW'!C62=\"\",\"\",'Growth - EFW'!C62)","v":""},{"$f":"IF('Growth - EFW'!D62=\"\",\"\",'Growth - EFW'!D62)","v":""},{"$f":"IF('Growth - EFW'!E62=\"\",\"\",'Growth - EFW'!E62)","v":""}]
[59,{"$f":"IF('Growth - EFW'!B63=\"\",\"\",'Growth - EFW'!B63 * 7)","v":""},{"$f":"IF('Growth - EFW'!C63=\"\",\"\",'Growth - EFW'!C63)","v":""},{"$f":"IF('Growth - EFW'!D63=\"\",\"\",'Growth - EFW'!D63)","v":""},{"$f":"IF('Growth - EFW'!E63=\"\",\"\",'Growth - EFW'!E63)","v":""}]
[60,{"$f":"IF('Growth - EFW'!B64=\"\",\"\",'Growth - EFW'!B64 * 7)","v":""},{"$f":"IF('Growth - EFW'!C64=\"\",\"\",'Growth - EFW'!C64)","v":""},{"$f":"IF('Growth - EFW'!D64=\"\",\"\",'Growth - EFW'!D64)","v":""},{"$f":"IF('Growth - EFW'!E64=\"\",\"\",'Growth - EFW'!E64)","v":""}]
[61,{"$f":"IF('Growth - EFW'!B65=\"\",\"\",'Growth - EFW'!B65 * 7)","v":""},{"$f":"IF('Growth - EFW'!C65=\"\",\"\",'Growth - EFW'!C65)","v":""},{"$f":"IF('Growth - EFW'!D65=\"\",\"\",'Growth - EFW'!D65)","v":""},{"$f":"IF('Growth - EFW'!E65=\"\",\"\",'Growth - EFW'!E65)","v":""}]
[62,{"$f":"IF('Growth - EFW'!B66=\"\",\"\",'Growth - EFW'!B66 * 7)","v":""},{"$f":"IF('Growth - EFW'!C66=\"\",\"\",'Growth - EFW'!C66)","v":""},{"$f":"IF('Growth - EFW'!D66=\"\",\"\",'Growth - EFW'!D66)","v":""},{"$f":"IF('Growth - EFW'!E66=\"\",\"\",'Growth - EFW'!E66)","v":""}]
[63,{"$f":"IF('Growth - EFW'!B67=\"\",\"\",'Growth - EFW'!B67 * 7)","v":""},{"$f":"IF('Growth - EFW'!C67=\"\",\"\",'Growth - EFW'!C67)","v":""},{"$f":"IF('Growth - EFW'!D67=\"\",\"\",'Growth - EFW'!D67)","v":""},{"$f":"IF('Growth - EFW'!E67=\"\",\"\",'Growth - EFW'!E67)","v":""}]
[64,{"$f":"IF('Growth - EFW'!B68=\"\",\"\",'Growth - EFW'!B68 * 7)","v":""},{"$f":"IF('Growth - EFW'!C68=\"\",\"\",'Growth - EFW'!C68)","v":""},{"$f":"IF('Growth - EFW'!D68=\"\",\"\",'Growth - EFW'!D68)","v":""},{"$f":"IF('Growth - EFW'!E68=\"\",\"\",'Growth - EFW'!E68)","v":""}]
[65,{"$f":"IF('Growth - EFW'!B69=\"\",\"\",'Growth - EFW'!B69 * 7)","v":""},{"$f":"IF('Growth - EFW'!C69=\"\",\"\",'Growth - EFW'!C69)","v":""},{"$f":"IF('Growth - EFW'!D69=\"\",\"\",'Growth - EFW'!D69)","v":""},{"$f":"IF('Growth - EFW'!E69=\"\",\"\",'Growth - EFW'!E69)","v":""}]
[66,{"$f":"IF('Growth - EFW'!B70=\"\",\"\",'Growth - EFW'!B70 * 7)","v":""},{"$f":"IF('Growth - EFW'!C70=\"\",\"\",'Growth - EFW'!C70)","v":""},{"$f":"IF('Growth - EFW'!D70=\"\",\"\",'Growth - EFW'!D70)","v":""},{"$f":"IF('Growth - EFW'!E70=\"\",\"\",'Growth - EFW'!E70)","v":""}]
[67,{"$f":"IF('Growth - EFW'!B71=\"\",\"\",'Growth - EFW'!B71 * 7)","v":""},{"$f":"IF('Growth - EFW'!C71=\"\",\"\",'Growth - EFW'!C71)","v":""},{"$f":"IF('Growth - EFW'!D71=\"\",\"\",'Growth - EFW'!D71)","v":""},{"$f":"IF('Growth - EFW'!E71=\"\",\"\",'Growth - EFW'!E71)","v":""}]
[68,{"$f":"IF('Growth - EFW'!B72=\"\",\"\",'Growth - EFW'!B72 * 7)","v":""},{"$f":"IF('Growth - EFW'!C72=\"\",\"\",'Growth - EFW'!C72)","v":""},{"$f":"IF('Growth - EFW'!D72=\"\",\"\",'Growth - EFW'!D72)","v":""},{"$f":"IF('Growth - EFW'!E72=\"\",\"\",'Growth - EFW'!E72)","v":""}]
[69,{"$f":"IF('Growth - EFW'!B73=\"\",\"\",'Growth - EFW'!B73 * 7)","v":""},{"$f":"IF('Growth - EFW'!C73=\"\",\"\",'Growth - EFW'!C73)","v":""},{"$f":"IF('Growth - EFW'!D73=\"\",\"\",'Growth - EFW'!D73)","v":""},{"$f":"IF('Growth - EFW'!E73=\"\",\"\",'Growth - EFW'!E73)","v":""}]
[70,{"$f":"IF('Growth - EFW'!B74=\"\",\"\",'Growth - EFW'!B74 * 7)","v":""},{"$f":"IF('Growth - EFW'!C74=\"\",\"\",'Growth - EFW'!C74)","v":""},{"$f":"IF('Growth - EFW'!D74=\"\",\"\",'Growth - EFW'!D74)","v":""},{"$f":"IF('Growth - EFW'!E74=\"\",\"\",'Growth - EFW'!E74)","v":""}]
[71,{"$f":"IF('Growth - EFW'!B75=\"\",\"\",'Growth - EFW'!B75 * 7)","v":""},{"$f":"IF('Growth - EFW'!C75=\"\",\"\",'Growth - EFW'!C75)","v":""},{"$f":"IF('Growth - EFW'!D75=\"\",\"\",'Growth - EFW'!D75)","v":""},{"$f":"IF('Growth - EFW'!E75=\"\",\"\",'Growth - EFW'!E75)","v":""}]
[72,{"$f":"IF('Growth - EFW'!B76=\"\",\"\",'Growth - EFW'!B76 * 7)","v":""},{"$f":"IF('Growth - EFW'!C76=\"\",\"\",'Growth - EFW'!C76)","v":""},{"$f":"IF('Growth - EFW'!D76=\"\",\"\",'Growth - EFW'!D76)","v":""},{"$f":"IF('Growth - EFW'!E76=\"\",\"\",'Growth - EFW'!E76)","v":""}]
[73,{"$f":"IF('Growth - EFW'!B77=\"\",\"\",'Growth - EFW'!B77 * 7)","v":""},{"$f":"IF('Growth - EFW'!C77=\"\",\"\",'Growth - EFW'!C77)","v":""},{"$f":"IF('Growth - EFW'!D77=\"\",\"\",'Growth - EFW'!D77)","v":""},{"$f":"IF('Growth - EFW'!E77=\"\",\"\",'Growth - EFW'!E77)","v":""}]
[74,{"$f":"IF('Growth - EFW'!B78=\"\",\"\",'Growth - EFW'!B78 * 7)","v":""},{"$f":"IF('Growth - EFW'!C78=\"\",\"\",'Growth - EFW'!C78)","v":""},{"$f":"IF('Growth - EFW'!D78=\"\",\"\",'Growth - EFW'!D78)","v":""},{"$f":"IF('Growth - EFW'!E78=\"\",\"\",'Growth - EFW'!E78)","v":""}]
[75,{"$f":"IF('Growth - EFW'!B79=\"\",\"\",'Growth - EFW'!B79 * 7)","v":""},{"$f":"IF('Growth - EFW'!C79=\"\",\"\",'Growth - EFW'!C79)","v":""},{"$f":"IF('Growth - EFW'!D79=\"\",\"\",'Growth - EFW'!D79)","v":""},{"$f":"IF('Growth - EFW'!E79=\"\",\"\",'Growth - EFW'!E79)","v":""}]
[76,{"$f":"IF('Growth - EFW'!B80=\"\",\"\",'Growth - EFW'!B80 * 7)","v":""},{"$f":"IF('Growth - EFW'!C80=\"\",\"\",'Growth - EFW'!C80)","v":""},{"$f":"IF('Growth - EFW'!D80=\"\",\"\",'Growth - EFW'!D80)","v":""},{"$f":"IF('Growth - EFW'!E80=\"\",\"\",'Growth - EFW'!E80)","v":""}]
[77,{"$f":"IF('Growth - EFW'!B81=\"\",\"\",'Growth - EFW'!B81 * 7)","v":""},{"$f":"IF('Growth - EFW'!C81=\"\",\"\",'Growth - EFW'!C81)","v":""},{"$f":"IF('Growth - EFW'!D81=\"\",\"\",'Growth - EFW'!D81)","v":""},{"$f":"IF('Growth - EFW'!E81=\"\",\"\",'Growth - EFW'!E81)","v":""}]
[78,{"$f":"IF('Growth - EFW'!B82=\"\",\"\",'Growth - EFW'!B82 * 7)","v":""},{"$f":"IF('Growth - EFW'!C82=\"\",\"\",'Growth - EFW'!C82)","v":""},{"$f":"IF('Growth - EFW'!D82=\"\",\"\",'Growth - EFW'!D82)","v":""},{"$f":"IF('Growth - EFW'!E82=\"\",\"\",'Growth - EFW'!E82)","v":""}]
[79,{"$f":"IF('Growth - EFW'!B83=\"\",\"\",'Growth - EFW'!B83 * 7)","v":""},{"$f":"IF('Growth - EFW'!C83=\"\",\"\",'Growth - EFW'!C83)","v":""},{"$f":"IF('Growth - EFW'!D83=\"\",\"\",'Growth - EFW'!D83)","v":""},{"$f":"IF('Growth - EFW'!E83=\"\",\"\",'Growth - EFW'!E83)","v":""}]
[80,{"$f":"IF('Growth - EFW'!B84=\"\",\"\",'Growth - EFW'!B84 * 7)","v":""},{"$f":"IF('Growth - EFW'!C84=\"\",\"\",'Growth - EFW'!C84)","v":""},{"$f":"IF('Growth - EFW'!D84=\"\",\"\",'Growth - EFW'!D84)","v":""},{"$f":"IF('Growth - EFW'!E84=\"\",\"\",'Growth - EFW'!E84)","v":""}]
[81,{"$f":"IF('Growth - EFW'!B85=\"\",\"\",'Growth - EFW'!B85 * 7)","v":""},{"$f":"IF('Growth - EFW'!C85=\"\",\"\",'Growth - EFW'!C85)","v":""},{"$f":"IF('Growth - EFW'!D85=\"\",\"\",'Growth - EFW'!D85)","v":""},{"$f":"IF('Growth - EFW'!E85=\"\",\"\",'Growth - EFW'!E85)","v":""}]
[82,{"$f":"IF('Growth - EFW'!B86=\"\",\"\",'Growth - EFW'!B86 * 7)","v":""},{"$f":"IF('Growth - EFW'!C86=\"\",\"\",'Growth - EFW'!C86)","v":""},{"$f":"IF('Growth - EFW'!D86=\"\",\"\",'Growth - EFW'!D86)","v":""},{"$f":"IF('Growth - EFW'!E86=\"\",\"\",'Growth - EFW'!E86)","v":""}]
[83,{"$f":"IF('Growth - EFW'!B87=\"\",\"\",'Growth - EFW'!B87 * 7)","v":""},{"$f":"IF('Growth - EFW'!C87=\"\",\"\",'Growth - EFW'!C87)","v":""},{"$f":"IF('Growth - EFW'!D87=\"\",\"\",'Growth - EFW'!D87)","v":""},{"$f":"IF('Growth - EFW'!E87=\"\",\"\",'Growth - EFW'!E87)","v":""}]
[84,{"$f":"IF('Growth - EFW'!B88=\"\",\"\",'Growth - EFW'!B88 * 7)","v":""},{"$f":"IF('Growth - EFW'!C88=\"\",\"\",'Growth - EFW'!C88)","v":""},{"$f":"IF('Growth - EFW'!D88=\"\",\"\",'Growth - EFW'!D88)","v":""},{"$f":"IF('Growth - EFW'!E88=\"\",\"\",'Growth - EFW'!E88)","v":""}]
[85,{"$f":"IF('Growth - EFW'!B89=\"\",\"\",'Growth - EFW'!B89 * 7)","v":""},{"$f":"IF('Growth - EFW'!C89=\"\",\"\",'Growth - EFW'!C89)","v":""},{"$f":"IF('Growth - EFW'!D89=\"\",\"\",'Growth - EFW'!D89)","v":""},{"$f":"IF('Growth - EFW'!E89=\"\",\"\",'Growth - EFW'!E89)","v":""}]
[86,{"$f":"IF('Growth - EFW'!B90=\"\",\"\",'Growth - EFW'!B90 * 7)","v":""},{"$f":"IF('Growth - EFW'!C90=\"\",\"\",'Growth - EFW'!C90)","v":""},{"$f":"IF('Growth - EFW'!D90=\"\",\"\",'Growth - EFW'!D90)","v":""},{"$f":"IF('Growth - EFW'!E90=\"\",\"\",'Growth - EFW'!E90)","v":""}]
[87,{"$f":"IF('Growth - EFW'!B91=\"\",\"\",'Growth - EFW'!B91 * 7)","v":""},{"$f":"IF('Growth - EFW'!C91=\"\",\"\",'Growth - EFW'!C91)","v":""},{"$f":"IF('Growth - EFW'!D91=\"\",\"\",'Growth - EFW'!D91)","v":""},{"$f":"IF('Growth - EFW'!E91=\"\",\"\",'Growth - EFW'!E91)","v":""}]
[88,{"$f":"IF('Growth - EFW'!B92=\"\",\"\",'Growth - EFW'!B92 * 7)","v":""},{"$f":"IF('Growth - EFW'!C92=\"\",\"\",'Growth - EFW'!C92)","v":""},{"$f":"IF('Growth - EFW'!D92=\"\",\"\",'Growth - EFW'!D92)","v":""},{"$f":"IF('Growth - EFW'!E92=\"\",\"\",'Growth - EFW'!E92)","v":""}]
[89,{"$f":"IF('Growth - EFW'!B93=\"\",\"\",'Growth - EFW'!B93 * 7)","v":""},{"$f":"IF('Growth - EFW'!C93=\"\",\"\",'Growth - EFW'!C93)","v":""},{"$f":"IF('Growth - EFW'!D93=\"\",\"\",'Growth - EFW'!D93)","v":""},{"$f":"IF('Growth - EFW'!E93=\"\",\"\",'Growth - EFW'!E93)","v":""}]
[90,{"$f":"IF('Growth - EFW'!B94=\"\",\"\",'Growth - EFW'!B94 * 7)","v":""},{"$f":"IF('Growth - EFW'!C94=\"\",\"\",'Growth - EFW'!C94)","v":""},{"$f":"IF('Growth - EFW'!D94=\"\",\"\",'Growth - EFW'!D94)","v":""},{"$f":"IF('Growth - EFW'!E94=\"\",\"\",'Growth - EFW'!E94)","v":""}]
[91,{"$f":"IF('Growth - EFW'!B95=\"\",\"\",'Growth - EFW'!B95 * 7)","v":""},{"$f":"IF('Growth - EFW'!C95=\"\",\"\",'Growth - EFW'!C95)","v":""},{"$f":"IF('Growth - EFW'!D95=\"\",\"\",'Growth - EFW'!D95)","v":""},{"$f":"IF('Growth - EFW'!E95=\"\",\"\",'Growth - EFW'!E95)","v":""}]
[92,{"$f":"IF('Growth - EFW'!B96=\"\",\"\",'Growth - EFW'!B96 * 7)","v":""},{"$f":"IF('Growth - EFW'!C96=\"\",\"\",'Growth - EFW'!C96)","v":""},{"$f":"IF('Growth - EFW'!D96=\"\",\"\",'Growth - EFW'!D96)","v":""},{"$f":"IF('Growth - EFW'!E96=\"\",\"\",'Growth - EFW'!E96)","v":""}]
[93,{"$f":"IF('Growth - EFW'!B97=\"\",\"\",'Growth - EFW'!B97 * 7)","v":""},{"$f":"IF('Growth - EFW'!C97=\"\",\"\",'Growth - EFW'!C97)","v":""},{"$f":"IF('Growth - EFW'!D97=\"\",\"\",'Growth - EFW'!D97)","v":""},{"$f":"IF('Growth - EFW'!E97=\"\",\"\",'Growth - EFW'!E97)","v":""}]
[94,{"$f":"IF('Growth - EFW'!B98=\"\",\"\",'Growth - EFW'!B98 * 7)","v":""},{"$f":"IF('Growth - EFW'!C98=\"\",\"\",'Growth - EFW'!C98)","v":""},{"$f":"IF('Growth - EFW'!D98=\"\",\"\",'Growth - EFW'!D98)","v":""},{"$f":"IF('Growth - EFW'!E98=\"\",\"\",'Growth - EFW'!E98)","v":""}]
[95,{"$f":"IF('Growth - EFW'!B99=\"\",\"\",'Growth - EFW'!B99 * 7)","v":""},{"$f":"IF('Growth - EFW'!C99=\"\",\"\",'Growth - EFW'!C99)","v":""},{"$f":"IF('Growth - EFW'!D99=\"\",\"\",'Growth - EFW'!D99)","v":""},{"$f":"IF('Growth - EFW'!E99=\"\",\"\",'Growth - EFW'!E99)","v":""}]
[96,{"$f":"IF('Growth - EFW'!B100=\"\",\"\",'Growth - EFW'!B100 * 7)","v":""},{"$f":"IF('Growth - EFW'!C100=\"\",\"\",'Growth - EFW'!C100)","v":""},{"$f":"IF('Growth - EFW'!D100=\"\",\"\",'Growth - EFW'!D100)","v":""},{"$f":"IF('Growth - EFW'!E100=\"\",\"\",'Growth - EFW'!E100)","v":""}]
[97,{"$f":"IF('Growth - EFW'!B101=\"\",\"\",'Growth - EFW'!B101 * 7)","v":""},{"$f":"IF('Growth - EFW'!C101=\"\",\"\",'Growth - EFW'!C101)","v":""},{"$f":"IF('Growth - EFW'!D101=\"\",\"\",'Growth - EFW'!D101)","v":""},{"$f":"IF('Growth - EFW'!E101=\"\",\"\",'Growth - EFW'!E101)","v":""}]
[98,{"$f":"IF('Growth - EFW'!B102=\"\",\"\",'Growth - EFW'!B102 * 7)","v":""},{"$f":"IF('Growth - EFW'!C102=\"\",\"\",'Growth - EFW'!C102)","v":""},{"$f":"IF('Growth - EFW'!D102=\"\",\"\",'Growth - EFW'!D102)","v":""},{"$f":"IF('Growth - EFW'!E102=\"\",\"\",'Growth - EFW'!E102)","v":""}]
[99,{"$f":"IF('Growth - EFW'!B103=\"\",\"\",'Growth - EFW'!B103 * 7)","v":""},{"$f":"IF('Growth - EFW'!C103=\"\",\"\",'Growth - EFW'!C103)","v":""},{"$f":"IF('Growth - EFW'!D103=\"\",\"\",'Growth - EFW'!D103)","v":""},{"$f":"IF('Growth - EFW'!E103=\"\",\"\",'Growth - EFW'!E103)","v":""}]
[100,{"$f":"IF('Growth - EFW'!B104=\"\",\"\",'Growth - EFW'!B104 * 7)","v":""},{"$f":"IF('Growth - EFW'!C104=\"\",\"\",'Growth - EFW'!C104)","v":""},{"$f":"IF('Growth - EFW'!D104=\"\",\"\",'Growth - EFW'!D104)","v":""},{"$f":"IF('Growth - EFW'!E104=\"\",\"\",'Growth - EFW'!E104)","v":""}]
[101,{"$f":"IF('Growth - EFW'!B105=\"\",\"\",'Growth - EFW'!B105 * 7)","v":""},{"$f":"IF('Growth - EFW'!C105=\"\",\"\",'Growth - EFW'!C105)","v":""},{"$f":"IF('Growth - EFW'!D105=\"\",\"\",'Growth - EFW'!D105)","v":""},{"$f":"IF('Growth - EFW'!E105=\"\",\"\",'Growth - EFW'!E105)","v":""}]
[102,{"$f":"IF('Growth - EFW'!B106=\"\",\"\",'Growth - EFW'!B106 * 7)","v":""},{"$f":"IF('Growth - EFW'!C106=\"\",\"\",'Growth - EFW'!C106)","v":""},{"$f":"IF('Growth - EFW'!D106=\"\",\"\",'Growth - EFW'!D106)","v":""},{"$f":"IF('Growth - EFW'!E106=\"\",\"\",'Growth - EFW'!E106)","v":""}]
[103,{"$f":"IF('Growth - EFW'!B107=\"\",\"\",'Growth - EFW'!B107 * 7)","v":""},{"$f":"IF('Growth - EFW'!C107=\"\",\"\",'Growth - EFW'!C107)","v":""},{"$f":"IF('Growth - EFW'!D107=\"\",\"\",'Growth - EFW'!D107)","v":""},{"$f":"IF('Growth - EFW'!E107=\"\",\"\",'Growth - EFW'!E107)","v":""}]
[104,{"$f":"IF('Growth - EFW'!B108=\"\",\"\",'Growth - EFW'!B108 * 7)","v":""},{"$f":"IF('Growth - EFW'!C108=\"\",\"\",'Growth - EFW'!C108)","v":""},{"$f":"IF('Growth - EFW'!D108=\"\",\"\",'Growth - EFW'!D108)","v":""},{"$f":"IF('Growth - EFW'!E108=\"\",\"\",'Growth - EFW'!E108)","v":""}]
[105,{"$f":"IF('Growth - EFW'!B109=\"\",\"\",'Growth - EFW'!B109 * 7)","v":""},{"$f":"IF('Growth - EFW'!C109=\"\",\"\",'Growth - EFW'!C109)","v":""},{"$f":"IF('Growth - EFW'!D109=\"\",\"\",'Growth - EFW'!D109)","v":""},{"$f":"IF('Growth - EFW'!E109=\"\",\"\",'Growth - EFW'!E109)","v":""}]
[106,{"$f":"IF('Growth - EFW'!B110=\"\",\"\",'Growth - EFW'!B110 * 7)","v":""},{"$f":"IF('Growth - EFW'!C110=\"\",\"\",'Growth - EFW'!C110)","v":""},{"$f":"IF('Growth - EFW'!D110=\"\",\"\",'Growth - EFW'!D110)","v":""},{"$f":"IF('Growth - EFW'!E110=\"\",\"\",'Growth - EFW'!E110)","v":""}]
[107,{"$f":"IF('Growth - EFW'!B111=\"\",\"\",'Growth - EFW'!B111 * 7)","v":""},{"$f":"IF('Growth - EFW'!C111=\"\",\"\",'Growth - EFW'!C111)","v":""},{"$f":"IF('Growth - EFW'!D111=\"\",\"\",'Growth - EFW'!D111)","v":""},{"$f":"IF('Growth - EFW'!E111=\"\",\"\",'Growth - EFW'!E111)","v":""}]
[108,{"$f":"IF('Growth - EFW'!B112=\"\",\"\",'Growth - EFW'!B112 * 7)","v":""},{"$f":"IF('Growth - EFW'!C112=\"\",\"\",'Growth - EFW'!C112)","v":""},{"$f":"IF('Growth - EFW'!D112=\"\",\"\",'Growth - EFW'!D112)","v":""},{"$f":"IF('Growth - EFW'!E112=\"\",\"\",'Growth - EFW'!E112)","v":""}]
[109,{"$f":"IF('Growth - EFW'!B113=\"\",\"\",'Growth - EFW'!B113 * 7)","v":""},{"$f":"IF('Growth - EFW'!C113=\"\",\"\",'Growth - EFW'!C113)","v":""},{"$f":"IF('Growth - EFW'!D113=\"\",\"\",'Growth - EFW'!D113)","v":""},{"$f":"IF('Growth - EFW'!E113=\"\",\"\",'Growth - EFW'!E113)","v":""}]
[110,{"$f":"IF('Growth - EFW'!B114=\"\",\"\",'Growth - EFW'!B114 * 7)","v":""},{"$f":"IF('Growth - EFW'!C114=\"\",\"\",'Growth - EFW'!C114)","v":""},{"$f":"IF('Growth - EFW'!D114=\"\",\"\",'Growth - EFW'!D114)","v":""},{"$f":"IF('Growth - EFW'!E114=\"\",\"\",'Growth - EFW'!E114)","v":""}]
[111,{"$f":"IF('Growth - EFW'!B115=\"\",\"\",'Growth - EFW'!B115 * 7)","v":""},{"$f":"IF('Growth - EFW'!C115=\"\",\"\",'Growth - EFW'!C115)","v":""},{"$f":"IF('Growth - EFW'!D115=\"\",\"\",'Growth - EFW'!D115)","v":""},{"$f":"IF('Growth - EFW'!E115=\"\",\"\",'Growth - EFW'!E115)","v":""}]
[112,{"$f":"IF('Growth - EFW'!B116=\"\",\"\",'Growth - EFW'!B116 * 7)","v":""},{"$f":"IF('Growth - EFW'!C116=\"\",\"\",'Growth - EFW'!C116)","v":""},{"$f":"IF('Growth - EFW'!D116=\"\",\"\",'Growth - EFW'!D116)","v":""},{"$f":"IF('Growth - EFW'!E116=\"\",\"\",'Growth - EFW'!E116)","v":""}]
[113,{"$f":"IF('Growth - EFW'!B117=\"\",\"\",'Growth - EFW'!B117 * 7)","v":""},{"$f":"IF('Growth - EFW'!C117=\"\",\"\",'Growth - EFW'!C117)","v":""},{"$f":"IF('Growth - EFW'!D117=\"\",\"\",'Growth - EFW'!D117)","v":""},{"$f":"IF('Growth - EFW'!E117=\"\",\"\",'Growth - EFW'!E117)","v":""}]
[114,{"$f":"IF('Growth - EFW'!B118=\"\",\"\",'Growth - EFW'!B118 * 7)","v":""},{"$f":"IF('Growth - EFW'!C118=\"\",\"\",'Growth - EFW'!C118)","v":""},{"$f":"IF('Growth - EFW'!D118=\"\",\"\",'Growth - EFW'!D118)","v":""},{"$f":"IF('Growth - EFW'!E118=\"\",\"\",'Growth - EFW'!E118)","v":""}]
[115,{"$f":"IF('Growth - EFW'!B119=\"\",\"\",'Growth - EFW'!B119 * 7)","v":""},{"$f":"IF('Growth - EFW'!C119=\"\",\"\",'Growth - EFW'!C119)","v":""},{"$f":"IF('Growth - EFW'!D119=\"\",\"\",'Growth - EFW'!D119)","v":""},{"$f":"IF('Growth - EFW'!E119=\"\",\"\",'Growth - EFW'!E119)","v":""}]
[116,{"$f":"IF('Growth - EFW'!B120=\"\",\"\",'Growth - EFW'!B120 * 7)","v":""},{"$f":"IF('Growth - EFW'!C120=\"\",\"\",'Growth - EFW'!C120)","v":""},{"$f":"IF('Growth - EFW'!D120=\"\",\"\",'Growth - EFW'!D120)","v":""},{"$f":"IF('Growth - EFW'!E120=\"\",\"\",'Growth - EFW'!E120)","v":""}]
[117,{"$f":"IF('Growth - EFW'!B121=\"\",\"\",'Growth - EFW'!B121 * 7)","v":""},{"$f":"IF('Growth - EFW'!C121=\"\",\"\",'Growth - EFW'!C121)","v":""},{"$f":"IF('Growth - EFW'!D121=\"\",\"\",'Growth - EFW'!D121)","v":""},{"$f":"IF('Growth - EFW'!E121=\"\",\"\",'Growth - EFW'!E121)","v":""}]
[118,{"$f":"IF('Growth - EFW'!B122=\"\",\"\",'Growth - EFW'!B122 * 7)","v":""},{"$f":"IF('Growth - EFW'!C122=\"\",\"\",'Growth - EFW'!C122)","v":""},{"$f":"IF('Growth - EFW'!D122=\"\",\"\",'Growth - EFW'!D122)","v":""},{"$f":"IF('Growth - EFW'!E122=\"\",\"\",'Growth - EFW'!E122)","v":""}]
[119,{"$f":"IF('Growth - EFW'!B123=\"\",\"\",'Growth - EFW'!B123 * 7)","v":""},{"$f":"IF('Growth - EFW'!C123=\"\",\"\",'Growth - EFW'!C123)","v":""},{"$f":"IF('Growth - EFW'!D123=\"\",\"\",'Growth - EFW'!D123)","v":""},{"$f":"IF('Growth - EFW'!E123=\"\",\"\",'Growth - EFW'!E123)","v":""}]
[120,{"$f":"IF('Growth - EFW'!B124=\"\",\"\",'Growth - EFW'!B124 * 7)","v":""},{"$f":"IF('Growth - EFW'!C124=\"\",\"\",'Growth - EFW'!C124)","v":""},{"$f":"IF('Growth - EFW'!D124=\"\",\"\",'Growth - EFW'!D124)","v":""},{"$f":"IF('Growth - EFW'!E124=\"\",\"\",'Growth - EFW'!E124)","v":""}]
[121,{"$f":"IF('Growth - EFW'!B125=\"\",\"\",'Growth - EFW'!B125 * 7)","v":""},{"$f":"IF('Growth - EFW'!C125=\"\",\"\",'Growth - EFW'!C125)","v":""},{"$f":"IF('Growth - EFW'!D125=\"\",\"\",'Growth - EFW'!D125)","v":""},{"$f":"IF('Growth - EFW'!E125=\"\",\"\",'Growth - EFW'!E125)","v":""}]
[122,{"$f":"IF('Growth - EFW'!B126=\"\",\"\",'Growth - EFW'!B126 * 7)","v":""},{"$f":"IF('Growth - EFW'!C126=\"\",\"\",'Growth - EFW'!C126)","v":""},{"$f":"IF('Growth - EFW'!D126=\"\",\"\",'Growth - EFW'!D126)","v":""},{"$f":"IF('Growth - EFW'!E126=\"\",\"\",'Growth - EFW'!E126)","v":""}]
[123,{"$f":"IF('Growth - EFW'!B127=\"\",\"\",'Growth - EFW'!B127 * 7)","v":""},{"$f":"IF('Growth - EFW'!C127=\"\",\"\",'Growth - EFW'!C127)","v":""},{"$f":"IF('Growth - EFW'!D127=\"\",\"\",'Growth - EFW'!D127)","v":""},{"$f":"IF('Growth - EFW'!E127=\"\",\"\",'Growth - EFW'!E127)","v":""}]
[124,{"$f":"IF('Growth - EFW'!B128=\"\",\"\",'Growth - EFW'!B128 * 7)","v":""},{"$f":"IF('Growth - EFW'!C128=\"\",\"\",'Growth - EFW'!C128)","v":""},{"$f":"IF('Growth - EFW'!D128=\"\",\"\",'Growth - EFW'!D128)","v":""},{"$f":"IF('Growth - EFW'!E128=\"\",\"\",'Growth - EFW'!E128)","v":""}]
[125,{"$f":"IF('Growth - EFW'!B129=\"\",\"\",'Growth - EFW'!B129 * 7)","v":""},{"$f":"IF('Growth - EFW'!C129=\"\",\"\",'Growth - EFW'!C129)","v":""},{"$f":"IF('Growth - EFW'!D129=\"\",\"\",'Growth - EFW'!D129)","v":""},{"$f":"IF('Growth - EFW'!E129=\"\",\"\",'Growth - EFW'!E129)","v":""}]
[126,{"$f":"IF('Growth - EFW'!B130=\"\",\"\",'Growth - EFW'!B130 * 7)","v":""},{"$f":"IF('Growth - EFW'!C130=\"\",\"\",'Growth - EFW'!C130)","v":""},{"$f":"IF('Growth - EFW'!D130=\"\",\"\",'Growth - EFW'!D130)","v":""},{"$f":"IF('Growth - EFW'!E130=\"\",\"\",'Growth - EFW'!E130)","v":""}]
[127,{"$f":"IF('Growth - EFW'!B131=\"\",\"\",'Growth - EFW'!B131 * 7)","v":""},{"$f":"IF('Growth - EFW'!C131=\"\",\"\",'Growth - EFW'!C131)","v":""},{"$f":"IF('Growth - EFW'!D131=\"\",\"\",'Growth - EFW'!D131)","v":""},{"$f":"IF('Growth - EFW'!E131=\"\",\"\",'Growth - EFW'!E131)","v":""}]
[128,{"$f":"IF('Growth - EFW'!B132=\"\",\"\",'Growth - EFW'!B132 * 7)","v":""},{"$f":"IF('Growth - EFW'!C132=\"\",\"\",'Growth - EFW'!C132)","v":""},{"$f":"IF('Growth - EFW'!D132=\"\",\"\",'Growth - EFW'!D132)","v":""},{"$f":"IF('Growth - EFW'!E132=\"\",\"\",'Growth - EFW'!E132)","v":""}]
[129,{"$f":"IF('Growth - EFW'!B133=\"\",\"\",'Growth - EFW'!B133 * 7)","v":""},{"$f":"IF('Growth - EFW'!C133=\"\",\"\",'Growth - EFW'!C133)","v":""},{"$f":"IF('Growth - EFW'!D133=\"\",\"\",'Growth - EFW'!D133)","v":""},{"$f":"IF('Growth - EFW'!E133=\"\",\"\",'Growth - EFW'!E133)","v":""}]
[130,{"$f":"IF('Growth - EFW'!B134=\"\",\"\",'Growth - EFW'!B134 * 7)","v":""},{"$f":"IF('Growth - EFW'!C134=\"\",\"\",'Growth - EFW'!C134)","v":""},{"$f":"IF('Growth - EFW'!D134=\"\",\"\",'Growth - EFW'!D134)","v":""},{"$f":"IF('Growth - EFW'!E134=\"\",\"\",'Growth - EFW'!E134)","v":""}]
[131,{"$f":"IF('Growth - EFW'!B135=\"\",\"\",'Growth - EFW'!B135 * 7)","v":""},{"$f":"IF('Growth - EFW'!C135=\"\",\"\",'Growth - EFW'!C135)","v":""},{"$f":"IF('Growth - EFW'!D135=\"\",\"\",'Growth - EFW'!D135)","v":""},{"$f":"IF('Growth - EFW'!E135=\"\",\"\",'Growth - EFW'!E135)","v":""}]
[132,{"$f":"IF('Growth - EFW'!B136=\"\",\"\",'Growth - EFW'!B136 * 7)","v":""},{"$f":"IF('Growth - EFW'!C136=\"\",\"\",'Growth - EFW'!C136)","v":""},{"$f":"IF('Growth - EFW'!D136=\"\",\"\",'Growth - EFW'!D136)","v":""},{"$f":"IF('Growth - EFW'!E136=\"\",\"\",'Growth - EFW'!E136)","v":""}]
[133,{"$f":"IF('Growth - EFW'!B137=\"\",\"\",'Growth - EFW'!B137 * 7)","v":""},{"$f":"IF('Growth - EFW'!C137=\"\",\"\",'Growth - EFW'!C137)","v":""},{"$f":"IF('Growth - EFW'!D137=\"\",\"\",'Growth - EFW'!D137)","v":""},{"$f":"IF('Growth - EFW'!E137=\"\",\"\",'Growth - EFW'!E137)","v":""}]
[134,{"$f":"IF('Growth - EFW'!B138=\"\",\"\",'Growth - EFW'!B138 * 7)","v":""},{"$f":"IF('Growth - EFW'!C138=\"\",\"\",'Growth - EFW'!C138)","v":""},{"$f":"IF('Growth - EFW'!D138=\"\",\"\",'Growth - EFW'!D138)","v":""},{"$f":"IF('Growth - EFW'!E138=\"\",\"\",'Growth - EFW'!E138)","v":""}]
[135,{"$f":"IF('Growth - EFW'!B139=\"\",\"\",'Growth - EFW'!B139 * 7)","v":""},{"$f":"IF('Growth - EFW'!C139=\"\",\"\",'Growth - EFW'!C139)","v":""},{"$f":"IF('Growth - EFW'!D139=\"\",\"\",'Growth - EFW'!D139)","v":""},{"$f":"IF('Growth - EFW'!E139=\"\",\"\",'Growth - EFW'!E139)","v":""}]
[136,{"$f":"IF('Growth - EFW'!B140=\"\",\"\",'Growth - EFW'!B140 * 7)","v":""},{"$f":"IF('Growth - EFW'!C140=\"\",\"\",'Growth - EFW'!C140)","v":""},{"$f":"IF('Growth - EFW'!D140=\"\",\"\",'Growth - EFW'!D140)","v":""},{"$f":"IF('Growth - EFW'!E140=\"\",\"\",'Growth - EFW'!E140)","v":""}]
[137,{"$f":"IF('Growth - EFW'!B141=\"\",\"\",'Growth - EFW'!B141 * 7)","v":""},{"$f":"IF('Growth - EFW'!C141=\"\",\"\",'Growth - EFW'!C141)","v":""},{"$f":"IF('Growth - EFW'!D141=\"\",\"\",'Growth - EFW'!D141)","v":""},{"$f":"IF('Growth - EFW'!E141=\"\",\"\",'Growth - EFW'!E141)","v":""}]
[138,{"$f":"IF('Growth - EFW'!B142=\"\",\"\",'Growth - EFW'!B142 * 7)","v":""},{"$f":"IF('Growth - EFW'!C142=\"\",\"\",'Growth - EFW'!C142)","v":""},{"$f":"IF('Growth - EFW'!D142=\"\",\"\",'Growth - EFW'!D142)","v":""},{"$f":"IF('Growth - EFW'!E142=\"\",\"\",'Growth - EFW'!E142)","v":""}]
[139,{"$f":"IF('Growth - EFW'!B143=\"\",\"\",'Growth - EFW'!B143 * 7)","v":""},{"$f":"IF('Growth - EFW'!C143=\"\",\"\",'Growth - EFW'!C143)","v":""},{"$f":"IF('Growth - EFW'!D143=\"\",\"\",'Growth - EFW'!D143)","v":""},{"$f":"IF('Growth - EFW'!E143=\"\",\"\",'Growth - EFW'!E143)","v":""}]
[140,{"$f":"IF('Growth - EFW'!B144=\"\",\"\",'Growth - EFW'!B144 * 7)","v":""},{"$f":"IF('Growth - EFW'!C144=\"\",\"\",'Growth - EFW'!C144)","v":""},{"$f":"IF('Growth - EFW'!D144=\"\",\"\",'Growth - EFW'!D144)","v":""},{"$f":"IF('Growth - EFW'!E144=\"\",\"\",'Growth - EFW'!E144)","v":""}]
[141,{"$f":"IF('Growth - EFW'!B145=\"\",\"\",'Growth - EFW'!B145 * 7)","v":""},{"$f":"IF('Growth - EFW'!C145=\"\",\"\",'Growth - EFW'!C145)","v":""},{"$f":"IF('Growth - EFW'!D145=\"\",\"\",'Growth - EFW'!D145)","v":""},{"$f":"IF('Growth - EFW'!E145=\"\",\"\",'Growth - EFW'!E145)","v":""}]
[142,{"$f":"IF('Growth - EFW'!B146=\"\",\"\",'Growth - EFW'!B146 * 7)","v":""},{"$f":"IF('Growth - EFW'!C146=\"\",\"\",'Growth - EFW'!C146)","v":""},{"$f":"IF('Growth - EFW'!D146=\"\",\"\",'Growth - EFW'!D146)","v":""},{"$f":"IF('Growth - EFW'!E146=\"\",\"\",'Growth - EFW'!E146)","v":""}]
[143,{"$f":"IF('Growth - EFW'!B147=\"\",\"\",'Growth - EFW'!B147 * 7)","v":""},{"$f":"IF('Growth - EFW'!C147=\"\",\"\",'Growth - EFW'!C147)","v":""},{"$f":"IF('Growth - EFW'!D147=\"\",\"\",'Growth - EFW'!D147)","v":""},{"$f":"IF('Growth - EFW'!E147=\"\",\"\",'Growth - EFW'!E147)","v":""}]
[144,{"$f":"IF('Growth - EFW'!B148=\"\",\"\",'Growth - EFW'!B148 * 7)","v":""},{"$f":"IF('Growth - EFW'!C148=\"\",\"\",'Growth - EFW'!C148)","v":""},{"$f":"IF('Growth - EFW'!D148=\"\",\"\",'Growth - EFW'!D148)","v":""},{"$f":"IF('Growth - EFW'!E148=\"\",\"\",'Growth - EFW'!E148)","v":""}]
[145,{"$f":"IF('Growth - EFW'!B149=\"\",\"\",'Growth - EFW'!B149 * 7)","v":""},{"$f":"IF('Growth - EFW'!C149=\"\",\"\",'Growth - EFW'!C149)","v":""},{"$f":"IF('Growth - EFW'!D149=\"\",\"\",'Growth - EFW'!D149)","v":""},{"$f":"IF('Growth - EFW'!E149=\"\",\"\",'Growth - EFW'!E149)","v":""}]
[146,{"$f":"IF('Growth - EFW'!B150=\"\",\"\",'Growth - EFW'!B150 * 7)","v":""},{"$f":"IF('Growth - EFW'!C150=\"\",\"\",'Growth - EFW'!C150)","v":""},{"$f":"IF('Growth - EFW'!D150=\"\",\"\",'Growth - EFW'!D150)","v":""},{"$f":"IF('Growth - EFW'!E150=\"\",\"\",'Growth - EFW'!E150)","v":""}]
[147,{"$f":"IF('Growth - EFW'!B151=\"\",\"\",'Growth - EFW'!B151 * 7)","v":""},{"$f":"IF('Growth - EFW'!C151=\"\",\"\",'Growth - EFW'!C151)","v":""},{"$f":"IF('Growth - EFW'!D151=\"\",\"\",'Growth - EFW'!D151)","v":""},{"$f":"IF('Growth - EFW'!E151=\"\",\"\",'Growth - EFW'!E151)","v":""}]
[148,{"$f":"IF('Growth - EFW'!B152=\"\",\"\",'Growth - EFW'!B152 * 7)","v":""},{"$f":"IF('Growth - EFW'!C152=\"\",\"\",'Growth - EFW'!C152)","v":""},{"$f":"IF('Growth - EFW'!D152=\"\",\"\",'Growth - EFW'!D152)","v":""},{"$f":"IF('Growth - EFW'!E152=\"\",\"\",'Growth - EFW'!E152)","v":""}]
[149,{"$f":"IF('Growth - EFW'!B153=\"\",\"\",'Growth - EFW'!B153 * 7)","v":""},{"$f":"IF('Growth - EFW'!C153=\"\",\"\",'Growth - EFW'!C153)","v":""},{"$f":"IF('Growth - EFW'!D153=\"\",\"\",'Growth - EFW'!D153)","v":""},{"$f":"IF('Growth - EFW'!E153=\"\",\"\",'Growth - EFW'!E153)","v":""}]
[150,{"$f":"IF('Growth - EFW'!B154=\"\",\"\",'Growth - EFW'!B154 * 7)","v":""},{"$f":"IF('Growth - EFW'!C154=\"\",\"\",'Growth - EFW'!C154)","v":""},{"$f":"IF('Growth - EFW'!D154=\"\",\"\",'Growth - EFW'!D154)","v":""},{"$f":"IF('Growth - EFW'!E154=\"\",\"\",'Growth - EFW'!E154)","v":""}]
[151,{"$f":"IF('Growth - EFW'!B155=\"\",\"\",'Growth - EFW'!B155 * 7)","v":""},{"$f":"IF('Growth - EFW'!C155=\"\",\"\",'Growth - EFW'!C155)","v":""},{"$f":"IF('Growth - EFW'!D155=\"\",\"\",'Growth - EFW'!D155)","v":""},{"$f":"IF('Growth - EFW'!E155=\"\",\"\",'Growth - EFW'!E155)","v":""}]
[152,{"$f":"IF('Growth - EFW'!B156=\"\",\"\",'Growth - EFW'!B156 * 7)","v":""},{"$f":"IF('Growth - EFW'!C156=\"\",\"\",'Growth - EFW'!C156)","v":""},{"$f":"IF('Growth - EFW'!D156=\"\",\"\",'Growth - EFW'!D156)","v":""},{"$f":"IF('Growth - EFW'!E156=\"\",\"\",'Growth - EFW'!E156)","v":""}]
[153,{"$f":"IF('Growth - EFW'!B157=\"\",\"\",'Growth - EFW'!B157 * 7)","v":""},{"$f":"IF('Growth - EFW'!C157=\"\",\"\",'Growth - EFW'!C157)","v":""},{"$f":"IF('Growth - EFW'!D157=\"\",\"\",'Growth - EFW'!D157)","v":""},{"$f":"IF('Growth - EFW'!E157=\"\",\"\",'Growth - EFW'!E157)","v":""}]
[154,{"$f":"IF('Growth - EFW'!B158=\"\",\"\",'Growth - EFW'!B158 * 7)","v":""},{"$f":"IF('Growth - EFW'!C158=\"\",\"\",'Growth - EFW'!C158)","v":""},{"$f":"IF('Growth - EFW'!D158=\"\",\"\",'Growth - EFW'!D158)","v":""},{"$f":"IF('Growth - EFW'!E158=\"\",\"\",'Growth - EFW'!E158)","v":""}]
[155,{"$f":"IF('Growth - EFW'!B159=\"\",\"\",'Growth - EFW'!B159 * 7)","v":""},{"$f":"IF('Growth - EFW'!C159=\"\",\"\",'Growth - EFW'!C159)","v":""},{"$f":"IF('Growth - EFW'!D159=\"\",\"\",'Growth - EFW'!D159)","v":""},{"$f":"IF('Growth - EFW'!E159=\"\",\"\",'Growth - EFW'!E159)","v":""}]
[156,{"$f":"IF('Growth - EFW'!B160=\"\",\"\",'Growth - EFW'!B160 * 7)","v":""},{"$f":"IF('Growth - EFW'!C160=\"\",\"\",'Growth - EFW'!C160)","v":""},{"$f":"IF('Growth - EFW'!D160=\"\",\"\",'Growth - EFW'!D160)","v":""},{"$f":"IF('Growth - EFW'!E160=\"\",\"\",'Growth - EFW'!E160)","v":""}]
[157,{"$f":"IF('Growth - EFW'!B161=\"\",\"\",'Growth - EFW'!B161 * 7)","v":""},{"$f":"IF('Growth - EFW'!C161=\"\",\"\",'Growth - EFW'!C161)","v":""},{"$f":"IF('Growth - EFW'!D161=\"\",\"\",'Growth - EFW'!D161)","v":""},{"$f":"IF('Growth - EFW'!E161=\"\",\"\",'Growth - EFW'!E161)","v":""}]
[158,{"$f":"IF('Growth - EFW'!B162=\"\",\"\",'Growth - EFW'!B162 * 7)","v":""},{"$f":"IF('Growth - EFW'!C162=\"\",\"\",'Growth - EFW'!C162)","v":""},{"$f":"IF('Growth - EFW'!D162=\"\",\"\",'Growth - EFW'!D162)","v":""},{"$f":"IF('Growth - EFW'!E162=\"\",\"\",'Growth - EFW'!E162)","v":""}]
[159,{"$f":"IF('Growth - EFW'!B163=\"\",\"\",'Growth - EFW'!B163 * 7)","v":""},{"$f":"IF('Growth - EFW'!C163=\"\",\"\",'Growth - EFW'!C163)","v":""},{"$f":"IF('Growth - EFW'!D163=\"\",\"\",'Growth - EFW'!D163)","v":""},{"$f":"IF('Growth - EFW'!E163=\"\",\"\",'Growth - EFW'!E163)","v":""}]
[160,{"$f":"IF('Growth - EFW'!B164=\"\",\"\",'Growth - EFW'!B164 * 7)","v":""},{"$f":"IF('Growth - EFW'!C164=\"\",\"\",'Growth - EFW'!C164)","v":""},{"$f":"IF('Growth - EFW'!D164=\"\",\"\",'Growth - EFW'!D164)","v":""},{"$f":"IF('Growth - EFW'!E164=\"\",\"\",'Growth - EFW'!E164)","v":""}]
[161,{"$f":"IF('Growth - EFW'!B165=\"\",\"\",'Growth - EFW'!B165 * 7)","v":""},{"$f":"IF('Growth - EFW'!C165=\"\",\"\",'Growth - EFW'!C165)","v":""},{"$f":"IF('Growth - EFW'!D165=\"\",\"\",'Growth - EFW'!D165)","v":""},{"$f":"IF('Growth - EFW'!E165=\"\",\"\",'Growth - EFW'!E165)","v":""}]
[162,{"$f":"IF('Growth - EFW'!B166=\"\",\"\",'Growth - EFW'!B166 * 7)","v":""},{"$f":"IF('Growth - EFW'!C166=\"\",\"\",'Growth - EFW'!C166)","v":""},{"$f":"IF('Growth - EFW'!D166=\"\",\"\",'Growth - EFW'!D166)","v":""},{"$f":"IF('Growth - EFW'!E166=\"\",\"\",'Growth - EFW'!E166)","v":""}]
[163,{"$f":"IF('Growth - EFW'!B167=\"\",\"\",'Growth - EFW'!B167 * 7)","v":""},{"$f":"IF('Growth - EFW'!C167=\"\",\"\",'Growth - EFW'!C167)","v":""},{"$f":"IF('Growth - EFW'!D167=\"\",\"\",'Growth - EFW'!D167)","v":""},{"$f":"IF('Growth - EFW'!E167=\"\",\"\",'Growth - EFW'!E167)","v":""}]
[164,{"$f":"IF('Growth - EFW'!B168=\"\",\"\",'Growth - EFW'!B168 * 7)","v":""},{"$f":"IF('Growth - EFW'!C168=\"\",\"\",'Growth - EFW'!C168)","v":""},{"$f":"IF('Growth - EFW'!D168=\"\",\"\",'Growth - EFW'!D168)","v":""},{"$f":"IF('Growth - EFW'!E168=\"\",\"\",'Growth - EFW'!E168)","v":""}]
[165,{"$f":"IF('Growth - EFW'!B169=\"\",\"\",'Growth - EFW'!B169 * 7)","v":""},{"$f":"IF('Growth - EFW'!C169=\"\",\"\",'Growth - EFW'!C169)","v":""},{"$f":"IF('Growth - EFW'!D169=\"\",\"\",'Growth - EFW'!D169)","v":""},{"$f":"IF('Growth - EFW'!E169=\"\",\"\",'Growth - EFW'!E169)","v":""}]
[166,{"$f":"IF('Growth - EFW'!B170=\"\",\"\",'Growth - EFW'!B170 * 7)","v":""},{"$f":"IF('Growth - EFW'!C170=\"\",\"\",'Growth - EFW'!C170)","v":""},{"$f":"IF('Growth - EFW'!D170=\"\",\"\",'Growth - EFW'!D170)","v":""},{"$f":"IF('Growth - EFW'!E170=\"\",\"\",'Growth - EFW'!E170)","v":""}]
[167,{"$f":"IF('Growth - EFW'!B171=\"\",\"\",'Growth - EFW'!B171 * 7)","v":""},{"$f":"IF('Growth - EFW'!C171=\"\",\"\",'Growth - EFW'!C171)","v":""},{"$f":"IF('Growth - EFW'!D171=\"\",\"\",'Growth - EFW'!D171)","v":""},{"$f":"IF('Growth - EFW'!E171=\"\",\"\",'Growth - EFW'!E171)","v":""}]
[168,{"$f":"IF('Growth - EFW'!B172=\"\",\"\",'Growth - EFW'!B172 * 7)","v":""},{"$f":"IF('Growth - EFW'!C172=\"\",\"\",'Growth - EFW'!C172)","v":""},{"$f":"IF('Growth - EFW'!D172=\"\",\"\",'Growth - EFW'!D172)","v":""},{"$f":"IF('Growth - EFW'!E172=\"\",\"\",'Growth - EFW'!E172)","v":""}]
[169,{"$f":"IF('Growth - EFW'!B173=\"\",\"\",'Growth - EFW'!B173 * 7)","v":""},{"$f":"IF('Growth - EFW'!C173=\"\",\"\",'Growth - EFW'!C173)","v":""},{"$f":"IF('Growth - EFW'!D173=\"\",\"\",'Growth - EFW'!D173)","v":""},{"$f":"IF('Growth - EFW'!E173=\"\",\"\",'Growth - EFW'!E173)","v":""}]
[170,{"$f":"IF('Growth - EFW'!B174=\"\",\"\",'Growth - EFW'!B174 * 7)","v":""},{"$f":"IF('Growth - EFW'!C174=\"\",\"\",'Growth - EFW'!C174)","v":""},{"$f":"IF('Growth - EFW'!D174=\"\",\"\",'Growth - EFW'!D174)","v":""},{"$f":"IF('Growth - EFW'!E174=\"\",\"\",'Growth - EFW'!E174)","v":""}]
[171,{"$f":"IF('Growth - EFW'!B175=\"\",\"\",'Growth - EFW'!B175 * 7)","v":""},{"$f":"IF('Growth - EFW'!C175=\"\",\"\",'Growth - EFW'!C175)","v":""},{"$f":"IF('Growth - EFW'!D175=\"\",\"\",'Growth - EFW'!D175)","v":""},{"$f":"IF('Growth - EFW'!E175=\"\",\"\",'Growth - EFW'!E175)","v":""}]
[172,{"$f":"IF('Growth - EFW'!B176=\"\",\"\",'Growth - EFW'!B176 * 7)","v":""},{"$f":"IF('Growth - EFW'!C176=\"\",\"\",'Growth - EFW'!C176)","v":""},{"$f":"IF('Growth - EFW'!D176=\"\",\"\",'Growth - EFW'!D176)","v":""},{"$f":"IF('Growth - EFW'!E176=\"\",\"\",'Growth - EFW'!E176)","v":""}]
[173,{"$f":"IF('Growth - EFW'!B177=\"\",\"\",'Growth - EFW'!B177 * 7)","v":""},{"$f":"IF('Growth - EFW'!C177=\"\",\"\",'Growth - EFW'!C177)","v":""},{"$f":"IF('Growth - EFW'!D177=\"\",\"\",'Growth - EFW'!D177)","v":""},{"$f":"IF('Growth - EFW'!E177=\"\",\"\",'Growth - EFW'!E177)","v":""}]
[174,{"$f":"IF('Growth - EFW'!B178=\"\",\"\",'Growth - EFW'!B178 * 7)","v":""},{"$f":"IF('Growth - EFW'!C178=\"\",\"\",'Growth - EFW'!C178)","v":""},{"$f":"IF('Growth - EFW'!D178=\"\",\"\",'Growth - EFW'!D178)","v":""},{"$f":"IF('Growth - EFW'!E178=\"\",\"\",'Growth - EFW'!E178)","v":""}]
[175,{"$f":"IF('Growth - EFW'!B179=\"\",\"\",'Growth - EFW'!B179 * 7)","v":""},{"$f":"IF('Growth - EFW'!C179=\"\",\"\",'Growth - EFW'!C179)","v":""},{"$f":"IF('Growth - EFW'!D179=\"\",\"\",'Growth - EFW'!D179)","v":""},{"$f":"IF('Growth - EFW'!E179=\"\",\"\",'Growth - EFW'!E179)","v":""}]
[176,{"$f":"IF('Growth - EFW'!B180=\"\",\"\",'Growth - EFW'!B180 * 7)","v":""},{"$f":"IF('Growth - EFW'!C180=\"\",\"\",'Growth - EFW'!C180)","v":""},{"$f":"IF('Growth - EFW'!D180=\"\",\"\",'Growth - EFW'!D180)","v":""},{"$f":"IF('Growth - EFW'!E180=\"\",\"\",'Growth - EFW'!E180)","v":""}]
[177,{"$f":"IF('Growth - EFW'!B181=\"\",\"\",'Growth - EFW'!B181 * 7)","v":""},{"$f":"IF('Growth - EFW'!C181=\"\",\"\",'Growth - EFW'!C181)","v":""},{"$f":"IF('Growth - EFW'!D181=\"\",\"\",'Growth - EFW'!D181)","v":""},{"$f":"IF('Growth - EFW'!E181=\"\",\"\",'Growth - EFW'!E181)","v":""}]
[178,{"$f":"IF('Growth - EFW'!B182=\"\",\"\",'Growth - EFW'!B182 * 7)","v":""},{"$f":"IF('Growth - EFW'!C182=\"\",\"\",'Growth - EFW'!C182)","v":""},{"$f":"IF('Growth - EFW'!D182=\"\",\"\",'Growth - EFW'!D182)","v":""},{"$f":"IF('Growth - EFW'!E182=\"\",\"\",'Growth - EFW'!E182)","v":""}]
[179,{"$f":"IF('Growth - EFW'!B183=\"\",\"\",'Growth - EFW'!B183 * 7)","v":""},{"$f":"IF('Growth - EFW'!C183=\"\",\"\",'Growth - EFW'!C183)","v":""},{"$f":"IF('Growth - EFW'!D183=\"\",\"\",'Growth - EFW'!D183)","v":""},{"$f":"IF('Growth - EFW'!E183=\"\",\"\",'Growth - EFW'!E183)","v":""}]
[180,{"$f":"IF('Growth - EFW'!B184=\"\",\"\",'Growth - EFW'!B184 * 7)","v":""},{"$f":"IF('Growth - EFW'!C184=\"\",\"\",'Growth - EFW'!C184)","v":""},{"$f":"IF('Growth - EFW'!D184=\"\",\"\",'Growth - EFW'!D184)","v":""},{"$f":"IF('Growth - EFW'!E184=\"\",\"\",'Growth - EFW'!E184)","v":""}]
[181,{"$f":"IF('Growth - EFW'!B185=\"\",\"\",'Growth - EFW'!B185 * 7)","v":""},{"$f":"IF('Growth - EFW'!C185=\"\",\"\",'Growth - EFW'!C185)","v":""},{"$f":"IF('Growth - EFW'!D185=\"\",\"\",'Growth - EFW'!D185)","v":""},{"$f":"IF('Growth - EFW'!E185=\"\",\"\",'Growth - EFW'!E185)","v":""}]
[182,{"$f":"IF('Growth - EFW'!B186=\"\",\"\",'Growth - EFW'!B186 * 7)","v":""},{"$f":"IF('Growth - EFW'!C186=\"\",\"\",'Growth - EFW'!C186)","v":""},{"$f":"IF('Growth - EFW'!D186=\"\",\"\",'Growth - EFW'!D186)","v":""},{"$f":"IF('Growth - EFW'!E186=\"\",\"\",'Growth - EFW'!E186)","v":""}]
[183,{"$f":"IF('Growth - EFW'!B187=\"\",\"\",'Growth - EFW'!B187 * 7)","v":""},{"$f":"IF('Growth - EFW'!C187=\"\",\"\",'Growth - EFW'!C187)","v":""},{"$f":"IF('Growth - EFW'!D187=\"\",\"\",'Growth - EFW'!D187)","v":""},{"$f":"IF('Growth - EFW'!E187=\"\",\"\",'Growth - EFW'!E187)","v":""}]
[184,{"$f":"IF('Growth - EFW'!B188=\"\",\"\",'Growth - EFW'!B188 * 7)","v":""},{"$f":"IF('Growth - EFW'!C188=\"\",\"\",'Growth - EFW'!C188)","v":""},{"$f":"IF('Growth - EFW'!D188=\"\",\"\",'Growth - EFW'!D188)","v":""},{"$f":"IF('Growth - EFW'!E188=\"\",\"\",'Growth - EFW'!E188)","v":""}]
[185,{"$f":"IF('Growth - EFW'!B189=\"\",\"\",'Growth - EFW'!B189 * 7)","v":""},{"$f":"IF('Growth - EFW'!C189=\"\",\"\",'Growth - EFW'!C189)","v":""},{"$f":"IF('Growth - EFW'!D189=\"\",\"\",'Growth - EFW'!D189)","v":""},{"$f":"IF('Growth - EFW'!E189=\"\",\"\",'Growth - EFW'!E189)","v":""}]
[186,{"$f":"IF('Growth - EFW'!B190=\"\",\"\",'Growth - EFW'!B190 * 7)","v":""},{"$f":"IF('Growth - EFW'!C190=\"\",\"\",'Growth - EFW'!C190)","v":""},{"$f":"IF('Growth - EFW'!D190=\"\",\"\",'Growth - EFW'!D190)","v":""},{"$f":"IF('Growth - EFW'!E190=\"\",\"\",'Growth - EFW'!E190)","v":""}]
[187,{"$f":"IF('Growth - EFW'!B191=\"\",\"\",'Growth - EFW'!B191 * 7)","v":""},{"$f":"IF('Growth - EFW'!C191=\"\",\"\",'Growth - EFW'!C191)","v":""},{"$f":"IF('Growth - EFW'!D191=\"\",\"\",'Growth - EFW'!D191)","v":""},{"$f":"IF('Growth - EFW'!E191=\"\",\"\",'Growth - EFW'!E191)","v":""}]
[188,{"$f":"IF('Growth - EFW'!B192=\"\",\"\",'Growth - EFW'!B192 * 7)","v":""},{"$f":"IF('Growth - EFW'!C192=\"\",\"\",'Growth - EFW'!C192)","v":""},{"$f":"IF('Growth - EFW'!D192=\"\",\"\",'Growth - EFW'!D192)","v":""},{"$f":"IF('Growth - EFW'!E192=\"\",\"\",'Growth - EFW'!E192)","v":""}]
[189,{"$f":"IF('Growth - EFW'!B193=\"\",\"\",'Growth - EFW'!B193 * 7)","v":""},{"$f":"IF('Growth - EFW'!C193=\"\",\"\",'Growth - EFW'!C193)","v":""},{"$f":"IF('Growth - EFW'!D193=\"\",\"\",'Growth - EFW'!D193)","v":""},{"$f":"IF('Growth - EFW'!E193=\"\",\"\",'Growth - EFW'!E193)","v":""}]
[190,{"$f":"IF('Growth - EFW'!B194=\"\",\"\",'Growth - EFW'!B194 * 7)","v":""},{"$f":"IF('Growth - EFW'!C194=\"\",\"\",'Growth - EFW'!C194)","v":""},{"$f":"IF('Growth - EFW'!D194=\"\",\"\",'Growth - EFW'!D194)","v":""},{"$f":"IF('Growth - EFW'!E194=\"\",\"\",'Growth - EFW'!E194)","v":""}]
[191,{"$f":"IF('Growth - EFW'!B195=\"\",\"\",'Growth - EFW'!B195 * 7)","v":""},{"$f":"IF('Growth - EFW'!C195=\"\",\"\",'Growth - EFW'!C195)","v":""},{"$f":"IF('Growth - EFW'!D195=\"\",\"\",'Growth - EFW'!D195)","v":""},{"$f":"IF('Growth - EFW'!E195=\"\",\"\",'Growth - EFW'!E195)","v":""}]
[192,{"$f":"IF('Growth - EFW'!B196=\"\",\"\",'Growth - EFW'!B196 * 7)","v":""},{"$f":"IF('Growth - EFW'!C196=\"\",\"\",'Growth - EFW'!C196)","v":""},{"$f":"IF('Growth - EFW'!D196=\"\",\"\",'Growth - EFW'!D196)","v":""},{"$f":"IF('Growth - EFW'!E196=\"\",\"\",'Growth - EFW'!E196)","v":""}]
[193,{"$f":"IF('Growth - EFW'!B197=\"\",\"\",'Growth - EFW'!B197 * 7)","v":""},{"$f":"IF('Growth - EFW'!C197=\"\",\"\",'Growth - EFW'!C197)","v":""},{"$f":"IF('Growth - EFW'!D197=\"\",\"\",'Growth - EFW'!D197)","v":""},{"$f":"IF('Growth - EFW'!E197=\"\",\"\",'Growth - EFW'!E197)","v":""}]
[194,{"$f":"IF('Growth - EFW'!B198=\"\",\"\",'Growth - EFW'!B198 * 7)","v":""},{"$f":"IF('Growth - EFW'!C198=\"\",\"\",'Growth - EFW'!C198)","v":""},{"$f":"IF('Growth - EFW'!D198=\"\",\"\",'Growth - EFW'!D198)","v":""},{"$f":"IF('Growth - EFW'!E198=\"\",\"\",'Growth - EFW'!E198)","v":""}]
[195,{"$f":"IF('Growth - EFW'!B199=\"\",\"\",'Growth - EFW'!B199 * 7)","v":""},{"$f":"IF('Growth - EFW'!C199=\"\",\"\",'Growth - EFW'!C199)","v":""},{"$f":"IF('Growth - EFW'!D199=\"\",\"\",'Growth - EFW'!D199)","v":""},{"$f":"IF('Growth - EFW'!E199=\"\",\"\",'Growth - EFW'!E199)","v":""}]
[196,{"$f":"IF('Growth - EFW'!B200=\"\",\"\",'Growth - EFW'!B200 * 7)","v":""},{"$f":"IF('Growth - EFW'!C200=\"\",\"\",'Growth - EFW'!C200)","v":""},{"$f":"IF('Growth - EFW'!D200=\"\",\"\",'Growth - EFW'!D200)","v":""},{"$f":"IF('Growth - EFW'!E200=\"\",\"\",'Growth - EFW'!E200)","v":""}]
[197,{"$f":"IF('Growth - EFW'!B201=\"\",\"\",'Growth - EFW'!B201 * 7)","v":""},{"$f":"IF('Growth - EFW'!C201=\"\",\"\",'Growth - EFW'!C201)","v":""},{"$f":"IF('Growth - EFW'!D201=\"\",\"\",'Growth - EFW'!D201)","v":""},{"$f":"IF('Growth - EFW'!E201=\"\",\"\",'Growth - EFW'!E201)","v":""}]
[198,{"$f":"IF('Growth - EFW'!B202=\"\",\"\",'Growth - EFW'!B202 * 7)","v":""},{"$f":"IF('Growth - EFW'!C202=\"\",\"\",'Growth - EFW'!C202)","v":""},{"$f":"IF('Growth - EFW'!D202=\"\",\"\",'Growth - EFW'!D202)","v":""},{"$f":"IF('Growth - EFW'!E202=\"\",\"\",'Growth - EFW'!E202)","v":""}]
[199,{"$f":"IF('Growth - EFW'!B203=\"\",\"\",'Growth - EFW'!B203 * 7)","v":""},{"$f":"IF('Growth - EFW'!C203=\"\",\"\",'Growth - EFW'!C203)","v":""},{"$f":"IF('Growth - EFW'!D203=\"\",\"\",'Growth - EFW'!D203)","v":""},{"$f":"IF('Growth - EFW'!E203=\"\",\"\",'Growth - EFW'!E203)","v":""}]
[200,{"$f":"IF('Growth - EFW'!B204=\"\",\"\",'Growth - EFW'!B204 * 7)","v":""},{"$f":"IF('Growth - EFW'!C204=\"\",\"\",'Growth - EFW'!C204)","v":""},{"$f":"IF('Growth - EFW'!D204=\"\",\"\",'Growth - EFW'!D204)","v":""},{"$f":"IF('Growth - EFW'!E204=\"\",\"\",'Growth - EFW'!E204)","v":""}]
[201,{"$f":"IF('Growth - EFW'!B205=\"\",\"\",'Growth - EFW'!B205 * 7)","v":""},{"$f":"IF('Growth - EFW'!C205=\"\",\"\",'Growth - EFW'!C205)","v":""},{"$f":"IF('Growth - EFW'!D205=\"\",\"\",'Growth - EFW'!D205)","v":""},{"$f":"IF('Growth - EFW'!E205=\"\",\"\",'Growth - EFW'!E205)","v":""}]
[202,{"$f":"IF('Growth - EFW'!B206=\"\",\"\",'Growth - EFW'!B206 * 7)","v":""},{"$f":"IF('Growth - EFW'!C206=\"\",\"\",'Growth - EFW'!C206)","v":""},{"$f":"IF('Growth - EFW'!D206=\"\",\"\",'Growth - EFW'!D206)","v":""},{"$f":"IF('Growth - EFW'!E206=\"\",\"\",'Growth - EFW'!E206)","v":""}]
[203,{"$f":"IF('Growth - EFW'!B207=\"\",\"\",'Growth - EFW'!B207 * 7)","v":""},{"$f":"IF('Growth - EFW'!C207=\"\",\"\",'Growth - EFW'!C207)","v":""},{"$f":"IF('Growth - EFW'!D207=\"\",\"\",'Growth - EFW'!D207)","v":""},{"$f":"IF('Growth - EFW'!E207=\"\",\"\",'Growth - EFW'!E207)","v":""}]
[204,{"$f":"IF('Growth - EFW'!B208=\"\",\"\",'Growth - EFW'!B208 * 7)","v":""},{"$f":"IF('Growth - EFW'!C208=\"\",\"\",'Growth - EFW'!C208)","v":""},{"$f":"IF('Growth - EFW'!D208=\"\",\"\",'Growth - EFW'!D208)","v":""},{"$f":"IF('Growth - EFW'!E208=\"\",\"\",'Growth - EFW'!E208)","v":""}]
[205,{"$f":"IF('Growth - EFW'!B209=\"\",\"\",'Growth - EFW'!B209 * 7)","v":""},{"$f":"IF('Growth - EFW'!C209=\"\",\"\",'Growth - EFW'!C209)","v":""},{"$f":"IF('Growth - EFW'!D209=\"\",\"\",'Growth - EFW'!D209)","v":""},{"$f":"IF('Growth - EFW'!E209=\"\",\"\",'Growth - EFW'!E209)","v":""}]
[206,{"$f":"IF('Growth - EFW'!B210=\"\",\"\",'Growth - EFW'!B210 * 7)","v":""},{"$f":"IF('Growth - EFW'!C210=\"\",\"\",'Growth - EFW'!C210)","v":""},{"$f":"IF('Growth - EFW'!D210=\"\",\"\",'Growth - EFW'!D210)","v":""},{"$f":"IF('Growth - EFW'!E210=\"\",\"\",'Growth - EFW'!E210)","v":""}]
[207,{"$f":"IF('Growth - EFW'!B211=\"\",\"\",'Growth - EFW'!B211 * 7)","v":""},{"$f":"IF('Growth - EFW'!C211=\"\",\"\",'Growth - EFW'!C211)","v":""},{"$f":"IF('Growth - EFW'!D211=\"\",\"\",'Growth - EFW'!D211)","v":""},{"$f":"IF('Growth - EFW'!E211=\"\",\"\",'Growth - EFW'!E211)","v":""}]
[208,{"$f":"IF('Growth - EFW'!B212=\"\",\"\",'Growth - EFW'!B212 * 7)","v":""},{"$f":"IF('Growth - EFW'!C212=\"\",\"\",'Growth - EFW'!C212)","v":""},{"$f":"IF('Growth - EFW'!D212=\"\",\"\",'Growth - EFW'!D212)","v":""},{"$f":"IF('Growth - EFW'!E212=\"\",\"\",'Growth - EFW'!E212)","v":""}]
[209,{"$f":"IF('Growth - EFW'!B213=\"\",\"\",'Growth - EFW'!B213 * 7)","v":""},{"$f":"IF('Growth - EFW'!C213=\"\",\"\",'Growth - EFW'!C213)","v":""},{"$f":"IF('Growth - EFW'!D213=\"\",\"\",'Growth - EFW'!D213)","v":""},{"$f":"IF('Growth - EFW'!E213=\"\",\"\",'Growth - EFW'!E213)","v":""}]
[210,{"$f":"IF('Growth - EFW'!B214=\"\",\"\",'Growth - EFW'!B214 * 7)","v":""},{"$f":"IF('Growth - EFW'!C214=\"\",\"\",'Growth - EFW'!C214)","v":""},{"$f":"IF('Growth - EFW'!D214=\"\",\"\",'Growth - EFW'!D214)","v":""},{"$f":"IF('Growth - EFW'!E214=\"\",\"\",'Growth - EFW'!E214)","v":""}]
[]
["User Growth Table: Ratio of Head to Abdominal Circumference",null,null,null,{"$f":"IF('Growth - HC-AC'!E1=\"\",\"\",'Growth - HC-AC'!E1)","v":"Growth HC/AC"}]
[null,null,null,null,{"$f":"ValidationData!DataVersion","v":"70.80.100.100"}]
["Index","Weeks * 7","Author",null,{"$f":"IF('Growth - HC-AC'!H3=\"\",\"\",'Growth - HC-AC'!H3)","v":""}]
[null,null,"Min","Mid","Max"]
[1,{"$f":"IF('Growth - HC-AC'!B5=\"\",\"\",'Growth - HC-AC'!B5 * 7)","v":""},{"$f":"IF('Growth - HC-AC'!C5=\"\",\"\",'Growth - HC-AC'!C5)","v":""},{"$f":"IF('Growth - HC-AC'!D5=\"\",\"\",'Growth - HC-AC'!D5)","v":""},{"$f":"IF('Growth - HC-AC'!E5=\"\",\"\",'Growth - HC-AC'!E5)","v":""}]
[2,{"$f":"IF('Growth - HC-AC'!B6=\"\",\"\",'Growth - HC-AC'!B6 * 7)","v":""},{"$f":"IF('Growth - HC-AC'!C6=\"\",\"\",'Growth - HC-AC'!C6)","v":""},{"$f":"IF('Growth - HC-AC'!D6=\"\",\"\",'Growth - HC-AC'!D6)","v":""},{"$f":"IF('Growth - HC-AC'!E6=\"\",\"\",'Growth - HC-AC'!E6)","v":""}]
[3,{"$f":"IF('Growth - HC-AC'!B7=\"\",\"\",'Growth - HC-AC'!B7 * 7)","v":""},{"$f":"IF('Growth - HC-AC'!C7=\"\",\"\",'Growth - HC-AC'!C7)","v":""},{"$f":"IF('Growth - HC-AC'!D7=\"\",\"\",'Growth - HC-AC'!D7)","v":""},{"$f":"IF('Growth - HC-AC'!E7=\"\",\"\",'Growth - HC-AC'!E7)","v":""}]
[4,{"$f":"IF('Growth - HC-AC'!B8=\"\",\"\",'Growth - HC-AC'!B8 * 7)","v":""},{"$f":"IF('Growth - HC-AC'!C8=\"\",\"\",'Growth - HC-AC'!C8)","v":""},{"$f":"IF('Growth - HC-AC'!D8=\"\",\"\",'Growth - HC-AC'!D8)","v":""},{"$f":"IF('Growth - HC-AC'!E8=\"\",\"\",'Growth - HC-AC'!E8)","v":""}]
[5,{"$f":"IF('Growth - HC-AC'!B9=\"\",\"\",'Growth - HC-AC'!B9 * 7)","v":""},{"$f":"IF('Growth - HC-AC'!C9=\"\",\"\",'Growth - HC-AC'!C9)","v":""},{"$f":"IF('Growth - HC-AC'!D9=\"\",\"\",'Growth - HC-AC'!D9)","v":""},{"$f":"IF('Growth - HC-AC'!E9=\"\",\"\",'Growth - HC-AC'!E9)","v":""}]
[6,{"$f":"IF('Growth - HC-AC'!B10=\"\",\"\",'Growth - HC-AC'!B10 * 7)","v":""},{"$f":"IF('Growth - HC-AC'!C10=\"\",\"\",'Growth - HC-AC'!C10)","v":""},{"$f":"IF('Growth - HC-AC'!D10=\"\",\"\",'Growth - HC-AC'!D10)","v":""},{"$f":"IF('Growth - HC-AC'!E10=\"\",\"\",'Growth - HC-AC'!E10)","v":""}]
[7,{"$f":"IF('Growth - HC-AC'!B11=\"\",\"\",'Growth - HC-AC'!B11 * 7)","v":""},{"$f":"IF('Growth - HC-AC'!C11=\"\",\"\",'Growth - HC-AC'!C11)","v":""},{"$f":"IF('Growth - HC-AC'!D11=\"\",\"\",'Growth - HC-AC'!D11)","v":""},{"$f":"IF('Growth - HC-AC'!E11=\"\",\"\",'Growth - HC-AC'!E11)","v":""}]
[8,{"$f":"IF('Growth - HC-AC'!B12=\"\",\"\",'Growth - HC-AC'!B12 * 7)","v":""},{"$f":"IF('Growth - HC-AC'!C12=\"\",\"\",'Growth - HC-AC'!C12)","v":""},{"$f":"IF('Growth - HC-AC'!D12=\"\",\"\",'Growth - HC-AC'!D12)","v":""},{"$f":"IF('Growth - HC-AC'!E12=\"\",\"\",'Growth - HC-AC'!E12)","v":""}]
[9,{"$f":"IF('Growth - HC-AC'!B13=\"\",\"\",'Growth - HC-AC'!B13 * 7)","v":""},{"$f":"IF('Growth - HC-AC'!C13=\"\",\"\",'Growth - HC-AC'!C13)","v":""},{"$f":"IF('Growth - HC-AC'!D13=\"\",\"\",'Growth - HC-AC'!D13)","v":""},{"$f":"IF('Growth - HC-AC'!E13=\"\",\"\",'Growth - HC-AC'!E13)","v":""}]
[10,{"$f":"IF('Growth - HC-AC'!B14=\"\",\"\",'Growth - HC-AC'!B14 * 7)","v":""},{"$f":"IF('Growth - HC-AC'!C14=\"\",\"\",'Growth - HC-AC'!C14)","v":""},{"$f":"IF('Growth - HC-AC'!D14=\"\",\"\",'Growth - HC-AC'!D14)","v":""},{"$f":"IF('Growth - HC-AC'!E14=\"\",\"\",'Growth - HC-AC'!E14)","v":""}]
[11,{"$f":"IF('Growth - HC-AC'!B15=\"\",\"\",'Growth - HC-AC'!B15 * 7)","v":""},{"$f":"IF('Growth - HC-AC'!C15=\"\",\"\",'Growth - HC-AC'!C15)","v":""},{"$f":"IF('Growth - HC-AC'!D15=\"\",\"\",'Growth - HC-AC'!D15)","v":""},{"$f":"IF('Growth - HC-AC'!E15=\"\",\"\",'Growth - HC-AC'!E15)","v":""}]
[12,{"$f":"IF('Growth - HC-AC'!B16=\"\",\"\",'Growth - HC-AC'!B16 * 7)","v":""},{"$f":"IF('Growth - HC-AC'!C16=\"\",\"\",'Growth - HC-AC'!C16)","v":""},{"$f":"IF('Growth - HC-AC'!D16=\"\",\"\",'Growth - HC-AC'!D16)","v":""},{"$f":"IF('Growth - HC-AC'!E16=\"\",\"\",'Growth - HC-AC'!E16)","v":""}]
[13,{"$f":"IF('Growth - HC-AC'!B17=\"\",\"\",'Growth - HC-AC'!B17 * 7)","v":""},{"$f":"IF('Growth - HC-AC'!C17=\"\",\"\",'Growth - HC-AC'!C17)","v":""},{"$f":"IF('Growth - HC-AC'!D17=\"\",\"\",'Growth - HC-AC'!D17)","v":""},{"$f":"IF('Growth - HC-AC'!E17=\"\",\"\",'Growth - HC-AC'!E17)","v":""}]
[14,{"$f":"IF('Growth - HC-AC'!B18=\"\",\"\",'Growth - HC-AC'!B18 * 7)","v":""},{"$f":"IF('Growth - HC-AC'!C18=\"\",\"\",'Growth - HC-AC'!C18)","v":""},{"$f":"IF('Growth - HC-AC'!D18=\"\",\"\",'Growth - HC-AC'!D18)","v":""},{"$f":"IF('Growth - HC-AC'!E18=\"\",\"\",'Growth - HC-AC'!E18)","v":""}]
[15,{"$f":"IF('Growth - HC-AC'!B19=\"\",\"\",'Growth - HC-AC'!B19 * 7)","v":""},{"$f":"IF('Growth - HC-AC'!C19=\"\",\"\",'Growth - HC-AC'!C19)","v":""},{"$f":"IF('Growth - HC-AC'!D19=\"\",\"\",'Growth - HC-AC'!D19)","v":""},{"$f":"IF('Growth - HC-AC'!E19=\"\",\"\",'Growth - HC-AC'!E19)","v":""}]
[16,{"$f":"IF('Growth - HC-AC'!B20=\"\",\"\",'Growth - HC-AC'!B20 * 7)","v":""},{"$f":"IF('Growth - HC-AC'!C20=\"\",\"\",'Growth - HC-AC'!C20)","v":""},{"$f":"IF('Growth - HC-AC'!D20=\"\",\"\",'Growth - HC-AC'!D20)","v":""},{"$f":"IF('Growth - HC-AC'!E20=\"\",\"\",'Growth - HC-AC'!E20)","v":""}]
[17,{"$f":"IF('Growth - HC-AC'!B21=\"\",\"\",'Growth - HC-AC'!B21 * 7)","v":""},{"$f":"IF('Growth - HC-AC'!C21=\"\",\"\",'Growth - HC-AC'!C21)","v":""},{"$f":"IF('Growth - HC-AC'!D21=\"\",\"\",'Growth - HC-AC'!D21)","v":""},{"$f":"IF('Growth - HC-AC'!E21=\"\",\"\",'Growth - HC-AC'!E21)","v":""}]
[18,{"$f":"IF('Growth - HC-AC'!B22=\"\",\"\",'Growth - HC-AC'!B22 * 7)","v":""},{"$f":"IF('Growth - HC-AC'!C22=\"\",\"\",'Growth - HC-AC'!C22)","v":""},{"$f":"IF('Growth - HC-AC'!D22=\"\",\"\",'Growth - HC-AC'!D22)","v":""},{"$f":"IF('Growth - HC-AC'!E22=\"\",\"\",'Growth - HC-AC'!E22)","v":""}]
[19,{"$f":"IF('Growth - HC-AC'!B23=\"\",\"\",'Growth - HC-AC'!B23 * 7)","v":""},{"$f":"IF('Growth - HC-AC'!C23=\"\",\"\",'Growth - HC-AC'!C23)","v":""},{"$f":"IF('Growth - HC-AC'!D23=\"\",\"\",'Growth - HC-AC'!D23)","v":""},{"$f":"IF('Growth - HC-AC'!E23=\"\",\"\",'Growth - HC-AC'!E23)","v":""}]
[20,{"$f":"IF('Growth - HC-AC'!B24=\"\",\"\",'Growth - HC-AC'!B24 * 7)","v":""},{"$f":"IF('Growth - HC-AC'!C24=\"\",\"\",'Growth - HC-AC'!C24)","v":""},{"$f":"IF('Growth - HC-AC'!D24=\"\",\"\",'Growth - HC-AC'!D24)","v":""},{"$f":"IF('Growth - HC-AC'!E24=\"\",\"\",'Growth - HC-AC'!E24)","v":""}]
[21,{"$f":"IF('Growth - HC-AC'!B25=\"\",\"\",'Growth - HC-AC'!B25 * 7)","v":""},{"$f":"IF('Growth - HC-AC'!C25=\"\",\"\",'Growth - HC-AC'!C25)","v":""},{"$f":"IF('Growth - HC-AC'!D25=\"\",\"\",'Growth - HC-AC'!D25)","v":""},{"$f":"IF('Growth - HC-AC'!E25=\"\",\"\",'Growth - HC-AC'!E25)","v":""}]
[22,{"$f":"IF('Growth - HC-AC'!B26=\"\",\"\",'Growth - HC-AC'!B26 * 7)","v":""},{"$f":"IF('Growth - HC-AC'!C26=\"\",\"\",'Growth - HC-AC'!C26)","v":""},{"$f":"IF('Growth - HC-AC'!D26=\"\",\"\",'Growth - HC-AC'!D26)","v":""},{"$f":"IF('Growth - HC-AC'!E26=\"\",\"\",'Growth - HC-AC'!E26)","v":""}]
[23,{"$f":"IF('Growth - HC-AC'!B27=\"\",\"\",'Growth - HC-AC'!B27 * 7)","v":""},{"$f":"IF('Growth - HC-AC'!C27=\"\",\"\",'Growth - HC-AC'!C27)","v":""},{"$f":"IF('Growth - HC-AC'!D27=\"\",\"\",'Growth - HC-AC'!D27)","v":""},{"$f":"IF('Growth - HC-AC'!E27=\"\",\"\",'Growth - HC-AC'!E27)","v":""}]
[24,{"$f":"IF('Growth - HC-AC'!B28=\"\",\"\",'Growth - HC-AC'!B28 * 7)","v":""},{"$f":"IF('Growth - HC-AC'!C28=\"\",\"\",'Growth - HC-AC'!C28)","v":""},{"$f":"IF('Growth - HC-AC'!D28=\"\",\"\",'Growth - HC-AC'!D28)","v":""},{"$f":"IF('Growth - HC-AC'!E28=\"\",\"\",'Growth - HC-AC'!E28)","v":""}]
[25,{"$f":"IF('Growth - HC-AC'!B29=\"\",\"\",'Growth - HC-AC'!B29 * 7)","v":""},{"$f":"IF('Growth - HC-AC'!C29=\"\",\"\",'Growth - HC-AC'!C29)","v":""},{"$f":"IF('Growth - HC-AC'!D29=\"\",\"\",'Growth - HC-AC'!D29)","v":""},{"$f":"IF('Growth - HC-AC'!E29=\"\",\"\",'Growth - HC-AC'!E29)","v":""}]
[26,{"$f":"IF('Growth - HC-AC'!B30=\"\",\"\",'Growth - HC-AC'!B30 * 7)","v":""},{"$f":"IF('Growth - HC-AC'!C30=\"\",\"\",'Growth - HC-AC'!C30)","v":""},{"$f":"IF('Growth - HC-AC'!D30=\"\",\"\",'Growth - HC-AC'!D30)","v":""},{"$f":"IF('Growth - HC-AC'!E30=\"\",\"\",'Growth - HC-AC'!E30)","v":""}]
[27,{"$f":"IF('Growth - HC-AC'!B31=\"\",\"\",'Growth - HC-AC'!B31 * 7)","v":""},{"$f":"IF('Growth - HC-AC'!C31=\"\",\"\",'Growth - HC-AC'!C31)","v":""},{"$f":"IF('Growth - HC-AC'!D31=\"\",\"\",'Growth - HC-AC'!D31)","v":""},{"$f":"IF('Growth - HC-AC'!E31=\"\",\"\",'Growth - HC-AC'!E31)","v":""}]
[28,{"$f":"IF('Growth - HC-AC'!B32=\"\",\"\",'Growth - HC-AC'!B32 * 7)","v":""},{"$f":"IF('Growth - HC-AC'!C32=\"\",\"\",'Growth - HC-AC'!C32)","v":""},{"$f":"IF('Growth - HC-AC'!D32=\"\",\"\",'Growth - HC-AC'!D32)","v":""},{"$f":"IF('Growth - HC-AC'!E32=\"\",\"\",'Growth - HC-AC'!E32)","v":""}]
[29,{"$f":"IF('Growth - HC-AC'!B33=\"\",\"\",'Growth - HC-AC'!B33 * 7)","v":""},{"$f":"IF('Growth - HC-AC'!C33=\"\",\"\",'Growth - HC-AC'!C33)","v":""},{"$f":"IF('Growth - HC-AC'!D33=\"\",\"\",'Growth - HC-AC'!D33)","v":""},{"$f":"IF('Growth - HC-AC'!E33=\"\",\"\",'Growth - HC-AC'!E33)","v":""}]
[30,{"$f":"IF('Growth - HC-AC'!B34=\"\",\"\",'Growth - HC-AC'!B34 * 7)","v":""},{"$f":"IF('Growth - HC-AC'!C34=\"\",\"\",'Growth - HC-AC'!C34)","v":""},{"$f":"IF('Growth - HC-AC'!D34=\"\",\"\",'Growth - HC-AC'!D34)","v":""},{"$f":"IF('Growth - HC-AC'!E34=\"\",\"\",'Growth - HC-AC'!E34)","v":""}]
[31,{"$f":"IF('Growth - HC-AC'!B35=\"\",\"\",'Growth - HC-AC'!B35 * 7)","v":""},{"$f":"IF('Growth - HC-AC'!C35=\"\",\"\",'Growth - HC-AC'!C35)","v":""},{"$f":"IF('Growth - HC-AC'!D35=\"\",\"\",'Growth - HC-AC'!D35)","v":""},{"$f":"IF('Growth - HC-AC'!E35=\"\",\"\",'Growth - HC-AC'!E35)","v":""}]
[32,{"$f":"IF('Growth - HC-AC'!B36=\"\",\"\",'Growth - HC-AC'!B36 * 7)","v":""},{"$f":"IF('Growth - HC-AC'!C36=\"\",\"\",'Growth - HC-AC'!C36)","v":""},{"$f":"IF('Growth - HC-AC'!D36=\"\",\"\",'Growth - HC-AC'!D36)","v":""},{"$f":"IF('Growth - HC-AC'!E36=\"\",\"\",'Growth - HC-AC'!E36)","v":""}]
[33,{"$f":"IF('Growth - HC-AC'!B37=\"\",\"\",'Growth - HC-AC'!B37 * 7)","v":""},{"$f":"IF('Growth - HC-AC'!C37=\"\",\"\",'Growth - HC-AC'!C37)","v":""},{"$f":"IF('Growth - HC-AC'!D37=\"\",\"\",'Growth - HC-AC'!D37)","v":""},{"$f":"IF('Growth - HC-AC'!E37=\"\",\"\",'Growth - HC-AC'!E37)","v":""}]
[34,{"$f":"IF('Growth - HC-AC'!B38=\"\",\"\",'Growth - HC-AC'!B38 * 7)","v":""},{"$f":"IF('Growth - HC-AC'!C38=\"\",\"\",'Growth - HC-AC'!C38)","v":""},{"$f":"IF('Growth - HC-AC'!D38=\"\",\"\",'Growth - HC-AC'!D38)","v":""},{"$f":"IF('Growth - HC-AC'!E38=\"\",\"\",'Growth - HC-AC'!E38)","v":""}]
[35,{"$f":"IF('Growth - HC-AC'!B39=\"\",\"\",'Growth - HC-AC'!B39 * 7)","v":""},{"$f":"IF('Growth - HC-AC'!C39=\"\",\"\",'Growth - HC-AC'!C39)","v":""},{"$f":"IF('Growth - HC-AC'!D39=\"\",\"\",'Growth - HC-AC'!D39)","v":""},{"$f":"IF('Growth - HC-AC'!E39=\"\",\"\",'Growth - HC-AC'!E39)","v":""}]
[36,{"$f":"IF('Growth - HC-AC'!B40=\"\",\"\",'Growth - HC-AC'!B40 * 7)","v":""},{"$f":"IF('Growth - HC-AC'!C40=\"\",\"\",'Growth - HC-AC'!C40)","v":""},{"$f":"IF('Growth - HC-AC'!D40=\"\",\"\",'Growth - HC-AC'!D40)","v":""},{"$f":"IF('Growth - HC-AC'!E40=\"\",\"\",'Growth - HC-AC'!E40)","v":""}]
[37,{"$f":"IF('Growth - HC-AC'!B41=\"\",\"\",'Growth - HC-AC'!B41 * 7)","v":""},{"$f":"IF('Growth - HC-AC'!C41=\"\",\"\",'Growth - HC-AC'!C41)","v":""},{"$f":"IF('Growth - HC-AC'!D41=\"\",\"\",'Growth - HC-AC'!D41)","v":""},{"$f":"IF('Growth - HC-AC'!E41=\"\",\"\",'Growth - HC-AC'!E41)","v":""}]
[38,{"$f":"IF('Growth - HC-AC'!B42=\"\",\"\",'Growth - HC-AC'!B42 * 7)","v":""},{"$f":"IF('Growth - HC-AC'!C42=\"\",\"\",'Growth - HC-AC'!C42)","v":""},{"$f":"IF('Growth - HC-AC'!D42=\"\",\"\",'Growth - HC-AC'!D42)","v":""},{"$f":"IF('Growth - HC-AC'!E42=\"\",\"\",'Growth - HC-AC'!E42)","v":""}]
[39,{"$f":"IF('Growth - HC-AC'!B43=\"\",\"\",'Growth - HC-AC'!B43 * 7)","v":""},{"$f":"IF('Growth - HC-AC'!C43=\"\",\"\",'Growth - HC-AC'!C43)","v":""},{"$f":"IF('Growth - HC-AC'!D43=\"\",\"\",'Growth - HC-AC'!D43)","v":""},{"$f":"IF('Growth - HC-AC'!E43=\"\",\"\",'Growth - HC-AC'!E43)","v":""}]
[40,{"$f":"IF('Growth - HC-AC'!B44=\"\",\"\",'Growth - HC-AC'!B44 * 7)","v":""},{"$f":"IF('Growth - HC-AC'!C44=\"\",\"\",'Growth - HC-AC'!C44)","v":""},{"$f":"IF('Growth - HC-AC'!D44=\"\",\"\",'Growth - HC-AC'!D44)","v":""},{"$f":"IF('Growth - HC-AC'!E44=\"\",\"\",'Growth - HC-AC'!E44)","v":""}]
[41,{"$f":"IF('Growth - HC-AC'!B45=\"\",\"\",'Growth - HC-AC'!B45 * 7)","v":""},{"$f":"IF('Growth - HC-AC'!C45=\"\",\"\",'Growth - HC-AC'!C45)","v":""},{"$f":"IF('Growth - HC-AC'!D45=\"\",\"\",'Growth - HC-AC'!D45)","v":""},{"$f":"IF('Growth - HC-AC'!E45=\"\",\"\",'Growth - HC-AC'!E45)","v":""}]
[42,{"$f":"IF('Growth - HC-AC'!B46=\"\",\"\",'Growth - HC-AC'!B46 * 7)","v":""},{"$f":"IF('Growth - HC-AC'!C46=\"\",\"\",'Growth - HC-AC'!C46)","v":""},{"$f":"IF('Growth - HC-AC'!D46=\"\",\"\",'Growth - HC-AC'!D46)","v":""},{"$f":"IF('Growth - HC-AC'!E46=\"\",\"\",'Growth - HC-AC'!E46)","v":""}]
[43,{"$f":"IF('Growth - HC-AC'!B47=\"\",\"\",'Growth - HC-AC'!B47 * 7)","v":""},{"$f":"IF('Growth - HC-AC'!C47=\"\",\"\",'Growth - HC-AC'!C47)","v":""},{"$f":"IF('Growth - HC-AC'!D47=\"\",\"\",'Growth - HC-AC'!D47)","v":""},{"$f":"IF('Growth - HC-AC'!E47=\"\",\"\",'Growth - HC-AC'!E47)","v":""}]
[44,{"$f":"IF('Growth - HC-AC'!B48=\"\",\"\",'Growth - HC-AC'!B48 * 7)","v":""},{"$f":"IF('Growth - HC-AC'!C48=\"\",\"\",'Growth - HC-AC'!C48)","v":""},{"$f":"IF('Growth - HC-AC'!D48=\"\",\"\",'Growth - HC-AC'!D48)","v":""},{"$f":"IF('Growth - HC-AC'!E48=\"\",\"\",'Growth - HC-AC'!E48)","v":""}]
[45,{"$f":"IF('Growth - HC-AC'!B49=\"\",\"\",'Growth - HC-AC'!B49 * 7)","v":""},{"$f":"IF('Growth - HC-AC'!C49=\"\",\"\",'Growth - HC-AC'!C49)","v":""},{"$f":"IF('Growth - HC-AC'!D49=\"\",\"\",'Growth - HC-AC'!D49)","v":""},{"$f":"IF('Growth - HC-AC'!E49=\"\",\"\",'Growth - HC-AC'!E49)","v":""}]
[46,{"$f":"IF('Growth - HC-AC'!B50=\"\",\"\",'Growth - HC-AC'!B50 * 7)","v":""},{"$f":"IF('Growth - HC-AC'!C50=\"\",\"\",'Growth - HC-AC'!C50)","v":""},{"$f":"IF('Growth - HC-AC'!D50=\"\",\"\",'Growth - HC-AC'!D50)","v":""},{"$f":"IF('Growth - HC-AC'!E50=\"\",\"\",'Growth - HC-AC'!E50)","v":""}]
[47,{"$f":"IF('Growth - HC-AC'!B51=\"\",\"\",'Growth - HC-AC'!B51 * 7)","v":""},{"$f":"IF('Growth - HC-AC'!C51=\"\",\"\",'Growth - HC-AC'!C51)","v":""},{"$f":"IF('Growth - HC-AC'!D51=\"\",\"\",'Growth - HC-AC'!D51)","v":""},{"$f":"IF('Growth - HC-AC'!E51=\"\",\"\",'Growth - HC-AC'!E51)","v":""}]
[48,{"$f":"IF('Growth - HC-AC'!B52=\"\",\"\",'Growth - HC-AC'!B52 * 7)","v":""},{"$f":"IF('Growth - HC-AC'!C52=\"\",\"\",'Growth - HC-AC'!C52)","v":""},{"$f":"IF('Growth - HC-AC'!D52=\"\",\"\",'Growth - HC-AC'!D52)","v":""},{"$f":"IF('Growth - HC-AC'!E52=\"\",\"\",'Growth - HC-AC'!E52)","v":""}]
[49,{"$f":"IF('Growth - HC-AC'!B53=\"\",\"\",'Growth - HC-AC'!B53 * 7)","v":""},{"$f":"IF('Growth - HC-AC'!C53=\"\",\"\",'Growth - HC-AC'!C53)","v":""},{"$f":"IF('Growth - HC-AC'!D53=\"\",\"\",'Growth - HC-AC'!D53)","v":""},{"$f":"IF('Growth - HC-AC'!E53=\"\",\"\",'Growth - HC-AC'!E53)","v":""}]
[50,{"$f":"IF('Growth - HC-AC'!B54=\"\",\"\",'Growth - HC-AC'!B54 * 7)","v":""},{"$f":"IF('Growth - HC-AC'!C54=\"\",\"\",'Growth - HC-AC'!C54)","v":""},{"$f":"IF('Growth - HC-AC'!D54=\"\",\"\",'Growth - HC-AC'!D54)","v":""},{"$f":"IF('Growth - HC-AC'!E54=\"\",\"\",'Growth - HC-AC'!E54)","v":""}]
[51,{"$f":"IF('Growth - HC-AC'!B55=\"\",\"\",'Growth - HC-AC'!B55 * 7)","v":""},{"$f":"IF('Growth - HC-AC'!C55=\"\",\"\",'Growth - HC-AC'!C55)","v":""},{"$f":"IF('Growth - HC-AC'!D55=\"\",\"\",'Growth - HC-AC'!D55)","v":""},{"$f":"IF('Growth - HC-AC'!E55=\"\",\"\",'Growth - HC-AC'!E55)","v":""}]
[52,{"$f":"IF('Growth - HC-AC'!B56=\"\",\"\",'Growth - HC-AC'!B56 * 7)","v":""},{"$f":"IF('Growth - HC-AC'!C56=\"\",\"\",'Growth - HC-AC'!C56)","v":""},{"$f":"IF('Growth - HC-AC'!D56=\"\",\"\",'Growth - HC-AC'!D56)","v":""},{"$f":"IF('Growth - HC-AC'!E56=\"\",\"\",'Growth - HC-AC'!E56)","v":""}]
[53,{"$f":"IF('Growth - HC-AC'!B57=\"\",\"\",'Growth - HC-AC'!B57 * 7)","v":""},{"$f":"IF('Growth - HC-AC'!C57=\"\",\"\",'Growth - HC-AC'!C57)","v":""},{"$f":"IF('Growth - HC-AC'!D57=\"\",\"\",'Growth - HC-AC'!D57)","v":""},{"$f":"IF('Growth - HC-AC'!E57=\"\",\"\",'Growth - HC-AC'!E57)","v":""}]
[54,{"$f":"IF('Growth - HC-AC'!B58=\"\",\"\",'Growth - HC-AC'!B58 * 7)","v":""},{"$f":"IF('Growth - HC-AC'!C58=\"\",\"\",'Growth - HC-AC'!C58)","v":""},{"$f":"IF('Growth - HC-AC'!D58=\"\",\"\",'Growth - HC-AC'!D58)","v":""},{"$f":"IF('Growth - HC-AC'!E58=\"\",\"\",'Growth - HC-AC'!E58)","v":""}]
[55,{"$f":"IF('Growth - HC-AC'!B59=\"\",\"\",'Growth - HC-AC'!B59 * 7)","v":""},{"$f":"IF('Growth - HC-AC'!C59=\"\",\"\",'Growth - HC-AC'!C59)","v":""},{"$f":"IF('Growth - HC-AC'!D59=\"\",\"\",'Growth - HC-AC'!D59)","v":""},{"$f":"IF('Growth - HC-AC'!E59=\"\",\"\",'Growth - HC-AC'!E59)","v":""}]
[56,{"$f":"IF('Growth - HC-AC'!B60=\"\",\"\",'Growth - HC-AC'!B60 * 7)","v":""},{"$f":"IF('Growth - HC-AC'!C60=\"\",\"\",'Growth - HC-AC'!C60)","v":""},{"$f":"IF('Growth - HC-AC'!D60=\"\",\"\",'Growth - HC-AC'!D60)","v":""},{"$f":"IF('Growth - HC-AC'!E60=\"\",\"\",'Growth - HC-AC'!E60)","v":""}]
[57,{"$f":"IF('Growth - HC-AC'!B61=\"\",\"\",'Growth - HC-AC'!B61 * 7)","v":""},{"$f":"IF('Growth - HC-AC'!C61=\"\",\"\",'Growth - HC-AC'!C61)","v":""},{"$f":"IF('Growth - HC-AC'!D61=\"\",\"\",'Growth - HC-AC'!D61)","v":""},{"$f":"IF('Growth - HC-AC'!E61=\"\",\"\",'Growth - HC-AC'!E61)","v":""}]
[58,{"$f":"IF('Growth - HC-AC'!B62=\"\",\"\",'Growth - HC-AC'!B62 * 7)","v":""},{"$f":"IF('Growth - HC-AC'!C62=\"\",\"\",'Growth - HC-AC'!C62)","v":""},{"$f":"IF('Growth - HC-AC'!D62=\"\",\"\",'Growth - HC-AC'!D62)","v":""},{"$f":"IF('Growth - HC-AC'!E62=\"\",\"\",'Growth - HC-AC'!E62)","v":""}]
[59,{"$f":"IF('Growth - HC-AC'!B63=\"\",\"\",'Growth - HC-AC'!B63 * 7)","v":""},{"$f":"IF('Growth - HC-AC'!C63=\"\",\"\",'Growth - HC-AC'!C63)","v":""},{"$f":"IF('Growth - HC-AC'!D63=\"\",\"\",'Growth - HC-AC'!D63)","v":""},{"$f":"IF('Growth - HC-AC'!E63=\"\",\"\",'Growth - HC-AC'!E63)","v":""}]
[60,{"$f":"IF('Growth - HC-AC'!B64=\"\",\"\",'Growth - HC-AC'!B64 * 7)","v":""},{"$f":"IF('Growth - HC-AC'!C64=\"\",\"\",'Growth - HC-AC'!C64)","v":""},{"$f":"IF('Growth - HC-AC'!D64=\"\",\"\",'Growth - HC-AC'!D64)","v":""},{"$f":"IF('Growth - HC-AC'!E64=\"\",\"\",'Growth - HC-AC'!E64)","v":""}]
[61,{"$f":"IF('Growth - HC-AC'!B65=\"\",\"\",'Growth - HC-AC'!B65 * 7)","v":""},{"$f":"IF('Growth - HC-AC'!C65=\"\",\"\",'Growth - HC-AC'!C65)","v":""},{"$f":"IF('Growth - HC-AC'!D65=\"\",\"\",'Growth - HC-AC'!D65)","v":""},{"$f":"IF('Growth - HC-AC'!E65=\"\",\"\",'Growth - HC-AC'!E65)","v":""}]
[62,{"$f":"IF('Growth - HC-AC'!B66=\"\",\"\",'Growth - HC-AC'!B66 * 7)","v":""},{"$f":"IF('Growth - HC-AC'!C66=\"\",\"\",'Growth - HC-AC'!C66)","v":""},{"$f":"IF('Growth - HC-AC'!D66=\"\",\"\",'Growth - HC-AC'!D66)","v":""},{"$f":"IF('Growth - HC-AC'!E66=\"\",\"\",'Growth - HC-AC'!E66)","v":""}]
[63,{"$f":"IF('Growth - HC-AC'!B67=\"\",\"\",'Growth - HC-AC'!B67 * 7)","v":""},{"$f":"IF('Growth - HC-AC'!C67=\"\",\"\",'Growth - HC-AC'!C67)","v":""},{"$f":"IF('Growth - HC-AC'!D67=\"\",\"\",'Growth - HC-AC'!D67)","v":""},{"$f":"IF('Growth - HC-AC'!E67=\"\",\"\",'Growth - HC-AC'!E67)","v":""}]
[64,{"$f":"IF('Growth - HC-AC'!B68=\"\",\"\",'Growth - HC-AC'!B68 * 7)","v":""},{"$f":"IF('Growth - HC-AC'!C68=\"\",\"\",'Growth - HC-AC'!C68)","v":""},{"$f":"IF('Growth - HC-AC'!D68=\"\",\"\",'Growth - HC-AC'!D68)","v":""},{"$f":"IF('Growth - HC-AC'!E68=\"\",\"\",'Growth - HC-AC'!E68)","v":""}]
[65,{"$f":"IF('Growth - HC-AC'!B69=\"\",\"\",'Growth - HC-AC'!B69 * 7)","v":""},{"$f":"IF('Growth - HC-AC'!C69=\"\",\"\",'Growth - HC-AC'!C69)","v":""},{"$f":"IF('Growth - HC-AC'!D69=\"\",\"\",'Growth - HC-AC'!D69)","v":""},{"$f":"IF('Growth - HC-AC'!E69=\"\",\"\",'Growth - HC-AC'!E69)","v":""}]
[66,{"$f":"IF('Growth - HC-AC'!B70=\"\",\"\",'Growth - HC-AC'!B70 * 7)","v":""},{"$f":"IF('Growth - HC-AC'!C70=\"\",\"\",'Growth - HC-AC'!C70)","v":""},{"$f":"IF('Growth - HC-AC'!D70=\"\",\"\",'Growth - HC-AC'!D70)","v":""},{"$f":"IF('Growth - HC-AC'!E70=\"\",\"\",'Growth - HC-AC'!E70)","v":""}]
[67,{"$f":"IF('Growth - HC-AC'!B71=\"\",\"\",'Growth - HC-AC'!B71 * 7)","v":""},{"$f":"IF('Growth - HC-AC'!C71=\"\",\"\",'Growth - HC-AC'!C71)","v":""},{"$f":"IF('Growth - HC-AC'!D71=\"\",\"\",'Growth - HC-AC'!D71)","v":""},{"$f":"IF('Growth - HC-AC'!E71=\"\",\"\",'Growth - HC-AC'!E71)","v":""}]
[68,{"$f":"IF('Growth - HC-AC'!B72=\"\",\"\",'Growth - HC-AC'!B72 * 7)","v":""},{"$f":"IF('Growth - HC-AC'!C72=\"\",\"\",'Growth - HC-AC'!C72)","v":""},{"$f":"IF('Growth - HC-AC'!D72=\"\",\"\",'Growth - HC-AC'!D72)","v":""},{"$f":"IF('Growth - HC-AC'!E72=\"\",\"\",'Growth - HC-AC'!E72)","v":""}]
[69,{"$f":"IF('Growth - HC-AC'!B73=\"\",\"\",'Growth - HC-AC'!B73 * 7)","v":""},{"$f":"IF('Growth - HC-AC'!C73=\"\",\"\",'Growth - HC-AC'!C73)","v":""},{"$f":"IF('Growth - HC-AC'!D73=\"\",\"\",'Growth - HC-AC'!D73)","v":""},{"$f":"IF('Growth - HC-AC'!E73=\"\",\"\",'Growth - HC-AC'!E73)","v":""}]
[70,{"$f":"IF('Growth - HC-AC'!B74=\"\",\"\",'Growth - HC-AC'!B74 * 7)","v":""},{"$f":"IF('Growth - HC-AC'!C74=\"\",\"\",'Growth - HC-AC'!C74)","v":""},{"$f":"IF('Growth - HC-AC'!D74=\"\",\"\",'Growth - HC-AC'!D74)","v":""},{"$f":"IF('Growth - HC-AC'!E74=\"\",\"\",'Growth - HC-AC'!E74)","v":""}]
[71,{"$f":"IF('Growth - HC-AC'!B75=\"\",\"\",'Growth - HC-AC'!B75 * 7)","v":""},{"$f":"IF('Growth - HC-AC'!C75=\"\",\"\",'Growth - HC-AC'!C75)","v":""},{"$f":"IF('Growth - HC-AC'!D75=\"\",\"\",'Growth - HC-AC'!D75)","v":""},{"$f":"IF('Growth - HC-AC'!E75=\"\",\"\",'Growth - HC-AC'!E75)","v":""}]
[72,{"$f":"IF('Growth - HC-AC'!B76=\"\",\"\",'Growth - HC-AC'!B76 * 7)","v":""},{"$f":"IF('Growth - HC-AC'!C76=\"\",\"\",'Growth - HC-AC'!C76)","v":""},{"$f":"IF('Growth - HC-AC'!D76=\"\",\"\",'Growth - HC-AC'!D76)","v":""},{"$f":"IF('Growth - HC-AC'!E76=\"\",\"\",'Growth - HC-AC'!E76)","v":""}]
[73,{"$f":"IF('Growth - HC-AC'!B77=\"\",\"\",'Growth - HC-AC'!B77 * 7)","v":""},{"$f":"IF('Growth - HC-AC'!C77=\"\",\"\",'Growth - HC-AC'!C77)","v":""},{"$f":"IF('Growth - HC-AC'!D77=\"\",\"\",'Growth - HC-AC'!D77)","v":""},{"$f":"IF('Growth - HC-AC'!E77=\"\",\"\",'Growth - HC-AC'!E77)","v":""}]
[74,{"$f":"IF('Growth - HC-AC'!B78=\"\",\"\",'Growth - HC-AC'!B78 * 7)","v":""},{"$f":"IF('Growth - HC-AC'!C78=\"\",\"\",'Growth - HC-AC'!C78)","v":""},{"$f":"IF('Growth - HC-AC'!D78=\"\",\"\",'Growth - HC-AC'!D78)","v":""},{"$f":"IF('Growth - HC-AC'!E78=\"\",\"\",'Growth - HC-AC'!E78)","v":""}]
[75,{"$f":"IF('Growth - HC-AC'!B79=\"\",\"\",'Growth - HC-AC'!B79 * 7)","v":""},{"$f":"IF('Growth - HC-AC'!C79=\"\",\"\",'Growth - HC-AC'!C79)","v":""},{"$f":"IF('Growth - HC-AC'!D79=\"\",\"\",'Growth - HC-AC'!D79)","v":""},{"$f":"IF('Growth - HC-AC'!E79=\"\",\"\",'Growth - HC-AC'!E79)","v":""}]
[76,{"$f":"IF('Growth - HC-AC'!B80=\"\",\"\",'Growth - HC-AC'!B80 * 7)","v":""},{"$f":"IF('Growth - HC-AC'!C80=\"\",\"\",'Growth - HC-AC'!C80)","v":""},{"$f":"IF('Growth - HC-AC'!D80=\"\",\"\",'Growth - HC-AC'!D80)","v":""},{"$f":"IF('Growth - HC-AC'!E80=\"\",\"\",'Growth - HC-AC'!E80)","v":""}]
[77,{"$f":"IF('Growth - HC-AC'!B81=\"\",\"\",'Growth - HC-AC'!B81 * 7)","v":""},{"$f":"IF('Growth - HC-AC'!C81=\"\",\"\",'Growth - HC-AC'!C81)","v":""},{"$f":"IF('Growth - HC-AC'!D81=\"\",\"\",'Growth - HC-AC'!D81)","v":""},{"$f":"IF('Growth - HC-AC'!E81=\"\",\"\",'Growth - HC-AC'!E81)","v":""}]
[78,{"$f":"IF('Growth - HC-AC'!B82=\"\",\"\",'Growth - HC-AC'!B82 * 7)","v":""},{"$f":"IF('Growth - HC-AC'!C82=\"\",\"\",'Growth - HC-AC'!C82)","v":""},{"$f":"IF('Growth - HC-AC'!D82=\"\",\"\",'Growth - HC-AC'!D82)","v":""},{"$f":"IF('Growth - HC-AC'!E82=\"\",\"\",'Growth - HC-AC'!E82)","v":""}]
[79,{"$f":"IF('Growth - HC-AC'!B83=\"\",\"\",'Growth - HC-AC'!B83 * 7)","v":""},{"$f":"IF('Growth - HC-AC'!C83=\"\",\"\",'Growth - HC-AC'!C83)","v":""},{"$f":"IF('Growth - HC-AC'!D83=\"\",\"\",'Growth - HC-AC'!D83)","v":""},{"$f":"IF('Growth - HC-AC'!E83=\"\",\"\",'Growth - HC-AC'!E83)","v":""}]
[80,{"$f":"IF('Growth - HC-AC'!B84=\"\",\"\",'Growth - HC-AC'!B84 * 7)","v":""},{"$f":"IF('Growth - HC-AC'!C84=\"\",\"\",'Growth - HC-AC'!C84)","v":""},{"$f":"IF('Growth - HC-AC'!D84=\"\",\"\",'Growth - HC-AC'!D84)","v":""},{"$f":"IF('Growth - HC-AC'!E84=\"\",\"\",'Growth - HC-AC'!E84)","v":""}]
[81,{"$f":"IF('Growth - HC-AC'!B85=\"\",\"\",'Growth - HC-AC'!B85 * 7)","v":""},{"$f":"IF('Growth - HC-AC'!C85=\"\",\"\",'Growth - HC-AC'!C85)","v":""},{"$f":"IF('Growth - HC-AC'!D85=\"\",\"\",'Growth - HC-AC'!D85)","v":""},{"$f":"IF('Growth - HC-AC'!E85=\"\",\"\",'Growth - HC-AC'!E85)","v":""}]
[82,{"$f":"IF('Growth - HC-AC'!B86=\"\",\"\",'Growth - HC-AC'!B86 * 7)","v":""},{"$f":"IF('Growth - HC-AC'!C86=\"\",\"\",'Growth - HC-AC'!C86)","v":""},{"$f":"IF('Growth - HC-AC'!D86=\"\",\"\",'Growth - HC-AC'!D86)","v":""},{"$f":"IF('Growth - HC-AC'!E86=\"\",\"\",'Growth - HC-AC'!E86)","v":""}]
[83,{"$f":"IF('Growth - HC-AC'!B87=\"\",\"\",'Growth - HC-AC'!B87 * 7)","v":""},{"$f":"IF('Growth - HC-AC'!C87=\"\",\"\",'Growth - HC-AC'!C87)","v":""},{"$f":"IF('Growth - HC-AC'!D87=\"\",\"\",'Growth - HC-AC'!D87)","v":""},{"$f":"IF('Growth - HC-AC'!E87=\"\",\"\",'Growth - HC-AC'!E87)","v":""}]
[84,{"$f":"IF('Growth - HC-AC'!B88=\"\",\"\",'Growth - HC-AC'!B88 * 7)","v":""},{"$f":"IF('Growth - HC-AC'!C88=\"\",\"\",'Growth - HC-AC'!C88)","v":""},{"$f":"IF('Growth - HC-AC'!D88=\"\",\"\",'Growth - HC-AC'!D88)","v":""},{"$f":"IF('Growth - HC-AC'!E88=\"\",\"\",'Growth - HC-AC'!E88)","v":""}]
[85,{"$f":"IF('Growth - HC-AC'!B89=\"\",\"\",'Growth - HC-AC'!B89 * 7)","v":""},{"$f":"IF('Growth - HC-AC'!C89=\"\",\"\",'Growth - HC-AC'!C89)","v":""},{"$f":"IF('Growth - HC-AC'!D89=\"\",\"\",'Growth - HC-AC'!D89)","v":""},{"$f":"IF('Growth - HC-AC'!E89=\"\",\"\",'Growth - HC-AC'!E89)","v":""}]
[86,{"$f":"IF('Growth - HC-AC'!B90=\"\",\"\",'Growth - HC-AC'!B90 * 7)","v":""},{"$f":"IF('Growth - HC-AC'!C90=\"\",\"\",'Growth - HC-AC'!C90)","v":""},{"$f":"IF('Growth - HC-AC'!D90=\"\",\"\",'Growth - HC-AC'!D90)","v":""},{"$f":"IF('Growth - HC-AC'!E90=\"\",\"\",'Growth - HC-AC'!E90)","v":""}]
[87,{"$f":"IF('Growth - HC-AC'!B91=\"\",\"\",'Growth - HC-AC'!B91 * 7)","v":""},{"$f":"IF('Growth - HC-AC'!C91=\"\",\"\",'Growth - HC-AC'!C91)","v":""},{"$f":"IF('Growth - HC-AC'!D91=\"\",\"\",'Growth - HC-AC'!D91)","v":""},{"$f":"IF('Growth - HC-AC'!E91=\"\",\"\",'Growth - HC-AC'!E91)","v":""}]
[88,{"$f":"IF('Growth - HC-AC'!B92=\"\",\"\",'Growth - HC-AC'!B92 * 7)","v":""},{"$f":"IF('Growth - HC-AC'!C92=\"\",\"\",'Growth - HC-AC'!C92)","v":""},{"$f":"IF('Growth - HC-AC'!D92=\"\",\"\",'Growth - HC-AC'!D92)","v":""},{"$f":"IF('Growth - HC-AC'!E92=\"\",\"\",'Growth - HC-AC'!E92)","v":""}]
[89,{"$f":"IF('Growth - HC-AC'!B93=\"\",\"\",'Growth - HC-AC'!B93 * 7)","v":""},{"$f":"IF('Growth - HC-AC'!C93=\"\",\"\",'Growth - HC-AC'!C93)","v":""},{"$f":"IF('Growth - HC-AC'!D93=\"\",\"\",'Growth - HC-AC'!D93)","v":""},{"$f":"IF('Growth - HC-AC'!E93=\"\",\"\",'Growth - HC-AC'!E93)","v":""}]
[90,{"$f":"IF('Growth - HC-AC'!B94=\"\",\"\",'Growth - HC-AC'!B94 * 7)","v":""},{"$f":"IF('Growth - HC-AC'!C94=\"\",\"\",'Growth - HC-AC'!C94)","v":""},{"$f":"IF('Growth - HC-AC'!D94=\"\",\"\",'Growth - HC-AC'!D94)","v":""},{"$f":"IF('Growth - HC-AC'!E94=\"\",\"\",'Growth - HC-AC'!E94)","v":""}]
[91,{"$f":"IF('Growth - HC-AC'!B95=\"\",\"\",'Growth - HC-AC'!B95 * 7)","v":""},{"$f":"IF('Growth - HC-AC'!C95=\"\",\"\",'Growth - HC-AC'!C95)","v":""},{"$f":"IF('Growth - HC-AC'!D95=\"\",\"\",'Growth - HC-AC'!D95)","v":""},{"$f":"IF('Growth - HC-AC'!E95=\"\",\"\",'Growth - HC-AC'!E95)","v":""}]
[92,{"$f":"IF('Growth - HC-AC'!B96=\"\",\"\",'Growth - HC-AC'!B96 * 7)","v":""},{"$f":"IF('Growth - HC-AC'!C96=\"\",\"\",'Growth - HC-AC'!C96)","v":""},{"$f":"IF('Growth - HC-AC'!D96=\"\",\"\",'Growth - HC-AC'!D96)","v":""},{"$f":"IF('Growth - HC-AC'!E96=\"\",\"\",'Growth - HC-AC'!E96)","v":""}]
[93,{"$f":"IF('Growth - HC-AC'!B97=\"\",\"\",'Growth - HC-AC'!B97 * 7)","v":""},{"$f":"IF('Growth - HC-AC'!C97=\"\",\"\",'Growth - HC-AC'!C97)","v":""},{"$f":"IF('Growth - HC-AC'!D97=\"\",\"\",'Growth - HC-AC'!D97)","v":""},{"$f":"IF('Growth - HC-AC'!E97=\"\",\"\",'Growth - HC-AC'!E97)","v":""}]
[94,{"$f":"IF('Growth - HC-AC'!B98=\"\",\"\",'Growth - HC-AC'!B98 * 7)","v":""},{"$f":"IF('Growth - HC-AC'!C98=\"\",\"\",'Growth - HC-AC'!C98)","v":""},{"$f":"IF('Growth - HC-AC'!D98=\"\",\"\",'Growth - HC-AC'!D98)","v":""},{"$f":"IF('Growth - HC-AC'!E98=\"\",\"\",'Growth - HC-AC'!E98)","v":""}]
[95,{"$f":"IF('Growth - HC-AC'!B99=\"\",\"\",'Growth - HC-AC'!B99 * 7)","v":""},{"$f":"IF('Growth - HC-AC'!C99=\"\",\"\",'Growth - HC-AC'!C99)","v":""},{"$f":"IF('Growth - HC-AC'!D99=\"\",\"\",'Growth - HC-AC'!D99)","v":""},{"$f":"IF('Growth - HC-AC'!E99=\"\",\"\",'Growth - HC-AC'!E99)","v":""}]
[96,{"$f":"IF('Growth - HC-AC'!B100=\"\",\"\",'Growth - HC-AC'!B100 * 7)","v":""},{"$f":"IF('Growth - HC-AC'!C100=\"\",\"\",'Growth - HC-AC'!C100)","v":""},{"$f":"IF('Growth - HC-AC'!D100=\"\",\"\",'Growth - HC-AC'!D100)","v":""},{"$f":"IF('Growth - HC-AC'!E100=\"\",\"\",'Growth - HC-AC'!E100)","v":""}]
[97,{"$f":"IF('Growth - HC-AC'!B101=\"\",\"\",'Growth - HC-AC'!B101 * 7)","v":""},{"$f":"IF('Growth - HC-AC'!C101=\"\",\"\",'Growth - HC-AC'!C101)","v":""},{"$f":"IF('Growth - HC-AC'!D101=\"\",\"\",'Growth - HC-AC'!D101)","v":""},{"$f":"IF('Growth - HC-AC'!E101=\"\",\"\",'Growth - HC-AC'!E101)","v":""}]
[98,{"$f":"IF('Growth - HC-AC'!B102=\"\",\"\",'Growth - HC-AC'!B102 * 7)","v":""},{"$f":"IF('Growth - HC-AC'!C102=\"\",\"\",'Growth - HC-AC'!C102)","v":""},{"$f":"IF('Growth - HC-AC'!D102=\"\",\"\",'Growth - HC-AC'!D102)","v":""},{"$f":"IF('Growth - HC-AC'!E102=\"\",\"\",'Growth - HC-AC'!E102)","v":""}]
[99,{"$f":"IF('Growth - HC-AC'!B103=\"\",\"\",'Growth - HC-AC'!B103 * 7)","v":""},{"$f":"IF('Growth - HC-AC'!C103=\"\",\"\",'Growth - HC-AC'!C103)","v":""},{"$f":"IF('Growth - HC-AC'!D103=\"\",\"\",'Growth - HC-AC'!D103)","v":""},{"$f":"IF('Growth - HC-AC'!E103=\"\",\"\",'Growth - HC-AC'!E103)","v":""}]
[100,{"$f":"IF('Growth - HC-AC'!B104=\"\",\"\",'Growth - HC-AC'!B104 * 7)","v":""},{"$f":"IF('Growth - HC-AC'!C104=\"\",\"\",'Growth - HC-AC'!C104)","v":""},{"$f":"IF('Growth - HC-AC'!D104=\"\",\"\",'Growth - HC-AC'!D104)","v":""},{"$f":"IF('Growth - HC-AC'!E104=\"\",\"\",'Growth - HC-AC'!E104)","v":""}]
[101,{"$f":"IF('Growth - HC-AC'!B105=\"\",\"\",'Growth - HC-AC'!B105 * 7)","v":""},{"$f":"IF('Growth - HC-AC'!C105=\"\",\"\",'Growth - HC-AC'!C105)","v":""},{"$f":"IF('Growth - HC-AC'!D105=\"\",\"\",'Growth - HC-AC'!D105)","v":""},{"$f":"IF('Growth - HC-AC'!E105=\"\",\"\",'Growth - HC-AC'!E105)","v":""}]
[102,{"$f":"IF('Growth - HC-AC'!B106=\"\",\"\",'Growth - HC-AC'!B106 * 7)","v":""},{"$f":"IF('Growth - HC-AC'!C106=\"\",\"\",'Growth - HC-AC'!C106)","v":""},{"$f":"IF('Growth - HC-AC'!D106=\"\",\"\",'Growth - HC-AC'!D106)","v":""},{"$f":"IF('Growth - HC-AC'!E106=\"\",\"\",'Growth - HC-AC'!E106)","v":""}]
[103,{"$f":"IF('Growth - HC-AC'!B107=\"\",\"\",'Growth - HC-AC'!B107 * 7)","v":""},{"$f":"IF('Growth - HC-AC'!C107=\"\",\"\",'Growth - HC-AC'!C107)","v":""},{"$f":"IF('Growth - HC-AC'!D107=\"\",\"\",'Growth - HC-AC'!D107)","v":""},{"$f":"IF('Growth - HC-AC'!E107=\"\",\"\",'Growth - HC-AC'!E107)","v":""}]
[104,{"$f":"IF('Growth - HC-AC'!B108=\"\",\"\",'Growth - HC-AC'!B108 * 7)","v":""},{"$f":"IF('Growth - HC-AC'!C108=\"\",\"\",'Growth - HC-AC'!C108)","v":""},{"$f":"IF('Growth - HC-AC'!D108=\"\",\"\",'Growth - HC-AC'!D108)","v":""},{"$f":"IF('Growth - HC-AC'!E108=\"\",\"\",'Growth - HC-AC'!E108)","v":""}]
[105,{"$f":"IF('Growth - HC-AC'!B109=\"\",\"\",'Growth - HC-AC'!B109 * 7)","v":""},{"$f":"IF('Growth - HC-AC'!C109=\"\",\"\",'Growth - HC-AC'!C109)","v":""},{"$f":"IF('Growth - HC-AC'!D109=\"\",\"\",'Growth - HC-AC'!D109)","v":""},{"$f":"IF('Growth - HC-AC'!E109=\"\",\"\",'Growth - HC-AC'!E109)","v":""}]
[106,{"$f":"IF('Growth - HC-AC'!B110=\"\",\"\",'Growth - HC-AC'!B110 * 7)","v":""},{"$f":"IF('Growth - HC-AC'!C110=\"\",\"\",'Growth - HC-AC'!C110)","v":""},{"$f":"IF('Growth - HC-AC'!D110=\"\",\"\",'Growth - HC-AC'!D110)","v":""},{"$f":"IF('Growth - HC-AC'!E110=\"\",\"\",'Growth - HC-AC'!E110)","v":""}]
[107,{"$f":"IF('Growth - HC-AC'!B111=\"\",\"\",'Growth - HC-AC'!B111 * 7)","v":""},{"$f":"IF('Growth - HC-AC'!C111=\"\",\"\",'Growth - HC-AC'!C111)","v":""},{"$f":"IF('Growth - HC-AC'!D111=\"\",\"\",'Growth - HC-AC'!D111)","v":""},{"$f":"IF('Growth - HC-AC'!E111=\"\",\"\",'Growth - HC-AC'!E111)","v":""}]
[108,{"$f":"IF('Growth - HC-AC'!B112=\"\",\"\",'Growth - HC-AC'!B112 * 7)","v":""},{"$f":"IF('Growth - HC-AC'!C112=\"\",\"\",'Growth - HC-AC'!C112)","v":""},{"$f":"IF('Growth - HC-AC'!D112=\"\",\"\",'Growth - HC-AC'!D112)","v":""},{"$f":"IF('Growth - HC-AC'!E112=\"\",\"\",'Growth - HC-AC'!E112)","v":""}]
[109,{"$f":"IF('Growth - HC-AC'!B113=\"\",\"\",'Growth - HC-AC'!B113 * 7)","v":""},{"$f":"IF('Growth - HC-AC'!C113=\"\",\"\",'Growth - HC-AC'!C113)","v":""},{"$f":"IF('Growth - HC-AC'!D113=\"\",\"\",'Growth - HC-AC'!D113)","v":""},{"$f":"IF('Growth - HC-AC'!E113=\"\",\"\",'Growth - HC-AC'!E113)","v":""}]
[110,{"$f":"IF('Growth - HC-AC'!B114=\"\",\"\",'Growth - HC-AC'!B114 * 7)","v":""},{"$f":"IF('Growth - HC-AC'!C114=\"\",\"\",'Growth - HC-AC'!C114)","v":""},{"$f":"IF('Growth - HC-AC'!D114=\"\",\"\",'Growth - HC-AC'!D114)","v":""},{"$f":"IF('Growth - HC-AC'!E114=\"\",\"\",'Growth - HC-AC'!E114)","v":""}]
[111,{"$f":"IF('Growth - HC-AC'!B115=\"\",\"\",'Growth - HC-AC'!B115 * 7)","v":""},{"$f":"IF('Growth - HC-AC'!C115=\"\",\"\",'Growth - HC-AC'!C115)","v":""},{"$f":"IF('Growth - HC-AC'!D115=\"\",\"\",'Growth - HC-AC'!D115)","v":""},{"$f":"IF('Growth - HC-AC'!E115=\"\",\"\",'Growth - HC-AC'!E115)","v":""}]
[112,{"$f":"IF('Growth - HC-AC'!B116=\"\",\"\",'Growth - HC-AC'!B116 * 7)","v":""},{"$f":"IF('Growth - HC-AC'!C116=\"\",\"\",'Growth - HC-AC'!C116)","v":""},{"$f":"IF('Growth - HC-AC'!D116=\"\",\"\",'Growth - HC-AC'!D116)","v":""},{"$f":"IF('Growth - HC-AC'!E116=\"\",\"\",'Growth - HC-AC'!E116)","v":""}]
[113,{"$f":"IF('Growth - HC-AC'!B117=\"\",\"\",'Growth - HC-AC'!B117 * 7)","v":""},{"$f":"IF('Growth - HC-AC'!C117=\"\",\"\",'Growth - HC-AC'!C117)","v":""},{"$f":"IF('Growth - HC-AC'!D117=\"\",\"\",'Growth - HC-AC'!D117)","v":""},{"$f":"IF('Growth - HC-AC'!E117=\"\",\"\",'Growth - HC-AC'!E117)","v":""}]
[114,{"$f":"IF('Growth - HC-AC'!B118=\"\",\"\",'Growth - HC-AC'!B118 * 7)","v":""},{"$f":"IF('Growth - HC-AC'!C118=\"\",\"\",'Growth - HC-AC'!C118)","v":""},{"$f":"IF('Growth - HC-AC'!D118=\"\",\"\",'Growth - HC-AC'!D118)","v":""},{"$f":"IF('Growth - HC-AC'!E118=\"\",\"\",'Growth - HC-AC'!E118)","v":""}]
[115,{"$f":"IF('Growth - HC-AC'!B119=\"\",\"\",'Growth - HC-AC'!B119 * 7)","v":""},{"$f":"IF('Growth - HC-AC'!C119=\"\",\"\",'Growth - HC-AC'!C119)","v":""},{"$f":"IF('Growth - HC-AC'!D119=\"\",\"\",'Growth - HC-AC'!D119)","v":""},{"$f":"IF('Growth - HC-AC'!E119=\"\",\"\",'Growth - HC-AC'!E119)","v":""}]
[116,{"$f":"IF('Growth - HC-AC'!B120=\"\",\"\",'Growth - HC-AC'!B120 * 7)","v":""},{"$f":"IF('Growth - HC-AC'!C120=\"\",\"\",'Growth - HC-AC'!C120)","v":""},{"$f":"IF('Growth - HC-AC'!D120=\"\",\"\",'Growth - HC-AC'!D120)","v":""},{"$f":"IF('Growth - HC-AC'!E120=\"\",\"\",'Growth - HC-AC'!E120)","v":""}]
[117,{"$f":"IF('Growth - HC-AC'!B121=\"\",\"\",'Growth - HC-AC'!B121 * 7)","v":""},{"$f":"IF('Growth - HC-AC'!C121=\"\",\"\",'Growth - HC-AC'!C121)","v":""},{"$f":"IF('Growth - HC-AC'!D121=\"\",\"\",'Growth - HC-AC'!D121)","v":""},{"$f":"IF('Growth - HC-AC'!E121=\"\",\"\",'Growth - HC-AC'!E121)","v":""}]
[118,{"$f":"IF('Growth - HC-AC'!B122=\"\",\"\",'Growth - HC-AC'!B122 * 7)","v":""},{"$f":"IF('Growth - HC-AC'!C122=\"\",\"\",'Growth - HC-AC'!C122)","v":""},{"$f":"IF('Growth - HC-AC'!D122=\"\",\"\",'Growth - HC-AC'!D122)","v":""},{"$f":"IF('Growth - HC-AC'!E122=\"\",\"\",'Growth - HC-AC'!E122)","v":""}]
[119,{"$f":"IF('Growth - HC-AC'!B123=\"\",\"\",'Growth - HC-AC'!B123 * 7)","v":""},{"$f":"IF('Growth - HC-AC'!C123=\"\",\"\",'Growth - HC-AC'!C123)","v":""},{"$f":"IF('Growth - HC-AC'!D123=\"\",\"\",'Growth - HC-AC'!D123)","v":""},{"$f":"IF('Growth - HC-AC'!E123=\"\",\"\",'Growth - HC-AC'!E123)","v":""}]
[120,{"$f":"IF('Growth - HC-AC'!B124=\"\",\"\",'Growth - HC-AC'!B124 * 7)","v":""},{"$f":"IF('Growth - HC-AC'!C124=\"\",\"\",'Growth - HC-AC'!C124)","v":""},{"$f":"IF('Growth - HC-AC'!D124=\"\",\"\",'Growth - HC-AC'!D124)","v":""},{"$f":"IF('Growth - HC-AC'!E124=\"\",\"\",'Growth - HC-AC'!E124)","v":""}]
[121,{"$f":"IF('Growth - HC-AC'!B125=\"\",\"\",'Growth - HC-AC'!B125 * 7)","v":""},{"$f":"IF('Growth - HC-AC'!C125=\"\",\"\",'Growth - HC-AC'!C125)","v":""},{"$f":"IF('Growth - HC-AC'!D125=\"\",\"\",'Growth - HC-AC'!D125)","v":""},{"$f":"IF('Growth - HC-AC'!E125=\"\",\"\",'Growth - HC-AC'!E125)","v":""}]
[122,{"$f":"IF('Growth - HC-AC'!B126=\"\",\"\",'Growth - HC-AC'!B126 * 7)","v":""},{"$f":"IF('Growth - HC-AC'!C126=\"\",\"\",'Growth - HC-AC'!C126)","v":""},{"$f":"IF('Growth - HC-AC'!D126=\"\",\"\",'Growth - HC-AC'!D126)","v":""},{"$f":"IF('Growth - HC-AC'!E126=\"\",\"\",'Growth - HC-AC'!E126)","v":""}]
[123,{"$f":"IF('Growth - HC-AC'!B127=\"\",\"\",'Growth - HC-AC'!B127 * 7)","v":""},{"$f":"IF('Growth - HC-AC'!C127=\"\",\"\",'Growth - HC-AC'!C127)","v":""},{"$f":"IF('Growth - HC-AC'!D127=\"\",\"\",'Growth - HC-AC'!D127)","v":""},{"$f":"IF('Growth - HC-AC'!E127=\"\",\"\",'Growth - HC-AC'!E127)","v":""}]
[124,{"$f":"IF('Growth - HC-AC'!B128=\"\",\"\",'Growth - HC-AC'!B128 * 7)","v":""},{"$f":"IF('Growth - HC-AC'!C128=\"\",\"\",'Growth - HC-AC'!C128)","v":""},{"$f":"IF('Growth - HC-AC'!D128=\"\",\"\",'Growth - HC-AC'!D128)","v":""},{"$f":"IF('Growth - HC-AC'!E128=\"\",\"\",'Growth - HC-AC'!E128)","v":""}]
[125,{"$f":"IF('Growth - HC-AC'!B129=\"\",\"\",'Growth - HC-AC'!B129 * 7)","v":""},{"$f":"IF('Growth - HC-AC'!C129=\"\",\"\",'Growth - HC-AC'!C129)","v":""},{"$f":"IF('Growth - HC-AC'!D129=\"\",\"\",'Growth - HC-AC'!D129)","v":""},{"$f":"IF('Growth - HC-AC'!E129=\"\",\"\",'Growth - HC-AC'!E129)","v":""}]
[126,{"$f":"IF('Growth - HC-AC'!B130=\"\",\"\",'Growth - HC-AC'!B130 * 7)","v":""},{"$f":"IF('Growth - HC-AC'!C130=\"\",\"\",'Growth - HC-AC'!C130)","v":""},{"$f":"IF('Growth - HC-AC'!D130=\"\",\"\",'Growth - HC-AC'!D130)","v":""},{"$f":"IF('Growth - HC-AC'!E130=\"\",\"\",'Growth - HC-AC'!E130)","v":""}]
[127,{"$f":"IF('Growth - HC-AC'!B131=\"\",\"\",'Growth - HC-AC'!B131 * 7)","v":""},{"$f":"IF('Growth - HC-AC'!C131=\"\",\"\",'Growth - HC-AC'!C131)","v":""},{"$f":"IF('Growth - HC-AC'!D131=\"\",\"\",'Growth - HC-AC'!D131)","v":""},{"$f":"IF('Growth - HC-AC'!E131=\"\",\"\",'Growth - HC-AC'!E131)","v":""}]
[128,{"$f":"IF('Growth - HC-AC'!B132=\"\",\"\",'Growth - HC-AC'!B132 * 7)","v":""},{"$f":"IF('Growth - HC-AC'!C132=\"\",\"\",'Growth - HC-AC'!C132)","v":""},{"$f":"IF('Growth - HC-AC'!D132=\"\",\"\",'Growth - HC-AC'!D132)","v":""},{"$f":"IF('Growth - HC-AC'!E132=\"\",\"\",'Growth - HC-AC'!E132)","v":""}]
[129,{"$f":"IF('Growth - HC-AC'!B133=\"\",\"\",'Growth - HC-AC'!B133 * 7)","v":""},{"$f":"IF('Growth - HC-AC'!C133=\"\",\"\",'Growth - HC-AC'!C133)","v":""},{"$f":"IF('Growth - HC-AC'!D133=\"\",\"\",'Growth - HC-AC'!D133)","v":""},{"$f":"IF('Growth - HC-AC'!E133=\"\",\"\",'Growth - HC-AC'!E133)","v":""}]
[130,{"$f":"IF('Growth - HC-AC'!B134=\"\",\"\",'Growth - HC-AC'!B134 * 7)","v":""},{"$f":"IF('Growth - HC-AC'!C134=\"\",\"\",'Growth - HC-AC'!C134)","v":""},{"$f":"IF('Growth - HC-AC'!D134=\"\",\"\",'Growth - HC-AC'!D134)","v":""},{"$f":"IF('Growth - HC-AC'!E134=\"\",\"\",'Growth - HC-AC'!E134)","v":""}]
[131,{"$f":"IF('Growth - HC-AC'!B135=\"\",\"\",'Growth - HC-AC'!B135 * 7)","v":""},{"$f":"IF('Growth - HC-AC'!C135=\"\",\"\",'Growth - HC-AC'!C135)","v":""},{"$f":"IF('Growth - HC-AC'!D135=\"\",\"\",'Growth - HC-AC'!D135)","v":""},{"$f":"IF('Growth - HC-AC'!E135=\"\",\"\",'Growth - HC-AC'!E135)","v":""}]
[132,{"$f":"IF('Growth - HC-AC'!B136=\"\",\"\",'Growth - HC-AC'!B136 * 7)","v":""},{"$f":"IF('Growth - HC-AC'!C136=\"\",\"\",'Growth - HC-AC'!C136)","v":""},{"$f":"IF('Growth - HC-AC'!D136=\"\",\"\",'Growth - HC-AC'!D136)","v":""},{"$f":"IF('Growth - HC-AC'!E136=\"\",\"\",'Growth - HC-AC'!E136)","v":""}]
[133,{"$f":"IF('Growth - HC-AC'!B137=\"\",\"\",'Growth - HC-AC'!B137 * 7)","v":""},{"$f":"IF('Growth - HC-AC'!C137=\"\",\"\",'Growth - HC-AC'!C137)","v":""},{"$f":"IF('Growth - HC-AC'!D137=\"\",\"\",'Growth - HC-AC'!D137)","v":""},{"$f":"IF('Growth - HC-AC'!E137=\"\",\"\",'Growth - HC-AC'!E137)","v":""}]
[134,{"$f":"IF('Growth - HC-AC'!B138=\"\",\"\",'Growth - HC-AC'!B138 * 7)","v":""},{"$f":"IF('Growth - HC-AC'!C138=\"\",\"\",'Growth - HC-AC'!C138)","v":""},{"$f":"IF('Growth - HC-AC'!D138=\"\",\"\",'Growth - HC-AC'!D138)","v":""},{"$f":"IF('Growth - HC-AC'!E138=\"\",\"\",'Growth - HC-AC'!E138)","v":""}]
[135,{"$f":"IF('Growth - HC-AC'!B139=\"\",\"\",'Growth - HC-AC'!B139 * 7)","v":""},{"$f":"IF('Growth - HC-AC'!C139=\"\",\"\",'Growth - HC-AC'!C139)","v":""},{"$f":"IF('Growth - HC-AC'!D139=\"\",\"\",'Growth - HC-AC'!D139)","v":""},{"$f":"IF('Growth - HC-AC'!E139=\"\",\"\",'Growth - HC-AC'!E139)","v":""}]
[136,{"$f":"IF('Growth - HC-AC'!B140=\"\",\"\",'Growth - HC-AC'!B140 * 7)","v":""},{"$f":"IF('Growth - HC-AC'!C140=\"\",\"\",'Growth - HC-AC'!C140)","v":""},{"$f":"IF('Growth - HC-AC'!D140=\"\",\"\",'Growth - HC-AC'!D140)","v":""},{"$f":"IF('Growth - HC-AC'!E140=\"\",\"\",'Growth - HC-AC'!E140)","v":""}]
[137,{"$f":"IF('Growth - HC-AC'!B141=\"\",\"\",'Growth - HC-AC'!B141 * 7)","v":""},{"$f":"IF('Growth - HC-AC'!C141=\"\",\"\",'Growth - HC-AC'!C141)","v":""},{"$f":"IF('Growth - HC-AC'!D141=\"\",\"\",'Growth - HC-AC'!D141)","v":""},{"$f":"IF('Growth - HC-AC'!E141=\"\",\"\",'Growth - HC-AC'!E141)","v":""}]
[138,{"$f":"IF('Growth - HC-AC'!B142=\"\",\"\",'Growth - HC-AC'!B142 * 7)","v":""},{"$f":"IF('Growth - HC-AC'!C142=\"\",\"\",'Growth - HC-AC'!C142)","v":""},{"$f":"IF('Growth - HC-AC'!D142=\"\",\"\",'Growth - HC-AC'!D142)","v":""},{"$f":"IF('Growth - HC-AC'!E142=\"\",\"\",'Growth - HC-AC'!E142)","v":""}]
[139,{"$f":"IF('Growth - HC-AC'!B143=\"\",\"\",'Growth - HC-AC'!B143 * 7)","v":""},{"$f":"IF('Growth - HC-AC'!C143=\"\",\"\",'Growth - HC-AC'!C143)","v":""},{"$f":"IF('Growth - HC-AC'!D143=\"\",\"\",'Growth - HC-AC'!D143)","v":""},{"$f":"IF('Growth - HC-AC'!E143=\"\",\"\",'Growth - HC-AC'!E143)","v":""}]
[140,{"$f":"IF('Growth - HC-AC'!B144=\"\",\"\",'Growth - HC-AC'!B144 * 7)","v":""},{"$f":"IF('Growth - HC-AC'!C144=\"\",\"\",'Growth - HC-AC'!C144)","v":""},{"$f":"IF('Growth - HC-AC'!D144=\"\",\"\",'Growth - HC-AC'!D144)","v":""},{"$f":"IF('Growth - HC-AC'!E144=\"\",\"\",'Growth - HC-AC'!E144)","v":""}]
[141,{"$f":"IF('Growth - HC-AC'!B145=\"\",\"\",'Growth - HC-AC'!B145 * 7)","v":""},{"$f":"IF('Growth - HC-AC'!C145=\"\",\"\",'Growth - HC-AC'!C145)","v":""},{"$f":"IF('Growth - HC-AC'!D145=\"\",\"\",'Growth - HC-AC'!D145)","v":""},{"$f":"IF('Growth - HC-AC'!E145=\"\",\"\",'Growth - HC-AC'!E145)","v":""}]
[142,{"$f":"IF('Growth - HC-AC'!B146=\"\",\"\",'Growth - HC-AC'!B146 * 7)","v":""},{"$f":"IF('Growth - HC-AC'!C146=\"\",\"\",'Growth - HC-AC'!C146)","v":""},{"$f":"IF('Growth - HC-AC'!D146=\"\",\"\",'Growth - HC-AC'!D146)","v":""},{"$f":"IF('Growth - HC-AC'!E146=\"\",\"\",'Growth - HC-AC'!E146)","v":""}]
[143,{"$f":"IF('Growth - HC-AC'!B147=\"\",\"\",'Growth - HC-AC'!B147 * 7)","v":""},{"$f":"IF('Growth - HC-AC'!C147=\"\",\"\",'Growth - HC-AC'!C147)","v":""},{"$f":"IF('Growth - HC-AC'!D147=\"\",\"\",'Growth - HC-AC'!D147)","v":""},{"$f":"IF('Growth - HC-AC'!E147=\"\",\"\",'Growth - HC-AC'!E147)","v":""}]
[144,{"$f":"IF('Growth - HC-AC'!B148=\"\",\"\",'Growth - HC-AC'!B148 * 7)","v":""},{"$f":"IF('Growth - HC-AC'!C148=\"\",\"\",'Growth - HC-AC'!C148)","v":""},{"$f":"IF('Growth - HC-AC'!D148=\"\",\"\",'Growth - HC-AC'!D148)","v":""},{"$f":"IF('Growth - HC-AC'!E148=\"\",\"\",'Growth - HC-AC'!E148)","v":""}]
[145,{"$f":"IF('Growth - HC-AC'!B149=\"\",\"\",'Growth - HC-AC'!B149 * 7)","v":""},{"$f":"IF('Growth - HC-AC'!C149=\"\",\"\",'Growth - HC-AC'!C149)","v":""},{"$f":"IF('Growth - HC-AC'!D149=\"\",\"\",'Growth - HC-AC'!D149)","v":""},{"$f":"IF('Growth - HC-AC'!E149=\"\",\"\",'Growth - HC-AC'!E149)","v":""}]
[146,{"$f":"IF('Growth - HC-AC'!B150=\"\",\"\",'Growth - HC-AC'!B150 * 7)","v":""},{"$f":"IF('Growth - HC-AC'!C150=\"\",\"\",'Growth - HC-AC'!C150)","v":""},{"$f":"IF('Growth - HC-AC'!D150=\"\",\"\",'Growth - HC-AC'!D150)","v":""},{"$f":"IF('Growth - HC-AC'!E150=\"\",\"\",'Growth - HC-AC'!E150)","v":""}]
[147,{"$f":"IF('Growth - HC-AC'!B151=\"\",\"\",'Growth - HC-AC'!B151 * 7)","v":""},{"$f":"IF('Growth - HC-AC'!C151=\"\",\"\",'Growth - HC-AC'!C151)","v":""},{"$f":"IF('Growth - HC-AC'!D151=\"\",\"\",'Growth - HC-AC'!D151)","v":""},{"$f":"IF('Growth - HC-AC'!E151=\"\",\"\",'Growth - HC-AC'!E151)","v":""}]
[148,{"$f":"IF('Growth - HC-AC'!B152=\"\",\"\",'Growth - HC-AC'!B152 * 7)","v":""},{"$f":"IF('Growth - HC-AC'!C152=\"\",\"\",'Growth - HC-AC'!C152)","v":""},{"$f":"IF('Growth - HC-AC'!D152=\"\",\"\",'Growth - HC-AC'!D152)","v":""},{"$f":"IF('Growth - HC-AC'!E152=\"\",\"\",'Growth - HC-AC'!E152)","v":""}]
[149,{"$f":"IF('Growth - HC-AC'!B153=\"\",\"\",'Growth - HC-AC'!B153 * 7)","v":""},{"$f":"IF('Growth - HC-AC'!C153=\"\",\"\",'Growth - HC-AC'!C153)","v":""},{"$f":"IF('Growth - HC-AC'!D153=\"\",\"\",'Growth - HC-AC'!D153)","v":""},{"$f":"IF('Growth - HC-AC'!E153=\"\",\"\",'Growth - HC-AC'!E153)","v":""}]
[150,{"$f":"IF('Growth - HC-AC'!B154=\"\",\"\",'Growth - HC-AC'!B154 * 7)","v":""},{"$f":"IF('Growth - HC-AC'!C154=\"\",\"\",'Growth - HC-AC'!C154)","v":""},{"$f":"IF('Growth - HC-AC'!D154=\"\",\"\",'Growth - HC-AC'!D154)","v":""},{"$f":"IF('Growth - HC-AC'!E154=\"\",\"\",'Growth - HC-AC'!E154)","v":""}]
[151,{"$f":"IF('Growth - HC-AC'!B155=\"\",\"\",'Growth - HC-AC'!B155 * 7)","v":""},{"$f":"IF('Growth - HC-AC'!C155=\"\",\"\",'Growth - HC-AC'!C155)","v":""},{"$f":"IF('Growth - HC-AC'!D155=\"\",\"\",'Growth - HC-AC'!D155)","v":""},{"$f":"IF('Growth - HC-AC'!E155=\"\",\"\",'Growth - HC-AC'!E155)","v":""}]
[152,{"$f":"IF('Growth - HC-AC'!B156=\"\",\"\",'Growth - HC-AC'!B156 * 7)","v":""},{"$f":"IF('Growth - HC-AC'!C156=\"\",\"\",'Growth - HC-AC'!C156)","v":""},{"$f":"IF('Growth - HC-AC'!D156=\"\",\"\",'Growth - HC-AC'!D156)","v":""},{"$f":"IF('Growth - HC-AC'!E156=\"\",\"\",'Growth - HC-AC'!E156)","v":""}]
[153,{"$f":"IF('Growth - HC-AC'!B157=\"\",\"\",'Growth - HC-AC'!B157 * 7)","v":""},{"$f":"IF('Growth - HC-AC'!C157=\"\",\"\",'Growth - HC-AC'!C157)","v":""},{"$f":"IF('Growth - HC-AC'!D157=\"\",\"\",'Growth - HC-AC'!D157)","v":""},{"$f":"IF('Growth - HC-AC'!E157=\"\",\"\",'Growth - HC-AC'!E157)","v":""}]
[154,{"$f":"IF('Growth - HC-AC'!B158=\"\",\"\",'Growth - HC-AC'!B158 * 7)","v":""},{"$f":"IF('Growth - HC-AC'!C158=\"\",\"\",'Growth - HC-AC'!C158)","v":""},{"$f":"IF('Growth - HC-AC'!D158=\"\",\"\",'Growth - HC-AC'!D158)","v":""},{"$f":"IF('Growth - HC-AC'!E158=\"\",\"\",'Growth - HC-AC'!E158)","v":""}]
[155,{"$f":"IF('Growth - HC-AC'!B159=\"\",\"\",'Growth - HC-AC'!B159 * 7)","v":""},{"$f":"IF('Growth - HC-AC'!C159=\"\",\"\",'Growth - HC-AC'!C159)","v":""},{"$f":"IF('Growth - HC-AC'!D159=\"\",\"\",'Growth - HC-AC'!D159)","v":""},{"$f":"IF('Growth - HC-AC'!E159=\"\",\"\",'Growth - HC-AC'!E159)","v":""}]
[156,{"$f":"IF('Growth - HC-AC'!B160=\"\",\"\",'Growth - HC-AC'!B160 * 7)","v":""},{"$f":"IF('Growth - HC-AC'!C160=\"\",\"\",'Growth - HC-AC'!C160)","v":""},{"$f":"IF('Growth - HC-AC'!D160=\"\",\"\",'Growth - HC-AC'!D160)","v":""},{"$f":"IF('Growth - HC-AC'!E160=\"\",\"\",'Growth - HC-AC'!E160)","v":""}]
[157,{"$f":"IF('Growth - HC-AC'!B161=\"\",\"\",'Growth - HC-AC'!B161 * 7)","v":""},{"$f":"IF('Growth - HC-AC'!C161=\"\",\"\",'Growth - HC-AC'!C161)","v":""},{"$f":"IF('Growth - HC-AC'!D161=\"\",\"\",'Growth - HC-AC'!D161)","v":""},{"$f":"IF('Growth - HC-AC'!E161=\"\",\"\",'Growth - HC-AC'!E161)","v":""}]
[158,{"$f":"IF('Growth - HC-AC'!B162=\"\",\"\",'Growth - HC-AC'!B162 * 7)","v":""},{"$f":"IF('Growth - HC-AC'!C162=\"\",\"\",'Growth - HC-AC'!C162)","v":""},{"$f":"IF('Growth - HC-AC'!D162=\"\",\"\",'Growth - HC-AC'!D162)","v":""},{"$f":"IF('Growth - HC-AC'!E162=\"\",\"\",'Growth - HC-AC'!E162)","v":""}]
[159,{"$f":"IF('Growth - HC-AC'!B163=\"\",\"\",'Growth - HC-AC'!B163 * 7)","v":""},{"$f":"IF('Growth - HC-AC'!C163=\"\",\"\",'Growth - HC-AC'!C163)","v":""},{"$f":"IF('Growth - HC-AC'!D163=\"\",\"\",'Growth - HC-AC'!D163)","v":""},{"$f":"IF('Growth - HC-AC'!E163=\"\",\"\",'Growth - HC-AC'!E163)","v":""}]
[160,{"$f":"IF('Growth - HC-AC'!B164=\"\",\"\",'Growth - HC-AC'!B164 * 7)","v":""},{"$f":"IF('Growth - HC-AC'!C164=\"\",\"\",'Growth - HC-AC'!C164)","v":""},{"$f":"IF('Growth - HC-AC'!D164=\"\",\"\",'Growth - HC-AC'!D164)","v":""},{"$f":"IF('Growth - HC-AC'!E164=\"\",\"\",'Growth - HC-AC'!E164)","v":""}]
[161,{"$f":"IF('Growth - HC-AC'!B165=\"\",\"\",'Growth - HC-AC'!B165 * 7)","v":""},{"$f":"IF('Growth - HC-AC'!C165=\"\",\"\",'Growth - HC-AC'!C165)","v":""},{"$f":"IF('Growth - HC-AC'!D165=\"\",\"\",'Growth - HC-AC'!D165)","v":""},{"$f":"IF('Growth - HC-AC'!E165=\"\",\"\",'Growth - HC-AC'!E165)","v":""}]
[162,{"$f":"IF('Growth - HC-AC'!B166=\"\",\"\",'Growth - HC-AC'!B166 * 7)","v":""},{"$f":"IF('Growth - HC-AC'!C166=\"\",\"\",'Growth - HC-AC'!C166)","v":""},{"$f":"IF('Growth - HC-AC'!D166=\"\",\"\",'Growth - HC-AC'!D166)","v":""},{"$f":"IF('Growth - HC-AC'!E166=\"\",\"\",'Growth - HC-AC'!E166)","v":""}]
[163,{"$f":"IF('Growth - HC-AC'!B167=\"\",\"\",'Growth - HC-AC'!B167 * 7)","v":""},{"$f":"IF('Growth - HC-AC'!C167=\"\",\"\",'Growth - HC-AC'!C167)","v":""},{"$f":"IF('Growth - HC-AC'!D167=\"\",\"\",'Growth - HC-AC'!D167)","v":""},{"$f":"IF('Growth - HC-AC'!E167=\"\",\"\",'Growth - HC-AC'!E167)","v":""}]
[164,{"$f":"IF('Growth - HC-AC'!B168=\"\",\"\",'Growth - HC-AC'!B168 * 7)","v":""},{"$f":"IF('Growth - HC-AC'!C168=\"\",\"\",'Growth - HC-AC'!C168)","v":""},{"$f":"IF('Growth - HC-AC'!D168=\"\",\"\",'Growth - HC-AC'!D168)","v":""},{"$f":"IF('Growth - HC-AC'!E168=\"\",\"\",'Growth - HC-AC'!E168)","v":""}]
[165,{"$f":"IF('Growth - HC-AC'!B169=\"\",\"\",'Growth - HC-AC'!B169 * 7)","v":""},{"$f":"IF('Growth - HC-AC'!C169=\"\",\"\",'Growth - HC-AC'!C169)","v":""},{"$f":"IF('Growth - HC-AC'!D169=\"\",\"\",'Growth - HC-AC'!D169)","v":""},{"$f":"IF('Growth - HC-AC'!E169=\"\",\"\",'Growth - HC-AC'!E169)","v":""}]
[166,{"$f":"IF('Growth - HC-AC'!B170=\"\",\"\",'Growth - HC-AC'!B170 * 7)","v":""},{"$f":"IF('Growth - HC-AC'!C170=\"\",\"\",'Growth - HC-AC'!C170)","v":""},{"$f":"IF('Growth - HC-AC'!D170=\"\",\"\",'Growth - HC-AC'!D170)","v":""},{"$f":"IF('Growth - HC-AC'!E170=\"\",\"\",'Growth - HC-AC'!E170)","v":""}]
[167,{"$f":"IF('Growth - HC-AC'!B171=\"\",\"\",'Growth - HC-AC'!B171 * 7)","v":""},{"$f":"IF('Growth - HC-AC'!C171=\"\",\"\",'Growth - HC-AC'!C171)","v":""},{"$f":"IF('Growth - HC-AC'!D171=\"\",\"\",'Growth - HC-AC'!D171)","v":""},{"$f":"IF('Growth - HC-AC'!E171=\"\",\"\",'Growth - HC-AC'!E171)","v":""}]
[168,{"$f":"IF('Growth - HC-AC'!B172=\"\",\"\",'Growth - HC-AC'!B172 * 7)","v":""},{"$f":"IF('Growth - HC-AC'!C172=\"\",\"\",'Growth - HC-AC'!C172)","v":""},{"$f":"IF('Growth - HC-AC'!D172=\"\",\"\",'Growth - HC-AC'!D172)","v":""},{"$f":"IF('Growth - HC-AC'!E172=\"\",\"\",'Growth - HC-AC'!E172)","v":""}]
[169,{"$f":"IF('Growth - HC-AC'!B173=\"\",\"\",'Growth - HC-AC'!B173 * 7)","v":""},{"$f":"IF('Growth - HC-AC'!C173=\"\",\"\",'Growth - HC-AC'!C173)","v":""},{"$f":"IF('Growth - HC-AC'!D173=\"\",\"\",'Growth - HC-AC'!D173)","v":""},{"$f":"IF('Growth - HC-AC'!E173=\"\",\"\",'Growth - HC-AC'!E173)","v":""}]
[170,{"$f":"IF('Growth - HC-AC'!B174=\"\",\"\",'Growth - HC-AC'!B174 * 7)","v":""},{"$f":"IF('Growth - HC-AC'!C174=\"\",\"\",'Growth - HC-AC'!C174)","v":""},{"$f":"IF('Growth - HC-AC'!D174=\"\",\"\",'Growth - HC-AC'!D174)","v":""},{"$f":"IF('Growth - HC-AC'!E174=\"\",\"\",'Growth - HC-AC'!E174)","v":""}]
[171,{"$f":"IF('Growth - HC-AC'!B175=\"\",\"\",'Growth - HC-AC'!B175 * 7)","v":""},{"$f":"IF('Growth - HC-AC'!C175=\"\",\"\",'Growth - HC-AC'!C175)","v":""},{"$f":"IF('Growth - HC-AC'!D175=\"\",\"\",'Growth - HC-AC'!D175)","v":""},{"$f":"IF('Growth - HC-AC'!E175=\"\",\"\",'Growth - HC-AC'!E175)","v":""}]
[172,{"$f":"IF('Growth - HC-AC'!B176=\"\",\"\",'Growth - HC-AC'!B176 * 7)","v":""},{"$f":"IF('Growth - HC-AC'!C176=\"\",\"\",'Growth - HC-AC'!C176)","v":""},{"$f":"IF('Growth - HC-AC'!D176=\"\",\"\",'Growth - HC-AC'!D176)","v":""},{"$f":"IF('Growth - HC-AC'!E176=\"\",\"\",'Growth - HC-AC'!E176)","v":""}]
[173,{"$f":"IF('Growth - HC-AC'!B177=\"\",\"\",'Growth - HC-AC'!B177 * 7)","v":""},{"$f":"IF('Growth - HC-AC'!C177=\"\",\"\",'Growth - HC-AC'!C177)","v":""},{"$f":"IF('Growth - HC-AC'!D177=\"\",\"\",'Growth - HC-AC'!D177)","v":""},{"$f":"IF('Growth - HC-AC'!E177=\"\",\"\",'Growth - HC-AC'!E177)","v":""}]
[174,{"$f":"IF('Growth - HC-AC'!B178=\"\",\"\",'Growth - HC-AC'!B178 * 7)","v":""},{"$f":"IF('Growth - HC-AC'!C178=\"\",\"\",'Growth - HC-AC'!C178)","v":""},{"$f":"IF('Growth - HC-AC'!D178=\"\",\"\",'Growth - HC-AC'!D178)","v":""},{"$f":"IF('Growth - HC-AC'!E178=\"\",\"\",'Growth - HC-AC'!E178)","v":""}]
[175,{"$f":"IF('Growth - HC-AC'!B179=\"\",\"\",'Growth - HC-AC'!B179 * 7)","v":""},{"$f":"IF('Growth - HC-AC'!C179=\"\",\"\",'Growth - HC-AC'!C179)","v":""},{"$f":"IF('Growth - HC-AC'!D179=\"\",\"\",'Growth - HC-AC'!D179)","v":""},{"$f":"IF('Growth - HC-AC'!E179=\"\",\"\",'Growth - HC-AC'!E179)","v":""}]
[176,{"$f":"IF('Growth - HC-AC'!B180=\"\",\"\",'Growth - HC-AC'!B180 * 7)","v":""},{"$f":"IF('Growth - HC-AC'!C180=\"\",\"\",'Growth - HC-AC'!C180)","v":""},{"$f":"IF('Growth - HC-AC'!D180=\"\",\"\",'Growth - HC-AC'!D180)","v":""},{"$f":"IF('Growth - HC-AC'!E180=\"\",\"\",'Growth - HC-AC'!E180)","v":""}]
[177,{"$f":"IF('Growth - HC-AC'!B181=\"\",\"\",'Growth - HC-AC'!B181 * 7)","v":""},{"$f":"IF('Growth - HC-AC'!C181=\"\",\"\",'Growth - HC-AC'!C181)","v":""},{"$f":"IF('Growth - HC-AC'!D181=\"\",\"\",'Growth - HC-AC'!D181)","v":""},{"$f":"IF('Growth - HC-AC'!E181=\"\",\"\",'Growth - HC-AC'!E181)","v":""}]
[178,{"$f":"IF('Growth - HC-AC'!B182=\"\",\"\",'Growth - HC-AC'!B182 * 7)","v":""},{"$f":"IF('Growth - HC-AC'!C182=\"\",\"\",'Growth - HC-AC'!C182)","v":""},{"$f":"IF('Growth - HC-AC'!D182=\"\",\"\",'Growth - HC-AC'!D182)","v":""},{"$f":"IF('Growth - HC-AC'!E182=\"\",\"\",'Growth - HC-AC'!E182)","v":""}]
[179,{"$f":"IF('Growth - HC-AC'!B183=\"\",\"\",'Growth - HC-AC'!B183 * 7)","v":""},{"$f":"IF('Growth - HC-AC'!C183=\"\",\"\",'Growth - HC-AC'!C183)","v":""},{"$f":"IF('Growth - HC-AC'!D183=\"\",\"\",'Growth - HC-AC'!D183)","v":""},{"$f":"IF('Growth - HC-AC'!E183=\"\",\"\",'Growth - HC-AC'!E183)","v":""}]
[180,{"$f":"IF('Growth - HC-AC'!B184=\"\",\"\",'Growth - HC-AC'!B184 * 7)","v":""},{"$f":"IF('Growth - HC-AC'!C184=\"\",\"\",'Growth - HC-AC'!C184)","v":""},{"$f":"IF('Growth - HC-AC'!D184=\"\",\"\",'Growth - HC-AC'!D184)","v":""},{"$f":"IF('Growth - HC-AC'!E184=\"\",\"\",'Growth - HC-AC'!E184)","v":""}]
[181,{"$f":"IF('Growth - HC-AC'!B185=\"\",\"\",'Growth - HC-AC'!B185 * 7)","v":""},{"$f":"IF('Growth - HC-AC'!C185=\"\",\"\",'Growth - HC-AC'!C185)","v":""},{"$f":"IF('Growth - HC-AC'!D185=\"\",\"\",'Growth - HC-AC'!D185)","v":""},{"$f":"IF('Growth - HC-AC'!E185=\"\",\"\",'Growth - HC-AC'!E185)","v":""}]
[182,{"$f":"IF('Growth - HC-AC'!B186=\"\",\"\",'Growth - HC-AC'!B186 * 7)","v":""},{"$f":"IF('Growth - HC-AC'!C186=\"\",\"\",'Growth - HC-AC'!C186)","v":""},{"$f":"IF('Growth - HC-AC'!D186=\"\",\"\",'Growth - HC-AC'!D186)","v":""},{"$f":"IF('Growth - HC-AC'!E186=\"\",\"\",'Growth - HC-AC'!E186)","v":""}]
[183,{"$f":"IF('Growth - HC-AC'!B187=\"\",\"\",'Growth - HC-AC'!B187 * 7)","v":""},{"$f":"IF('Growth - HC-AC'!C187=\"\",\"\",'Growth - HC-AC'!C187)","v":""},{"$f":"IF('Growth - HC-AC'!D187=\"\",\"\",'Growth - HC-AC'!D187)","v":""},{"$f":"IF('Growth - HC-AC'!E187=\"\",\"\",'Growth - HC-AC'!E187)","v":""}]
[184,{"$f":"IF('Growth - HC-AC'!B188=\"\",\"\",'Growth - HC-AC'!B188 * 7)","v":""},{"$f":"IF('Growth - HC-AC'!C188=\"\",\"\",'Growth - HC-AC'!C188)","v":""},{"$f":"IF('Growth - HC-AC'!D188=\"\",\"\",'Growth - HC-AC'!D188)","v":""},{"$f":"IF('Growth - HC-AC'!E188=\"\",\"\",'Growth - HC-AC'!E188)","v":""}]
[185,{"$f":"IF('Growth - HC-AC'!B189=\"\",\"\",'Growth - HC-AC'!B189 * 7)","v":""},{"$f":"IF('Growth - HC-AC'!C189=\"\",\"\",'Growth - HC-AC'!C189)","v":""},{"$f":"IF('Growth - HC-AC'!D189=\"\",\"\",'Growth - HC-AC'!D189)","v":""},{"$f":"IF('Growth - HC-AC'!E189=\"\",\"\",'Growth - HC-AC'!E189)","v":""}]
[186,{"$f":"IF('Growth - HC-AC'!B190=\"\",\"\",'Growth - HC-AC'!B190 * 7)","v":""},{"$f":"IF('Growth - HC-AC'!C190=\"\",\"\",'Growth - HC-AC'!C190)","v":""},{"$f":"IF('Growth - HC-AC'!D190=\"\",\"\",'Growth - HC-AC'!D190)","v":""},{"$f":"IF('Growth - HC-AC'!E190=\"\",\"\",'Growth - HC-AC'!E190)","v":""}]
[187,{"$f":"IF('Growth - HC-AC'!B191=\"\",\"\",'Growth - HC-AC'!B191 * 7)","v":""},{"$f":"IF('Growth - HC-AC'!C191=\"\",\"\",'Growth - HC-AC'!C191)","v":""},{"$f":"IF('Growth - HC-AC'!D191=\"\",\"\",'Growth - HC-AC'!D191)","v":""},{"$f":"IF('Growth - HC-AC'!E191=\"\",\"\",'Growth - HC-AC'!E191)","v":""}]
[188,{"$f":"IF('Growth - HC-AC'!B192=\"\",\"\",'Growth - HC-AC'!B192 * 7)","v":""},{"$f":"IF('Growth - HC-AC'!C192=\"\",\"\",'Growth - HC-AC'!C192)","v":""},{"$f":"IF('Growth - HC-AC'!D192=\"\",\"\",'Growth - HC-AC'!D192)","v":""},{"$f":"IF('Growth - HC-AC'!E192=\"\",\"\",'Growth - HC-AC'!E192)","v":""}]
[189,{"$f":"IF('Growth - HC-AC'!B193=\"\",\"\",'Growth - HC-AC'!B193 * 7)","v":""},{"$f":"IF('Growth - HC-AC'!C193=\"\",\"\",'Growth - HC-AC'!C193)","v":""},{"$f":"IF('Growth - HC-AC'!D193=\"\",\"\",'Growth - HC-AC'!D193)","v":""},{"$f":"IF('Growth - HC-AC'!E193=\"\",\"\",'Growth - HC-AC'!E193)","v":""}]
[190,{"$f":"IF('Growth - HC-AC'!B194=\"\",\"\",'Growth - HC-AC'!B194 * 7)","v":""},{"$f":"IF('Growth - HC-AC'!C194=\"\",\"\",'Growth - HC-AC'!C194)","v":""},{"$f":"IF('Growth - HC-AC'!D194=\"\",\"\",'Growth - HC-AC'!D194)","v":""},{"$f":"IF('Growth - HC-AC'!E194=\"\",\"\",'Growth - HC-AC'!E194)","v":""}]
[191,{"$f":"IF('Growth - HC-AC'!B195=\"\",\"\",'Growth - HC-AC'!B195 * 7)","v":""},{"$f":"IF('Growth - HC-AC'!C195=\"\",\"\",'Growth - HC-AC'!C195)","v":""},{"$f":"IF('Growth - HC-AC'!D195=\"\",\"\",'Growth - HC-AC'!D195)","v":""},{"$f":"IF('Growth - HC-AC'!E195=\"\",\"\",'Growth - HC-AC'!E195)","v":""}]
[192,{"$f":"IF('Growth - HC-AC'!B196=\"\",\"\",'Growth - HC-AC'!B196 * 7)","v":""},{"$f":"IF('Growth - HC-AC'!C196=\"\",\"\",'Growth - HC-AC'!C196)","v":""},{"$f":"IF('Growth - HC-AC'!D196=\"\",\"\",'Growth - HC-AC'!D196)","v":""},{"$f":"IF('Growth - HC-AC'!E196=\"\",\"\",'Growth - HC-AC'!E196)","v":""}]
[193,{"$f":"IF('Growth - HC-AC'!B197=\"\",\"\",'Growth - HC-AC'!B197 * 7)","v":""},{"$f":"IF('Growth - HC-AC'!C197=\"\",\"\",'Growth - HC-AC'!C197)","v":""},{"$f":"IF('Growth - HC-AC'!D197=\"\",\"\",'Growth - HC-AC'!D197)","v":""},{"$f":"IF('Growth - HC-AC'!E197=\"\",\"\",'Growth - HC-AC'!E197)","v":""}]
[194,{"$f":"IF('Growth - HC-AC'!B198=\"\",\"\",'Growth - HC-AC'!B198 * 7)","v":""},{"$f":"IF('Growth - HC-AC'!C198=\"\",\"\",'Growth - HC-AC'!C198)","v":""},{"$f":"IF('Growth - HC-AC'!D198=\"\",\"\",'Growth - HC-AC'!D198)","v":""},{"$f":"IF('Growth - HC-AC'!E198=\"\",\"\",'Growth - HC-AC'!E198)","v":""}]
[195,{"$f":"IF('Growth - HC-AC'!B199=\"\",\"\",'Growth - HC-AC'!B199 * 7)","v":""},{"$f":"IF('Growth - HC-AC'!C199=\"\",\"\",'Growth - HC-AC'!C199)","v":""},{"$f":"IF('Growth - HC-AC'!D199=\"\",\"\",'Growth - HC-AC'!D199)","v":""},{"$f":"IF('Growth - HC-AC'!E199=\"\",\"\",'Growth - HC-AC'!E199)","v":""}]
[196,{"$f":"IF('Growth - HC-AC'!B200=\"\",\"\",'Growth - HC-AC'!B200 * 7)","v":""},{"$f":"IF('Growth - HC-AC'!C200=\"\",\"\",'Growth - HC-AC'!C200)","v":""},{"$f":"IF('Growth - HC-AC'!D200=\"\",\"\",'Growth - HC-AC'!D200)","v":""},{"$f":"IF('Growth - HC-AC'!E200=\"\",\"\",'Growth - HC-AC'!E200)","v":""}]
[197,{"$f":"IF('Growth - HC-AC'!B201=\"\",\"\",'Growth - HC-AC'!B201 * 7)","v":""},{"$f":"IF('Growth - HC-AC'!C201=\"\",\"\",'Growth - HC-AC'!C201)","v":""},{"$f":"IF('Growth - HC-AC'!D201=\"\",\"\",'Growth - HC-AC'!D201)","v":""},{"$f":"IF('Growth - HC-AC'!E201=\"\",\"\",'Growth - HC-AC'!E201)","v":""}]
[198,{"$f":"IF('Growth - HC-AC'!B202=\"\",\"\",'Growth - HC-AC'!B202 * 7)","v":""},{"$f":"IF('Growth - HC-AC'!C202=\"\",\"\",'Growth - HC-AC'!C202)","v":""},{"$f":"IF('Growth - HC-AC'!D202=\"\",\"\",'Growth - HC-AC'!D202)","v":""},{"$f":"IF('Growth - HC-AC'!E202=\"\",\"\",'Growth - HC-AC'!E202)","v":""}]
[199,{"$f":"IF('Growth - HC-AC'!B203=\"\",\"\",'Growth - HC-AC'!B203 * 7)","v":""},{"$f":"IF('Growth - HC-AC'!C203=\"\",\"\",'Growth - HC-AC'!C203)","v":""},{"$f":"IF('Growth - HC-AC'!D203=\"\",\"\",'Growth - HC-AC'!D203)","v":""},{"$f":"IF('Growth - HC-AC'!E203=\"\",\"\",'Growth - HC-AC'!E203)","v":""}]
[200,{"$f":"IF('Growth - HC-AC'!B204=\"\",\"\",'Growth - HC-AC'!B204 * 7)","v":""},{"$f":"IF('Growth - HC-AC'!C204=\"\",\"\",'Growth - HC-AC'!C204)","v":""},{"$f":"IF('Growth - HC-AC'!D204=\"\",\"\",'Growth - HC-AC'!D204)","v":""},{"$f":"IF('Growth - HC-AC'!E204=\"\",\"\",'Growth - HC-AC'!E204)","v":""}]
[201,{"$f":"IF('Growth - HC-AC'!B205=\"\",\"\",'Growth - HC-AC'!B205 * 7)","v":""},{"$f":"IF('Growth - HC-AC'!C205=\"\",\"\",'Growth - HC-AC'!C205)","v":""},{"$f":"IF('Growth - HC-AC'!D205=\"\",\"\",'Growth - HC-AC'!D205)","v":""},{"$f":"IF('Growth - HC-AC'!E205=\"\",\"\",'Growth - HC-AC'!E205)","v":""}]
[202,{"$f":"IF('Growth - HC-AC'!B206=\"\",\"\",'Growth - HC-AC'!B206 * 7)","v":""},{"$f":"IF('Growth - HC-AC'!C206=\"\",\"\",'Growth - HC-AC'!C206)","v":""},{"$f":"IF('Growth - HC-AC'!D206=\"\",\"\",'Growth - HC-AC'!D206)","v":""},{"$f":"IF('Growth - HC-AC'!E206=\"\",\"\",'Growth - HC-AC'!E206)","v":""}]
[203,{"$f":"IF('Growth - HC-AC'!B207=\"\",\"\",'Growth - HC-AC'!B207 * 7)","v":""},{"$f":"IF('Growth - HC-AC'!C207=\"\",\"\",'Growth - HC-AC'!C207)","v":""},{"$f":"IF('Growth - HC-AC'!D207=\"\",\"\",'Growth - HC-AC'!D207)","v":""},{"$f":"IF('Growth - HC-AC'!E207=\"\",\"\",'Growth - HC-AC'!E207)","v":""}]
[204,{"$f":"IF('Growth - HC-AC'!B208=\"\",\"\",'Growth - HC-AC'!B208 * 7)","v":""},{"$f":"IF('Growth - HC-AC'!C208=\"\",\"\",'Growth - HC-AC'!C208)","v":""},{"$f":"IF('Growth - HC-AC'!D208=\"\",\"\",'Growth - HC-AC'!D208)","v":""},{"$f":"IF('Growth - HC-AC'!E208=\"\",\"\",'Growth - HC-AC'!E208)","v":""}]
[205,{"$f":"IF('Growth - HC-AC'!B209=\"\",\"\",'Growth - HC-AC'!B209 * 7)","v":""},{"$f":"IF('Growth - HC-AC'!C209=\"\",\"\",'Growth - HC-AC'!C209)","v":""},{"$f":"IF('Growth - HC-AC'!D209=\"\",\"\",'Growth - HC-AC'!D209)","v":""},{"$f":"IF('Growth - HC-AC'!E209=\"\",\"\",'Growth - HC-AC'!E209)","v":""}]
[206,{"$f":"IF('Growth - HC-AC'!B210=\"\",\"\",'Growth - HC-AC'!B210 * 7)","v":""},{"$f":"IF('Growth - HC-AC'!C210=\"\",\"\",'Growth - HC-AC'!C210)","v":""},{"$f":"IF('Growth - HC-AC'!D210=\"\",\"\",'Growth - HC-AC'!D210)","v":""},{"$f":"IF('Growth - HC-AC'!E210=\"\",\"\",'Growth - HC-AC'!E210)","v":""}]
[207,{"$f":"IF('Growth - HC-AC'!B211=\"\",\"\",'Growth - HC-AC'!B211 * 7)","v":""},{"$f":"IF('Growth - HC-AC'!C211=\"\",\"\",'Growth - HC-AC'!C211)","v":""},{"$f":"IF('Growth - HC-AC'!D211=\"\",\"\",'Growth - HC-AC'!D211)","v":""},{"$f":"IF('Growth - HC-AC'!E211=\"\",\"\",'Growth - HC-AC'!E211)","v":""}]
[208,{"$f":"IF('Growth - HC-AC'!B212=\"\",\"\",'Growth - HC-AC'!B212 * 7)","v":""},{"$f":"IF('Growth - HC-AC'!C212=\"\",\"\",'Growth - HC-AC'!C212)","v":""},{"$f":"IF('Growth - HC-AC'!D212=\"\",\"\",'Growth - HC-AC'!D212)","v":""},{"$f":"IF('Growth - HC-AC'!E212=\"\",\"\",'Growth - HC-AC'!E212)","v":""}]
[209,{"$f":"IF('Growth - HC-AC'!B213=\"\",\"\",'Growth - HC-AC'!B213 * 7)","v":""},{"$f":"IF('Growth - HC-AC'!C213=\"\",\"\",'Growth - HC-AC'!C213)","v":""},{"$f":"IF('Growth - HC-AC'!D213=\"\",\"\",'Growth - HC-AC'!D213)","v":""},{"$f":"IF('Growth - HC-AC'!E213=\"\",\"\",'Growth - HC-AC'!E213)","v":""}]
[210,{"$f":"IF('Growth - HC-AC'!B214=\"\",\"\",'Growth - HC-AC'!B214 * 7)","v":""},{"$f":"IF('Growth - HC-AC'!C214=\"\",\"\",'Growth - HC-AC'!C214)","v":""},{"$f":"IF('Growth - HC-AC'!D214=\"\",\"\",'Growth - HC-AC'!D214)","v":""},{"$f":"IF('Growth - HC-AC'!E214=\"\",\"\",'Growth - HC-AC'!E214)","v":""}]
[]
["AGE - User Table 1",null,null,null,null,{"$f":"IF('Age - User Table|Label 1'!F1=\"\",\"\",'Age - User Table|Label 1'!F1)","v":"Age User Table 1"}]
[null,null,null,null,null,{"$f":"ValidationData!DataVersion","v":"70.80.100.100"}]
["Index","Measurement Name",null,null,{"$f":"IF('Age - User Table|Label 1'!E3=\"\",\"\",'Age - User Table|Label 1'!E3)","v":""}]
[null,"Measurement Type",null,null,{"$f":"IF('Age - User Table|Label 1'!E4=\"\",\"\",IF(ISERROR(VLOOKUP('Age - User Table|Label 1'!E4,ValidationData!A5:B7,2, FALSE)), \"\", VLOOKUP('Age - User Table|Label 1'!E4,ValidationData!A5:B7,2, FALSE)))","v":""}]
[null,"Author",null,null,{"$f":"IF('Age - User Table|Label 1'!J5=\"\",\"\",'Age - User Table|Label 1'!J5)","v":""}]
[null,"Value","Age (weeks)","Age (days)","Range (weeks)","Range (days)"]
[1,{"$f":"IF('Age - User Table|Label 1'!B7=\"\",\"\",'Age - User Table|Label 1'!B7)","v":""},{"$f":"IF('Age - User Table|Label 1'!C7=\"\",\"\",'Age - User Table|Label 1'!C7)","v":""},{"$f":"IF('Age - User Table|Label 1'!D7=\"\",\"\",'Age - User Table|Label 1'!D7)","v":""},{"$f":"IF('Age - User Table|Label 1'!E7=\"\",\"\",'Age - User Table|Label 1'!E7)","v":""},{"$f":"IF('Age - User Table|Label 1'!F7=\"\",\"\",'Age - User Table|Label 1'!F7)","v":""}]
[2,{"$f":"IF('Age - User Table|Label 1'!B8=\"\",\"\",'Age - User Table|Label 1'!B8)","v":""},{"$f":"IF('Age - User Table|Label 1'!C8=\"\",\"\",'Age - User Table|Label 1'!C8)","v":""},{"$f":"IF('Age - User Table|Label 1'!D8=\"\",\"\",'Age - User Table|Label 1'!D8)","v":""},{"$f":"IF('Age - User Table|Label 1'!E8=\"\",\"\",'Age - User Table|Label 1'!E8)","v":""},{"$f":"IF('Age - User Table|Label 1'!F8=\"\",\"\",'Age - User Table|Label 1'!F8)","v":""}]
[3,{"$f":"IF('Age - User Table|Label 1'!B9=\"\",\"\",'Age - User Table|Label 1'!B9)","v":""},{"$f":"IF('Age - User Table|Label 1'!C9=\"\",\"\",'Age - User Table|Label 1'!C9)","v":""},{"$f":"IF('Age - User Table|Label 1'!D9=\"\",\"\",'Age - User Table|Label 1'!D9)","v":""},{"$f":"IF('Age - User Table|Label 1'!E9=\"\",\"\",'Age - User Table|Label 1'!E9)","v":""},{"$f":"IF('Age - User Table|Label 1'!F9=\"\",\"\",'Age - User Table|Label 1'!F9)","v":""}]
[4,{"$f":"IF('Age - User Table|Label 1'!B10=\"\",\"\",'Age - User Table|Label 1'!B10)","v":""},{"$f":"IF('Age - User Table|Label 1'!C10=\"\",\"\",'Age - User Table|Label 1'!C10)","v":""},{"$f":"IF('Age - User Table|Label 1'!D10=\"\",\"\",'Age - User Table|Label 1'!D10)","v":""},{"$f":"IF('Age - User Table|Label 1'!E10=\"\",\"\",'Age - User Table|Label 1'!E10)","v":""},{"$f":"IF('Age - User Table|Label 1'!F10=\"\",\"\",'Age - User Table|Label 1'!F10)","v":""}]
[5,{"$f":"IF('Age - User Table|Label 1'!B11=\"\",\"\",'Age - User Table|Label 1'!B11)","v":""},{"$f":"IF('Age - User Table|Label 1'!C11=\"\",\"\",'Age - User Table|Label 1'!C11)","v":""},{"$f":"IF('Age - User Table|Label 1'!D11=\"\",\"\",'Age - User Table|Label 1'!D11)","v":""},{"$f":"IF('Age - User Table|Label 1'!E11=\"\",\"\",'Age - User Table|Label 1'!E11)","v":""},{"$f":"IF('Age - User Table|Label 1'!F11=\"\",\"\",'Age - User Table|Label 1'!F11)","v":""}]
[6,{"$f":"IF('Age - User Table|Label 1'!B12=\"\",\"\",'Age - User Table|Label 1'!B12)","v":""},{"$f":"IF('Age - User Table|Label 1'!C12=\"\",\"\",'Age - User Table|Label 1'!C12)","v":""},{"$f":"IF('Age - User Table|Label 1'!D12=\"\",\"\",'Age - User Table|Label 1'!D12)","v":""},{"$f":"IF('Age - User Table|Label 1'!E12=\"\",\"\",'Age - User Table|Label 1'!E12)","v":""},{"$f":"IF('Age - User Table|Label 1'!F12=\"\",\"\",'Age - User Table|Label 1'!F12)","v":""}]
[7,{"$f":"IF('Age - User Table|Label 1'!B13=\"\",\"\",'Age - User Table|Label 1'!B13)","v":""},{"$f":"IF('Age - User Table|Label 1'!C13=\"\",\"\",'Age - User Table|Label 1'!C13)","v":""},{"$f":"IF('Age - User Table|Label 1'!D13=\"\",\"\",'Age - User Table|Label 1'!D13)","v":""},{"$f":"IF('Age - User Table|Label 1'!E13=\"\",\"\",'Age - User Table|Label 1'!E13)","v":""},{"$f":"IF('Age - User Table|Label 1'!F13=\"\",\"\",'Age - User Table|Label 1'!F13)","v":""}]
[8,{"$f":"IF('Age - User Table|Label 1'!B14=\"\",\"\",'Age - User Table|Label 1'!B14)","v":""},{"$f":"IF('Age - User Table|Label 1'!C14=\"\",\"\",'Age - User Table|Label 1'!C14)","v":""},{"$f":"IF('Age - User Table|Label 1'!D14=\"\",\"\",'Age - User Table|Label 1'!D14)","v":""},{"$f":"IF('Age - User Table|Label 1'!E14=\"\",\"\",'Age - User Table|Label 1'!E14)","v":""},{"$f":"IF('Age - User Table|Label 1'!F14=\"\",\"\",'Age - User Table|Label 1'!F14)","v":""}]
[9,{"$f":"IF('Age - User Table|Label 1'!B15=\"\",\"\",'Age - User Table|Label 1'!B15)","v":""},{"$f":"IF('Age - User Table|Label 1'!C15=\"\",\"\",'Age - User Table|Label 1'!C15)","v":""},{"$f":"IF('Age - User Table|Label 1'!D15=\"\",\"\",'Age - User Table|Label 1'!D15)","v":""},{"$f":"IF('Age - User Table|Label 1'!E15=\"\",\"\",'Age - User Table|Label 1'!E15)","v":""},{"$f":"IF('Age - User Table|Label 1'!F15=\"\",\"\",'Age - User Table|Label 1'!F15)","v":""}]
[10,{"$f":"IF('Age - User Table|Label 1'!B16=\"\",\"\",'Age - User Table|Label 1'!B16)","v":""},{"$f":"IF('Age - User Table|Label 1'!C16=\"\",\"\",'Age - User Table|Label 1'!C16)","v":""},{"$f":"IF('Age - User Table|Label 1'!D16=\"\",\"\",'Age - User Table|Label 1'!D16)","v":""},{"$f":"IF('Age - User Table|Label 1'!E16=\"\",\"\",'Age - User Table|Label 1'!E16)","v":""},{"$f":"IF('Age - User Table|Label 1'!F16=\"\",\"\",'Age - User Table|Label 1'!F16)","v":""}]
[11,{"$f":"IF('Age - User Table|Label 1'!B17=\"\",\"\",'Age - User Table|Label 1'!B17)","v":""},{"$f":"IF('Age - User Table|Label 1'!C17=\"\",\"\",'Age - User Table|Label 1'!C17)","v":""},{"$f":"IF('Age - User Table|Label 1'!D17=\"\",\"\",'Age - User Table|Label 1'!D17)","v":""},{"$f":"IF('Age - User Table|Label 1'!E17=\"\",\"\",'Age - User Table|Label 1'!E17)","v":""},{"$f":"IF('Age - User Table|Label 1'!F17=\"\",\"\",'Age - User Table|Label 1'!F17)","v":""}]
[12,{"$f":"IF('Age - User Table|Label 1'!B18=\"\",\"\",'Age - User Table|Label 1'!B18)","v":""},{"$f":"IF('Age - User Table|Label 1'!C18=\"\",\"\",'Age - User Table|Label 1'!C18)","v":""},{"$f":"IF('Age - User Table|Label 1'!D18=\"\",\"\",'Age - User Table|Label 1'!D18)","v":""},{"$f":"IF('Age - User Table|Label 1'!E18=\"\",\"\",'Age - User Table|Label 1'!E18)","v":""},{"$f":"IF('Age - User Table|Label 1'!F18=\"\",\"\",'Age - User Table|Label 1'!F18)","v":""}]
[13,{"$f":"IF('Age - User Table|Label 1'!B19=\"\",\"\",'Age - User Table|Label 1'!B19)","v":""},{"$f":"IF('Age - User Table|Label 1'!C19=\"\",\"\",'Age - User Table|Label 1'!C19)","v":""},{"$f":"IF('Age - User Table|Label 1'!D19=\"\",\"\",'Age - User Table|Label 1'!D19)","v":""},{"$f":"IF('Age - User Table|Label 1'!E19=\"\",\"\",'Age - User Table|Label 1'!E19)","v":""},{"$f":"IF('Age - User Table|Label 1'!F19=\"\",\"\",'Age - User Table|Label 1'!F19)","v":""}]
[14,{"$f":"IF('Age - User Table|Label 1'!B20=\"\",\"\",'Age - User Table|Label 1'!B20)","v":""},{"$f":"IF('Age - User Table|Label 1'!C20=\"\",\"\",'Age - User Table|Label 1'!C20)","v":""},{"$f":"IF('Age - User Table|Label 1'!D20=\"\",\"\",'Age - User Table|Label 1'!D20)","v":""},{"$f":"IF('Age - User Table|Label 1'!E20=\"\",\"\",'Age - User Table|Label 1'!E20)","v":""},{"$f":"IF('Age - User Table|Label 1'!F20=\"\",\"\",'Age - User Table|Label 1'!F20)","v":""}]
[15,{"$f":"IF('Age - User Table|Label 1'!B21=\"\",\"\",'Age - User Table|Label 1'!B21)","v":""},{"$f":"IF('Age - User Table|Label 1'!C21=\"\",\"\",'Age - User Table|Label 1'!C21)","v":""},{"$f":"IF('Age - User Table|Label 1'!D21=\"\",\"\",'Age - User Table|Label 1'!D21)","v":""},{"$f":"IF('Age - User Table|Label 1'!E21=\"\",\"\",'Age - User Table|Label 1'!E21)","v":""},{"$f":"IF('Age - User Table|Label 1'!F21=\"\",\"\",'Age - User Table|Label 1'!F21)","v":""}]
[16,{"$f":"IF('Age - User Table|Label 1'!B22=\"\",\"\",'Age - User Table|Label 1'!B22)","v":""},{"$f":"IF('Age - User Table|Label 1'!C22=\"\",\"\",'Age - User Table|Label 1'!C22)","v":""},{"$f":"IF('Age - User Table|Label 1'!D22=\"\",\"\",'Age - User Table|Label 1'!D22)","v":""},{"$f":"IF('Age - User Table|Label 1'!E22=\"\",\"\",'Age - User Table|Label 1'!E22)","v":""},{"$f":"IF('Age - User Table|Label 1'!F22=\"\",\"\",'Age - User Table|Label 1'!F22)","v":""}]
[17,{"$f":"IF('Age - User Table|Label 1'!B23=\"\",\"\",'Age - User Table|Label 1'!B23)","v":""},{"$f":"IF('Age - User Table|Label 1'!C23=\"\",\"\",'Age - User Table|Label 1'!C23)","v":""},{"$f":"IF('Age - User Table|Label 1'!D23=\"\",\"\",'Age - User Table|Label 1'!D23)","v":""},{"$f":"IF('Age - User Table|Label 1'!E23=\"\",\"\",'Age - User Table|Label 1'!E23)","v":""},{"$f":"IF('Age - User Table|Label 1'!F23=\"\",\"\",'Age - User Table|Label 1'!F23)","v":""}]
[18,{"$f":"IF('Age - User Table|Label 1'!B24=\"\",\"\",'Age - User Table|Label 1'!B24)","v":""},{"$f":"IF('Age - User Table|Label 1'!C24=\"\",\"\",'Age - User Table|Label 1'!C24)","v":""},{"$f":"IF('Age - User Table|Label 1'!D24=\"\",\"\",'Age - User Table|Label 1'!D24)","v":""},{"$f":"IF('Age - User Table|Label 1'!E24=\"\",\"\",'Age - User Table|Label 1'!E24)","v":""},{"$f":"IF('Age - User Table|Label 1'!F24=\"\",\"\",'Age - User Table|Label 1'!F24)","v":""}]
[19,{"$f":"IF('Age - User Table|Label 1'!B25=\"\",\"\",'Age - User Table|Label 1'!B25)","v":""},{"$f":"IF('Age - User Table|Label 1'!C25=\"\",\"\",'Age - User Table|Label 1'!C25)","v":""},{"$f":"IF('Age - User Table|Label 1'!D25=\"\",\"\",'Age - User Table|Label 1'!D25)","v":""},{"$f":"IF('Age - User Table|Label 1'!E25=\"\",\"\",'Age - User Table|Label 1'!E25)","v":""},{"$f":"IF('Age - User Table|Label 1'!F25=\"\",\"\",'Age - User Table|Label 1'!F25)","v":""}]
[20,{"$f":"IF('Age - User Table|Label 1'!B26=\"\",\"\",'Age - User Table|Label 1'!B26)","v":""},{"$f":"IF('Age - User Table|Label 1'!C26=\"\",\"\",'Age - User Table|Label 1'!C26)","v":""},{"$f":"IF('Age - User Table|Label 1'!D26=\"\",\"\",'Age - User Table|Label 1'!D26)","v":""},{"$f":"IF('Age - User Table|Label 1'!E26=\"\",\"\",'Age - User Table|Label 1'!E26)","v":""},{"$f":"IF('Age - User Table|Label 1'!F26=\"\",\"\",'Age - User Table|Label 1'!F26)","v":""}]
[21,{"$f":"IF('Age - User Table|Label 1'!B27=\"\",\"\",'Age - User Table|Label 1'!B27)","v":""},{"$f":"IF('Age - User Table|Label 1'!C27=\"\",\"\",'Age - User Table|Label 1'!C27)","v":""},{"$f":"IF('Age - User Table|Label 1'!D27=\"\",\"\",'Age - User Table|Label 1'!D27)","v":""},{"$f":"IF('Age - User Table|Label 1'!E27=\"\",\"\",'Age - User Table|Label 1'!E27)","v":""},{"$f":"IF('Age - User Table|Label 1'!F27=\"\",\"\",'Age - User Table|Label 1'!F27)","v":""}]
[22,{"$f":"IF('Age - User Table|Label 1'!B28=\"\",\"\",'Age - User Table|Label 1'!B28)","v":""},{"$f":"IF('Age - User Table|Label 1'!C28=\"\",\"\",'Age - User Table|Label 1'!C28)","v":""},{"$f":"IF('Age - User Table|Label 1'!D28=\"\",\"\",'Age - User Table|Label 1'!D28)","v":""},{"$f":"IF('Age - User Table|Label 1'!E28=\"\",\"\",'Age - User Table|Label 1'!E28)","v":""},{"$f":"IF('Age - User Table|Label 1'!F28=\"\",\"\",'Age - User Table|Label 1'!F28)","v":""}]
[23,{"$f":"IF('Age - User Table|Label 1'!B29=\"\",\"\",'Age - User Table|Label 1'!B29)","v":""},{"$f":"IF('Age - User Table|Label 1'!C29=\"\",\"\",'Age - User Table|Label 1'!C29)","v":""},{"$f":"IF('Age - User Table|Label 1'!D29=\"\",\"\",'Age - User Table|Label 1'!D29)","v":""},{"$f":"IF('Age - User Table|Label 1'!E29=\"\",\"\",'Age - User Table|Label 1'!E29)","v":""},{"$f":"IF('Age - User Table|Label 1'!F29=\"\",\"\",'Age - User Table|Label 1'!F29)","v":""}]
[24,{"$f":"IF('Age - User Table|Label 1'!B30=\"\",\"\",'Age - User Table|Label 1'!B30)","v":""},{"$f":"IF('Age - User Table|Label 1'!C30=\"\",\"\",'Age - User Table|Label 1'!C30)","v":""},{"$f":"IF('Age - User Table|Label 1'!D30=\"\",\"\",'Age - User Table|Label 1'!D30)","v":""},{"$f":"IF('Age - User Table|Label 1'!E30=\"\",\"\",'Age - User Table|Label 1'!E30)","v":""},{"$f":"IF('Age - User Table|Label 1'!F30=\"\",\"\",'Age - User Table|Label 1'!F30)","v":""}]
[25,{"$f":"IF('Age - User Table|Label 1'!B31=\"\",\"\",'Age - User Table|Label 1'!B31)","v":""},{"$f":"IF('Age - User Table|Label 1'!C31=\"\",\"\",'Age - User Table|Label 1'!C31)","v":""},{"$f":"IF('Age - User Table|Label 1'!D31=\"\",\"\",'Age - User Table|Label 1'!D31)","v":""},{"$f":"IF('Age - User Table|Label 1'!E31=\"\",\"\",'Age - User Table|Label 1'!E31)","v":""},{"$f":"IF('Age - User Table|Label 1'!F31=\"\",\"\",'Age - User Table|Label 1'!F31)","v":""}]
[26,{"$f":"IF('Age - User Table|Label 1'!B32=\"\",\"\",'Age - User Table|Label 1'!B32)","v":""},{"$f":"IF('Age - User Table|Label 1'!C32=\"\",\"\",'Age - User Table|Label 1'!C32)","v":""},{"$f":"IF('Age - User Table|Label 1'!D32=\"\",\"\",'Age - User Table|Label 1'!D32)","v":""},{"$f":"IF('Age - User Table|Label 1'!E32=\"\",\"\",'Age - User Table|Label 1'!E32)","v":""},{"$f":"IF('Age - User Table|Label 1'!F32=\"\",\"\",'Age - User Table|Label 1'!F32)","v":""}]
[27,{"$f":"IF('Age - User Table|Label 1'!B33=\"\",\"\",'Age - User Table|Label 1'!B33)","v":""},{"$f":"IF('Age - User Table|Label 1'!C33=\"\",\"\",'Age - User Table|Label 1'!C33)","v":""},{"$f":"IF('Age - User Table|Label 1'!D33=\"\",\"\",'Age - User Table|Label 1'!D33)","v":""},{"$f":"IF('Age - User Table|Label 1'!E33=\"\",\"\",'Age - User Table|Label 1'!E33)","v":""},{"$f":"IF('Age - User Table|Label 1'!F33=\"\",\"\",'Age - User Table|Label 1'!F33)","v":""}]
[28,{"$f":"IF('Age - User Table|Label 1'!B34=\"\",\"\",'Age - User Table|Label 1'!B34)","v":""},{"$f":"IF('Age - User Table|Label 1'!C34=\"\",\"\",'Age - User Table|Label 1'!C34)","v":""},{"$f":"IF('Age - User Table|Label 1'!D34=\"\",\"\",'Age - User Table|Label 1'!D34)","v":""},{"$f":"IF('Age - User Table|Label 1'!E34=\"\",\"\",'Age - User Table|Label 1'!E34)","v":""},{"$f":"IF('Age - User Table|Label 1'!F34=\"\",\"\",'Age - User Table|Label 1'!F34)","v":""}]
[29,{"$f":"IF('Age - User Table|Label 1'!B35=\"\",\"\",'Age - User Table|Label 1'!B35)","v":""},{"$f":"IF('Age - User Table|Label 1'!C35=\"\",\"\",'Age - User Table|Label 1'!C35)","v":""},{"$f":"IF('Age - User Table|Label 1'!D35=\"\",\"\",'Age - User Table|Label 1'!D35)","v":""},{"$f":"IF('Age - User Table|Label 1'!E35=\"\",\"\",'Age - User Table|Label 1'!E35)","v":""},{"$f":"IF('Age - User Table|Label 1'!F35=\"\",\"\",'Age - User Table|Label 1'!F35)","v":""}]
[30,{"$f":"IF('Age - User Table|Label 1'!B36=\"\",\"\",'Age - User Table|Label 1'!B36)","v":""},{"$f":"IF('Age - User Table|Label 1'!C36=\"\",\"\",'Age - User Table|Label 1'!C36)","v":""},{"$f":"IF('Age - User Table|Label 1'!D36=\"\",\"\",'Age - User Table|Label 1'!D36)","v":""},{"$f":"IF('Age - User Table|Label 1'!E36=\"\",\"\",'Age - User Table|Label 1'!E36)","v":""},{"$f":"IF('Age - User Table|Label 1'!F36=\"\",\"\",'Age - User Table|Label 1'!F36)","v":""}]
[31,{"$f":"IF('Age - User Table|Label 1'!B37=\"\",\"\",'Age - User Table|Label 1'!B37)","v":""},{"$f":"IF('Age - User Table|Label 1'!C37=\"\",\"\",'Age - User Table|Label 1'!C37)","v":""},{"$f":"IF('Age - User Table|Label 1'!D37=\"\",\"\",'Age - User Table|Label 1'!D37)","v":""},{"$f":"IF('Age - User Table|Label 1'!E37=\"\",\"\",'Age - User Table|Label 1'!E37)","v":""},{"$f":"IF('Age - User Table|Label 1'!F37=\"\",\"\",'Age - User Table|Label 1'!F37)","v":""}]
[32,{"$f":"IF('Age - User Table|Label 1'!B38=\"\",\"\",'Age - User Table|Label 1'!B38)","v":""},{"$f":"IF('Age - User Table|Label 1'!C38=\"\",\"\",'Age - User Table|Label 1'!C38)","v":""},{"$f":"IF('Age - User Table|Label 1'!D38=\"\",\"\",'Age - User Table|Label 1'!D38)","v":""},{"$f":"IF('Age - User Table|Label 1'!E38=\"\",\"\",'Age - User Table|Label 1'!E38)","v":""},{"$f":"IF('Age - User Table|Label 1'!F38=\"\",\"\",'Age - User Table|Label 1'!F38)","v":""}]
[33,{"$f":"IF('Age - User Table|Label 1'!B39=\"\",\"\",'Age - User Table|Label 1'!B39)","v":""},{"$f":"IF('Age - User Table|Label 1'!C39=\"\",\"\",'Age - User Table|Label 1'!C39)","v":""},{"$f":"IF('Age - User Table|Label 1'!D39=\"\",\"\",'Age - User Table|Label 1'!D39)","v":""},{"$f":"IF('Age - User Table|Label 1'!E39=\"\",\"\",'Age - User Table|Label 1'!E39)","v":""},{"$f":"IF('Age - User Table|Label 1'!F39=\"\",\"\",'Age - User Table|Label 1'!F39)","v":""}]
[34,{"$f":"IF('Age - User Table|Label 1'!B40=\"\",\"\",'Age - User Table|Label 1'!B40)","v":""},{"$f":"IF('Age - User Table|Label 1'!C40=\"\",\"\",'Age - User Table|Label 1'!C40)","v":""},{"$f":"IF('Age - User Table|Label 1'!D40=\"\",\"\",'Age - User Table|Label 1'!D40)","v":""},{"$f":"IF('Age - User Table|Label 1'!E40=\"\",\"\",'Age - User Table|Label 1'!E40)","v":""},{"$f":"IF('Age - User Table|Label 1'!F40=\"\",\"\",'Age - User Table|Label 1'!F40)","v":""}]
[35,{"$f":"IF('Age - User Table|Label 1'!B41=\"\",\"\",'Age - User Table|Label 1'!B41)","v":""},{"$f":"IF('Age - User Table|Label 1'!C41=\"\",\"\",'Age - User Table|Label 1'!C41)","v":""},{"$f":"IF('Age - User Table|Label 1'!D41=\"\",\"\",'Age - User Table|Label 1'!D41)","v":""},{"$f":"IF('Age - User Table|Label 1'!E41=\"\",\"\",'Age - User Table|Label 1'!E41)","v":""},{"$f":"IF('Age - User Table|Label 1'!F41=\"\",\"\",'Age - User Table|Label 1'!F41)","v":""}]
[36,{"$f":"IF('Age - User Table|Label 1'!B42=\"\",\"\",'Age - User Table|Label 1'!B42)","v":""},{"$f":"IF('Age - User Table|Label 1'!C42=\"\",\"\",'Age - User Table|Label 1'!C42)","v":""},{"$f":"IF('Age - User Table|Label 1'!D42=\"\",\"\",'Age - User Table|Label 1'!D42)","v":""},{"$f":"IF('Age - User Table|Label 1'!E42=\"\",\"\",'Age - User Table|Label 1'!E42)","v":""},{"$f":"IF('Age - User Table|Label 1'!F42=\"\",\"\",'Age - User Table|Label 1'!F42)","v":""}]
[37,{"$f":"IF('Age - User Table|Label 1'!B43=\"\",\"\",'Age - User Table|Label 1'!B43)","v":""},{"$f":"IF('Age - User Table|Label 1'!C43=\"\",\"\",'Age - User Table|Label 1'!C43)","v":""},{"$f":"IF('Age - User Table|Label 1'!D43=\"\",\"\",'Age - User Table|Label 1'!D43)","v":""},{"$f":"IF('Age - User Table|Label 1'!E43=\"\",\"\",'Age - User Table|Label 1'!E43)","v":""},{"$f":"IF('Age - User Table|Label 1'!F43=\"\",\"\",'Age - User Table|Label 1'!F43)","v":""}]
[38,{"$f":"IF('Age - User Table|Label 1'!B44=\"\",\"\",'Age - User Table|Label 1'!B44)","v":""},{"$f":"IF('Age - User Table|Label 1'!C44=\"\",\"\",'Age - User Table|Label 1'!C44)","v":""},{"$f":"IF('Age - User Table|Label 1'!D44=\"\",\"\",'Age - User Table|Label 1'!D44)","v":""},{"$f":"IF('Age - User Table|Label 1'!E44=\"\",\"\",'Age - User Table|Label 1'!E44)","v":""},{"$f":"IF('Age - User Table|Label 1'!F44=\"\",\"\",'Age - User Table|Label 1'!F44)","v":""}]
[39,{"$f":"IF('Age - User Table|Label 1'!B45=\"\",\"\",'Age - User Table|Label 1'!B45)","v":""},{"$f":"IF('Age - User Table|Label 1'!C45=\"\",\"\",'Age - User Table|Label 1'!C45)","v":""},{"$f":"IF('Age - User Table|Label 1'!D45=\"\",\"\",'Age - User Table|Label 1'!D45)","v":""},{"$f":"IF('Age - User Table|Label 1'!E45=\"\",\"\",'Age - User Table|Label 1'!E45)","v":""},{"$f":"IF('Age - User Table|Label 1'!F45=\"\",\"\",'Age - User Table|Label 1'!F45)","v":""}]
[40,{"$f":"IF('Age - User Table|Label 1'!B46=\"\",\"\",'Age - User Table|Label 1'!B46)","v":""},{"$f":"IF('Age - User Table|Label 1'!C46=\"\",\"\",'Age - User Table|Label 1'!C46)","v":""},{"$f":"IF('Age - User Table|Label 1'!D46=\"\",\"\",'Age - User Table|Label 1'!D46)","v":""},{"$f":"IF('Age - User Table|Label 1'!E46=\"\",\"\",'Age - User Table|Label 1'!E46)","v":""},{"$f":"IF('Age - User Table|Label 1'!F46=\"\",\"\",'Age - User Table|Label 1'!F46)","v":""}]
[41,{"$f":"IF('Age - User Table|Label 1'!B47=\"\",\"\",'Age - User Table|Label 1'!B47)","v":""},{"$f":"IF('Age - User Table|Label 1'!C47=\"\",\"\",'Age - User Table|Label 1'!C47)","v":""},{"$f":"IF('Age - User Table|Label 1'!D47=\"\",\"\",'Age - User Table|Label 1'!D47)","v":""},{"$f":"IF('Age - User Table|Label 1'!E47=\"\",\"\",'Age - User Table|Label 1'!E47)","v":""},{"$f":"IF('Age - User Table|Label 1'!F47=\"\",\"\",'Age - User Table|Label 1'!F47)","v":""}]
[42,{"$f":"IF('Age - User Table|Label 1'!B48=\"\",\"\",'Age - User Table|Label 1'!B48)","v":""},{"$f":"IF('Age - User Table|Label 1'!C48=\"\",\"\",'Age - User Table|Label 1'!C48)","v":""},{"$f":"IF('Age - User Table|Label 1'!D48=\"\",\"\",'Age - User Table|Label 1'!D48)","v":""},{"$f":"IF('Age - User Table|Label 1'!E48=\"\",\"\",'Age - User Table|Label 1'!E48)","v":""},{"$f":"IF('Age - User Table|Label 1'!F48=\"\",\"\",'Age - User Table|Label 1'!F48)","v":""}]
[43,{"$f":"IF('Age - User Table|Label 1'!B49=\"\",\"\",'Age - User Table|Label 1'!B49)","v":""},{"$f":"IF('Age - User Table|Label 1'!C49=\"\",\"\",'Age - User Table|Label 1'!C49)","v":""},{"$f":"IF('Age - User Table|Label 1'!D49=\"\",\"\",'Age - User Table|Label 1'!D49)","v":""},{"$f":"IF('Age - User Table|Label 1'!E49=\"\",\"\",'Age - User Table|Label 1'!E49)","v":""},{"$f":"IF('Age - User Table|Label 1'!F49=\"\",\"\",'Age - User Table|Label 1'!F49)","v":""}]
[44,{"$f":"IF('Age - User Table|Label 1'!B50=\"\",\"\",'Age - User Table|Label 1'!B50)","v":""},{"$f":"IF('Age - User Table|Label 1'!C50=\"\",\"\",'Age - User Table|Label 1'!C50)","v":""},{"$f":"IF('Age - User Table|Label 1'!D50=\"\",\"\",'Age - User Table|Label 1'!D50)","v":""},{"$f":"IF('Age - User Table|Label 1'!E50=\"\",\"\",'Age - User Table|Label 1'!E50)","v":""},{"$f":"IF('Age - User Table|Label 1'!F50=\"\",\"\",'Age - User Table|Label 1'!F50)","v":""}]
[45,{"$f":"IF('Age - User Table|Label 1'!B51=\"\",\"\",'Age - User Table|Label 1'!B51)","v":""},{"$f":"IF('Age - User Table|Label 1'!C51=\"\",\"\",'Age - User Table|Label 1'!C51)","v":""},{"$f":"IF('Age - User Table|Label 1'!D51=\"\",\"\",'Age - User Table|Label 1'!D51)","v":""},{"$f":"IF('Age - User Table|Label 1'!E51=\"\",\"\",'Age - User Table|Label 1'!E51)","v":""},{"$f":"IF('Age - User Table|Label 1'!F51=\"\",\"\",'Age - User Table|Label 1'!F51)","v":""}]
[46,{"$f":"IF('Age - User Table|Label 1'!B52=\"\",\"\",'Age - User Table|Label 1'!B52)","v":""},{"$f":"IF('Age - User Table|Label 1'!C52=\"\",\"\",'Age - User Table|Label 1'!C52)","v":""},{"$f":"IF('Age - User Table|Label 1'!D52=\"\",\"\",'Age - User Table|Label 1'!D52)","v":""},{"$f":"IF('Age - User Table|Label 1'!E52=\"\",\"\",'Age - User Table|Label 1'!E52)","v":""},{"$f":"IF('Age - User Table|Label 1'!F52=\"\",\"\",'Age - User Table|Label 1'!F52)","v":""}]
[47,{"$f":"IF('Age - User Table|Label 1'!B53=\"\",\"\",'Age - User Table|Label 1'!B53)","v":""},{"$f":"IF('Age - User Table|Label 1'!C53=\"\",\"\",'Age - User Table|Label 1'!C53)","v":""},{"$f":"IF('Age - User Table|Label 1'!D53=\"\",\"\",'Age - User Table|Label 1'!D53)","v":""},{"$f":"IF('Age - User Table|Label 1'!E53=\"\",\"\",'Age - User Table|Label 1'!E53)","v":""},{"$f":"IF('Age - User Table|Label 1'!F53=\"\",\"\",'Age - User Table|Label 1'!F53)","v":""}]
[48,{"$f":"IF('Age - User Table|Label 1'!B54=\"\",\"\",'Age - User Table|Label 1'!B54)","v":""},{"$f":"IF('Age - User Table|Label 1'!C54=\"\",\"\",'Age - User Table|Label 1'!C54)","v":""},{"$f":"IF('Age - User Table|Label 1'!D54=\"\",\"\",'Age - User Table|Label 1'!D54)","v":""},{"$f":"IF('Age - User Table|Label 1'!E54=\"\",\"\",'Age - User Table|Label 1'!E54)","v":""},{"$f":"IF('Age - User Table|Label 1'!F54=\"\",\"\",'Age - User Table|Label 1'!F54)","v":""}]
[49,{"$f":"IF('Age - User Table|Label 1'!B55=\"\",\"\",'Age - User Table|Label 1'!B55)","v":""},{"$f":"IF('Age - User Table|Label 1'!C55=\"\",\"\",'Age - User Table|Label 1'!C55)","v":""},{"$f":"IF('Age - User Table|Label 1'!D55=\"\",\"\",'Age - User Table|Label 1'!D55)","v":""},{"$f":"IF('Age - User Table|Label 1'!E55=\"\",\"\",'Age - User Table|Label 1'!E55)","v":""},{"$f":"IF('Age - User Table|Label 1'!F55=\"\",\"\",'Age - User Table|Label 1'!F55)","v":""}]
[50,{"$f":"IF('Age - User Table|Label 1'!B56=\"\",\"\",'Age - User Table|Label 1'!B56)","v":""},{"$f":"IF('Age - User Table|Label 1'!C56=\"\",\"\",'Age - User Table|Label 1'!C56)","v":""},{"$f":"IF('Age - User Table|Label 1'!D56=\"\",\"\",'Age - User Table|Label 1'!D56)","v":""},{"$f":"IF('Age - User Table|Label 1'!E56=\"\",\"\",'Age - User Table|Label 1'!E56)","v":""},{"$f":"IF('Age - User Table|Label 1'!F56=\"\",\"\",'Age - User Table|Label 1'!F56)","v":""}]
[51,{"$f":"IF('Age - User Table|Label 1'!B57=\"\",\"\",'Age - User Table|Label 1'!B57)","v":""},{"$f":"IF('Age - User Table|Label 1'!C57=\"\",\"\",'Age - User Table|Label 1'!C57)","v":""},{"$f":"IF('Age - User Table|Label 1'!D57=\"\",\"\",'Age - User Table|Label 1'!D57)","v":""},{"$f":"IF('Age - User Table|Label 1'!E57=\"\",\"\",'Age - User Table|Label 1'!E57)","v":""},{"$f":"IF('Age - User Table|Label 1'!F57=\"\",\"\",'Age - User Table|Label 1'!F57)","v":""}]
[52,{"$f":"IF('Age - User Table|Label 1'!B58=\"\",\"\",'Age - User Table|Label 1'!B58)","v":""},{"$f":"IF('Age - User Table|Label 1'!C58=\"\",\"\",'Age - User Table|Label 1'!C58)","v":""},{"$f":"IF('Age - User Table|Label 1'!D58=\"\",\"\",'Age - User Table|Label 1'!D58)","v":""},{"$f":"IF('Age - User Table|Label 1'!E58=\"\",\"\",'Age - User Table|Label 1'!E58)","v":""},{"$f":"IF('Age - User Table|Label 1'!F58=\"\",\"\",'Age - User Table|Label 1'!F58)","v":""}]
[53,{"$f":"IF('Age - User Table|Label 1'!B59=\"\",\"\",'Age - User Table|Label 1'!B59)","v":""},{"$f":"IF('Age - User Table|Label 1'!C59=\"\",\"\",'Age - User Table|Label 1'!C59)","v":""},{"$f":"IF('Age - User Table|Label 1'!D59=\"\",\"\",'Age - User Table|Label 1'!D59)","v":""},{"$f":"IF('Age - User Table|Label 1'!E59=\"\",\"\",'Age - User Table|Label 1'!E59)","v":""},{"$f":"IF('Age - User Table|Label 1'!F59=\"\",\"\",'Age - User Table|Label 1'!F59)","v":""}]
[54,{"$f":"IF('Age - User Table|Label 1'!B60=\"\",\"\",'Age - User Table|Label 1'!B60)","v":""},{"$f":"IF('Age - User Table|Label 1'!C60=\"\",\"\",'Age - User Table|Label 1'!C60)","v":""},{"$f":"IF('Age - User Table|Label 1'!D60=\"\",\"\",'Age - User Table|Label 1'!D60)","v":""},{"$f":"IF('Age - User Table|Label 1'!E60=\"\",\"\",'Age - User Table|Label 1'!E60)","v":""},{"$f":"IF('Age - User Table|Label 1'!F60=\"\",\"\",'Age - User Table|Label 1'!F60)","v":""}]
[55,{"$f":"IF('Age - User Table|Label 1'!B61=\"\",\"\",'Age - User Table|Label 1'!B61)","v":""},{"$f":"IF('Age - User Table|Label 1'!C61=\"\",\"\",'Age - User Table|Label 1'!C61)","v":""},{"$f":"IF('Age - User Table|Label 1'!D61=\"\",\"\",'Age - User Table|Label 1'!D61)","v":""},{"$f":"IF('Age - User Table|Label 1'!E61=\"\",\"\",'Age - User Table|Label 1'!E61)","v":""},{"$f":"IF('Age - User Table|Label 1'!F61=\"\",\"\",'Age - User Table|Label 1'!F61)","v":""}]
[56,{"$f":"IF('Age - User Table|Label 1'!B62=\"\",\"\",'Age - User Table|Label 1'!B62)","v":""},{"$f":"IF('Age - User Table|Label 1'!C62=\"\",\"\",'Age - User Table|Label 1'!C62)","v":""},{"$f":"IF('Age - User Table|Label 1'!D62=\"\",\"\",'Age - User Table|Label 1'!D62)","v":""},{"$f":"IF('Age - User Table|Label 1'!E62=\"\",\"\",'Age - User Table|Label 1'!E62)","v":""},{"$f":"IF('Age - User Table|Label 1'!F62=\"\",\"\",'Age - User Table|Label 1'!F62)","v":""}]
[57,{"$f":"IF('Age - User Table|Label 1'!B63=\"\",\"\",'Age - User Table|Label 1'!B63)","v":""},{"$f":"IF('Age - User Table|Label 1'!C63=\"\",\"\",'Age - User Table|Label 1'!C63)","v":""},{"$f":"IF('Age - User Table|Label 1'!D63=\"\",\"\",'Age - User Table|Label 1'!D63)","v":""},{"$f":"IF('Age - User Table|Label 1'!E63=\"\",\"\",'Age - User Table|Label 1'!E63)","v":""},{"$f":"IF('Age - User Table|Label 1'!F63=\"\",\"\",'Age - User Table|Label 1'!F63)","v":""}]
[58,{"$f":"IF('Age - User Table|Label 1'!B64=\"\",\"\",'Age - User Table|Label 1'!B64)","v":""},{"$f":"IF('Age - User Table|Label 1'!C64=\"\",\"\",'Age - User Table|Label 1'!C64)","v":""},{"$f":"IF('Age - User Table|Label 1'!D64=\"\",\"\",'Age - User Table|Label 1'!D64)","v":""},{"$f":"IF('Age - User Table|Label 1'!E64=\"\",\"\",'Age - User Table|Label 1'!E64)","v":""},{"$f":"IF('Age - User Table|Label 1'!F64=\"\",\"\",'Age - User Table|Label 1'!F64)","v":""}]
[59,{"$f":"IF('Age - User Table|Label 1'!B65=\"\",\"\",'Age - User Table|Label 1'!B65)","v":""},{"$f":"IF('Age - User Table|Label 1'!C65=\"\",\"\",'Age - User Table|Label 1'!C65)","v":""},{"$f":"IF('Age - User Table|Label 1'!D65=\"\",\"\",'Age - User Table|Label 1'!D65)","v":""},{"$f":"IF('Age - User Table|Label 1'!E65=\"\",\"\",'Age - User Table|Label 1'!E65)","v":""},{"$f":"IF('Age - User Table|Label 1'!F65=\"\",\"\",'Age - User Table|Label 1'!F65)","v":""}]
[60,{"$f":"IF('Age - User Table|Label 1'!B66=\"\",\"\",'Age - User Table|Label 1'!B66)","v":""},{"$f":"IF('Age - User Table|Label 1'!C66=\"\",\"\",'Age - User Table|Label 1'!C66)","v":""},{"$f":"IF('Age - User Table|Label 1'!D66=\"\",\"\",'Age - User Table|Label 1'!D66)","v":""},{"$f":"IF('Age - User Table|Label 1'!E66=\"\",\"\",'Age - User Table|Label 1'!E66)","v":""},{"$f":"IF('Age - User Table|Label 1'!F66=\"\",\"\",'Age - User Table|Label 1'!F66)","v":""}]
[61,{"$f":"IF('Age - User Table|Label 1'!B67=\"\",\"\",'Age - User Table|Label 1'!B67)","v":""},{"$f":"IF('Age - User Table|Label 1'!C67=\"\",\"\",'Age - User Table|Label 1'!C67)","v":""},{"$f":"IF('Age - User Table|Label 1'!D67=\"\",\"\",'Age - User Table|Label 1'!D67)","v":""},{"$f":"IF('Age - User Table|Label 1'!E67=\"\",\"\",'Age - User Table|Label 1'!E67)","v":""},{"$f":"IF('Age - User Table|Label 1'!F67=\"\",\"\",'Age - User Table|Label 1'!F67)","v":""}]
[62,{"$f":"IF('Age - User Table|Label 1'!B68=\"\",\"\",'Age - User Table|Label 1'!B68)","v":""},{"$f":"IF('Age - User Table|Label 1'!C68=\"\",\"\",'Age - User Table|Label 1'!C68)","v":""},{"$f":"IF('Age - User Table|Label 1'!D68=\"\",\"\",'Age - User Table|Label 1'!D68)","v":""},{"$f":"IF('Age - User Table|Label 1'!E68=\"\",\"\",'Age - User Table|Label 1'!E68)","v":""},{"$f":"IF('Age - User Table|Label 1'!F68=\"\",\"\",'Age - User Table|Label 1'!F68)","v":""}]
[63,{"$f":"IF('Age - User Table|Label 1'!B69=\"\",\"\",'Age - User Table|Label 1'!B69)","v":""},{"$f":"IF('Age - User Table|Label 1'!C69=\"\",\"\",'Age - User Table|Label 1'!C69)","v":""},{"$f":"IF('Age - User Table|Label 1'!D69=\"\",\"\",'Age - User Table|Label 1'!D69)","v":""},{"$f":"IF('Age - User Table|Label 1'!E69=\"\",\"\",'Age - User Table|Label 1'!E69)","v":""},{"$f":"IF('Age - User Table|Label 1'!F69=\"\",\"\",'Age - User Table|Label 1'!F69)","v":""}]
[64,{"$f":"IF('Age - User Table|Label 1'!B70=\"\",\"\",'Age - User Table|Label 1'!B70)","v":""},{"$f":"IF('Age - User Table|Label 1'!C70=\"\",\"\",'Age - User Table|Label 1'!C70)","v":""},{"$f":"IF('Age - User Table|Label 1'!D70=\"\",\"\",'Age - User Table|Label 1'!D70)","v":""},{"$f":"IF('Age - User Table|Label 1'!E70=\"\",\"\",'Age - User Table|Label 1'!E70)","v":""},{"$f":"IF('Age - User Table|Label 1'!F70=\"\",\"\",'Age - User Table|Label 1'!F70)","v":""}]
[65,{"$f":"IF('Age - User Table|Label 1'!B71=\"\",\"\",'Age - User Table|Label 1'!B71)","v":""},{"$f":"IF('Age - User Table|Label 1'!C71=\"\",\"\",'Age - User Table|Label 1'!C71)","v":""},{"$f":"IF('Age - User Table|Label 1'!D71=\"\",\"\",'Age - User Table|Label 1'!D71)","v":""},{"$f":"IF('Age - User Table|Label 1'!E71=\"\",\"\",'Age - User Table|Label 1'!E71)","v":""},{"$f":"IF('Age - User Table|Label 1'!F71=\"\",\"\",'Age - User Table|Label 1'!F71)","v":""}]
[66,{"$f":"IF('Age - User Table|Label 1'!B72=\"\",\"\",'Age - User Table|Label 1'!B72)","v":""},{"$f":"IF('Age - User Table|Label 1'!C72=\"\",\"\",'Age - User Table|Label 1'!C72)","v":""},{"$f":"IF('Age - User Table|Label 1'!D72=\"\",\"\",'Age - User Table|Label 1'!D72)","v":""},{"$f":"IF('Age - User Table|Label 1'!E72=\"\",\"\",'Age - User Table|Label 1'!E72)","v":""},{"$f":"IF('Age - User Table|Label 1'!F72=\"\",\"\",'Age - User Table|Label 1'!F72)","v":""}]
[67,{"$f":"IF('Age - User Table|Label 1'!B73=\"\",\"\",'Age - User Table|Label 1'!B73)","v":""},{"$f":"IF('Age - User Table|Label 1'!C73=\"\",\"\",'Age - User Table|Label 1'!C73)","v":""},{"$f":"IF('Age - User Table|Label 1'!D73=\"\",\"\",'Age - User Table|Label 1'!D73)","v":""},{"$f":"IF('Age - User Table|Label 1'!E73=\"\",\"\",'Age - User Table|Label 1'!E73)","v":""},{"$f":"IF('Age - User Table|Label 1'!F73=\"\",\"\",'Age - User Table|Label 1'!F73)","v":""}]
[68,{"$f":"IF('Age - User Table|Label 1'!B74=\"\",\"\",'Age - User Table|Label 1'!B74)","v":""},{"$f":"IF('Age - User Table|Label 1'!C74=\"\",\"\",'Age - User Table|Label 1'!C74)","v":""},{"$f":"IF('Age - User Table|Label 1'!D74=\"\",\"\",'Age - User Table|Label 1'!D74)","v":""},{"$f":"IF('Age - User Table|Label 1'!E74=\"\",\"\",'Age - User Table|Label 1'!E74)","v":""},{"$f":"IF('Age - User Table|Label 1'!F74=\"\",\"\",'Age - User Table|Label 1'!F74)","v":""}]
[69,{"$f":"IF('Age - User Table|Label 1'!B75=\"\",\"\",'Age - User Table|Label 1'!B75)","v":""},{"$f":"IF('Age - User Table|Label 1'!C75=\"\",\"\",'Age - User Table|Label 1'!C75)","v":""},{"$f":"IF('Age - User Table|Label 1'!D75=\"\",\"\",'Age - User Table|Label 1'!D75)","v":""},{"$f":"IF('Age - User Table|Label 1'!E75=\"\",\"\",'Age - User Table|Label 1'!E75)","v":""},{"$f":"IF('Age - User Table|Label 1'!F75=\"\",\"\",'Age - User Table|Label 1'!F75)","v":""}]
[70,{"$f":"IF('Age - User Table|Label 1'!B76=\"\",\"\",'Age - User Table|Label 1'!B76)","v":""},{"$f":"IF('Age - User Table|Label 1'!C76=\"\",\"\",'Age - User Table|Label 1'!C76)","v":""},{"$f":"IF('Age - User Table|Label 1'!D76=\"\",\"\",'Age - User Table|Label 1'!D76)","v":""},{"$f":"IF('Age - User Table|Label 1'!E76=\"\",\"\",'Age - User Table|Label 1'!E76)","v":""},{"$f":"IF('Age - User Table|Label 1'!F76=\"\",\"\",'Age - User Table|Label 1'!F76)","v":""}]
[71,{"$f":"IF('Age - User Table|Label 1'!B77=\"\",\"\",'Age - User Table|Label 1'!B77)","v":""},{"$f":"IF('Age - User Table|Label 1'!C77=\"\",\"\",'Age - User Table|Label 1'!C77)","v":""},{"$f":"IF('Age - User Table|Label 1'!D77=\"\",\"\",'Age - User Table|Label 1'!D77)","v":""},{"$f":"IF('Age - User Table|Label 1'!E77=\"\",\"\",'Age - User Table|Label 1'!E77)","v":""},{"$f":"IF('Age - User Table|Label 1'!F77=\"\",\"\",'Age - User Table|Label 1'!F77)","v":""}]
[72,{"$f":"IF('Age - User Table|Label 1'!B78=\"\",\"\",'Age - User Table|Label 1'!B78)","v":""},{"$f":"IF('Age - User Table|Label 1'!C78=\"\",\"\",'Age - User Table|Label 1'!C78)","v":""},{"$f":"IF('Age - User Table|Label 1'!D78=\"\",\"\",'Age - User Table|Label 1'!D78)","v":""},{"$f":"IF('Age - User Table|Label 1'!E78=\"\",\"\",'Age - User Table|Label 1'!E78)","v":""},{"$f":"IF('Age - User Table|Label 1'!F78=\"\",\"\",'Age - User Table|Label 1'!F78)","v":""}]
[73,{"$f":"IF('Age - User Table|Label 1'!B79=\"\",\"\",'Age - User Table|Label 1'!B79)","v":""},{"$f":"IF('Age - User Table|Label 1'!C79=\"\",\"\",'Age - User Table|Label 1'!C79)","v":""},{"$f":"IF('Age - User Table|Label 1'!D79=\"\",\"\",'Age - User Table|Label 1'!D79)","v":""},{"$f":"IF('Age - User Table|Label 1'!E79=\"\",\"\",'Age - User Table|Label 1'!E79)","v":""},{"$f":"IF('Age - User Table|Label 1'!F79=\"\",\"\",'Age - User Table|Label 1'!F79)","v":""}]
[74,{"$f":"IF('Age - User Table|Label 1'!B80=\"\",\"\",'Age - User Table|Label 1'!B80)","v":""},{"$f":"IF('Age - User Table|Label 1'!C80=\"\",\"\",'Age - User Table|Label 1'!C80)","v":""},{"$f":"IF('Age - User Table|Label 1'!D80=\"\",\"\",'Age - User Table|Label 1'!D80)","v":""},{"$f":"IF('Age - User Table|Label 1'!E80=\"\",\"\",'Age - User Table|Label 1'!E80)","v":""},{"$f":"IF('Age - User Table|Label 1'!F80=\"\",\"\",'Age - User Table|Label 1'!F80)","v":""}]
[75,{"$f":"IF('Age - User Table|Label 1'!B81=\"\",\"\",'Age - User Table|Label 1'!B81)","v":""},{"$f":"IF('Age - User Table|Label 1'!C81=\"\",\"\",'Age - User Table|Label 1'!C81)","v":""},{"$f":"IF('Age - User Table|Label 1'!D81=\"\",\"\",'Age - User Table|Label 1'!D81)","v":""},{"$f":"IF('Age - User Table|Label 1'!E81=\"\",\"\",'Age - User Table|Label 1'!E81)","v":""},{"$f":"IF('Age - User Table|Label 1'!F81=\"\",\"\",'Age - User Table|Label 1'!F81)","v":""}]
[76,{"$f":"IF('Age - User Table|Label 1'!B82=\"\",\"\",'Age - User Table|Label 1'!B82)","v":""},{"$f":"IF('Age - User Table|Label 1'!C82=\"\",\"\",'Age - User Table|Label 1'!C82)","v":""},{"$f":"IF('Age - User Table|Label 1'!D82=\"\",\"\",'Age - User Table|Label 1'!D82)","v":""},{"$f":"IF('Age - User Table|Label 1'!E82=\"\",\"\",'Age - User Table|Label 1'!E82)","v":""},{"$f":"IF('Age - User Table|Label 1'!F82=\"\",\"\",'Age - User Table|Label 1'!F82)","v":""}]
[77,{"$f":"IF('Age - User Table|Label 1'!B83=\"\",\"\",'Age - User Table|Label 1'!B83)","v":""},{"$f":"IF('Age - User Table|Label 1'!C83=\"\",\"\",'Age - User Table|Label 1'!C83)","v":""},{"$f":"IF('Age - User Table|Label 1'!D83=\"\",\"\",'Age - User Table|Label 1'!D83)","v":""},{"$f":"IF('Age - User Table|Label 1'!E83=\"\",\"\",'Age - User Table|Label 1'!E83)","v":""},{"$f":"IF('Age - User Table|Label 1'!F83=\"\",\"\",'Age - User Table|Label 1'!F83)","v":""}]
[78,{"$f":"IF('Age - User Table|Label 1'!B84=\"\",\"\",'Age - User Table|Label 1'!B84)","v":""},{"$f":"IF('Age - User Table|Label 1'!C84=\"\",\"\",'Age - User Table|Label 1'!C84)","v":""},{"$f":"IF('Age - User Table|Label 1'!D84=\"\",\"\",'Age - User Table|Label 1'!D84)","v":""},{"$f":"IF('Age - User Table|Label 1'!E84=\"\",\"\",'Age - User Table|Label 1'!E84)","v":""},{"$f":"IF('Age - User Table|Label 1'!F84=\"\",\"\",'Age - User Table|Label 1'!F84)","v":""}]
[79,{"$f":"IF('Age - User Table|Label 1'!B85=\"\",\"\",'Age - User Table|Label 1'!B85)","v":""},{"$f":"IF('Age - User Table|Label 1'!C85=\"\",\"\",'Age - User Table|Label 1'!C85)","v":""},{"$f":"IF('Age - User Table|Label 1'!D85=\"\",\"\",'Age - User Table|Label 1'!D85)","v":""},{"$f":"IF('Age - User Table|Label 1'!E85=\"\",\"\",'Age - User Table|Label 1'!E85)","v":""},{"$f":"IF('Age - User Table|Label 1'!F85=\"\",\"\",'Age - User Table|Label 1'!F85)","v":""}]
[80,{"$f":"IF('Age - User Table|Label 1'!B86=\"\",\"\",'Age - User Table|Label 1'!B86)","v":""},{"$f":"IF('Age - User Table|Label 1'!C86=\"\",\"\",'Age - User Table|Label 1'!C86)","v":""},{"$f":"IF('Age - User Table|Label 1'!D86=\"\",\"\",'Age - User Table|Label 1'!D86)","v":""},{"$f":"IF('Age - User Table|Label 1'!E86=\"\",\"\",'Age - User Table|Label 1'!E86)","v":""},{"$f":"IF('Age - User Table|Label 1'!F86=\"\",\"\",'Age - User Table|Label 1'!F86)","v":""}]
[81,{"$f":"IF('Age - User Table|Label 1'!B87=\"\",\"\",'Age - User Table|Label 1'!B87)","v":""},{"$f":"IF('Age - User Table|Label 1'!C87=\"\",\"\",'Age - User Table|Label 1'!C87)","v":""},{"$f":"IF('Age - User Table|Label 1'!D87=\"\",\"\",'Age - User Table|Label 1'!D87)","v":""},{"$f":"IF('Age - User Table|Label 1'!E87=\"\",\"\",'Age - User Table|Label 1'!E87)","v":""},{"$f":"IF('Age - User Table|Label 1'!F87=\"\",\"\",'Age - User Table|Label 1'!F87)","v":""}]
[82,{"$f":"IF('Age - User Table|Label 1'!B88=\"\",\"\",'Age - User Table|Label 1'!B88)","v":""},{"$f":"IF('Age - User Table|Label 1'!C88=\"\",\"\",'Age - User Table|Label 1'!C88)","v":""},{"$f":"IF('Age - User Table|Label 1'!D88=\"\",\"\",'Age - User Table|Label 1'!D88)","v":""},{"$f":"IF('Age - User Table|Label 1'!E88=\"\",\"\",'Age - User Table|Label 1'!E88)","v":""},{"$f":"IF('Age - User Table|Label 1'!F88=\"\",\"\",'Age - User Table|Label 1'!F88)","v":""}]
[83,{"$f":"IF('Age - User Table|Label 1'!B89=\"\",\"\",'Age - User Table|Label 1'!B89)","v":""},{"$f":"IF('Age - User Table|Label 1'!C89=\"\",\"\",'Age - User Table|Label 1'!C89)","v":""},{"$f":"IF('Age - User Table|Label 1'!D89=\"\",\"\",'Age - User Table|Label 1'!D89)","v":""},{"$f":"IF('Age - User Table|Label 1'!E89=\"\",\"\",'Age - User Table|Label 1'!E89)","v":""},{"$f":"IF('Age - User Table|Label 1'!F89=\"\",\"\",'Age - User Table|Label 1'!F89)","v":""}]
[84,{"$f":"IF('Age - User Table|Label 1'!B90=\"\",\"\",'Age - User Table|Label 1'!B90)","v":""},{"$f":"IF('Age - User Table|Label 1'!C90=\"\",\"\",'Age - User Table|Label 1'!C90)","v":""},{"$f":"IF('Age - User Table|Label 1'!D90=\"\",\"\",'Age - User Table|Label 1'!D90)","v":""},{"$f":"IF('Age - User Table|Label 1'!E90=\"\",\"\",'Age - User Table|Label 1'!E90)","v":""},{"$f":"IF('Age - User Table|Label 1'!F90=\"\",\"\",'Age - User Table|Label 1'!F90)","v":""}]
[85,{"$f":"IF('Age - User Table|Label 1'!B91=\"\",\"\",'Age - User Table|Label 1'!B91)","v":""},{"$f":"IF('Age - User Table|Label 1'!C91=\"\",\"\",'Age - User Table|Label 1'!C91)","v":""},{"$f":"IF('Age - User Table|Label 1'!D91=\"\",\"\",'Age - User Table|Label 1'!D91)","v":""},{"$f":"IF('Age - User Table|Label 1'!E91=\"\",\"\",'Age - User Table|Label 1'!E91)","v":""},{"$f":"IF('Age - User Table|Label 1'!F91=\"\",\"\",'Age - User Table|Label 1'!F91)","v":""}]
[86,{"$f":"IF('Age - User Table|Label 1'!B92=\"\",\"\",'Age - User Table|Label 1'!B92)","v":""},{"$f":"IF('Age - User Table|Label 1'!C92=\"\",\"\",'Age - User Table|Label 1'!C92)","v":""},{"$f":"IF('Age - User Table|Label 1'!D92=\"\",\"\",'Age - User Table|Label 1'!D92)","v":""},{"$f":"IF('Age - User Table|Label 1'!E92=\"\",\"\",'Age - User Table|Label 1'!E92)","v":""},{"$f":"IF('Age - User Table|Label 1'!F92=\"\",\"\",'Age - User Table|Label 1'!F92)","v":""}]
[87,{"$f":"IF('Age - User Table|Label 1'!B93=\"\",\"\",'Age - User Table|Label 1'!B93)","v":""},{"$f":"IF('Age - User Table|Label 1'!C93=\"\",\"\",'Age - User Table|Label 1'!C93)","v":""},{"$f":"IF('Age - User Table|Label 1'!D93=\"\",\"\",'Age - User Table|Label 1'!D93)","v":""},{"$f":"IF('Age - User Table|Label 1'!E93=\"\",\"\",'Age - User Table|Label 1'!E93)","v":""},{"$f":"IF('Age - User Table|Label 1'!F93=\"\",\"\",'Age - User Table|Label 1'!F93)","v":""}]
[88,{"$f":"IF('Age - User Table|Label 1'!B94=\"\",\"\",'Age - User Table|Label 1'!B94)","v":""},{"$f":"IF('Age - User Table|Label 1'!C94=\"\",\"\",'Age - User Table|Label 1'!C94)","v":""},{"$f":"IF('Age - User Table|Label 1'!D94=\"\",\"\",'Age - User Table|Label 1'!D94)","v":""},{"$f":"IF('Age - User Table|Label 1'!E94=\"\",\"\",'Age - User Table|Label 1'!E94)","v":""},{"$f":"IF('Age - User Table|Label 1'!F94=\"\",\"\",'Age - User Table|Label 1'!F94)","v":""}]
[89,{"$f":"IF('Age - User Table|Label 1'!B95=\"\",\"\",'Age - User Table|Label 1'!B95)","v":""},{"$f":"IF('Age - User Table|Label 1'!C95=\"\",\"\",'Age - User Table|Label 1'!C95)","v":""},{"$f":"IF('Age - User Table|Label 1'!D95=\"\",\"\",'Age - User Table|Label 1'!D95)","v":""},{"$f":"IF('Age - User Table|Label 1'!E95=\"\",\"\",'Age - User Table|Label 1'!E95)","v":""},{"$f":"IF('Age - User Table|Label 1'!F95=\"\",\"\",'Age - User Table|Label 1'!F95)","v":""}]
[90,{"$f":"IF('Age - User Table|Label 1'!B96=\"\",\"\",'Age - User Table|Label 1'!B96)","v":""},{"$f":"IF('Age - User Table|Label 1'!C96=\"\",\"\",'Age - User Table|Label 1'!C96)","v":""},{"$f":"IF('Age - User Table|Label 1'!D96=\"\",\"\",'Age - User Table|Label 1'!D96)","v":""},{"$f":"IF('Age - User Table|Label 1'!E96=\"\",\"\",'Age - User Table|Label 1'!E96)","v":""},{"$f":"IF('Age - User Table|Label 1'!F96=\"\",\"\",'Age - User Table|Label 1'!F96)","v":""}]
[91,{"$f":"IF('Age - User Table|Label 1'!B97=\"\",\"\",'Age - User Table|Label 1'!B97)","v":""},{"$f":"IF('Age - User Table|Label 1'!C97=\"\",\"\",'Age - User Table|Label 1'!C97)","v":""},{"$f":"IF('Age - User Table|Label 1'!D97=\"\",\"\",'Age - User Table|Label 1'!D97)","v":""},{"$f":"IF('Age - User Table|Label 1'!E97=\"\",\"\",'Age - User Table|Label 1'!E97)","v":""},{"$f":"IF('Age - User Table|Label 1'!F97=\"\",\"\",'Age - User Table|Label 1'!F97)","v":""}]
[92,{"$f":"IF('Age - User Table|Label 1'!B98=\"\",\"\",'Age - User Table|Label 1'!B98)","v":""},{"$f":"IF('Age - User Table|Label 1'!C98=\"\",\"\",'Age - User Table|Label 1'!C98)","v":""},{"$f":"IF('Age - User Table|Label 1'!D98=\"\",\"\",'Age - User Table|Label 1'!D98)","v":""},{"$f":"IF('Age - User Table|Label 1'!E98=\"\",\"\",'Age - User Table|Label 1'!E98)","v":""},{"$f":"IF('Age - User Table|Label 1'!F98=\"\",\"\",'Age - User Table|Label 1'!F98)","v":""}]
[93,{"$f":"IF('Age - User Table|Label 1'!B99=\"\",\"\",'Age - User Table|Label 1'!B99)","v":""},{"$f":"IF('Age - User Table|Label 1'!C99=\"\",\"\",'Age - User Table|Label 1'!C99)","v":""},{"$f":"IF('Age - User Table|Label 1'!D99=\"\",\"\",'Age - User Table|Label 1'!D99)","v":""},{"$f":"IF('Age - User Table|Label 1'!E99=\"\",\"\",'Age - User Table|Label 1'!E99)","v":""},{"$f":"IF('Age - User Table|Label 1'!F99=\"\",\"\",'Age - User Table|Label 1'!F99)","v":""}]
[94,{"$f":"IF('Age - User Table|Label 1'!B100=\"\",\"\",'Age - User Table|Label 1'!B100)","v":""},{"$f":"IF('Age - User Table|Label 1'!C100=\"\",\"\",'Age - User Table|Label 1'!C100)","v":""},{"$f":"IF('Age - User Table|Label 1'!D100=\"\",\"\",'Age - User Table|Label 1'!D100)","v":""},{"$f":"IF('Age - User Table|Label 1'!E100=\"\",\"\",'Age - User Table|Label 1'!E100)","v":""},{"$f":"IF('Age - User Table|Label 1'!F100=\"\",\"\",'Age - User Table|Label 1'!F100)","v":""}]
[95,{"$f":"IF('Age - User Table|Label 1'!B101=\"\",\"\",'Age - User Table|Label 1'!B101)","v":""},{"$f":"IF('Age - User Table|Label 1'!C101=\"\",\"\",'Age - User Table|Label 1'!C101)","v":""},{"$f":"IF('Age - User Table|Label 1'!D101=\"\",\"\",'Age - User Table|Label 1'!D101)","v":""},{"$f":"IF('Age - User Table|Label 1'!E101=\"\",\"\",'Age - User Table|Label 1'!E101)","v":""},{"$f":"IF('Age - User Table|Label 1'!F101=\"\",\"\",'Age - User Table|Label 1'!F101)","v":""}]
[96,{"$f":"IF('Age - User Table|Label 1'!B102=\"\",\"\",'Age - User Table|Label 1'!B102)","v":""},{"$f":"IF('Age - User Table|Label 1'!C102=\"\",\"\",'Age - User Table|Label 1'!C102)","v":""},{"$f":"IF('Age - User Table|Label 1'!D102=\"\",\"\",'Age - User Table|Label 1'!D102)","v":""},{"$f":"IF('Age - User Table|Label 1'!E102=\"\",\"\",'Age - User Table|Label 1'!E102)","v":""},{"$f":"IF('Age - User Table|Label 1'!F102=\"\",\"\",'Age - User Table|Label 1'!F102)","v":""}]
[97,{"$f":"IF('Age - User Table|Label 1'!B103=\"\",\"\",'Age - User Table|Label 1'!B103)","v":""},{"$f":"IF('Age - User Table|Label 1'!C103=\"\",\"\",'Age - User Table|Label 1'!C103)","v":""},{"$f":"IF('Age - User Table|Label 1'!D103=\"\",\"\",'Age - User Table|Label 1'!D103)","v":""},{"$f":"IF('Age - User Table|Label 1'!E103=\"\",\"\",'Age - User Table|Label 1'!E103)","v":""},{"$f":"IF('Age - User Table|Label 1'!F103=\"\",\"\",'Age - User Table|Label 1'!F103)","v":""}]
[98,{"$f":"IF('Age - User Table|Label 1'!B104=\"\",\"\",'Age - User Table|Label 1'!B104)","v":""},{"$f":"IF('Age - User Table|Label 1'!C104=\"\",\"\",'Age - User Table|Label 1'!C104)","v":""},{"$f":"IF('Age - User Table|Label 1'!D104=\"\",\"\",'Age - User Table|Label 1'!D104)","v":""},{"$f":"IF('Age - User Table|Label 1'!E104=\"\",\"\",'Age - User Table|Label 1'!E104)","v":""},{"$f":"IF('Age - User Table|Label 1'!F104=\"\",\"\",'Age - User Table|Label 1'!F104)","v":""}]
[99,{"$f":"IF('Age - User Table|Label 1'!B105=\"\",\"\",'Age - User Table|Label 1'!B105)","v":""},{"$f":"IF('Age - User Table|Label 1'!C105=\"\",\"\",'Age - User Table|Label 1'!C105)","v":""},{"$f":"IF('Age - User Table|Label 1'!D105=\"\",\"\",'Age - User Table|Label 1'!D105)","v":""},{"$f":"IF('Age - User Table|Label 1'!E105=\"\",\"\",'Age - User Table|Label 1'!E105)","v":""},{"$f":"IF('Age - User Table|Label 1'!F105=\"\",\"\",'Age - User Table|Label 1'!F105)","v":""}]
[100,{"$f":"IF('Age - User Table|Label 1'!B106=\"\",\"\",'Age - User Table|Label 1'!B106)","v":""},{"$f":"IF('Age - User Table|Label 1'!C106=\"\",\"\",'Age - User Table|Label 1'!C106)","v":""},{"$f":"IF('Age - User Table|Label 1'!D106=\"\",\"\",'Age - User Table|Label 1'!D106)","v":""},{"$f":"IF('Age - User Table|Label 1'!E106=\"\",\"\",'Age - User Table|Label 1'!E106)","v":""},{"$f":"IF('Age - User Table|Label 1'!F106=\"\",\"\",'Age - User Table|Label 1'!F106)","v":""}]
[101,{"$f":"IF('Age - User Table|Label 1'!B107=\"\",\"\",'Age - User Table|Label 1'!B107)","v":""},{"$f":"IF('Age - User Table|Label 1'!C107=\"\",\"\",'Age - User Table|Label 1'!C107)","v":""},{"$f":"IF('Age - User Table|Label 1'!D107=\"\",\"\",'Age - User Table|Label 1'!D107)","v":""},{"$f":"IF('Age - User Table|Label 1'!E107=\"\",\"\",'Age - User Table|Label 1'!E107)","v":""},{"$f":"IF('Age - User Table|Label 1'!F107=\"\",\"\",'Age - User Table|Label 1'!F107)","v":""}]
[102,{"$f":"IF('Age - User Table|Label 1'!B108=\"\",\"\",'Age - User Table|Label 1'!B108)","v":""},{"$f":"IF('Age - User Table|Label 1'!C108=\"\",\"\",'Age - User Table|Label 1'!C108)","v":""},{"$f":"IF('Age - User Table|Label 1'!D108=\"\",\"\",'Age - User Table|Label 1'!D108)","v":""},{"$f":"IF('Age - User Table|Label 1'!E108=\"\",\"\",'Age - User Table|Label 1'!E108)","v":""},{"$f":"IF('Age - User Table|Label 1'!F108=\"\",\"\",'Age - User Table|Label 1'!F108)","v":""}]
[103,{"$f":"IF('Age - User Table|Label 1'!B109=\"\",\"\",'Age - User Table|Label 1'!B109)","v":""},{"$f":"IF('Age - User Table|Label 1'!C109=\"\",\"\",'Age - User Table|Label 1'!C109)","v":""},{"$f":"IF('Age - User Table|Label 1'!D109=\"\",\"\",'Age - User Table|Label 1'!D109)","v":""},{"$f":"IF('Age - User Table|Label 1'!E109=\"\",\"\",'Age - User Table|Label 1'!E109)","v":""},{"$f":"IF('Age - User Table|Label 1'!F109=\"\",\"\",'Age - User Table|Label 1'!F109)","v":""}]
[104,{"$f":"IF('Age - User Table|Label 1'!B110=\"\",\"\",'Age - User Table|Label 1'!B110)","v":""},{"$f":"IF('Age - User Table|Label 1'!C110=\"\",\"\",'Age - User Table|Label 1'!C110)","v":""},{"$f":"IF('Age - User Table|Label 1'!D110=\"\",\"\",'Age - User Table|Label 1'!D110)","v":""},{"$f":"IF('Age - User Table|Label 1'!E110=\"\",\"\",'Age - User Table|Label 1'!E110)","v":""},{"$f":"IF('Age - User Table|Label 1'!F110=\"\",\"\",'Age - User Table|Label 1'!F110)","v":""}]
[105,{"$f":"IF('Age - User Table|Label 1'!B111=\"\",\"\",'Age - User Table|Label 1'!B111)","v":""},{"$f":"IF('Age - User Table|Label 1'!C111=\"\",\"\",'Age - User Table|Label 1'!C111)","v":""},{"$f":"IF('Age - User Table|Label 1'!D111=\"\",\"\",'Age - User Table|Label 1'!D111)","v":""},{"$f":"IF('Age - User Table|Label 1'!E111=\"\",\"\",'Age - User Table|Label 1'!E111)","v":""},{"$f":"IF('Age - User Table|Label 1'!F111=\"\",\"\",'Age - User Table|Label 1'!F111)","v":""}]
[106,{"$f":"IF('Age - User Table|Label 1'!B112=\"\",\"\",'Age - User Table|Label 1'!B112)","v":""},{"$f":"IF('Age - User Table|Label 1'!C112=\"\",\"\",'Age - User Table|Label 1'!C112)","v":""},{"$f":"IF('Age - User Table|Label 1'!D112=\"\",\"\",'Age - User Table|Label 1'!D112)","v":""},{"$f":"IF('Age - User Table|Label 1'!E112=\"\",\"\",'Age - User Table|Label 1'!E112)","v":""},{"$f":"IF('Age - User Table|Label 1'!F112=\"\",\"\",'Age - User Table|Label 1'!F112)","v":""}]
[107,{"$f":"IF('Age - User Table|Label 1'!B113=\"\",\"\",'Age - User Table|Label 1'!B113)","v":""},{"$f":"IF('Age - User Table|Label 1'!C113=\"\",\"\",'Age - User Table|Label 1'!C113)","v":""},{"$f":"IF('Age - User Table|Label 1'!D113=\"\",\"\",'Age - User Table|Label 1'!D113)","v":""},{"$f":"IF('Age - User Table|Label 1'!E113=\"\",\"\",'Age - User Table|Label 1'!E113)","v":""},{"$f":"IF('Age - User Table|Label 1'!F113=\"\",\"\",'Age - User Table|Label 1'!F113)","v":""}]
[108,{"$f":"IF('Age - User Table|Label 1'!B114=\"\",\"\",'Age - User Table|Label 1'!B114)","v":""},{"$f":"IF('Age - User Table|Label 1'!C114=\"\",\"\",'Age - User Table|Label 1'!C114)","v":""},{"$f":"IF('Age - User Table|Label 1'!D114=\"\",\"\",'Age - User Table|Label 1'!D114)","v":""},{"$f":"IF('Age - User Table|Label 1'!E114=\"\",\"\",'Age - User Table|Label 1'!E114)","v":""},{"$f":"IF('Age - User Table|Label 1'!F114=\"\",\"\",'Age - User Table|Label 1'!F114)","v":""}]
[109,{"$f":"IF('Age - User Table|Label 1'!B115=\"\",\"\",'Age - User Table|Label 1'!B115)","v":""},{"$f":"IF('Age - User Table|Label 1'!C115=\"\",\"\",'Age - User Table|Label 1'!C115)","v":""},{"$f":"IF('Age - User Table|Label 1'!D115=\"\",\"\",'Age - User Table|Label 1'!D115)","v":""},{"$f":"IF('Age - User Table|Label 1'!E115=\"\",\"\",'Age - User Table|Label 1'!E115)","v":""},{"$f":"IF('Age - User Table|Label 1'!F115=\"\",\"\",'Age - User Table|Label 1'!F115)","v":""}]
[110,{"$f":"IF('Age - User Table|Label 1'!B116=\"\",\"\",'Age - User Table|Label 1'!B116)","v":""},{"$f":"IF('Age - User Table|Label 1'!C116=\"\",\"\",'Age - User Table|Label 1'!C116)","v":""},{"$f":"IF('Age - User Table|Label 1'!D116=\"\",\"\",'Age - User Table|Label 1'!D116)","v":""},{"$f":"IF('Age - User Table|Label 1'!E116=\"\",\"\",'Age - User Table|Label 1'!E116)","v":""},{"$f":"IF('Age - User Table|Label 1'!F116=\"\",\"\",'Age - User Table|Label 1'!F116)","v":""}]
[111,{"$f":"IF('Age - User Table|Label 1'!B117=\"\",\"\",'Age - User Table|Label 1'!B117)","v":""},{"$f":"IF('Age - User Table|Label 1'!C117=\"\",\"\",'Age - User Table|Label 1'!C117)","v":""},{"$f":"IF('Age - User Table|Label 1'!D117=\"\",\"\",'Age - User Table|Label 1'!D117)","v":""},{"$f":"IF('Age - User Table|Label 1'!E117=\"\",\"\",'Age - User Table|Label 1'!E117)","v":""},{"$f":"IF('Age - User Table|Label 1'!F117=\"\",\"\",'Age - User Table|Label 1'!F117)","v":""}]
[112,{"$f":"IF('Age - User Table|Label 1'!B118=\"\",\"\",'Age - User Table|Label 1'!B118)","v":""},{"$f":"IF('Age - User Table|Label 1'!C118=\"\",\"\",'Age - User Table|Label 1'!C118)","v":""},{"$f":"IF('Age - User Table|Label 1'!D118=\"\",\"\",'Age - User Table|Label 1'!D118)","v":""},{"$f":"IF('Age - User Table|Label 1'!E118=\"\",\"\",'Age - User Table|Label 1'!E118)","v":""},{"$f":"IF('Age - User Table|Label 1'!F118=\"\",\"\",'Age - User Table|Label 1'!F118)","v":""}]
[113,{"$f":"IF('Age - User Table|Label 1'!B119=\"\",\"\",'Age - User Table|Label 1'!B119)","v":""},{"$f":"IF('Age - User Table|Label 1'!C119=\"\",\"\",'Age - User Table|Label 1'!C119)","v":""},{"$f":"IF('Age - User Table|Label 1'!D119=\"\",\"\",'Age - User Table|Label 1'!D119)","v":""},{"$f":"IF('Age - User Table|Label 1'!E119=\"\",\"\",'Age - User Table|Label 1'!E119)","v":""},{"$f":"IF('Age - User Table|Label 1'!F119=\"\",\"\",'Age - User Table|Label 1'!F119)","v":""}]
[114,{"$f":"IF('Age - User Table|Label 1'!B120=\"\",\"\",'Age - User Table|Label 1'!B120)","v":""},{"$f":"IF('Age - User Table|Label 1'!C120=\"\",\"\",'Age - User Table|Label 1'!C120)","v":""},{"$f":"IF('Age - User Table|Label 1'!D120=\"\",\"\",'Age - User Table|Label 1'!D120)","v":""},{"$f":"IF('Age - User Table|Label 1'!E120=\"\",\"\",'Age - User Table|Label 1'!E120)","v":""},{"$f":"IF('Age - User Table|Label 1'!F120=\"\",\"\",'Age - User Table|Label 1'!F120)","v":""}]
[115,{"$f":"IF('Age - User Table|Label 1'!B121=\"\",\"\",'Age - User Table|Label 1'!B121)","v":""},{"$f":"IF('Age - User Table|Label 1'!C121=\"\",\"\",'Age - User Table|Label 1'!C121)","v":""},{"$f":"IF('Age - User Table|Label 1'!D121=\"\",\"\",'Age - User Table|Label 1'!D121)","v":""},{"$f":"IF('Age - User Table|Label 1'!E121=\"\",\"\",'Age - User Table|Label 1'!E121)","v":""},{"$f":"IF('Age - User Table|Label 1'!F121=\"\",\"\",'Age - User Table|Label 1'!F121)","v":""}]
[116,{"$f":"IF('Age - User Table|Label 1'!B122=\"\",\"\",'Age - User Table|Label 1'!B122)","v":""},{"$f":"IF('Age - User Table|Label 1'!C122=\"\",\"\",'Age - User Table|Label 1'!C122)","v":""},{"$f":"IF('Age - User Table|Label 1'!D122=\"\",\"\",'Age - User Table|Label 1'!D122)","v":""},{"$f":"IF('Age - User Table|Label 1'!E122=\"\",\"\",'Age - User Table|Label 1'!E122)","v":""},{"$f":"IF('Age - User Table|Label 1'!F122=\"\",\"\",'Age - User Table|Label 1'!F122)","v":""}]
[117,{"$f":"IF('Age - User Table|Label 1'!B123=\"\",\"\",'Age - User Table|Label 1'!B123)","v":""},{"$f":"IF('Age - User Table|Label 1'!C123=\"\",\"\",'Age - User Table|Label 1'!C123)","v":""},{"$f":"IF('Age - User Table|Label 1'!D123=\"\",\"\",'Age - User Table|Label 1'!D123)","v":""},{"$f":"IF('Age - User Table|Label 1'!E123=\"\",\"\",'Age - User Table|Label 1'!E123)","v":""},{"$f":"IF('Age - User Table|Label 1'!F123=\"\",\"\",'Age - User Table|Label 1'!F123)","v":""}]
[118,{"$f":"IF('Age - User Table|Label 1'!B124=\"\",\"\",'Age - User Table|Label 1'!B124)","v":""},{"$f":"IF('Age - User Table|Label 1'!C124=\"\",\"\",'Age - User Table|Label 1'!C124)","v":""},{"$f":"IF('Age - User Table|Label 1'!D124=\"\",\"\",'Age - User Table|Label 1'!D124)","v":""},{"$f":"IF('Age - User Table|Label 1'!E124=\"\",\"\",'Age - User Table|Label 1'!E124)","v":""},{"$f":"IF('Age - User Table|Label 1'!F124=\"\",\"\",'Age - User Table|Label 1'!F124)","v":""}]
[119,{"$f":"IF('Age - User Table|Label 1'!B125=\"\",\"\",'Age - User Table|Label 1'!B125)","v":""},{"$f":"IF('Age - User Table|Label 1'!C125=\"\",\"\",'Age - User Table|Label 1'!C125)","v":""},{"$f":"IF('Age - User Table|Label 1'!D125=\"\",\"\",'Age - User Table|Label 1'!D125)","v":""},{"$f":"IF('Age - User Table|Label 1'!E125=\"\",\"\",'Age - User Table|Label 1'!E125)","v":""},{"$f":"IF('Age - User Table|Label 1'!F125=\"\",\"\",'Age - User Table|Label 1'!F125)","v":""}]
[120,{"$f":"IF('Age - User Table|Label 1'!B126=\"\",\"\",'Age - User Table|Label 1'!B126)","v":""},{"$f":"IF('Age - User Table|Label 1'!C126=\"\",\"\",'Age - User Table|Label 1'!C126)","v":""},{"$f":"IF('Age - User Table|Label 1'!D126=\"\",\"\",'Age - User Table|Label 1'!D126)","v":""},{"$f":"IF('Age - User Table|Label 1'!E126=\"\",\"\",'Age - User Table|Label 1'!E126)","v":""},{"$f":"IF('Age - User Table|Label 1'!F126=\"\",\"\",'Age - User Table|Label 1'!F126)","v":""}]
[]
["AGE - User Table 2",null,null,null,null,{"$f":"IF('Age - User Table|Label 2'!F1=\"\",\"\",'Age - User Table|Label 2'!F1)","v":"Age User Table 2"}]
[null,null,null,null,null,{"$f":"ValidationData!DataVersion","v":"70.80.100.100"}]
["Index","Measurement Name",null,null,{"$f":"IF('Age - User Table|Label 2'!E3=\"\",\"\",'Age - User Table|Label 2'!E3)","v":""}]
[null,"Measurement Type",null,null,{"$f":"IF('Age - User Table|Label 2'!E4=\"\",\"\",IF(ISERROR(VLOOKUP('Age - User Table|Label 2'!E4,ValidationData!A5:B7,2, FALSE)), \"\", VLOOKUP('Age - User Table|Label 2'!E4,ValidationData!A5:B7,2, FALSE)))","v":""}]
[null,"Author",null,null,{"$f":"IF('Age - User Table|Label 2'!J5=\"\",\"\",'Age - User Table|Label 2'!J5)","v":""}]
[null,"Value","Age (weeks)","Age (days)","Range (weeks)","Range (days)"]
[1,{"$f":"IF('Age - User Table|Label 2'!B7=\"\",\"\",'Age - User Table|Label 2'!B7)","v":""},{"$f":"IF('Age - User Table|Label 2'!C7=\"\",\"\",'Age - User Table|Label 2'!C7)","v":""},{"$f":"IF('Age - User Table|Label 2'!D7=\"\",\"\",'Age - User Table|Label 2'!D7)","v":""},{"$f":"IF('Age - User Table|Label 2'!E7=\"\",\"\",'Age - User Table|Label 2'!E7)","v":""},{"$f":"IF('Age - User Table|Label 2'!F7=\"\",\"\",'Age - User Table|Label 2'!F7)","v":""}]
[2,{"$f":"IF('Age - User Table|Label 2'!B8=\"\",\"\",'Age - User Table|Label 2'!B8)","v":""},{"$f":"IF('Age - User Table|Label 2'!C8=\"\",\"\",'Age - User Table|Label 2'!C8)","v":""},{"$f":"IF('Age - User Table|Label 2'!D8=\"\",\"\",'Age - User Table|Label 2'!D8)","v":""},{"$f":"IF('Age - User Table|Label 2'!E8=\"\",\"\",'Age - User Table|Label 2'!E8)","v":""},{"$f":"IF('Age - User Table|Label 2'!F8=\"\",\"\",'Age - User Table|Label 2'!F8)","v":""}]
[3,{"$f":"IF('Age - User Table|Label 2'!B9=\"\",\"\",'Age - User Table|Label 2'!B9)","v":""},{"$f":"IF('Age - User Table|Label 2'!C9=\"\",\"\",'Age - User Table|Label 2'!C9)","v":""},{"$f":"IF('Age - User Table|Label 2'!D9=\"\",\"\",'Age - User Table|Label 2'!D9)","v":""},{"$f":"IF('Age - User Table|Label 2'!E9=\"\",\"\",'Age - User Table|Label 2'!E9)","v":""},{"$f":"IF('Age - User Table|Label 2'!F9=\"\",\"\",'Age - User Table|Label 2'!F9)","v":""}]
[4,{"$f":"IF('Age - User Table|Label 2'!B10=\"\",\"\",'Age - User Table|Label 2'!B10)","v":""},{"$f":"IF('Age - User Table|Label 2'!C10=\"\",\"\",'Age - User Table|Label 2'!C10)","v":""},{"$f":"IF('Age - User Table|Label 2'!D10=\"\",\"\",'Age - User Table|Label 2'!D10)","v":""},{"$f":"IF('Age - User Table|Label 2'!E10=\"\",\"\",'Age - User Table|Label 2'!E10)","v":""},{"$f":"IF('Age - User Table|Label 2'!F10=\"\",\"\",'Age - User Table|Label 2'!F10)","v":""}]
[5,{"$f":"IF('Age - User Table|Label 2'!B11=\"\",\"\",'Age - User Table|Label 2'!B11)","v":""},{"$f":"IF('Age - User Table|Label 2'!C11=\"\",\"\",'Age - User Table|Label 2'!C11)","v":""},{"$f":"IF('Age - User Table|Label 2'!D11=\"\",\"\",'Age - User Table|Label 2'!D11)","v":""},{"$f":"IF('Age - User Table|Label 2'!E11=\"\",\"\",'Age - User Table|Label 2'!E11)","v":""},{"$f":"IF('Age - User Table|Label 2'!F11=\"\",\"\",'Age - User Table|Label 2'!F11)","v":""}]
[6,{"$f":"IF('Age - User Table|Label 2'!B12=\"\",\"\",'Age - User Table|Label 2'!B12)","v":""},{"$f":"IF('Age - User Table|Label 2'!C12=\"\",\"\",'Age - User Table|Label 2'!C12)","v":""},{"$f":"IF('Age - User Table|Label 2'!D12=\"\",\"\",'Age - User Table|Label 2'!D12)","v":""},{"$f":"IF('Age - User Table|Label 2'!E12=\"\",\"\",'Age - User Table|Label 2'!E12)","v":""},{"$f":"IF('Age - User Table|Label 2'!F12=\"\",\"\",'Age - User Table|Label 2'!F12)","v":""}]
[7,{"$f":"IF('Age - User Table|Label 2'!B13=\"\",\"\",'Age - User Table|Label 2'!B13)","v":""},{"$f":"IF('Age - User Table|Label 2'!C13=\"\",\"\",'Age - User Table|Label 2'!C13)","v":""},{"$f":"IF('Age - User Table|Label 2'!D13=\"\",\"\",'Age - User Table|Label 2'!D13)","v":""},{"$f":"IF('Age - User Table|Label 2'!E13=\"\",\"\",'Age - User Table|Label 2'!E13)","v":""},{"$f":"IF('Age - User Table|Label 2'!F13=\"\",\"\",'Age - User Table|Label 2'!F13)","v":""}]
[8,{"$f":"IF('Age - User Table|Label 2'!B14=\"\",\"\",'Age - User Table|Label 2'!B14)","v":""},{"$f":"IF('Age - User Table|Label 2'!C14=\"\",\"\",'Age - User Table|Label 2'!C14)","v":""},{"$f":"IF('Age - User Table|Label 2'!D14=\"\",\"\",'Age - User Table|Label 2'!D14)","v":""},{"$f":"IF('Age - User Table|Label 2'!E14=\"\",\"\",'Age - User Table|Label 2'!E14)","v":""},{"$f":"IF('Age - User Table|Label 2'!F14=\"\",\"\",'Age - User Table|Label 2'!F14)","v":""}]
[9,{"$f":"IF('Age - User Table|Label 2'!B15=\"\",\"\",'Age - User Table|Label 2'!B15)","v":""},{"$f":"IF('Age - User Table|Label 2'!C15=\"\",\"\",'Age - User Table|Label 2'!C15)","v":""},{"$f":"IF('Age - User Table|Label 2'!D15=\"\",\"\",'Age - User Table|Label 2'!D15)","v":""},{"$f":"IF('Age - User Table|Label 2'!E15=\"\",\"\",'Age - User Table|Label 2'!E15)","v":""},{"$f":"IF('Age - User Table|Label 2'!F15=\"\",\"\",'Age - User Table|Label 2'!F15)","v":""}]
[10,{"$f":"IF('Age - User Table|Label 2'!B16=\"\",\"\",'Age - User Table|Label 2'!B16)","v":""},{"$f":"IF('Age - User Table|Label 2'!C16=\"\",\"\",'Age - User Table|Label 2'!C16)","v":""},{"$f":"IF('Age - User Table|Label 2'!D16=\"\",\"\",'Age - User Table|Label 2'!D16)","v":""},{"$f":"IF('Age - User Table|Label 2'!E16=\"\",\"\",'Age - User Table|Label 2'!E16)","v":""},{"$f":"IF('Age - User Table|Label 2'!F16=\"\",\"\",'Age - User Table|Label 2'!F16)","v":""}]
[11,{"$f":"IF('Age - User Table|Label 2'!B17=\"\",\"\",'Age - User Table|Label 2'!B17)","v":""},{"$f":"IF('Age - User Table|Label 2'!C17=\"\",\"\",'Age - User Table|Label 2'!C17)","v":""},{"$f":"IF('Age - User Table|Label 2'!D17=\"\",\"\",'Age - User Table|Label 2'!D17)","v":""},{"$f":"IF('Age - User Table|Label 2'!E17=\"\",\"\",'Age - User Table|Label 2'!E17)","v":""},{"$f":"IF('Age - User Table|Label 2'!F17=\"\",\"\",'Age - User Table|Label 2'!F17)","v":""}]
[12,{"$f":"IF('Age - User Table|Label 2'!B18=\"\",\"\",'Age - User Table|Label 2'!B18)","v":""},{"$f":"IF('Age - User Table|Label 2'!C18=\"\",\"\",'Age - User Table|Label 2'!C18)","v":""},{"$f":"IF('Age - User Table|Label 2'!D18=\"\",\"\",'Age - User Table|Label 2'!D18)","v":""},{"$f":"IF('Age - User Table|Label 2'!E18=\"\",\"\",'Age - User Table|Label 2'!E18)","v":""},{"$f":"IF('Age - User Table|Label 2'!F18=\"\",\"\",'Age - User Table|Label 2'!F18)","v":""}]
[13,{"$f":"IF('Age - User Table|Label 2'!B19=\"\",\"\",'Age - User Table|Label 2'!B19)","v":""},{"$f":"IF('Age - User Table|Label 2'!C19=\"\",\"\",'Age - User Table|Label 2'!C19)","v":""},{"$f":"IF('Age - User Table|Label 2'!D19=\"\",\"\",'Age - User Table|Label 2'!D19)","v":""},{"$f":"IF('Age - User Table|Label 2'!E19=\"\",\"\",'Age - User Table|Label 2'!E19)","v":""},{"$f":"IF('Age - User Table|Label 2'!F19=\"\",\"\",'Age - User Table|Label 2'!F19)","v":""}]
[14,{"$f":"IF('Age - User Table|Label 2'!B20=\"\",\"\",'Age - User Table|Label 2'!B20)","v":""},{"$f":"IF('Age - User Table|Label 2'!C20=\"\",\"\",'Age - User Table|Label 2'!C20)","v":""},{"$f":"IF('Age - User Table|Label 2'!D20=\"\",\"\",'Age - User Table|Label 2'!D20)","v":""},{"$f":"IF('Age - User Table|Label 2'!E20=\"\",\"\",'Age - User Table|Label 2'!E20)","v":""},{"$f":"IF('Age - User Table|Label 2'!F20=\"\",\"\",'Age - User Table|Label 2'!F20)","v":""}]
[15,{"$f":"IF('Age - User Table|Label 2'!B21=\"\",\"\",'Age - User Table|Label 2'!B21)","v":""},{"$f":"IF('Age - User Table|Label 2'!C21=\"\",\"\",'Age - User Table|Label 2'!C21)","v":""},{"$f":"IF('Age - User Table|Label 2'!D21=\"\",\"\",'Age - User Table|Label 2'!D21)","v":""},{"$f":"IF('Age - User Table|Label 2'!E21=\"\",\"\",'Age - User Table|Label 2'!E21)","v":""},{"$f":"IF('Age - User Table|Label 2'!F21=\"\",\"\",'Age - User Table|Label 2'!F21)","v":""}]
[16,{"$f":"IF('Age - User Table|Label 2'!B22=\"\",\"\",'Age - User Table|Label 2'!B22)","v":""},{"$f":"IF('Age - User Table|Label 2'!C22=\"\",\"\",'Age - User Table|Label 2'!C22)","v":""},{"$f":"IF('Age - User Table|Label 2'!D22=\"\",\"\",'Age - User Table|Label 2'!D22)","v":""},{"$f":"IF('Age - User Table|Label 2'!E22=\"\",\"\",'Age - User Table|Label 2'!E22)","v":""},{"$f":"IF('Age - User Table|Label 2'!F22=\"\",\"\",'Age - User Table|Label 2'!F22)","v":""}]
[17,{"$f":"IF('Age - User Table|Label 2'!B23=\"\",\"\",'Age - User Table|Label 2'!B23)","v":""},{"$f":"IF('Age - User Table|Label 2'!C23=\"\",\"\",'Age - User Table|Label 2'!C23)","v":""},{"$f":"IF('Age - User Table|Label 2'!D23=\"\",\"\",'Age - User Table|Label 2'!D23)","v":""},{"$f":"IF('Age - User Table|Label 2'!E23=\"\",\"\",'Age - User Table|Label 2'!E23)","v":""},{"$f":"IF('Age - User Table|Label 2'!F23=\"\",\"\",'Age - User Table|Label 2'!F23)","v":""}]
[18,{"$f":"IF('Age - User Table|Label 2'!B24=\"\",\"\",'Age - User Table|Label 2'!B24)","v":""},{"$f":"IF('Age - User Table|Label 2'!C24=\"\",\"\",'Age - User Table|Label 2'!C24)","v":""},{"$f":"IF('Age - User Table|Label 2'!D24=\"\",\"\",'Age - User Table|Label 2'!D24)","v":""},{"$f":"IF('Age - User Table|Label 2'!E24=\"\",\"\",'Age - User Table|Label 2'!E24)","v":""},{"$f":"IF('Age - User Table|Label 2'!F24=\"\",\"\",'Age - User Table|Label 2'!F24)","v":""}]
[19,{"$f":"IF('Age - User Table|Label 2'!B25=\"\",\"\",'Age - User Table|Label 2'!B25)","v":""},{"$f":"IF('Age - User Table|Label 2'!C25=\"\",\"\",'Age - User Table|Label 2'!C25)","v":""},{"$f":"IF('Age - User Table|Label 2'!D25=\"\",\"\",'Age - User Table|Label 2'!D25)","v":""},{"$f":"IF('Age - User Table|Label 2'!E25=\"\",\"\",'Age - User Table|Label 2'!E25)","v":""},{"$f":"IF('Age - User Table|Label 2'!F25=\"\",\"\",'Age - User Table|Label 2'!F25)","v":""}]
[20,{"$f":"IF('Age - User Table|Label 2'!B26=\"\",\"\",'Age - User Table|Label 2'!B26)","v":""},{"$f":"IF('Age - User Table|Label 2'!C26=\"\",\"\",'Age - User Table|Label 2'!C26)","v":""},{"$f":"IF('Age - User Table|Label 2'!D26=\"\",\"\",'Age - User Table|Label 2'!D26)","v":""},{"$f":"IF('Age - User Table|Label 2'!E26=\"\",\"\",'Age - User Table|Label 2'!E26)","v":""},{"$f":"IF('Age - User Table|Label 2'!F26=\"\",\"\",'Age - User Table|Label 2'!F26)","v":""}]
[21,{"$f":"IF('Age - User Table|Label 2'!B27=\"\",\"\",'Age - User Table|Label 2'!B27)","v":""},{"$f":"IF('Age - User Table|Label 2'!C27=\"\",\"\",'Age - User Table|Label 2'!C27)","v":""},{"$f":"IF('Age - User Table|Label 2'!D27=\"\",\"\",'Age - User Table|Label 2'!D27)","v":""},{"$f":"IF('Age - User Table|Label 2'!E27=\"\",\"\",'Age - User Table|Label 2'!E27)","v":""},{"$f":"IF('Age - User Table|Label 2'!F27=\"\",\"\",'Age - User Table|Label 2'!F27)","v":""}]
[22,{"$f":"IF('Age - User Table|Label 2'!B28=\"\",\"\",'Age - User Table|Label 2'!B28)","v":""},{"$f":"IF('Age - User Table|Label 2'!C28=\"\",\"\",'Age - User Table|Label 2'!C28)","v":""},{"$f":"IF('Age - User Table|Label 2'!D28=\"\",\"\",'Age - User Table|Label 2'!D28)","v":""},{"$f":"IF('Age - User Table|Label 2'!E28=\"\",\"\",'Age - User Table|Label 2'!E28)","v":""},{"$f":"IF('Age - User Table|Label 2'!F28=\"\",\"\",'Age - User Table|Label 2'!F28)","v":""}]
[23,{"$f":"IF('Age - User Table|Label 2'!B29=\"\",\"\",'Age - User Table|Label 2'!B29)","v":""},{"$f":"IF('Age - User Table|Label 2'!C29=\"\",\"\",'Age - User Table|Label 2'!C29)","v":""},{"$f":"IF('Age - User Table|Label 2'!D29=\"\",\"\",'Age - User Table|Label 2'!D29)","v":""},{"$f":"IF('Age - User Table|Label 2'!E29=\"\",\"\",'Age - User Table|Label 2'!E29)","v":""},{"$f":"IF('Age - User Table|Label 2'!F29=\"\",\"\",'Age - User Table|Label 2'!F29)","v":""}]
[24,{"$f":"IF('Age - User Table|Label 2'!B30=\"\",\"\",'Age - User Table|Label 2'!B30)","v":""},{"$f":"IF('Age - User Table|Label 2'!C30=\"\",\"\",'Age - User Table|Label 2'!C30)","v":""},{"$f":"IF('Age - User Table|Label 2'!D30=\"\",\"\",'Age - User Table|Label 2'!D30)","v":""},{"$f":"IF('Age - User Table|Label 2'!E30=\"\",\"\",'Age - User Table|Label 2'!E30)","v":""},{"$f":"IF('Age - User Table|Label 2'!F30=\"\",\"\",'Age - User Table|Label 2'!F30)","v":""}]
[25,{"$f":"IF('Age - User Table|Label 2'!B31=\"\",\"\",'Age - User Table|Label 2'!B31)","v":""},{"$f":"IF('Age - User Table|Label 2'!C31=\"\",\"\",'Age - User Table|Label 2'!C31)","v":""},{"$f":"IF('Age - User Table|Label 2'!D31=\"\",\"\",'Age - User Table|Label 2'!D31)","v":""},{"$f":"IF('Age - User Table|Label 2'!E31=\"\",\"\",'Age - User Table|Label 2'!E31)","v":""},{"$f":"IF('Age - User Table|Label 2'!F31=\"\",\"\",'Age - User Table|Label 2'!F31)","v":""}]
[26,{"$f":"IF('Age - User Table|Label 2'!B32=\"\",\"\",'Age - User Table|Label 2'!B32)","v":""},{"$f":"IF('Age - User Table|Label 2'!C32=\"\",\"\",'Age - User Table|Label 2'!C32)","v":""},{"$f":"IF('Age - User Table|Label 2'!D32=\"\",\"\",'Age - User Table|Label 2'!D32)","v":""},{"$f":"IF('Age - User Table|Label 2'!E32=\"\",\"\",'Age - User Table|Label 2'!E32)","v":""},{"$f":"IF('Age - User Table|Label 2'!F32=\"\",\"\",'Age - User Table|Label 2'!F32)","v":""}]
[27,{"$f":"IF('Age - User Table|Label 2'!B33=\"\",\"\",'Age - User Table|Label 2'!B33)","v":""},{"$f":"IF('Age - User Table|Label 2'!C33=\"\",\"\",'Age - User Table|Label 2'!C33)","v":""},{"$f":"IF('Age - User Table|Label 2'!D33=\"\",\"\",'Age - User Table|Label 2'!D33)","v":""},{"$f":"IF('Age - User Table|Label 2'!E33=\"\",\"\",'Age - User Table|Label 2'!E33)","v":""},{"$f":"IF('Age - User Table|Label 2'!F33=\"\",\"\",'Age - User Table|Label 2'!F33)","v":""}]
[28,{"$f":"IF('Age - User Table|Label 2'!B34=\"\",\"\",'Age - User Table|Label 2'!B34)","v":""},{"$f":"IF('Age - User Table|Label 2'!C34=\"\",\"\",'Age - User Table|Label 2'!C34)","v":""},{"$f":"IF('Age - User Table|Label 2'!D34=\"\",\"\",'Age - User Table|Label 2'!D34)","v":""},{"$f":"IF('Age - User Table|Label 2'!E34=\"\",\"\",'Age - User Table|Label 2'!E34)","v":""},{"$f":"IF('Age - User Table|Label 2'!F34=\"\",\"\",'Age - User Table|Label 2'!F34)","v":""}]
[29,{"$f":"IF('Age - User Table|Label 2'!B35=\"\",\"\",'Age - User Table|Label 2'!B35)","v":""},{"$f":"IF('Age - User Table|Label 2'!C35=\"\",\"\",'Age - User Table|Label 2'!C35)","v":""},{"$f":"IF('Age - User Table|Label 2'!D35=\"\",\"\",'Age - User Table|Label 2'!D35)","v":""},{"$f":"IF('Age - User Table|Label 2'!E35=\"\",\"\",'Age - User Table|Label 2'!E35)","v":""},{"$f":"IF('Age - User Table|Label 2'!F35=\"\",\"\",'Age - User Table|Label 2'!F35)","v":""}]
[30,{"$f":"IF('Age - User Table|Label 2'!B36=\"\",\"\",'Age - User Table|Label 2'!B36)","v":""},{"$f":"IF('Age - User Table|Label 2'!C36=\"\",\"\",'Age - User Table|Label 2'!C36)","v":""},{"$f":"IF('Age - User Table|Label 2'!D36=\"\",\"\",'Age - User Table|Label 2'!D36)","v":""},{"$f":"IF('Age - User Table|Label 2'!E36=\"\",\"\",'Age - User Table|Label 2'!E36)","v":""},{"$f":"IF('Age - User Table|Label 2'!F36=\"\",\"\",'Age - User Table|Label 2'!F36)","v":""}]
[31,{"$f":"IF('Age - User Table|Label 2'!B37=\"\",\"\",'Age - User Table|Label 2'!B37)","v":""},{"$f":"IF('Age - User Table|Label 2'!C37=\"\",\"\",'Age - User Table|Label 2'!C37)","v":""},{"$f":"IF('Age - User Table|Label 2'!D37=\"\",\"\",'Age - User Table|Label 2'!D37)","v":""},{"$f":"IF('Age - User Table|Label 2'!E37=\"\",\"\",'Age - User Table|Label 2'!E37)","v":""},{"$f":"IF('Age - User Table|Label 2'!F37=\"\",\"\",'Age - User Table|Label 2'!F37)","v":""}]
[32,{"$f":"IF('Age - User Table|Label 2'!B38=\"\",\"\",'Age - User Table|Label 2'!B38)","v":""},{"$f":"IF('Age - User Table|Label 2'!C38=\"\",\"\",'Age - User Table|Label 2'!C38)","v":""},{"$f":"IF('Age - User Table|Label 2'!D38=\"\",\"\",'Age - User Table|Label 2'!D38)","v":""},{"$f":"IF('Age - User Table|Label 2'!E38=\"\",\"\",'Age - User Table|Label 2'!E38)","v":""},{"$f":"IF('Age - User Table|Label 2'!F38=\"\",\"\",'Age - User Table|Label 2'!F38)","v":""}]
[33,{"$f":"IF('Age - User Table|Label 2'!B39=\"\",\"\",'Age - User Table|Label 2'!B39)","v":""},{"$f":"IF('Age - User Table|Label 2'!C39=\"\",\"\",'Age - User Table|Label 2'!C39)","v":""},{"$f":"IF('Age - User Table|Label 2'!D39=\"\",\"\",'Age - User Table|Label 2'!D39)","v":""},{"$f":"IF('Age - User Table|Label 2'!E39=\"\",\"\",'Age - User Table|Label 2'!E39)","v":""},{"$f":"IF('Age - User Table|Label 2'!F39=\"\",\"\",'Age - User Table|Label 2'!F39)","v":""}]
[34,{"$f":"IF('Age - User Table|Label 2'!B40=\"\",\"\",'Age - User Table|Label 2'!B40)","v":""},{"$f":"IF('Age - User Table|Label 2'!C40=\"\",\"\",'Age - User Table|Label 2'!C40)","v":""},{"$f":"IF('Age - User Table|Label 2'!D40=\"\",\"\",'Age - User Table|Label 2'!D40)","v":""},{"$f":"IF('Age - User Table|Label 2'!E40=\"\",\"\",'Age - User Table|Label 2'!E40)","v":""},{"$f":"IF('Age - User Table|Label 2'!F40=\"\",\"\",'Age - User Table|Label 2'!F40)","v":""}]
[35,{"$f":"IF('Age - User Table|Label 2'!B41=\"\",\"\",'Age - User Table|Label 2'!B41)","v":""},{"$f":"IF('Age - User Table|Label 2'!C41=\"\",\"\",'Age - User Table|Label 2'!C41)","v":""},{"$f":"IF('Age - User Table|Label 2'!D41=\"\",\"\",'Age - User Table|Label 2'!D41)","v":""},{"$f":"IF('Age - User Table|Label 2'!E41=\"\",\"\",'Age - User Table|Label 2'!E41)","v":""},{"$f":"IF('Age - User Table|Label 2'!F41=\"\",\"\",'Age - User Table|Label 2'!F41)","v":""}]
[36,{"$f":"IF('Age - User Table|Label 2'!B42=\"\",\"\",'Age - User Table|Label 2'!B42)","v":""},{"$f":"IF('Age - User Table|Label 2'!C42=\"\",\"\",'Age - User Table|Label 2'!C42)","v":""},{"$f":"IF('Age - User Table|Label 2'!D42=\"\",\"\",'Age - User Table|Label 2'!D42)","v":""},{"$f":"IF('Age - User Table|Label 2'!E42=\"\",\"\",'Age - User Table|Label 2'!E42)","v":""},{"$f":"IF('Age - User Table|Label 2'!F42=\"\",\"\",'Age - User Table|Label 2'!F42)","v":""}]
[37,{"$f":"IF('Age - User Table|Label 2'!B43=\"\",\"\",'Age - User Table|Label 2'!B43)","v":""},{"$f":"IF('Age - User Table|Label 2'!C43=\"\",\"\",'Age - User Table|Label 2'!C43)","v":""},{"$f":"IF('Age - User Table|Label 2'!D43=\"\",\"\",'Age - User Table|Label 2'!D43)","v":""},{"$f":"IF('Age - User Table|Label 2'!E43=\"\",\"\",'Age - User Table|Label 2'!E43)","v":""},{"$f":"IF('Age - User Table|Label 2'!F43=\"\",\"\",'Age - User Table|Label 2'!F43)","v":""}]
[38,{"$f":"IF('Age - User Table|Label 2'!B44=\"\",\"\",'Age - User Table|Label 2'!B44)","v":""},{"$f":"IF('Age - User Table|Label 2'!C44=\"\",\"\",'Age - User Table|Label 2'!C44)","v":""},{"$f":"IF('Age - User Table|Label 2'!D44=\"\",\"\",'Age - User Table|Label 2'!D44)","v":""},{"$f":"IF('Age - User Table|Label 2'!E44=\"\",\"\",'Age - User Table|Label 2'!E44)","v":""},{"$f":"IF('Age - User Table|Label 2'!F44=\"\",\"\",'Age - User Table|Label 2'!F44)","v":""}]
[39,{"$f":"IF('Age - User Table|Label 2'!B45=\"\",\"\",'Age - User Table|Label 2'!B45)","v":""},{"$f":"IF('Age - User Table|Label 2'!C45=\"\",\"\",'Age - User Table|Label 2'!C45)","v":""},{"$f":"IF('Age - User Table|Label 2'!D45=\"\",\"\",'Age - User Table|Label 2'!D45)","v":""},{"$f":"IF('Age - User Table|Label 2'!E45=\"\",\"\",'Age - User Table|Label 2'!E45)","v":""},{"$f":"IF('Age - User Table|Label 2'!F45=\"\",\"\",'Age - User Table|Label 2'!F45)","v":""}]
[40,{"$f":"IF('Age - User Table|Label 2'!B46=\"\",\"\",'Age - User Table|Label 2'!B46)","v":""},{"$f":"IF('Age - User Table|Label 2'!C46=\"\",\"\",'Age - User Table|Label 2'!C46)","v":""},{"$f":"IF('Age - User Table|Label 2'!D46=\"\",\"\",'Age - User Table|Label 2'!D46)","v":""},{"$f":"IF('Age - User Table|Label 2'!E46=\"\",\"\",'Age - User Table|Label 2'!E46)","v":""},{"$f":"IF('Age - User Table|Label 2'!F46=\"\",\"\",'Age - User Table|Label 2'!F46)","v":""}]
[41,{"$f":"IF('Age - User Table|Label 2'!B47=\"\",\"\",'Age - User Table|Label 2'!B47)","v":""},{"$f":"IF('Age - User Table|Label 2'!C47=\"\",\"\",'Age - User Table|Label 2'!C47)","v":""},{"$f":"IF('Age - User Table|Label 2'!D47=\"\",\"\",'Age - User Table|Label 2'!D47)","v":""},{"$f":"IF('Age - User Table|Label 2'!E47=\"\",\"\",'Age - User Table|Label 2'!E47)","v":""},{"$f":"IF('Age - User Table|Label 2'!F47=\"\",\"\",'Age - User Table|Label 2'!F47)","v":""}]
[42,{"$f":"IF('Age - User Table|Label 2'!B48=\"\",\"\",'Age - User Table|Label 2'!B48)","v":""},{"$f":"IF('Age - User Table|Label 2'!C48=\"\",\"\",'Age - User Table|Label 2'!C48)","v":""},{"$f":"IF('Age - User Table|Label 2'!D48=\"\",\"\",'Age - User Table|Label 2'!D48)","v":""},{"$f":"IF('Age - User Table|Label 2'!E48=\"\",\"\",'Age - User Table|Label 2'!E48)","v":""},{"$f":"IF('Age - User Table|Label 2'!F48=\"\",\"\",'Age - User Table|Label 2'!F48)","v":""}]
[43,{"$f":"IF('Age - User Table|Label 2'!B49=\"\",\"\",'Age - User Table|Label 2'!B49)","v":""},{"$f":"IF('Age - User Table|Label 2'!C49=\"\",\"\",'Age - User Table|Label 2'!C49)","v":""},{"$f":"IF('Age - User Table|Label 2'!D49=\"\",\"\",'Age - User Table|Label 2'!D49)","v":""},{"$f":"IF('Age - User Table|Label 2'!E49=\"\",\"\",'Age - User Table|Label 2'!E49)","v":""},{"$f":"IF('Age - User Table|Label 2'!F49=\"\",\"\",'Age - User Table|Label 2'!F49)","v":""}]
[44,{"$f":"IF('Age - User Table|Label 2'!B50=\"\",\"\",'Age - User Table|Label 2'!B50)","v":""},{"$f":"IF('Age - User Table|Label 2'!C50=\"\",\"\",'Age - User Table|Label 2'!C50)","v":""},{"$f":"IF('Age - User Table|Label 2'!D50=\"\",\"\",'Age - User Table|Label 2'!D50)","v":""},{"$f":"IF('Age - User Table|Label 2'!E50=\"\",\"\",'Age - User Table|Label 2'!E50)","v":""},{"$f":"IF('Age - User Table|Label 2'!F50=\"\",\"\",'Age - User Table|Label 2'!F50)","v":""}]
[45,{"$f":"IF('Age - User Table|Label 2'!B51=\"\",\"\",'Age - User Table|Label 2'!B51)","v":""},{"$f":"IF('Age - User Table|Label 2'!C51=\"\",\"\",'Age - User Table|Label 2'!C51)","v":""},{"$f":"IF('Age - User Table|Label 2'!D51=\"\",\"\",'Age - User Table|Label 2'!D51)","v":""},{"$f":"IF('Age - User Table|Label 2'!E51=\"\",\"\",'Age - User Table|Label 2'!E51)","v":""},{"$f":"IF('Age - User Table|Label 2'!F51=\"\",\"\",'Age - User Table|Label 2'!F51)","v":""}]
[46,{"$f":"IF('Age - User Table|Label 2'!B52=\"\",\"\",'Age - User Table|Label 2'!B52)","v":""},{"$f":"IF('Age - User Table|Label 2'!C52=\"\",\"\",'Age - User Table|Label 2'!C52)","v":""},{"$f":"IF('Age - User Table|Label 2'!D52=\"\",\"\",'Age - User Table|Label 2'!D52)","v":""},{"$f":"IF('Age - User Table|Label 2'!E52=\"\",\"\",'Age - User Table|Label 2'!E52)","v":""},{"$f":"IF('Age - User Table|Label 2'!F52=\"\",\"\",'Age - User Table|Label 2'!F52)","v":""}]
[47,{"$f":"IF('Age - User Table|Label 2'!B53=\"\",\"\",'Age - User Table|Label 2'!B53)","v":""},{"$f":"IF('Age - User Table|Label 2'!C53=\"\",\"\",'Age - User Table|Label 2'!C53)","v":""},{"$f":"IF('Age - User Table|Label 2'!D53=\"\",\"\",'Age - User Table|Label 2'!D53)","v":""},{"$f":"IF('Age - User Table|Label 2'!E53=\"\",\"\",'Age - User Table|Label 2'!E53)","v":""},{"$f":"IF('Age - User Table|Label 2'!F53=\"\",\"\",'Age - User Table|Label 2'!F53)","v":""}]
[48,{"$f":"IF('Age - User Table|Label 2'!B54=\"\",\"\",'Age - User Table|Label 2'!B54)","v":""},{"$f":"IF('Age - User Table|Label 2'!C54=\"\",\"\",'Age - User Table|Label 2'!C54)","v":""},{"$f":"IF('Age - User Table|Label 2'!D54=\"\",\"\",'Age - User Table|Label 2'!D54)","v":""},{"$f":"IF('Age - User Table|Label 2'!E54=\"\",\"\",'Age - User Table|Label 2'!E54)","v":""},{"$f":"IF('Age - User Table|Label 2'!F54=\"\",\"\",'Age - User Table|Label 2'!F54)","v":""}]
[49,{"$f":"IF('Age - User Table|Label 2'!B55=\"\",\"\",'Age - User Table|Label 2'!B55)","v":""},{"$f":"IF('Age - User Table|Label 2'!C55=\"\",\"\",'Age - User Table|Label 2'!C55)","v":""},{"$f":"IF('Age - User Table|Label 2'!D55=\"\",\"\",'Age - User Table|Label 2'!D55)","v":""},{"$f":"IF('Age - User Table|Label 2'!E55=\"\",\"\",'Age - User Table|Label 2'!E55)","v":""},{"$f":"IF('Age - User Table|Label 2'!F55=\"\",\"\",'Age - User Table|Label 2'!F55)","v":""}]
[50,{"$f":"IF('Age - User Table|Label 2'!B56=\"\",\"\",'Age - User Table|Label 2'!B56)","v":""},{"$f":"IF('Age - User Table|Label 2'!C56=\"\",\"\",'Age - User Table|Label 2'!C56)","v":""},{"$f":"IF('Age - User Table|Label 2'!D56=\"\",\"\",'Age - User Table|Label 2'!D56)","v":""},{"$f":"IF('Age - User Table|Label 2'!E56=\"\",\"\",'Age - User Table|Label 2'!E56)","v":""},{"$f":"IF('Age - User Table|Label 2'!F56=\"\",\"\",'Age - User Table|Label 2'!F56)","v":""}]
[51,{"$f":"IF('Age - User Table|Label 2'!B57=\"\",\"\",'Age - User Table|Label 2'!B57)","v":""},{"$f":"IF('Age - User Table|Label 2'!C57=\"\",\"\",'Age - User Table|Label 2'!C57)","v":""},{"$f":"IF('Age - User Table|Label 2'!D57=\"\",\"\",'Age - User Table|Label 2'!D57)","v":""},{"$f":"IF('Age - User Table|Label 2'!E57=\"\",\"\",'Age - User Table|Label 2'!E57)","v":""},{"$f":"IF('Age - User Table|Label 2'!F57=\"\",\"\",'Age - User Table|Label 2'!F57)","v":""}]
[52,{"$f":"IF('Age - User Table|Label 2'!B58=\"\",\"\",'Age - User Table|Label 2'!B58)","v":""},{"$f":"IF('Age - User Table|Label 2'!C58=\"\",\"\",'Age - User Table|Label 2'!C58)","v":""},{"$f":"IF('Age - User Table|Label 2'!D58=\"\",\"\",'Age - User Table|Label 2'!D58)","v":""},{"$f":"IF('Age - User Table|Label 2'!E58=\"\",\"\",'Age - User Table|Label 2'!E58)","v":""},{"$f":"IF('Age - User Table|Label 2'!F58=\"\",\"\",'Age - User Table|Label 2'!F58)","v":""}]
[53,{"$f":"IF('Age - User Table|Label 2'!B59=\"\",\"\",'Age - User Table|Label 2'!B59)","v":""},{"$f":"IF('Age - User Table|Label 2'!C59=\"\",\"\",'Age - User Table|Label 2'!C59)","v":""},{"$f":"IF('Age - User Table|Label 2'!D59=\"\",\"\",'Age - User Table|Label 2'!D59)","v":""},{"$f":"IF('Age - User Table|Label 2'!E59=\"\",\"\",'Age - User Table|Label 2'!E59)","v":""},{"$f":"IF('Age - User Table|Label 2'!F59=\"\",\"\",'Age - User Table|Label 2'!F59)","v":""}]
[54,{"$f":"IF('Age - User Table|Label 2'!B60=\"\",\"\",'Age - User Table|Label 2'!B60)","v":""},{"$f":"IF('Age - User Table|Label 2'!C60=\"\",\"\",'Age - User Table|Label 2'!C60)","v":""},{"$f":"IF('Age - User Table|Label 2'!D60=\"\",\"\",'Age - User Table|Label 2'!D60)","v":""},{"$f":"IF('Age - User Table|Label 2'!E60=\"\",\"\",'Age - User Table|Label 2'!E60)","v":""},{"$f":"IF('Age - User Table|Label 2'!F60=\"\",\"\",'Age - User Table|Label 2'!F60)","v":""}]
[55,{"$f":"IF('Age - User Table|Label 2'!B61=\"\",\"\",'Age - User Table|Label 2'!B61)","v":""},{"$f":"IF('Age - User Table|Label 2'!C61=\"\",\"\",'Age - User Table|Label 2'!C61)","v":""},{"$f":"IF('Age - User Table|Label 2'!D61=\"\",\"\",'Age - User Table|Label 2'!D61)","v":""},{"$f":"IF('Age - User Table|Label 2'!E61=\"\",\"\",'Age - User Table|Label 2'!E61)","v":""},{"$f":"IF('Age - User Table|Label 2'!F61=\"\",\"\",'Age - User Table|Label 2'!F61)","v":""}]
[56,{"$f":"IF('Age - User Table|Label 2'!B62=\"\",\"\",'Age - User Table|Label 2'!B62)","v":""},{"$f":"IF('Age - User Table|Label 2'!C62=\"\",\"\",'Age - User Table|Label 2'!C62)","v":""},{"$f":"IF('Age - User Table|Label 2'!D62=\"\",\"\",'Age - User Table|Label 2'!D62)","v":""},{"$f":"IF('Age - User Table|Label 2'!E62=\"\",\"\",'Age - User Table|Label 2'!E62)","v":""},{"$f":"IF('Age - User Table|Label 2'!F62=\"\",\"\",'Age - User Table|Label 2'!F62)","v":""}]
[57,{"$f":"IF('Age - User Table|Label 2'!B63=\"\",\"\",'Age - User Table|Label 2'!B63)","v":""},{"$f":"IF('Age - User Table|Label 2'!C63=\"\",\"\",'Age - User Table|Label 2'!C63)","v":""},{"$f":"IF('Age - User Table|Label 2'!D63=\"\",\"\",'Age - User Table|Label 2'!D63)","v":""},{"$f":"IF('Age - User Table|Label 2'!E63=\"\",\"\",'Age - User Table|Label 2'!E63)","v":""},{"$f":"IF('Age - User Table|Label 2'!F63=\"\",\"\",'Age - User Table|Label 2'!F63)","v":""}]
[58,{"$f":"IF('Age - User Table|Label 2'!B64=\"\",\"\",'Age - User Table|Label 2'!B64)","v":""},{"$f":"IF('Age - User Table|Label 2'!C64=\"\",\"\",'Age - User Table|Label 2'!C64)","v":""},{"$f":"IF('Age - User Table|Label 2'!D64=\"\",\"\",'Age - User Table|Label 2'!D64)","v":""},{"$f":"IF('Age - User Table|Label 2'!E64=\"\",\"\",'Age - User Table|Label 2'!E64)","v":""},{"$f":"IF('Age - User Table|Label 2'!F64=\"\",\"\",'Age - User Table|Label 2'!F64)","v":""}]
[59,{"$f":"IF('Age - User Table|Label 2'!B65=\"\",\"\",'Age - User Table|Label 2'!B65)","v":""},{"$f":"IF('Age - User Table|Label 2'!C65=\"\",\"\",'Age - User Table|Label 2'!C65)","v":""},{"$f":"IF('Age - User Table|Label 2'!D65=\"\",\"\",'Age - User Table|Label 2'!D65)","v":""},{"$f":"IF('Age - User Table|Label 2'!E65=\"\",\"\",'Age - User Table|Label 2'!E65)","v":""},{"$f":"IF('Age - User Table|Label 2'!F65=\"\",\"\",'Age - User Table|Label 2'!F65)","v":""}]
[60,{"$f":"IF('Age - User Table|Label 2'!B66=\"\",\"\",'Age - User Table|Label 2'!B66)","v":""},{"$f":"IF('Age - User Table|Label 2'!C66=\"\",\"\",'Age - User Table|Label 2'!C66)","v":""},{"$f":"IF('Age - User Table|Label 2'!D66=\"\",\"\",'Age - User Table|Label 2'!D66)","v":""},{"$f":"IF('Age - User Table|Label 2'!E66=\"\",\"\",'Age - User Table|Label 2'!E66)","v":""},{"$f":"IF('Age - User Table|Label 2'!F66=\"\",\"\",'Age - User Table|Label 2'!F66)","v":""}]
[61,{"$f":"IF('Age - User Table|Label 2'!B67=\"\",\"\",'Age - User Table|Label 2'!B67)","v":""},{"$f":"IF('Age - User Table|Label 2'!C67=\"\",\"\",'Age - User Table|Label 2'!C67)","v":""},{"$f":"IF('Age - User Table|Label 2'!D67=\"\",\"\",'Age - User Table|Label 2'!D67)","v":""},{"$f":"IF('Age - User Table|Label 2'!E67=\"\",\"\",'Age - User Table|Label 2'!E67)","v":""},{"$f":"IF('Age - User Table|Label 2'!F67=\"\",\"\",'Age - User Table|Label 2'!F67)","v":""}]
[62,{"$f":"IF('Age - User Table|Label 2'!B68=\"\",\"\",'Age - User Table|Label 2'!B68)","v":""},{"$f":"IF('Age - User Table|Label 2'!C68=\"\",\"\",'Age - User Table|Label 2'!C68)","v":""},{"$f":"IF('Age - User Table|Label 2'!D68=\"\",\"\",'Age - User Table|Label 2'!D68)","v":""},{"$f":"IF('Age - User Table|Label 2'!E68=\"\",\"\",'Age - User Table|Label 2'!E68)","v":""},{"$f":"IF('Age - User Table|Label 2'!F68=\"\",\"\",'Age - User Table|Label 2'!F68)","v":""}]
[63,{"$f":"IF('Age - User Table|Label 2'!B69=\"\",\"\",'Age - User Table|Label 2'!B69)","v":""},{"$f":"IF('Age - User Table|Label 2'!C69=\"\",\"\",'Age - User Table|Label 2'!C69)","v":""},{"$f":"IF('Age - User Table|Label 2'!D69=\"\",\"\",'Age - User Table|Label 2'!D69)","v":""},{"$f":"IF('Age - User Table|Label 2'!E69=\"\",\"\",'Age - User Table|Label 2'!E69)","v":""},{"$f":"IF('Age - User Table|Label 2'!F69=\"\",\"\",'Age - User Table|Label 2'!F69)","v":""}]
[64,{"$f":"IF('Age - User Table|Label 2'!B70=\"\",\"\",'Age - User Table|Label 2'!B70)","v":""},{"$f":"IF('Age - User Table|Label 2'!C70=\"\",\"\",'Age - User Table|Label 2'!C70)","v":""},{"$f":"IF('Age - User Table|Label 2'!D70=\"\",\"\",'Age - User Table|Label 2'!D70)","v":""},{"$f":"IF('Age - User Table|Label 2'!E70=\"\",\"\",'Age - User Table|Label 2'!E70)","v":""},{"$f":"IF('Age - User Table|Label 2'!F70=\"\",\"\",'Age - User Table|Label 2'!F70)","v":""}]
[65,{"$f":"IF('Age - User Table|Label 2'!B71=\"\",\"\",'Age - User Table|Label 2'!B71)","v":""},{"$f":"IF('Age - User Table|Label 2'!C71=\"\",\"\",'Age - User Table|Label 2'!C71)","v":""},{"$f":"IF('Age - User Table|Label 2'!D71=\"\",\"\",'Age - User Table|Label 2'!D71)","v":""},{"$f":"IF('Age - User Table|Label 2'!E71=\"\",\"\",'Age - User Table|Label 2'!E71)","v":""},{"$f":"IF('Age - User Table|Label 2'!F71=\"\",\"\",'Age - User Table|Label 2'!F71)","v":""}]
[66,{"$f":"IF('Age - User Table|Label 2'!B72=\"\",\"\",'Age - User Table|Label 2'!B72)","v":""},{"$f":"IF('Age - User Table|Label 2'!C72=\"\",\"\",'Age - User Table|Label 2'!C72)","v":""},{"$f":"IF('Age - User Table|Label 2'!D72=\"\",\"\",'Age - User Table|Label 2'!D72)","v":""},{"$f":"IF('Age - User Table|Label 2'!E72=\"\",\"\",'Age - User Table|Label 2'!E72)","v":""},{"$f":"IF('Age - User Table|Label 2'!F72=\"\",\"\",'Age - User Table|Label 2'!F72)","v":""}]
[67,{"$f":"IF('Age - User Table|Label 2'!B73=\"\",\"\",'Age - User Table|Label 2'!B73)","v":""},{"$f":"IF('Age - User Table|Label 2'!C73=\"\",\"\",'Age - User Table|Label 2'!C73)","v":""},{"$f":"IF('Age - User Table|Label 2'!D73=\"\",\"\",'Age - User Table|Label 2'!D73)","v":""},{"$f":"IF('Age - User Table|Label 2'!E73=\"\",\"\",'Age - User Table|Label 2'!E73)","v":""},{"$f":"IF('Age - User Table|Label 2'!F73=\"\",\"\",'Age - User Table|Label 2'!F73)","v":""}]
[68,{"$f":"IF('Age - User Table|Label 2'!B74=\"\",\"\",'Age - User Table|Label 2'!B74)","v":""},{"$f":"IF('Age - User Table|Label 2'!C74=\"\",\"\",'Age - User Table|Label 2'!C74)","v":""},{"$f":"IF('Age - User Table|Label 2'!D74=\"\",\"\",'Age - User Table|Label 2'!D74)","v":""},{"$f":"IF('Age - User Table|Label 2'!E74=\"\",\"\",'Age - User Table|Label 2'!E74)","v":""},{"$f":"IF('Age - User Table|Label 2'!F74=\"\",\"\",'Age - User Table|Label 2'!F74)","v":""}]
[69,{"$f":"IF('Age - User Table|Label 2'!B75=\"\",\"\",'Age - User Table|Label 2'!B75)","v":""},{"$f":"IF('Age - User Table|Label 2'!C75=\"\",\"\",'Age - User Table|Label 2'!C75)","v":""},{"$f":"IF('Age - User Table|Label 2'!D75=\"\",\"\",'Age - User Table|Label 2'!D75)","v":""},{"$f":"IF('Age - User Table|Label 2'!E75=\"\",\"\",'Age - User Table|Label 2'!E75)","v":""},{"$f":"IF('Age - User Table|Label 2'!F75=\"\",\"\",'Age - User Table|Label 2'!F75)","v":""}]
[70,{"$f":"IF('Age - User Table|Label 2'!B76=\"\",\"\",'Age - User Table|Label 2'!B76)","v":""},{"$f":"IF('Age - User Table|Label 2'!C76=\"\",\"\",'Age - User Table|Label 2'!C76)","v":""},{"$f":"IF('Age - User Table|Label 2'!D76=\"\",\"\",'Age - User Table|Label 2'!D76)","v":""},{"$f":"IF('Age - User Table|Label 2'!E76=\"\",\"\",'Age - User Table|Label 2'!E76)","v":""},{"$f":"IF('Age - User Table|Label 2'!F76=\"\",\"\",'Age - User Table|Label 2'!F76)","v":""}]
[71,{"$f":"IF('Age - User Table|Label 2'!B77=\"\",\"\",'Age - User Table|Label 2'!B77)","v":""},{"$f":"IF('Age - User Table|Label 2'!C77=\"\",\"\",'Age - User Table|Label 2'!C77)","v":""},{"$f":"IF('Age - User Table|Label 2'!D77=\"\",\"\",'Age - User Table|Label 2'!D77)","v":""},{"$f":"IF('Age - User Table|Label 2'!E77=\"\",\"\",'Age - User Table|Label 2'!E77)","v":""},{"$f":"IF('Age - User Table|Label 2'!F77=\"\",\"\",'Age - User Table|Label 2'!F77)","v":""}]
[72,{"$f":"IF('Age - User Table|Label 2'!B78=\"\",\"\",'Age - User Table|Label 2'!B78)","v":""},{"$f":"IF('Age - User Table|Label 2'!C78=\"\",\"\",'Age - User Table|Label 2'!C78)","v":""},{"$f":"IF('Age - User Table|Label 2'!D78=\"\",\"\",'Age - User Table|Label 2'!D78)","v":""},{"$f":"IF('Age - User Table|Label 2'!E78=\"\",\"\",'Age - User Table|Label 2'!E78)","v":""},{"$f":"IF('Age - User Table|Label 2'!F78=\"\",\"\",'Age - User Table|Label 2'!F78)","v":""}]
[73,{"$f":"IF('Age - User Table|Label 2'!B79=\"\",\"\",'Age - User Table|Label 2'!B79)","v":""},{"$f":"IF('Age - User Table|Label 2'!C79=\"\",\"\",'Age - User Table|Label 2'!C79)","v":""},{"$f":"IF('Age - User Table|Label 2'!D79=\"\",\"\",'Age - User Table|Label 2'!D79)","v":""},{"$f":"IF('Age - User Table|Label 2'!E79=\"\",\"\",'Age - User Table|Label 2'!E79)","v":""},{"$f":"IF('Age - User Table|Label 2'!F79=\"\",\"\",'Age - User Table|Label 2'!F79)","v":""}]
[74,{"$f":"IF('Age - User Table|Label 2'!B80=\"\",\"\",'Age - User Table|Label 2'!B80)","v":""},{"$f":"IF('Age - User Table|Label 2'!C80=\"\",\"\",'Age - User Table|Label 2'!C80)","v":""},{"$f":"IF('Age - User Table|Label 2'!D80=\"\",\"\",'Age - User Table|Label 2'!D80)","v":""},{"$f":"IF('Age - User Table|Label 2'!E80=\"\",\"\",'Age - User Table|Label 2'!E80)","v":""},{"$f":"IF('Age - User Table|Label 2'!F80=\"\",\"\",'Age - User Table|Label 2'!F80)","v":""}]
[75,{"$f":"IF('Age - User Table|Label 2'!B81=\"\",\"\",'Age - User Table|Label 2'!B81)","v":""},{"$f":"IF('Age - User Table|Label 2'!C81=\"\",\"\",'Age - User Table|Label 2'!C81)","v":""},{"$f":"IF('Age - User Table|Label 2'!D81=\"\",\"\",'Age - User Table|Label 2'!D81)","v":""},{"$f":"IF('Age - User Table|Label 2'!E81=\"\",\"\",'Age - User Table|Label 2'!E81)","v":""},{"$f":"IF('Age - User Table|Label 2'!F81=\"\",\"\",'Age - User Table|Label 2'!F81)","v":""}]
[76,{"$f":"IF('Age - User Table|Label 2'!B82=\"\",\"\",'Age - User Table|Label 2'!B82)","v":""},{"$f":"IF('Age - User Table|Label 2'!C82=\"\",\"\",'Age - User Table|Label 2'!C82)","v":""},{"$f":"IF('Age - User Table|Label 2'!D82=\"\",\"\",'Age - User Table|Label 2'!D82)","v":""},{"$f":"IF('Age - User Table|Label 2'!E82=\"\",\"\",'Age - User Table|Label 2'!E82)","v":""},{"$f":"IF('Age - User Table|Label 2'!F82=\"\",\"\",'Age - User Table|Label 2'!F82)","v":""}]
[77,{"$f":"IF('Age - User Table|Label 2'!B83=\"\",\"\",'Age - User Table|Label 2'!B83)","v":""},{"$f":"IF('Age - User Table|Label 2'!C83=\"\",\"\",'Age - User Table|Label 2'!C83)","v":""},{"$f":"IF('Age - User Table|Label 2'!D83=\"\",\"\",'Age - User Table|Label 2'!D83)","v":""},{"$f":"IF('Age - User Table|Label 2'!E83=\"\",\"\",'Age - User Table|Label 2'!E83)","v":""},{"$f":"IF('Age - User Table|Label 2'!F83=\"\",\"\",'Age - User Table|Label 2'!F83)","v":""}]
[78,{"$f":"IF('Age - User Table|Label 2'!B84=\"\",\"\",'Age - User Table|Label 2'!B84)","v":""},{"$f":"IF('Age - User Table|Label 2'!C84=\"\",\"\",'Age - User Table|Label 2'!C84)","v":""},{"$f":"IF('Age - User Table|Label 2'!D84=\"\",\"\",'Age - User Table|Label 2'!D84)","v":""},{"$f":"IF('Age - User Table|Label 2'!E84=\"\",\"\",'Age - User Table|Label 2'!E84)","v":""},{"$f":"IF('Age - User Table|Label 2'!F84=\"\",\"\",'Age - User Table|Label 2'!F84)","v":""}]
[79,{"$f":"IF('Age - User Table|Label 2'!B85=\"\",\"\",'Age - User Table|Label 2'!B85)","v":""},{"$f":"IF('Age - User Table|Label 2'!C85=\"\",\"\",'Age - User Table|Label 2'!C85)","v":""},{"$f":"IF('Age - User Table|Label 2'!D85=\"\",\"\",'Age - User Table|Label 2'!D85)","v":""},{"$f":"IF('Age - User Table|Label 2'!E85=\"\",\"\",'Age - User Table|Label 2'!E85)","v":""},{"$f":"IF('Age - User Table|Label 2'!F85=\"\",\"\",'Age - User Table|Label 2'!F85)","v":""}]
[80,{"$f":"IF('Age - User Table|Label 2'!B86=\"\",\"\",'Age - User Table|Label 2'!B86)","v":""},{"$f":"IF('Age - User Table|Label 2'!C86=\"\",\"\",'Age - User Table|Label 2'!C86)","v":""},{"$f":"IF('Age - User Table|Label 2'!D86=\"\",\"\",'Age - User Table|Label 2'!D86)","v":""},{"$f":"IF('Age - User Table|Label 2'!E86=\"\",\"\",'Age - User Table|Label 2'!E86)","v":""},{"$f":"IF('Age - User Table|Label 2'!F86=\"\",\"\",'Age - User Table|Label 2'!F86)","v":""}]
[81,{"$f":"IF('Age - User Table|Label 2'!B87=\"\",\"\",'Age - User Table|Label 2'!B87)","v":""},{"$f":"IF('Age - User Table|Label 2'!C87=\"\",\"\",'Age - User Table|Label 2'!C87)","v":""},{"$f":"IF('Age - User Table|Label 2'!D87=\"\",\"\",'Age - User Table|Label 2'!D87)","v":""},{"$f":"IF('Age - User Table|Label 2'!E87=\"\",\"\",'Age - User Table|Label 2'!E87)","v":""},{"$f":"IF('Age - User Table|Label 2'!F87=\"\",\"\",'Age - User Table|Label 2'!F87)","v":""}]
[82,{"$f":"IF('Age - User Table|Label 2'!B88=\"\",\"\",'Age - User Table|Label 2'!B88)","v":""},{"$f":"IF('Age - User Table|Label 2'!C88=\"\",\"\",'Age - User Table|Label 2'!C88)","v":""},{"$f":"IF('Age - User Table|Label 2'!D88=\"\",\"\",'Age - User Table|Label 2'!D88)","v":""},{"$f":"IF('Age - User Table|Label 2'!E88=\"\",\"\",'Age - User Table|Label 2'!E88)","v":""},{"$f":"IF('Age - User Table|Label 2'!F88=\"\",\"\",'Age - User Table|Label 2'!F88)","v":""}]
[83,{"$f":"IF('Age - User Table|Label 2'!B89=\"\",\"\",'Age - User Table|Label 2'!B89)","v":""},{"$f":"IF('Age - User Table|Label 2'!C89=\"\",\"\",'Age - User Table|Label 2'!C89)","v":""},{"$f":"IF('Age - User Table|Label 2'!D89=\"\",\"\",'Age - User Table|Label 2'!D89)","v":""},{"$f":"IF('Age - User Table|Label 2'!E89=\"\",\"\",'Age - User Table|Label 2'!E89)","v":""},{"$f":"IF('Age - User Table|Label 2'!F89=\"\",\"\",'Age - User Table|Label 2'!F89)","v":""}]
[84,{"$f":"IF('Age - User Table|Label 2'!B90=\"\",\"\",'Age - User Table|Label 2'!B90)","v":""},{"$f":"IF('Age - User Table|Label 2'!C90=\"\",\"\",'Age - User Table|Label 2'!C90)","v":""},{"$f":"IF('Age - User Table|Label 2'!D90=\"\",\"\",'Age - User Table|Label 2'!D90)","v":""},{"$f":"IF('Age - User Table|Label 2'!E90=\"\",\"\",'Age - User Table|Label 2'!E90)","v":""},{"$f":"IF('Age - User Table|Label 2'!F90=\"\",\"\",'Age - User Table|Label 2'!F90)","v":""}]
[85,{"$f":"IF('Age - User Table|Label 2'!B91=\"\",\"\",'Age - User Table|Label 2'!B91)","v":""},{"$f":"IF('Age - User Table|Label 2'!C91=\"\",\"\",'Age - User Table|Label 2'!C91)","v":""},{"$f":"IF('Age - User Table|Label 2'!D91=\"\",\"\",'Age - User Table|Label 2'!D91)","v":""},{"$f":"IF('Age - User Table|Label 2'!E91=\"\",\"\",'Age - User Table|Label 2'!E91)","v":""},{"$f":"IF('Age - User Table|Label 2'!F91=\"\",\"\",'Age - User Table|Label 2'!F91)","v":""}]
[86,{"$f":"IF('Age - User Table|Label 2'!B92=\"\",\"\",'Age - User Table|Label 2'!B92)","v":""},{"$f":"IF('Age - User Table|Label 2'!C92=\"\",\"\",'Age - User Table|Label 2'!C92)","v":""},{"$f":"IF('Age - User Table|Label 2'!D92=\"\",\"\",'Age - User Table|Label 2'!D92)","v":""},{"$f":"IF('Age - User Table|Label 2'!E92=\"\",\"\",'Age - User Table|Label 2'!E92)","v":""},{"$f":"IF('Age - User Table|Label 2'!F92=\"\",\"\",'Age - User Table|Label 2'!F92)","v":""}]
[87,{"$f":"IF('Age - User Table|Label 2'!B93=\"\",\"\",'Age - User Table|Label 2'!B93)","v":""},{"$f":"IF('Age - User Table|Label 2'!C93=\"\",\"\",'Age - User Table|Label 2'!C93)","v":""},{"$f":"IF('Age - User Table|Label 2'!D93=\"\",\"\",'Age - User Table|Label 2'!D93)","v":""},{"$f":"IF('Age - User Table|Label 2'!E93=\"\",\"\",'Age - User Table|Label 2'!E93)","v":""},{"$f":"IF('Age - User Table|Label 2'!F93=\"\",\"\",'Age - User Table|Label 2'!F93)","v":""}]
[88,{"$f":"IF('Age - User Table|Label 2'!B94=\"\",\"\",'Age - User Table|Label 2'!B94)","v":""},{"$f":"IF('Age - User Table|Label 2'!C94=\"\",\"\",'Age - User Table|Label 2'!C94)","v":""},{"$f":"IF('Age - User Table|Label 2'!D94=\"\",\"\",'Age - User Table|Label 2'!D94)","v":""},{"$f":"IF('Age - User Table|Label 2'!E94=\"\",\"\",'Age - User Table|Label 2'!E94)","v":""},{"$f":"IF('Age - User Table|Label 2'!F94=\"\",\"\",'Age - User Table|Label 2'!F94)","v":""}]
[89,{"$f":"IF('Age - User Table|Label 2'!B95=\"\",\"\",'Age - User Table|Label 2'!B95)","v":""},{"$f":"IF('Age - User Table|Label 2'!C95=\"\",\"\",'Age - User Table|Label 2'!C95)","v":""},{"$f":"IF('Age - User Table|Label 2'!D95=\"\",\"\",'Age - User Table|Label 2'!D95)","v":""},{"$f":"IF('Age - User Table|Label 2'!E95=\"\",\"\",'Age - User Table|Label 2'!E95)","v":""},{"$f":"IF('Age - User Table|Label 2'!F95=\"\",\"\",'Age - User Table|Label 2'!F95)","v":""}]
[90,{"$f":"IF('Age - User Table|Label 2'!B96=\"\",\"\",'Age - User Table|Label 2'!B96)","v":""},{"$f":"IF('Age - User Table|Label 2'!C96=\"\",\"\",'Age - User Table|Label 2'!C96)","v":""},{"$f":"IF('Age - User Table|Label 2'!D96=\"\",\"\",'Age - User Table|Label 2'!D96)","v":""},{"$f":"IF('Age - User Table|Label 2'!E96=\"\",\"\",'Age - User Table|Label 2'!E96)","v":""},{"$f":"IF('Age - User Table|Label 2'!F96=\"\",\"\",'Age - User Table|Label 2'!F96)","v":""}]
[91,{"$f":"IF('Age - User Table|Label 2'!B97=\"\",\"\",'Age - User Table|Label 2'!B97)","v":""},{"$f":"IF('Age - User Table|Label 2'!C97=\"\",\"\",'Age - User Table|Label 2'!C97)","v":""},{"$f":"IF('Age - User Table|Label 2'!D97=\"\",\"\",'Age - User Table|Label 2'!D97)","v":""},{"$f":"IF('Age - User Table|Label 2'!E97=\"\",\"\",'Age - User Table|Label 2'!E97)","v":""},{"$f":"IF('Age - User Table|Label 2'!F97=\"\",\"\",'Age - User Table|Label 2'!F97)","v":""}]
[92,{"$f":"IF('Age - User Table|Label 2'!B98=\"\",\"\",'Age - User Table|Label 2'!B98)","v":""},{"$f":"IF('Age - User Table|Label 2'!C98=\"\",\"\",'Age - User Table|Label 2'!C98)","v":""},{"$f":"IF('Age - User Table|Label 2'!D98=\"\",\"\",'Age - User Table|Label 2'!D98)","v":""},{"$f":"IF('Age - User Table|Label 2'!E98=\"\",\"\",'Age - User Table|Label 2'!E98)","v":""},{"$f":"IF('Age - User Table|Label 2'!F98=\"\",\"\",'Age - User Table|Label 2'!F98)","v":""}]
[93,{"$f":"IF('Age - User Table|Label 2'!B99=\"\",\"\",'Age - User Table|Label 2'!B99)","v":""},{"$f":"IF('Age - User Table|Label 2'!C99=\"\",\"\",'Age - User Table|Label 2'!C99)","v":""},{"$f":"IF('Age - User Table|Label 2'!D99=\"\",\"\",'Age - User Table|Label 2'!D99)","v":""},{"$f":"IF('Age - User Table|Label 2'!E99=\"\",\"\",'Age - User Table|Label 2'!E99)","v":""},{"$f":"IF('Age - User Table|Label 2'!F99=\"\",\"\",'Age - User Table|Label 2'!F99)","v":""}]
[94,{"$f":"IF('Age - User Table|Label 2'!B100=\"\",\"\",'Age - User Table|Label 2'!B100)","v":""},{"$f":"IF('Age - User Table|Label 2'!C100=\"\",\"\",'Age - User Table|Label 2'!C100)","v":""},{"$f":"IF('Age - User Table|Label 2'!D100=\"\",\"\",'Age - User Table|Label 2'!D100)","v":""},{"$f":"IF('Age - User Table|Label 2'!E100=\"\",\"\",'Age - User Table|Label 2'!E100)","v":""},{"$f":"IF('Age - User Table|Label 2'!F100=\"\",\"\",'Age - User Table|Label 2'!F100)","v":""}]
[95,{"$f":"IF('Age - User Table|Label 2'!B101=\"\",\"\",'Age - User Table|Label 2'!B101)","v":""},{"$f":"IF('Age - User Table|Label 2'!C101=\"\",\"\",'Age - User Table|Label 2'!C101)","v":""},{"$f":"IF('Age - User Table|Label 2'!D101=\"\",\"\",'Age - User Table|Label 2'!D101)","v":""},{"$f":"IF('Age - User Table|Label 2'!E101=\"\",\"\",'Age - User Table|Label 2'!E101)","v":""},{"$f":"IF('Age - User Table|Label 2'!F101=\"\",\"\",'Age - User Table|Label 2'!F101)","v":""}]
[96,{"$f":"IF('Age - User Table|Label 2'!B102=\"\",\"\",'Age - User Table|Label 2'!B102)","v":""},{"$f":"IF('Age - User Table|Label 2'!C102=\"\",\"\",'Age - User Table|Label 2'!C102)","v":""},{"$f":"IF('Age - User Table|Label 2'!D102=\"\",\"\",'Age - User Table|Label 2'!D102)","v":""},{"$f":"IF('Age - User Table|Label 2'!E102=\"\",\"\",'Age - User Table|Label 2'!E102)","v":""},{"$f":"IF('Age - User Table|Label 2'!F102=\"\",\"\",'Age - User Table|Label 2'!F102)","v":""}]
[97,{"$f":"IF('Age - User Table|Label 2'!B103=\"\",\"\",'Age - User Table|Label 2'!B103)","v":""},{"$f":"IF('Age - User Table|Label 2'!C103=\"\",\"\",'Age - User Table|Label 2'!C103)","v":""},{"$f":"IF('Age - User Table|Label 2'!D103=\"\",\"\",'Age - User Table|Label 2'!D103)","v":""},{"$f":"IF('Age - User Table|Label 2'!E103=\"\",\"\",'Age - User Table|Label 2'!E103)","v":""},{"$f":"IF('Age - User Table|Label 2'!F103=\"\",\"\",'Age - User Table|Label 2'!F103)","v":""}]
[98,{"$f":"IF('Age - User Table|Label 2'!B104=\"\",\"\",'Age - User Table|Label 2'!B104)","v":""},{"$f":"IF('Age - User Table|Label 2'!C104=\"\",\"\",'Age - User Table|Label 2'!C104)","v":""},{"$f":"IF('Age - User Table|Label 2'!D104=\"\",\"\",'Age - User Table|Label 2'!D104)","v":""},{"$f":"IF('Age - User Table|Label 2'!E104=\"\",\"\",'Age - User Table|Label 2'!E104)","v":""},{"$f":"IF('Age - User Table|Label 2'!F104=\"\",\"\",'Age - User Table|Label 2'!F104)","v":""}]
[99,{"$f":"IF('Age - User Table|Label 2'!B105=\"\",\"\",'Age - User Table|Label 2'!B105)","v":""},{"$f":"IF('Age - User Table|Label 2'!C105=\"\",\"\",'Age - User Table|Label 2'!C105)","v":""},{"$f":"IF('Age - User Table|Label 2'!D105=\"\",\"\",'Age - User Table|Label 2'!D105)","v":""},{"$f":"IF('Age - User Table|Label 2'!E105=\"\",\"\",'Age - User Table|Label 2'!E105)","v":""},{"$f":"IF('Age - User Table|Label 2'!F105=\"\",\"\",'Age - User Table|Label 2'!F105)","v":""}]
[100,{"$f":"IF('Age - User Table|Label 2'!B106=\"\",\"\",'Age - User Table|Label 2'!B106)","v":""},{"$f":"IF('Age - User Table|Label 2'!C106=\"\",\"\",'Age - User Table|Label 2'!C106)","v":""},{"$f":"IF('Age - User Table|Label 2'!D106=\"\",\"\",'Age - User Table|Label 2'!D106)","v":""},{"$f":"IF('Age - User Table|Label 2'!E106=\"\",\"\",'Age - User Table|Label 2'!E106)","v":""},{"$f":"IF('Age - User Table|Label 2'!F106=\"\",\"\",'Age - User Table|Label 2'!F106)","v":""}]
[101,{"$f":"IF('Age - User Table|Label 2'!B107=\"\",\"\",'Age - User Table|Label 2'!B107)","v":""},{"$f":"IF('Age - User Table|Label 2'!C107=\"\",\"\",'Age - User Table|Label 2'!C107)","v":""},{"$f":"IF('Age - User Table|Label 2'!D107=\"\",\"\",'Age - User Table|Label 2'!D107)","v":""},{"$f":"IF('Age - User Table|Label 2'!E107=\"\",\"\",'Age - User Table|Label 2'!E107)","v":""},{"$f":"IF('Age - User Table|Label 2'!F107=\"\",\"\",'Age - User Table|Label 2'!F107)","v":""}]
[102,{"$f":"IF('Age - User Table|Label 2'!B108=\"\",\"\",'Age - User Table|Label 2'!B108)","v":""},{"$f":"IF('Age - User Table|Label 2'!C108=\"\",\"\",'Age - User Table|Label 2'!C108)","v":""},{"$f":"IF('Age - User Table|Label 2'!D108=\"\",\"\",'Age - User Table|Label 2'!D108)","v":""},{"$f":"IF('Age - User Table|Label 2'!E108=\"\",\"\",'Age - User Table|Label 2'!E108)","v":""},{"$f":"IF('Age - User Table|Label 2'!F108=\"\",\"\",'Age - User Table|Label 2'!F108)","v":""}]
[103,{"$f":"IF('Age - User Table|Label 2'!B109=\"\",\"\",'Age - User Table|Label 2'!B109)","v":""},{"$f":"IF('Age - User Table|Label 2'!C109=\"\",\"\",'Age - User Table|Label 2'!C109)","v":""},{"$f":"IF('Age - User Table|Label 2'!D109=\"\",\"\",'Age - User Table|Label 2'!D109)","v":""},{"$f":"IF('Age - User Table|Label 2'!E109=\"\",\"\",'Age - User Table|Label 2'!E109)","v":""},{"$f":"IF('Age - User Table|Label 2'!F109=\"\",\"\",'Age - User Table|Label 2'!F109)","v":""}]
[104,{"$f":"IF('Age - User Table|Label 2'!B110=\"\",\"\",'Age - User Table|Label 2'!B110)","v":""},{"$f":"IF('Age - User Table|Label 2'!C110=\"\",\"\",'Age - User Table|Label 2'!C110)","v":""},{"$f":"IF('Age - User Table|Label 2'!D110=\"\",\"\",'Age - User Table|Label 2'!D110)","v":""},{"$f":"IF('Age - User Table|Label 2'!E110=\"\",\"\",'Age - User Table|Label 2'!E110)","v":""},{"$f":"IF('Age - User Table|Label 2'!F110=\"\",\"\",'Age - User Table|Label 2'!F110)","v":""}]
[105,{"$f":"IF('Age - User Table|Label 2'!B111=\"\",\"\",'Age - User Table|Label 2'!B111)","v":""},{"$f":"IF('Age - User Table|Label 2'!C111=\"\",\"\",'Age - User Table|Label 2'!C111)","v":""},{"$f":"IF('Age - User Table|Label 2'!D111=\"\",\"\",'Age - User Table|Label 2'!D111)","v":""},{"$f":"IF('Age - User Table|Label 2'!E111=\"\",\"\",'Age - User Table|Label 2'!E111)","v":""},{"$f":"IF('Age - User Table|Label 2'!F111=\"\",\"\",'Age - User Table|Label 2'!F111)","v":""}]
[106,{"$f":"IF('Age - User Table|Label 2'!B112=\"\",\"\",'Age - User Table|Label 2'!B112)","v":""},{"$f":"IF('Age - User Table|Label 2'!C112=\"\",\"\",'Age - User Table|Label 2'!C112)","v":""},{"$f":"IF('Age - User Table|Label 2'!D112=\"\",\"\",'Age - User Table|Label 2'!D112)","v":""},{"$f":"IF('Age - User Table|Label 2'!E112=\"\",\"\",'Age - User Table|Label 2'!E112)","v":""},{"$f":"IF('Age - User Table|Label 2'!F112=\"\",\"\",'Age - User Table|Label 2'!F112)","v":""}]
[107,{"$f":"IF('Age - User Table|Label 2'!B113=\"\",\"\",'Age - User Table|Label 2'!B113)","v":""},{"$f":"IF('Age - User Table|Label 2'!C113=\"\",\"\",'Age - User Table|Label 2'!C113)","v":""},{"$f":"IF('Age - User Table|Label 2'!D113=\"\",\"\",'Age - User Table|Label 2'!D113)","v":""},{"$f":"IF('Age - User Table|Label 2'!E113=\"\",\"\",'Age - User Table|Label 2'!E113)","v":""},{"$f":"IF('Age - User Table|Label 2'!F113=\"\",\"\",'Age - User Table|Label 2'!F113)","v":""}]
[108,{"$f":"IF('Age - User Table|Label 2'!B114=\"\",\"\",'Age - User Table|Label 2'!B114)","v":""},{"$f":"IF('Age - User Table|Label 2'!C114=\"\",\"\",'Age - User Table|Label 2'!C114)","v":""},{"$f":"IF('Age - User Table|Label 2'!D114=\"\",\"\",'Age - User Table|Label 2'!D114)","v":""},{"$f":"IF('Age - User Table|Label 2'!E114=\"\",\"\",'Age - User Table|Label 2'!E114)","v":""},{"$f":"IF('Age - User Table|Label 2'!F114=\"\",\"\",'Age - User Table|Label 2'!F114)","v":""}]
[109,{"$f":"IF('Age - User Table|Label 2'!B115=\"\",\"\",'Age - User Table|Label 2'!B115)","v":""},{"$f":"IF('Age - User Table|Label 2'!C115=\"\",\"\",'Age - User Table|Label 2'!C115)","v":""},{"$f":"IF('Age - User Table|Label 2'!D115=\"\",\"\",'Age - User Table|Label 2'!D115)","v":""},{"$f":"IF('Age - User Table|Label 2'!E115=\"\",\"\",'Age - User Table|Label 2'!E115)","v":""},{"$f":"IF('Age - User Table|Label 2'!F115=\"\",\"\",'Age - User Table|Label 2'!F115)","v":""}]
[110,{"$f":"IF('Age - User Table|Label 2'!B116=\"\",\"\",'Age - User Table|Label 2'!B116)","v":""},{"$f":"IF('Age - User Table|Label 2'!C116=\"\",\"\",'Age - User Table|Label 2'!C116)","v":""},{"$f":"IF('Age - User Table|Label 2'!D116=\"\",\"\",'Age - User Table|Label 2'!D116)","v":""},{"$f":"IF('Age - User Table|Label 2'!E116=\"\",\"\",'Age - User Table|Label 2'!E116)","v":""},{"$f":"IF('Age - User Table|Label 2'!F116=\"\",\"\",'Age - User Table|Label 2'!F116)","v":""}]
[111,{"$f":"IF('Age - User Table|Label 2'!B117=\"\",\"\",'Age - User Table|Label 2'!B117)","v":""},{"$f":"IF('Age - User Table|Label 2'!C117=\"\",\"\",'Age - User Table|Label 2'!C117)","v":""},{"$f":"IF('Age - User Table|Label 2'!D117=\"\",\"\",'Age - User Table|Label 2'!D117)","v":""},{"$f":"IF('Age - User Table|Label 2'!E117=\"\",\"\",'Age - User Table|Label 2'!E117)","v":""},{"$f":"IF('Age - User Table|Label 2'!F117=\"\",\"\",'Age - User Table|Label 2'!F117)","v":""}]
[112,{"$f":"IF('Age - User Table|Label 2'!B118=\"\",\"\",'Age - User Table|Label 2'!B118)","v":""},{"$f":"IF('Age - User Table|Label 2'!C118=\"\",\"\",'Age - User Table|Label 2'!C118)","v":""},{"$f":"IF('Age - User Table|Label 2'!D118=\"\",\"\",'Age - User Table|Label 2'!D118)","v":""},{"$f":"IF('Age - User Table|Label 2'!E118=\"\",\"\",'Age - User Table|Label 2'!E118)","v":""},{"$f":"IF('Age - User Table|Label 2'!F118=\"\",\"\",'Age - User Table|Label 2'!F118)","v":""}]
[113,{"$f":"IF('Age - User Table|Label 2'!B119=\"\",\"\",'Age - User Table|Label 2'!B119)","v":""},{"$f":"IF('Age - User Table|Label 2'!C119=\"\",\"\",'Age - User Table|Label 2'!C119)","v":""},{"$f":"IF('Age - User Table|Label 2'!D119=\"\",\"\",'Age - User Table|Label 2'!D119)","v":""},{"$f":"IF('Age - User Table|Label 2'!E119=\"\",\"\",'Age - User Table|Label 2'!E119)","v":""},{"$f":"IF('Age - User Table|Label 2'!F119=\"\",\"\",'Age - User Table|Label 2'!F119)","v":""}]
[114,{"$f":"IF('Age - User Table|Label 2'!B120=\"\",\"\",'Age - User Table|Label 2'!B120)","v":""},{"$f":"IF('Age - User Table|Label 2'!C120=\"\",\"\",'Age - User Table|Label 2'!C120)","v":""},{"$f":"IF('Age - User Table|Label 2'!D120=\"\",\"\",'Age - User Table|Label 2'!D120)","v":""},{"$f":"IF('Age - User Table|Label 2'!E120=\"\",\"\",'Age - User Table|Label 2'!E120)","v":""},{"$f":"IF('Age - User Table|Label 2'!F120=\"\",\"\",'Age - User Table|Label 2'!F120)","v":""}]
[115,{"$f":"IF('Age - User Table|Label 2'!B121=\"\",\"\",'Age - User Table|Label 2'!B121)","v":""},{"$f":"IF('Age - User Table|Label 2'!C121=\"\",\"\",'Age - User Table|Label 2'!C121)","v":""},{"$f":"IF('Age - User Table|Label 2'!D121=\"\",\"\",'Age - User Table|Label 2'!D121)","v":""},{"$f":"IF('Age - User Table|Label 2'!E121=\"\",\"\",'Age - User Table|Label 2'!E121)","v":""},{"$f":"IF('Age - User Table|Label 2'!F121=\"\",\"\",'Age - User Table|Label 2'!F121)","v":""}]
[116,{"$f":"IF('Age - User Table|Label 2'!B122=\"\",\"\",'Age - User Table|Label 2'!B122)","v":""},{"$f":"IF('Age - User Table|Label 2'!C122=\"\",\"\",'Age - User Table|Label 2'!C122)","v":""},{"$f":"IF('Age - User Table|Label 2'!D122=\"\",\"\",'Age - User Table|Label 2'!D122)","v":""},{"$f":"IF('Age - User Table|Label 2'!E122=\"\",\"\",'Age - User Table|Label 2'!E122)","v":""},{"$f":"IF('Age - User Table|Label 2'!F122=\"\",\"\",'Age - User Table|Label 2'!F122)","v":""}]
[117,{"$f":"IF('Age - User Table|Label 2'!B123=\"\",\"\",'Age - User Table|Label 2'!B123)","v":""},{"$f":"IF('Age - User Table|Label 2'!C123=\"\",\"\",'Age - User Table|Label 2'!C123)","v":""},{"$f":"IF('Age - User Table|Label 2'!D123=\"\",\"\",'Age - User Table|Label 2'!D123)","v":""},{"$f":"IF('Age - User Table|Label 2'!E123=\"\",\"\",'Age - User Table|Label 2'!E123)","v":""},{"$f":"IF('Age - User Table|Label 2'!F123=\"\",\"\",'Age - User Table|Label 2'!F123)","v":""}]
[118,{"$f":"IF('Age - User Table|Label 2'!B124=\"\",\"\",'Age - User Table|Label 2'!B124)","v":""},{"$f":"IF('Age - User Table|Label 2'!C124=\"\",\"\",'Age - User Table|Label 2'!C124)","v":""},{"$f":"IF('Age - User Table|Label 2'!D124=\"\",\"\",'Age - User Table|Label 2'!D124)","v":""},{"$f":"IF('Age - User Table|Label 2'!E124=\"\",\"\",'Age - User Table|Label 2'!E124)","v":""},{"$f":"IF('Age - User Table|Label 2'!F124=\"\",\"\",'Age - User Table|Label 2'!F124)","v":""}]
[119,{"$f":"IF('Age - User Table|Label 2'!B125=\"\",\"\",'Age - User Table|Label 2'!B125)","v":""},{"$f":"IF('Age - User Table|Label 2'!C125=\"\",\"\",'Age - User Table|Label 2'!C125)","v":""},{"$f":"IF('Age - User Table|Label 2'!D125=\"\",\"\",'Age - User Table|Label 2'!D125)","v":""},{"$f":"IF('Age - User Table|Label 2'!E125=\"\",\"\",'Age - User Table|Label 2'!E125)","v":""},{"$f":"IF('Age - User Table|Label 2'!F125=\"\",\"\",'Age - User Table|Label 2'!F125)","v":""}]
[120,{"$f":"IF('Age - User Table|Label 2'!B126=\"\",\"\",'Age - User Table|Label 2'!B126)","v":""},{"$f":"IF('Age - User Table|Label 2'!C126=\"\",\"\",'Age - User Table|Label 2'!C126)","v":""},{"$f":"IF('Age - User Table|Label 2'!D126=\"\",\"\",'Age - User Table|Label 2'!D126)","v":""},{"$f":"IF('Age - User Table|Label 2'!E126=\"\",\"\",'Age - User Table|Label 2'!E126)","v":""},{"$f":"IF('Age - User Table|Label 2'!F126=\"\",\"\",'Age - User Table|Label 2'!F126)","v":""}]
[]
["AGE - User Table 3",null,null,null,null,{"$f":"IF('Age - User Table|Label 3'!F1=\"\",\"\",'Age - User Table|Label 3'!F1)","v":"Age User Table 3"}]
[null,null,null,null,null,{"$f":"ValidationData!DataVersion","v":"70.80.100.100"}]
["Index","Measurement Name",null,null,{"$f":"IF('Age - User Table|Label 3'!E3=\"\",\"\",'Age - User Table|Label 3'!E3)","v":""}]
[null,"Measurement Type",null,null,{"$f":"IF('Age - User Table|Label 3'!E4=\"\",\"\",IF(ISERROR(VLOOKUP('Age - User Table|Label 3'!E4,ValidationData!A5:B7,2, FALSE)), \"\", VLOOKUP('Age - User Table|Label 3'!E4,ValidationData!A5:B7,2, FALSE)))","v":""}]
[null,"Author",null,null,{"$f":"IF('Age - User Table|Label 3'!J5=\"\",\"\",'Age - User Table|Label 3'!J5)","v":""}]
[null,"Value","Age (weeks)","Age (days)","Range (weeks)","Range (days)"]
[1,{"$f":"IF('Age - User Table|Label 3'!B7=\"\",\"\",'Age - User Table|Label 3'!B7)","v":""},{"$f":"IF('Age - User Table|Label 3'!C7=\"\",\"\",'Age - User Table|Label 3'!C7)","v":""},{"$f":"IF('Age - User Table|Label 3'!D7=\"\",\"\",'Age - User Table|Label 3'!D7)","v":""},{"$f":"IF('Age - User Table|Label 3'!E7=\"\",\"\",'Age - User Table|Label 3'!E7)","v":""},{"$f":"IF('Age - User Table|Label 3'!F7=\"\",\"\",'Age - User Table|Label 3'!F7)","v":""}]
[2,{"$f":"IF('Age - User Table|Label 3'!B8=\"\",\"\",'Age - User Table|Label 3'!B8)","v":""},{"$f":"IF('Age - User Table|Label 3'!C8=\"\",\"\",'Age - User Table|Label 3'!C8)","v":""},{"$f":"IF('Age - User Table|Label 3'!D8=\"\",\"\",'Age - User Table|Label 3'!D8)","v":""},{"$f":"IF('Age - User Table|Label 3'!E8=\"\",\"\",'Age - User Table|Label 3'!E8)","v":""},{"$f":"IF('Age - User Table|Label 3'!F8=\"\",\"\",'Age - User Table|Label 3'!F8)","v":""}]
[3,{"$f":"IF('Age - User Table|Label 3'!B9=\"\",\"\",'Age - User Table|Label 3'!B9)","v":""},{"$f":"IF('Age - User Table|Label 3'!C9=\"\",\"\",'Age - User Table|Label 3'!C9)","v":""},{"$f":"IF('Age - User Table|Label 3'!D9=\"\",\"\",'Age - User Table|Label 3'!D9)","v":""},{"$f":"IF('Age - User Table|Label 3'!E9=\"\",\"\",'Age - User Table|Label 3'!E9)","v":""},{"$f":"IF('Age - User Table|Label 3'!F9=\"\",\"\",'Age - User Table|Label 3'!F9)","v":""}]
[4,{"$f":"IF('Age - User Table|Label 3'!B10=\"\",\"\",'Age - User Table|Label 3'!B10)","v":""},{"$f":"IF('Age - User Table|Label 3'!C10=\"\",\"\",'Age - User Table|Label 3'!C10)","v":""},{"$f":"IF('Age - User Table|Label 3'!D10=\"\",\"\",'Age - User Table|Label 3'!D10)","v":""},{"$f":"IF('Age - User Table|Label 3'!E10=\"\",\"\",'Age - User Table|Label 3'!E10)","v":""},{"$f":"IF('Age - User Table|Label 3'!F10=\"\",\"\",'Age - User Table|Label 3'!F10)","v":""}]
[5,{"$f":"IF('Age - User Table|Label 3'!B11=\"\",\"\",'Age - User Table|Label 3'!B11)","v":""},{"$f":"IF('Age - User Table|Label 3'!C11=\"\",\"\",'Age - User Table|Label 3'!C11)","v":""},{"$f":"IF('Age - User Table|Label 3'!D11=\"\",\"\",'Age - User Table|Label 3'!D11)","v":""},{"$f":"IF('Age - User Table|Label 3'!E11=\"\",\"\",'Age - User Table|Label 3'!E11)","v":""},{"$f":"IF('Age - User Table|Label 3'!F11=\"\",\"\",'Age - User Table|Label 3'!F11)","v":""}]
[6,{"$f":"IF('Age - User Table|Label 3'!B12=\"\",\"\",'Age - User Table|Label 3'!B12)","v":""},{"$f":"IF('Age - User Table|Label 3'!C12=\"\",\"\",'Age - User Table|Label 3'!C12)","v":""},{"$f":"IF('Age - User Table|Label 3'!D12=\"\",\"\",'Age - User Table|Label 3'!D12)","v":""},{"$f":"IF('Age - User Table|Label 3'!E12=\"\",\"\",'Age - User Table|Label 3'!E12)","v":""},{"$f":"IF('Age - User Table|Label 3'!F12=\"\",\"\",'Age - User Table|Label 3'!F12)","v":""}]
[7,{"$f":"IF('Age - User Table|Label 3'!B13=\"\",\"\",'Age - User Table|Label 3'!B13)","v":""},{"$f":"IF('Age - User Table|Label 3'!C13=\"\",\"\",'Age - User Table|Label 3'!C13)","v":""},{"$f":"IF('Age - User Table|Label 3'!D13=\"\",\"\",'Age - User Table|Label 3'!D13)","v":""},{"$f":"IF('Age - User Table|Label 3'!E13=\"\",\"\",'Age - User Table|Label 3'!E13)","v":""},{"$f":"IF('Age - User Table|Label 3'!F13=\"\",\"\",'Age - User Table|Label 3'!F13)","v":""}]
[8,{"$f":"IF('Age - User Table|Label 3'!B14=\"\",\"\",'Age - User Table|Label 3'!B14)","v":""},{"$f":"IF('Age - User Table|Label 3'!C14=\"\",\"\",'Age - User Table|Label 3'!C14)","v":""},{"$f":"IF('Age - User Table|Label 3'!D14=\"\",\"\",'Age - User Table|Label 3'!D14)","v":""},{"$f":"IF('Age - User Table|Label 3'!E14=\"\",\"\",'Age - User Table|Label 3'!E14)","v":""},{"$f":"IF('Age - User Table|Label 3'!F14=\"\",\"\",'Age - User Table|Label 3'!F14)","v":""}]
[9,{"$f":"IF('Age - User Table|Label 3'!B15=\"\",\"\",'Age - User Table|Label 3'!B15)","v":""},{"$f":"IF('Age - User Table|Label 3'!C15=\"\",\"\",'Age - User Table|Label 3'!C15)","v":""},{"$f":"IF('Age - User Table|Label 3'!D15=\"\",\"\",'Age - User Table|Label 3'!D15)","v":""},{"$f":"IF('Age - User Table|Label 3'!E15=\"\",\"\",'Age - User Table|Label 3'!E15)","v":""},{"$f":"IF('Age - User Table|Label 3'!F15=\"\",\"\",'Age - User Table|Label 3'!F15)","v":""}]
[10,{"$f":"IF('Age - User Table|Label 3'!B16=\"\",\"\",'Age - User Table|Label 3'!B16)","v":""},{"$f":"IF('Age - User Table|Label 3'!C16=\"\",\"\",'Age - User Table|Label 3'!C16)","v":""},{"$f":"IF('Age - User Table|Label 3'!D16=\"\",\"\",'Age - User Table|Label 3'!D16)","v":""},{"$f":"IF('Age - User Table|Label 3'!E16=\"\",\"\",'Age - User Table|Label 3'!E16)","v":""},{"$f":"IF('Age - User Table|Label 3'!F16=\"\",\"\",'Age - User Table|Label 3'!F16)","v":""}]
[11,{"$f":"IF('Age - User Table|Label 3'!B17=\"\",\"\",'Age - User Table|Label 3'!B17)","v":""},{"$f":"IF('Age - User Table|Label 3'!C17=\"\",\"\",'Age - User Table|Label 3'!C17)","v":""},{"$f":"IF('Age - User Table|Label 3'!D17=\"\",\"\",'Age - User Table|Label 3'!D17)","v":""},{"$f":"IF('Age - User Table|Label 3'!E17=\"\",\"\",'Age - User Table|Label 3'!E17)","v":""},{"$f":"IF('Age - User Table|Label 3'!F17=\"\",\"\",'Age - User Table|Label 3'!F17)","v":""}]
[12,{"$f":"IF('Age - User Table|Label 3'!B18=\"\",\"\",'Age - User Table|Label 3'!B18)","v":""},{"$f":"IF('Age - User Table|Label 3'!C18=\"\",\"\",'Age - User Table|Label 3'!C18)","v":""},{"$f":"IF('Age - User Table|Label 3'!D18=\"\",\"\",'Age - User Table|Label 3'!D18)","v":""},{"$f":"IF('Age - User Table|Label 3'!E18=\"\",\"\",'Age - User Table|Label 3'!E18)","v":""},{"$f":"IF('Age - User Table|Label 3'!F18=\"\",\"\",'Age - User Table|Label 3'!F18)","v":""}]
[13,{"$f":"IF('Age - User Table|Label 3'!B19=\"\",\"\",'Age - User Table|Label 3'!B19)","v":""},{"$f":"IF('Age - User Table|Label 3'!C19=\"\",\"\",'Age - User Table|Label 3'!C19)","v":""},{"$f":"IF('Age - User Table|Label 3'!D19=\"\",\"\",'Age - User Table|Label 3'!D19)","v":""},{"$f":"IF('Age - User Table|Label 3'!E19=\"\",\"\",'Age - User Table|Label 3'!E19)","v":""},{"$f":"IF('Age - User Table|Label 3'!F19=\"\",\"\",'Age - User Table|Label 3'!F19)","v":""}]
[14,{"$f":"IF('Age - User Table|Label 3'!B20=\"\",\"\",'Age - User Table|Label 3'!B20)","v":""},{"$f":"IF('Age - User Table|Label 3'!C20=\"\",\"\",'Age - User Table|Label 3'!C20)","v":""},{"$f":"IF('Age - User Table|Label 3'!D20=\"\",\"\",'Age - User Table|Label 3'!D20)","v":""},{"$f":"IF('Age - User Table|Label 3'!E20=\"\",\"\",'Age - User Table|Label 3'!E20)","v":""},{"$f":"IF('Age - User Table|Label 3'!F20=\"\",\"\",'Age - User Table|Label 3'!F20)","v":""}]
[15,{"$f":"IF('Age - User Table|Label 3'!B21=\"\",\"\",'Age - User Table|Label 3'!B21)","v":""},{"$f":"IF('Age - User Table|Label 3'!C21=\"\",\"\",'Age - User Table|Label 3'!C21)","v":""},{"$f":"IF('Age - User Table|Label 3'!D21=\"\",\"\",'Age - User Table|Label 3'!D21)","v":""},{"$f":"IF('Age - User Table|Label 3'!E21=\"\",\"\",'Age - User Table|Label 3'!E21)","v":""},{"$f":"IF('Age - User Table|Label 3'!F21=\"\",\"\",'Age - User Table|Label 3'!F21)","v":""}]
[16,{"$f":"IF('Age - User Table|Label 3'!B22=\"\",\"\",'Age - User Table|Label 3'!B22)","v":""},{"$f":"IF('Age - User Table|Label 3'!C22=\"\",\"\",'Age - User Table|Label 3'!C22)","v":""},{"$f":"IF('Age - User Table|Label 3'!D22=\"\",\"\",'Age - User Table|Label 3'!D22)","v":""},{"$f":"IF('Age - User Table|Label 3'!E22=\"\",\"\",'Age - User Table|Label 3'!E22)","v":""},{"$f":"IF('Age - User Table|Label 3'!F22=\"\",\"\",'Age - User Table|Label 3'!F22)","v":""}]
[17,{"$f":"IF('Age - User Table|Label 3'!B23=\"\",\"\",'Age - User Table|Label 3'!B23)","v":""},{"$f":"IF('Age - User Table|Label 3'!C23=\"\",\"\",'Age - User Table|Label 3'!C23)","v":""},{"$f":"IF('Age - User Table|Label 3'!D23=\"\",\"\",'Age - User Table|Label 3'!D23)","v":""},{"$f":"IF('Age - User Table|Label 3'!E23=\"\",\"\",'Age - User Table|Label 3'!E23)","v":""},{"$f":"IF('Age - User Table|Label 3'!F23=\"\",\"\",'Age - User Table|Label 3'!F23)","v":""}]
[18,{"$f":"IF('Age - User Table|Label 3'!B24=\"\",\"\",'Age - User Table|Label 3'!B24)","v":""},{"$f":"IF('Age - User Table|Label 3'!C24=\"\",\"\",'Age - User Table|Label 3'!C24)","v":""},{"$f":"IF('Age - User Table|Label 3'!D24=\"\",\"\",'Age - User Table|Label 3'!D24)","v":""},{"$f":"IF('Age - User Table|Label 3'!E24=\"\",\"\",'Age - User Table|Label 3'!E24)","v":""},{"$f":"IF('Age - User Table|Label 3'!F24=\"\",\"\",'Age - User Table|Label 3'!F24)","v":""}]
[19,{"$f":"IF('Age - User Table|Label 3'!B25=\"\",\"\",'Age - User Table|Label 3'!B25)","v":""},{"$f":"IF('Age - User Table|Label 3'!C25=\"\",\"\",'Age - User Table|Label 3'!C25)","v":""},{"$f":"IF('Age - User Table|Label 3'!D25=\"\",\"\",'Age - User Table|Label 3'!D25)","v":""},{"$f":"IF('Age - User Table|Label 3'!E25=\"\",\"\",'Age - User Table|Label 3'!E25)","v":""},{"$f":"IF('Age - User Table|Label 3'!F25=\"\",\"\",'Age - User Table|Label 3'!F25)","v":""}]
[20,{"$f":"IF('Age - User Table|Label 3'!B26=\"\",\"\",'Age - User Table|Label 3'!B26)","v":""},{"$f":"IF('Age - User Table|Label 3'!C26=\"\",\"\",'Age - User Table|Label 3'!C26)","v":""},{"$f":"IF('Age - User Table|Label 3'!D26=\"\",\"\",'Age - User Table|Label 3'!D26)","v":""},{"$f":"IF('Age - User Table|Label 3'!E26=\"\",\"\",'Age - User Table|Label 3'!E26)","v":""},{"$f":"IF('Age - User Table|Label 3'!F26=\"\",\"\",'Age - User Table|Label 3'!F26)","v":""}]
[21,{"$f":"IF('Age - User Table|Label 3'!B27=\"\",\"\",'Age - User Table|Label 3'!B27)","v":""},{"$f":"IF('Age - User Table|Label 3'!C27=\"\",\"\",'Age - User Table|Label 3'!C27)","v":""},{"$f":"IF('Age - User Table|Label 3'!D27=\"\",\"\",'Age - User Table|Label 3'!D27)","v":""},{"$f":"IF('Age - User Table|Label 3'!E27=\"\",\"\",'Age - User Table|Label 3'!E27)","v":""},{"$f":"IF('Age - User Table|Label 3'!F27=\"\",\"\",'Age - User Table|Label 3'!F27)","v":""}]
[22,{"$f":"IF('Age - User Table|Label 3'!B28=\"\",\"\",'Age - User Table|Label 3'!B28)","v":""},{"$f":"IF('Age - User Table|Label 3'!C28=\"\",\"\",'Age - User Table|Label 3'!C28)","v":""},{"$f":"IF('Age - User Table|Label 3'!D28=\"\",\"\",'Age - User Table|Label 3'!D28)","v":""},{"$f":"IF('Age - User Table|Label 3'!E28=\"\",\"\",'Age - User Table|Label 3'!E28)","v":""},{"$f":"IF('Age - User Table|Label 3'!F28=\"\",\"\",'Age - User Table|Label 3'!F28)","v":""}]
[23,{"$f":"IF('Age - User Table|Label 3'!B29=\"\",\"\",'Age - User Table|Label 3'!B29)","v":""},{"$f":"IF('Age - User Table|Label 3'!C29=\"\",\"\",'Age - User Table|Label 3'!C29)","v":""},{"$f":"IF('Age - User Table|Label 3'!D29=\"\",\"\",'Age - User Table|Label 3'!D29)","v":""},{"$f":"IF('Age - User Table|Label 3'!E29=\"\",\"\",'Age - User Table|Label 3'!E29)","v":""},{"$f":"IF('Age - User Table|Label 3'!F29=\"\",\"\",'Age - User Table|Label 3'!F29)","v":""}]
[24,{"$f":"IF('Age - User Table|Label 3'!B30=\"\",\"\",'Age - User Table|Label 3'!B30)","v":""},{"$f":"IF('Age - User Table|Label 3'!C30=\"\",\"\",'Age - User Table|Label 3'!C30)","v":""},{"$f":"IF('Age - User Table|Label 3'!D30=\"\",\"\",'Age - User Table|Label 3'!D30)","v":""},{"$f":"IF('Age - User Table|Label 3'!E30=\"\",\"\",'Age - User Table|Label 3'!E30)","v":""},{"$f":"IF('Age - User Table|Label 3'!F30=\"\",\"\",'Age - User Table|Label 3'!F30)","v":""}]
[25,{"$f":"IF('Age - User Table|Label 3'!B31=\"\",\"\",'Age - User Table|Label 3'!B31)","v":""},{"$f":"IF('Age - User Table|Label 3'!C31=\"\",\"\",'Age - User Table|Label 3'!C31)","v":""},{"$f":"IF('Age - User Table|Label 3'!D31=\"\",\"\",'Age - User Table|Label 3'!D31)","v":""},{"$f":"IF('Age - User Table|Label 3'!E31=\"\",\"\",'Age - User Table|Label 3'!E31)","v":""},{"$f":"IF('Age - User Table|Label 3'!F31=\"\",\"\",'Age - User Table|Label 3'!F31)","v":""}]
[26,{"$f":"IF('Age - User Table|Label 3'!B32=\"\",\"\",'Age - User Table|Label 3'!B32)","v":""},{"$f":"IF('Age - User Table|Label 3'!C32=\"\",\"\",'Age - User Table|Label 3'!C32)","v":""},{"$f":"IF('Age - User Table|Label 3'!D32=\"\",\"\",'Age - User Table|Label 3'!D32)","v":""},{"$f":"IF('Age - User Table|Label 3'!E32=\"\",\"\",'Age - User Table|Label 3'!E32)","v":""},{"$f":"IF('Age - User Table|Label 3'!F32=\"\",\"\",'Age - User Table|Label 3'!F32)","v":""}]
[27,{"$f":"IF('Age - User Table|Label 3'!B33=\"\",\"\",'Age - User Table|Label 3'!B33)","v":""},{"$f":"IF('Age - User Table|Label 3'!C33=\"\",\"\",'Age - User Table|Label 3'!C33)","v":""},{"$f":"IF('Age - User Table|Label 3'!D33=\"\",\"\",'Age - User Table|Label 3'!D33)","v":""},{"$f":"IF('Age - User Table|Label 3'!E33=\"\",\"\",'Age - User Table|Label 3'!E33)","v":""},{"$f":"IF('Age - User Table|Label 3'!F33=\"\",\"\",'Age - User Table|Label 3'!F33)","v":""}]
[28,{"$f":"IF('Age - User Table|Label 3'!B34=\"\",\"\",'Age - User Table|Label 3'!B34)","v":""},{"$f":"IF('Age - User Table|Label 3'!C34=\"\",\"\",'Age - User Table|Label 3'!C34)","v":""},{"$f":"IF('Age - User Table|Label 3'!D34=\"\",\"\",'Age - User Table|Label 3'!D34)","v":""},{"$f":"IF('Age - User Table|Label 3'!E34=\"\",\"\",'Age - User Table|Label 3'!E34)","v":""},{"$f":"IF('Age - User Table|Label 3'!F34=\"\",\"\",'Age - User Table|Label 3'!F34)","v":""}]
[29,{"$f":"IF('Age - User Table|Label 3'!B35=\"\",\"\",'Age - User Table|Label 3'!B35)","v":""},{"$f":"IF('Age - User Table|Label 3'!C35=\"\",\"\",'Age - User Table|Label 3'!C35)","v":""},{"$f":"IF('Age - User Table|Label 3'!D35=\"\",\"\",'Age - User Table|Label 3'!D35)","v":""},{"$f":"IF('Age - User Table|Label 3'!E35=\"\",\"\",'Age - User Table|Label 3'!E35)","v":""},{"$f":"IF('Age - User Table|Label 3'!F35=\"\",\"\",'Age - User Table|Label 3'!F35)","v":""}]
[30,{"$f":"IF('Age - User Table|Label 3'!B36=\"\",\"\",'Age - User Table|Label 3'!B36)","v":""},{"$f":"IF('Age - User Table|Label 3'!C36=\"\",\"\",'Age - User Table|Label 3'!C36)","v":""},{"$f":"IF('Age - User Table|Label 3'!D36=\"\",\"\",'Age - User Table|Label 3'!D36)","v":""},{"$f":"IF('Age - User Table|Label 3'!E36=\"\",\"\",'Age - User Table|Label 3'!E36)","v":""},{"$f":"IF('Age - User Table|Label 3'!F36=\"\",\"\",'Age - User Table|Label 3'!F36)","v":""}]
[31,{"$f":"IF('Age - User Table|Label 3'!B37=\"\",\"\",'Age - User Table|Label 3'!B37)","v":""},{"$f":"IF('Age - User Table|Label 3'!C37=\"\",\"\",'Age - User Table|Label 3'!C37)","v":""},{"$f":"IF('Age - User Table|Label 3'!D37=\"\",\"\",'Age - User Table|Label 3'!D37)","v":""},{"$f":"IF('Age - User Table|Label 3'!E37=\"\",\"\",'Age - User Table|Label 3'!E37)","v":""},{"$f":"IF('Age - User Table|Label 3'!F37=\"\",\"\",'Age - User Table|Label 3'!F37)","v":""}]
[32,{"$f":"IF('Age - User Table|Label 3'!B38=\"\",\"\",'Age - User Table|Label 3'!B38)","v":""},{"$f":"IF('Age - User Table|Label 3'!C38=\"\",\"\",'Age - User Table|Label 3'!C38)","v":""},{"$f":"IF('Age - User Table|Label 3'!D38=\"\",\"\",'Age - User Table|Label 3'!D38)","v":""},{"$f":"IF('Age - User Table|Label 3'!E38=\"\",\"\",'Age - User Table|Label 3'!E38)","v":""},{"$f":"IF('Age - User Table|Label 3'!F38=\"\",\"\",'Age - User Table|Label 3'!F38)","v":""}]
[33,{"$f":"IF('Age - User Table|Label 3'!B39=\"\",\"\",'Age - User Table|Label 3'!B39)","v":""},{"$f":"IF('Age - User Table|Label 3'!C39=\"\",\"\",'Age - User Table|Label 3'!C39)","v":""},{"$f":"IF('Age - User Table|Label 3'!D39=\"\",\"\",'Age - User Table|Label 3'!D39)","v":""},{"$f":"IF('Age - User Table|Label 3'!E39=\"\",\"\",'Age - User Table|Label 3'!E39)","v":""},{"$f":"IF('Age - User Table|Label 3'!F39=\"\",\"\",'Age - User Table|Label 3'!F39)","v":""}]
[34,{"$f":"IF('Age - User Table|Label 3'!B40=\"\",\"\",'Age - User Table|Label 3'!B40)","v":""},{"$f":"IF('Age - User Table|Label 3'!C40=\"\",\"\",'Age - User Table|Label 3'!C40)","v":""},{"$f":"IF('Age - User Table|Label 3'!D40=\"\",\"\",'Age - User Table|Label 3'!D40)","v":""},{"$f":"IF('Age - User Table|Label 3'!E40=\"\",\"\",'Age - User Table|Label 3'!E40)","v":""},{"$f":"IF('Age - User Table|Label 3'!F40=\"\",\"\",'Age - User Table|Label 3'!F40)","v":""}]
[35,{"$f":"IF('Age - User Table|Label 3'!B41=\"\",\"\",'Age - User Table|Label 3'!B41)","v":""},{"$f":"IF('Age - User Table|Label 3'!C41=\"\",\"\",'Age - User Table|Label 3'!C41)","v":""},{"$f":"IF('Age - User Table|Label 3'!D41=\"\",\"\",'Age - User Table|Label 3'!D41)","v":""},{"$f":"IF('Age - User Table|Label 3'!E41=\"\",\"\",'Age - User Table|Label 3'!E41)","v":""},{"$f":"IF('Age - User Table|Label 3'!F41=\"\",\"\",'Age - User Table|Label 3'!F41)","v":""}]
[36,{"$f":"IF('Age - User Table|Label 3'!B42=\"\",\"\",'Age - User Table|Label 3'!B42)","v":""},{"$f":"IF('Age - User Table|Label 3'!C42=\"\",\"\",'Age - User Table|Label 3'!C42)","v":""},{"$f":"IF('Age - User Table|Label 3'!D42=\"\",\"\",'Age - User Table|Label 3'!D42)","v":""},{"$f":"IF('Age - User Table|Label 3'!E42=\"\",\"\",'Age - User Table|Label 3'!E42)","v":""},{"$f":"IF('Age - User Table|Label 3'!F42=\"\",\"\",'Age - User Table|Label 3'!F42)","v":""}]
[37,{"$f":"IF('Age - User Table|Label 3'!B43=\"\",\"\",'Age - User Table|Label 3'!B43)","v":""},{"$f":"IF('Age - User Table|Label 3'!C43=\"\",\"\",'Age - User Table|Label 3'!C43)","v":""},{"$f":"IF('Age - User Table|Label 3'!D43=\"\",\"\",'Age - User Table|Label 3'!D43)","v":""},{"$f":"IF('Age - User Table|Label 3'!E43=\"\",\"\",'Age - User Table|Label 3'!E43)","v":""},{"$f":"IF('Age - User Table|Label 3'!F43=\"\",\"\",'Age - User Table|Label 3'!F43)","v":""}]
[38,{"$f":"IF('Age - User Table|Label 3'!B44=\"\",\"\",'Age - User Table|Label 3'!B44)","v":""},{"$f":"IF('Age - User Table|Label 3'!C44=\"\",\"\",'Age - User Table|Label 3'!C44)","v":""},{"$f":"IF('Age - User Table|Label 3'!D44=\"\",\"\",'Age - User Table|Label 3'!D44)","v":""},{"$f":"IF('Age - User Table|Label 3'!E44=\"\",\"\",'Age - User Table|Label 3'!E44)","v":""},{"$f":"IF('Age - User Table|Label 3'!F44=\"\",\"\",'Age - User Table|Label 3'!F44)","v":""}]
[39,{"$f":"IF('Age - User Table|Label 3'!B45=\"\",\"\",'Age - User Table|Label 3'!B45)","v":""},{"$f":"IF('Age - User Table|Label 3'!C45=\"\",\"\",'Age - User Table|Label 3'!C45)","v":""},{"$f":"IF('Age - User Table|Label 3'!D45=\"\",\"\",'Age - User Table|Label 3'!D45)","v":""},{"$f":"IF('Age - User Table|Label 3'!E45=\"\",\"\",'Age - User Table|Label 3'!E45)","v":""},{"$f":"IF('Age - User Table|Label 3'!F45=\"\",\"\",'Age - User Table|Label 3'!F45)","v":""}]
[40,{"$f":"IF('Age - User Table|Label 3'!B46=\"\",\"\",'Age - User Table|Label 3'!B46)","v":""},{"$f":"IF('Age - User Table|Label 3'!C46=\"\",\"\",'Age - User Table|Label 3'!C46)","v":""},{"$f":"IF('Age - User Table|Label 3'!D46=\"\",\"\",'Age - User Table|Label 3'!D46)","v":""},{"$f":"IF('Age - User Table|Label 3'!E46=\"\",\"\",'Age - User Table|Label 3'!E46)","v":""},{"$f":"IF('Age - User Table|Label 3'!F46=\"\",\"\",'Age - User Table|Label 3'!F46)","v":""}]
[41,{"$f":"IF('Age - User Table|Label 3'!B47=\"\",\"\",'Age - User Table|Label 3'!B47)","v":""},{"$f":"IF('Age - User Table|Label 3'!C47=\"\",\"\",'Age - User Table|Label 3'!C47)","v":""},{"$f":"IF('Age - User Table|Label 3'!D47=\"\",\"\",'Age - User Table|Label 3'!D47)","v":""},{"$f":"IF('Age - User Table|Label 3'!E47=\"\",\"\",'Age - User Table|Label 3'!E47)","v":""},{"$f":"IF('Age - User Table|Label 3'!F47=\"\",\"\",'Age - User Table|Label 3'!F47)","v":""}]
[42,{"$f":"IF('Age - User Table|Label 3'!B48=\"\",\"\",'Age - User Table|Label 3'!B48)","v":""},{"$f":"IF('Age - User Table|Label 3'!C48=\"\",\"\",'Age - User Table|Label 3'!C48)","v":""},{"$f":"IF('Age - User Table|Label 3'!D48=\"\",\"\",'Age - User Table|Label 3'!D48)","v":""},{"$f":"IF('Age - User Table|Label 3'!E48=\"\",\"\",'Age - User Table|Label 3'!E48)","v":""},{"$f":"IF('Age - User Table|Label 3'!F48=\"\",\"\",'Age - User Table|Label 3'!F48)","v":""}]
[43,{"$f":"IF('Age - User Table|Label 3'!B49=\"\",\"\",'Age - User Table|Label 3'!B49)","v":""},{"$f":"IF('Age - User Table|Label 3'!C49=\"\",\"\",'Age - User Table|Label 3'!C49)","v":""},{"$f":"IF('Age - User Table|Label 3'!D49=\"\",\"\",'Age - User Table|Label 3'!D49)","v":""},{"$f":"IF('Age - User Table|Label 3'!E49=\"\",\"\",'Age - User Table|Label 3'!E49)","v":""},{"$f":"IF('Age - User Table|Label 3'!F49=\"\",\"\",'Age - User Table|Label 3'!F49)","v":""}]
[44,{"$f":"IF('Age - User Table|Label 3'!B50=\"\",\"\",'Age - User Table|Label 3'!B50)","v":""},{"$f":"IF('Age - User Table|Label 3'!C50=\"\",\"\",'Age - User Table|Label 3'!C50)","v":""},{"$f":"IF('Age - User Table|Label 3'!D50=\"\",\"\",'Age - User Table|Label 3'!D50)","v":""},{"$f":"IF('Age - User Table|Label 3'!E50=\"\",\"\",'Age - User Table|Label 3'!E50)","v":""},{"$f":"IF('Age - User Table|Label 3'!F50=\"\",\"\",'Age - User Table|Label 3'!F50)","v":""}]
[45,{"$f":"IF('Age - User Table|Label 3'!B51=\"\",\"\",'Age - User Table|Label 3'!B51)","v":""},{"$f":"IF('Age - User Table|Label 3'!C51=\"\",\"\",'Age - User Table|Label 3'!C51)","v":""},{"$f":"IF('Age - User Table|Label 3'!D51=\"\",\"\",'Age - User Table|Label 3'!D51)","v":""},{"$f":"IF('Age - User Table|Label 3'!E51=\"\",\"\",'Age - User Table|Label 3'!E51)","v":""},{"$f":"IF('Age - User Table|Label 3'!F51=\"\",\"\",'Age - User Table|Label 3'!F51)","v":""}]
[46,{"$f":"IF('Age - User Table|Label 3'!B52=\"\",\"\",'Age - User Table|Label 3'!B52)","v":""},{"$f":"IF('Age - User Table|Label 3'!C52=\"\",\"\",'Age - User Table|Label 3'!C52)","v":""},{"$f":"IF('Age - User Table|Label 3'!D52=\"\",\"\",'Age - User Table|Label 3'!D52)","v":""},{"$f":"IF('Age - User Table|Label 3'!E52=\"\",\"\",'Age - User Table|Label 3'!E52)","v":""},{"$f":"IF('Age - User Table|Label 3'!F52=\"\",\"\",'Age - User Table|Label 3'!F52)","v":""}]
[47,{"$f":"IF('Age - User Table|Label 3'!B53=\"\",\"\",'Age - User Table|Label 3'!B53)","v":""},{"$f":"IF('Age - User Table|Label 3'!C53=\"\",\"\",'Age - User Table|Label 3'!C53)","v":""},{"$f":"IF('Age - User Table|Label 3'!D53=\"\",\"\",'Age - User Table|Label 3'!D53)","v":""},{"$f":"IF('Age - User Table|Label 3'!E53=\"\",\"\",'Age - User Table|Label 3'!E53)","v":""},{"$f":"IF('Age - User Table|Label 3'!F53=\"\",\"\",'Age - User Table|Label 3'!F53)","v":""}]
[48,{"$f":"IF('Age - User Table|Label 3'!B54=\"\",\"\",'Age - User Table|Label 3'!B54)","v":""},{"$f":"IF('Age - User Table|Label 3'!C54=\"\",\"\",'Age - User Table|Label 3'!C54)","v":""},{"$f":"IF('Age - User Table|Label 3'!D54=\"\",\"\",'Age - User Table|Label 3'!D54)","v":""},{"$f":"IF('Age - User Table|Label 3'!E54=\"\",\"\",'Age - User Table|Label 3'!E54)","v":""},{"$f":"IF('Age - User Table|Label 3'!F54=\"\",\"\",'Age - User Table|Label 3'!F54)","v":""}]
[49,{"$f":"IF('Age - User Table|Label 3'!B55=\"\",\"\",'Age - User Table|Label 3'!B55)","v":""},{"$f":"IF('Age - User Table|Label 3'!C55=\"\",\"\",'Age - User Table|Label 3'!C55)","v":""},{"$f":"IF('Age - User Table|Label 3'!D55=\"\",\"\",'Age - User Table|Label 3'!D55)","v":""},{"$f":"IF('Age - User Table|Label 3'!E55=\"\",\"\",'Age - User Table|Label 3'!E55)","v":""},{"$f":"IF('Age - User Table|Label 3'!F55=\"\",\"\",'Age - User Table|Label 3'!F55)","v":""}]
[50,{"$f":"IF('Age - User Table|Label 3'!B56=\"\",\"\",'Age - User Table|Label 3'!B56)","v":""},{"$f":"IF('Age - User Table|Label 3'!C56=\"\",\"\",'Age - User Table|Label 3'!C56)","v":""},{"$f":"IF('Age - User Table|Label 3'!D56=\"\",\"\",'Age - User Table|Label 3'!D56)","v":""},{"$f":"IF('Age - User Table|Label 3'!E56=\"\",\"\",'Age - User Table|Label 3'!E56)","v":""},{"$f":"IF('Age - User Table|Label 3'!F56=\"\",\"\",'Age - User Table|Label 3'!F56)","v":""}]
[51,{"$f":"IF('Age - User Table|Label 3'!B57=\"\",\"\",'Age - User Table|Label 3'!B57)","v":""},{"$f":"IF('Age - User Table|Label 3'!C57=\"\",\"\",'Age - User Table|Label 3'!C57)","v":""},{"$f":"IF('Age - User Table|Label 3'!D57=\"\",\"\",'Age - User Table|Label 3'!D57)","v":""},{"$f":"IF('Age - User Table|Label 3'!E57=\"\",\"\",'Age - User Table|Label 3'!E57)","v":""},{"$f":"IF('Age - User Table|Label 3'!F57=\"\",\"\",'Age - User Table|Label 3'!F57)","v":""}]
[52,{"$f":"IF('Age - User Table|Label 3'!B58=\"\",\"\",'Age - User Table|Label 3'!B58)","v":""},{"$f":"IF('Age - User Table|Label 3'!C58=\"\",\"\",'Age - User Table|Label 3'!C58)","v":""},{"$f":"IF('Age - User Table|Label 3'!D58=\"\",\"\",'Age - User Table|Label 3'!D58)","v":""},{"$f":"IF('Age - User Table|Label 3'!E58=\"\",\"\",'Age - User Table|Label 3'!E58)","v":""},{"$f":"IF('Age - User Table|Label 3'!F58=\"\",\"\",'Age - User Table|Label 3'!F58)","v":""}]
[53,{"$f":"IF('Age - User Table|Label 3'!B59=\"\",\"\",'Age - User Table|Label 3'!B59)","v":""},{"$f":"IF('Age - User Table|Label 3'!C59=\"\",\"\",'Age - User Table|Label 3'!C59)","v":""},{"$f":"IF('Age - User Table|Label 3'!D59=\"\",\"\",'Age - User Table|Label 3'!D59)","v":""},{"$f":"IF('Age - User Table|Label 3'!E59=\"\",\"\",'Age - User Table|Label 3'!E59)","v":""},{"$f":"IF('Age - User Table|Label 3'!F59=\"\",\"\",'Age - User Table|Label 3'!F59)","v":""}]
[54,{"$f":"IF('Age - User Table|Label 3'!B60=\"\",\"\",'Age - User Table|Label 3'!B60)","v":""},{"$f":"IF('Age - User Table|Label 3'!C60=\"\",\"\",'Age - User Table|Label 3'!C60)","v":""},{"$f":"IF('Age - User Table|Label 3'!D60=\"\",\"\",'Age - User Table|Label 3'!D60)","v":""},{"$f":"IF('Age - User Table|Label 3'!E60=\"\",\"\",'Age - User Table|Label 3'!E60)","v":""},{"$f":"IF('Age - User Table|Label 3'!F60=\"\",\"\",'Age - User Table|Label 3'!F60)","v":""}]
[55,{"$f":"IF('Age - User Table|Label 3'!B61=\"\",\"\",'Age - User Table|Label 3'!B61)","v":""},{"$f":"IF('Age - User Table|Label 3'!C61=\"\",\"\",'Age - User Table|Label 3'!C61)","v":""},{"$f":"IF('Age - User Table|Label 3'!D61=\"\",\"\",'Age - User Table|Label 3'!D61)","v":""},{"$f":"IF('Age - User Table|Label 3'!E61=\"\",\"\",'Age - User Table|Label 3'!E61)","v":""},{"$f":"IF('Age - User Table|Label 3'!F61=\"\",\"\",'Age - User Table|Label 3'!F61)","v":""}]
[56,{"$f":"IF('Age - User Table|Label 3'!B62=\"\",\"\",'Age - User Table|Label 3'!B62)","v":""},{"$f":"IF('Age - User Table|Label 3'!C62=\"\",\"\",'Age - User Table|Label 3'!C62)","v":""},{"$f":"IF('Age - User Table|Label 3'!D62=\"\",\"\",'Age - User Table|Label 3'!D62)","v":""},{"$f":"IF('Age - User Table|Label 3'!E62=\"\",\"\",'Age - User Table|Label 3'!E62)","v":""},{"$f":"IF('Age - User Table|Label 3'!F62=\"\",\"\",'Age - User Table|Label 3'!F62)","v":""}]
[57,{"$f":"IF('Age - User Table|Label 3'!B63=\"\",\"\",'Age - User Table|Label 3'!B63)","v":""},{"$f":"IF('Age - User Table|Label 3'!C63=\"\",\"\",'Age - User Table|Label 3'!C63)","v":""},{"$f":"IF('Age - User Table|Label 3'!D63=\"\",\"\",'Age - User Table|Label 3'!D63)","v":""},{"$f":"IF('Age - User Table|Label 3'!E63=\"\",\"\",'Age - User Table|Label 3'!E63)","v":""},{"$f":"IF('Age - User Table|Label 3'!F63=\"\",\"\",'Age - User Table|Label 3'!F63)","v":""}]
[58,{"$f":"IF('Age - User Table|Label 3'!B64=\"\",\"\",'Age - User Table|Label 3'!B64)","v":""},{"$f":"IF('Age - User Table|Label 3'!C64=\"\",\"\",'Age - User Table|Label 3'!C64)","v":""},{"$f":"IF('Age - User Table|Label 3'!D64=\"\",\"\",'Age - User Table|Label 3'!D64)","v":""},{"$f":"IF('Age - User Table|Label 3'!E64=\"\",\"\",'Age - User Table|Label 3'!E64)","v":""},{"$f":"IF('Age - User Table|Label 3'!F64=\"\",\"\",'Age - User Table|Label 3'!F64)","v":""}]
[59,{"$f":"IF('Age - User Table|Label 3'!B65=\"\",\"\",'Age - User Table|Label 3'!B65)","v":""},{"$f":"IF('Age - User Table|Label 3'!C65=\"\",\"\",'Age - User Table|Label 3'!C65)","v":""},{"$f":"IF('Age - User Table|Label 3'!D65=\"\",\"\",'Age - User Table|Label 3'!D65)","v":""},{"$f":"IF('Age - User Table|Label 3'!E65=\"\",\"\",'Age - User Table|Label 3'!E65)","v":""},{"$f":"IF('Age - User Table|Label 3'!F65=\"\",\"\",'Age - User Table|Label 3'!F65)","v":""}]
[60,{"$f":"IF('Age - User Table|Label 3'!B66=\"\",\"\",'Age - User Table|Label 3'!B66)","v":""},{"$f":"IF('Age - User Table|Label 3'!C66=\"\",\"\",'Age - User Table|Label 3'!C66)","v":""},{"$f":"IF('Age - User Table|Label 3'!D66=\"\",\"\",'Age - User Table|Label 3'!D66)","v":""},{"$f":"IF('Age - User Table|Label 3'!E66=\"\",\"\",'Age - User Table|Label 3'!E66)","v":""},{"$f":"IF('Age - User Table|Label 3'!F66=\"\",\"\",'Age - User Table|Label 3'!F66)","v":""}]
[61,{"$f":"IF('Age - User Table|Label 3'!B67=\"\",\"\",'Age - User Table|Label 3'!B67)","v":""},{"$f":"IF('Age - User Table|Label 3'!C67=\"\",\"\",'Age - User Table|Label 3'!C67)","v":""},{"$f":"IF('Age - User Table|Label 3'!D67=\"\",\"\",'Age - User Table|Label 3'!D67)","v":""},{"$f":"IF('Age - User Table|Label 3'!E67=\"\",\"\",'Age - User Table|Label 3'!E67)","v":""},{"$f":"IF('Age - User Table|Label 3'!F67=\"\",\"\",'Age - User Table|Label 3'!F67)","v":""}]
[62,{"$f":"IF('Age - User Table|Label 3'!B68=\"\",\"\",'Age - User Table|Label 3'!B68)","v":""},{"$f":"IF('Age - User Table|Label 3'!C68=\"\",\"\",'Age - User Table|Label 3'!C68)","v":""},{"$f":"IF('Age - User Table|Label 3'!D68=\"\",\"\",'Age - User Table|Label 3'!D68)","v":""},{"$f":"IF('Age - User Table|Label 3'!E68=\"\",\"\",'Age - User Table|Label 3'!E68)","v":""},{"$f":"IF('Age - User Table|Label 3'!F68=\"\",\"\",'Age - User Table|Label 3'!F68)","v":""}]
[63,{"$f":"IF('Age - User Table|Label 3'!B69=\"\",\"\",'Age - User Table|Label 3'!B69)","v":""},{"$f":"IF('Age - User Table|Label 3'!C69=\"\",\"\",'Age - User Table|Label 3'!C69)","v":""},{"$f":"IF('Age - User Table|Label 3'!D69=\"\",\"\",'Age - User Table|Label 3'!D69)","v":""},{"$f":"IF('Age - User Table|Label 3'!E69=\"\",\"\",'Age - User Table|Label 3'!E69)","v":""},{"$f":"IF('Age - User Table|Label 3'!F69=\"\",\"\",'Age - User Table|Label 3'!F69)","v":""}]
[64,{"$f":"IF('Age - User Table|Label 3'!B70=\"\",\"\",'Age - User Table|Label 3'!B70)","v":""},{"$f":"IF('Age - User Table|Label 3'!C70=\"\",\"\",'Age - User Table|Label 3'!C70)","v":""},{"$f":"IF('Age - User Table|Label 3'!D70=\"\",\"\",'Age - User Table|Label 3'!D70)","v":""},{"$f":"IF('Age - User Table|Label 3'!E70=\"\",\"\",'Age - User Table|Label 3'!E70)","v":""},{"$f":"IF('Age - User Table|Label 3'!F70=\"\",\"\",'Age - User Table|Label 3'!F70)","v":""}]
[65,{"$f":"IF('Age - User Table|Label 3'!B71=\"\",\"\",'Age - User Table|Label 3'!B71)","v":""},{"$f":"IF('Age - User Table|Label 3'!C71=\"\",\"\",'Age - User Table|Label 3'!C71)","v":""},{"$f":"IF('Age - User Table|Label 3'!D71=\"\",\"\",'Age - User Table|Label 3'!D71)","v":""},{"$f":"IF('Age - User Table|Label 3'!E71=\"\",\"\",'Age - User Table|Label 3'!E71)","v":""},{"$f":"IF('Age - User Table|Label 3'!F71=\"\",\"\",'Age - User Table|Label 3'!F71)","v":""}]
[66,{"$f":"IF('Age - User Table|Label 3'!B72=\"\",\"\",'Age - User Table|Label 3'!B72)","v":""},{"$f":"IF('Age - User Table|Label 3'!C72=\"\",\"\",'Age - User Table|Label 3'!C72)","v":""},{"$f":"IF('Age - User Table|Label 3'!D72=\"\",\"\",'Age - User Table|Label 3'!D72)","v":""},{"$f":"IF('Age - User Table|Label 3'!E72=\"\",\"\",'Age - User Table|Label 3'!E72)","v":""},{"$f":"IF('Age - User Table|Label 3'!F72=\"\",\"\",'Age - User Table|Label 3'!F72)","v":""}]
[67,{"$f":"IF('Age - User Table|Label 3'!B73=\"\",\"\",'Age - User Table|Label 3'!B73)","v":""},{"$f":"IF('Age - User Table|Label 3'!C73=\"\",\"\",'Age - User Table|Label 3'!C73)","v":""},{"$f":"IF('Age - User Table|Label 3'!D73=\"\",\"\",'Age - User Table|Label 3'!D73)","v":""},{"$f":"IF('Age - User Table|Label 3'!E73=\"\",\"\",'Age - User Table|Label 3'!E73)","v":""},{"$f":"IF('Age - User Table|Label 3'!F73=\"\",\"\",'Age - User Table|Label 3'!F73)","v":""}]
[68,{"$f":"IF('Age - User Table|Label 3'!B74=\"\",\"\",'Age - User Table|Label 3'!B74)","v":""},{"$f":"IF('Age - User Table|Label 3'!C74=\"\",\"\",'Age - User Table|Label 3'!C74)","v":""},{"$f":"IF('Age - User Table|Label 3'!D74=\"\",\"\",'Age - User Table|Label 3'!D74)","v":""},{"$f":"IF('Age - User Table|Label 3'!E74=\"\",\"\",'Age - User Table|Label 3'!E74)","v":""},{"$f":"IF('Age - User Table|Label 3'!F74=\"\",\"\",'Age - User Table|Label 3'!F74)","v":""}]
[69,{"$f":"IF('Age - User Table|Label 3'!B75=\"\",\"\",'Age - User Table|Label 3'!B75)","v":""},{"$f":"IF('Age - User Table|Label 3'!C75=\"\",\"\",'Age - User Table|Label 3'!C75)","v":""},{"$f":"IF('Age - User Table|Label 3'!D75=\"\",\"\",'Age - User Table|Label 3'!D75)","v":""},{"$f":"IF('Age - User Table|Label 3'!E75=\"\",\"\",'Age - User Table|Label 3'!E75)","v":""},{"$f":"IF('Age - User Table|Label 3'!F75=\"\",\"\",'Age - User Table|Label 3'!F75)","v":""}]
[70,{"$f":"IF('Age - User Table|Label 3'!B76=\"\",\"\",'Age - User Table|Label 3'!B76)","v":""},{"$f":"IF('Age - User Table|Label 3'!C76=\"\",\"\",'Age - User Table|Label 3'!C76)","v":""},{"$f":"IF('Age - User Table|Label 3'!D76=\"\",\"\",'Age - User Table|Label 3'!D76)","v":""},{"$f":"IF('Age - User Table|Label 3'!E76=\"\",\"\",'Age - User Table|Label 3'!E76)","v":""},{"$f":"IF('Age - User Table|Label 3'!F76=\"\",\"\",'Age - User Table|Label 3'!F76)","v":""}]
[71,{"$f":"IF('Age - User Table|Label 3'!B77=\"\",\"\",'Age - User Table|Label 3'!B77)","v":""},{"$f":"IF('Age - User Table|Label 3'!C77=\"\",\"\",'Age - User Table|Label 3'!C77)","v":""},{"$f":"IF('Age - User Table|Label 3'!D77=\"\",\"\",'Age - User Table|Label 3'!D77)","v":""},{"$f":"IF('Age - User Table|Label 3'!E77=\"\",\"\",'Age - User Table|Label 3'!E77)","v":""},{"$f":"IF('Age - User Table|Label 3'!F77=\"\",\"\",'Age - User Table|Label 3'!F77)","v":""}]
[72,{"$f":"IF('Age - User Table|Label 3'!B78=\"\",\"\",'Age - User Table|Label 3'!B78)","v":""},{"$f":"IF('Age - User Table|Label 3'!C78=\"\",\"\",'Age - User Table|Label 3'!C78)","v":""},{"$f":"IF('Age - User Table|Label 3'!D78=\"\",\"\",'Age - User Table|Label 3'!D78)","v":""},{"$f":"IF('Age - User Table|Label 3'!E78=\"\",\"\",'Age - User Table|Label 3'!E78)","v":""},{"$f":"IF('Age - User Table|Label 3'!F78=\"\",\"\",'Age - User Table|Label 3'!F78)","v":""}]
[73,{"$f":"IF('Age - User Table|Label 3'!B79=\"\",\"\",'Age - User Table|Label 3'!B79)","v":""},{"$f":"IF('Age - User Table|Label 3'!C79=\"\",\"\",'Age - User Table|Label 3'!C79)","v":""},{"$f":"IF('Age - User Table|Label 3'!D79=\"\",\"\",'Age - User Table|Label 3'!D79)","v":""},{"$f":"IF('Age - User Table|Label 3'!E79=\"\",\"\",'Age - User Table|Label 3'!E79)","v":""},{"$f":"IF('Age - User Table|Label 3'!F79=\"\",\"\",'Age - User Table|Label 3'!F79)","v":""}]
[74,{"$f":"IF('Age - User Table|Label 3'!B80=\"\",\"\",'Age - User Table|Label 3'!B80)","v":""},{"$f":"IF('Age - User Table|Label 3'!C80=\"\",\"\",'Age - User Table|Label 3'!C80)","v":""},{"$f":"IF('Age - User Table|Label 3'!D80=\"\",\"\",'Age - User Table|Label 3'!D80)","v":""},{"$f":"IF('Age - User Table|Label 3'!E80=\"\",\"\",'Age - User Table|Label 3'!E80)","v":""},{"$f":"IF('Age - User Table|Label 3'!F80=\"\",\"\",'Age - User Table|Label 3'!F80)","v":""}]
[75,{"$f":"IF('Age - User Table|Label 3'!B81=\"\",\"\",'Age - User Table|Label 3'!B81)","v":""},{"$f":"IF('Age - User Table|Label 3'!C81=\"\",\"\",'Age - User Table|Label 3'!C81)","v":""},{"$f":"IF('Age - User Table|Label 3'!D81=\"\",\"\",'Age - User Table|Label 3'!D81)","v":""},{"$f":"IF('Age - User Table|Label 3'!E81=\"\",\"\",'Age - User Table|Label 3'!E81)","v":""},{"$f":"IF('Age - User Table|Label 3'!F81=\"\",\"\",'Age - User Table|Label 3'!F81)","v":""}]
[76,{"$f":"IF('Age - User Table|Label 3'!B82=\"\",\"\",'Age - User Table|Label 3'!B82)","v":""},{"$f":"IF('Age - User Table|Label 3'!C82=\"\",\"\",'Age - User Table|Label 3'!C82)","v":""},{"$f":"IF('Age - User Table|Label 3'!D82=\"\",\"\",'Age - User Table|Label 3'!D82)","v":""},{"$f":"IF('Age - User Table|Label 3'!E82=\"\",\"\",'Age - User Table|Label 3'!E82)","v":""},{"$f":"IF('Age - User Table|Label 3'!F82=\"\",\"\",'Age - User Table|Label 3'!F82)","v":""}]
[77,{"$f":"IF('Age - User Table|Label 3'!B83=\"\",\"\",'Age - User Table|Label 3'!B83)","v":""},{"$f":"IF('Age - User Table|Label 3'!C83=\"\",\"\",'Age - User Table|Label 3'!C83)","v":""},{"$f":"IF('Age - User Table|Label 3'!D83=\"\",\"\",'Age - User Table|Label 3'!D83)","v":""},{"$f":"IF('Age - User Table|Label 3'!E83=\"\",\"\",'Age - User Table|Label 3'!E83)","v":""},{"$f":"IF('Age - User Table|Label 3'!F83=\"\",\"\",'Age - User Table|Label 3'!F83)","v":""}]
[78,{"$f":"IF('Age - User Table|Label 3'!B84=\"\",\"\",'Age - User Table|Label 3'!B84)","v":""},{"$f":"IF('Age - User Table|Label 3'!C84=\"\",\"\",'Age - User Table|Label 3'!C84)","v":""},{"$f":"IF('Age - User Table|Label 3'!D84=\"\",\"\",'Age - User Table|Label 3'!D84)","v":""},{"$f":"IF('Age - User Table|Label 3'!E84=\"\",\"\",'Age - User Table|Label 3'!E84)","v":""},{"$f":"IF('Age - User Table|Label 3'!F84=\"\",\"\",'Age - User Table|Label 3'!F84)","v":""}]
[79,{"$f":"IF('Age - User Table|Label 3'!B85=\"\",\"\",'Age - User Table|Label 3'!B85)","v":""},{"$f":"IF('Age - User Table|Label 3'!C85=\"\",\"\",'Age - User Table|Label 3'!C85)","v":""},{"$f":"IF('Age - User Table|Label 3'!D85=\"\",\"\",'Age - User Table|Label 3'!D85)","v":""},{"$f":"IF('Age - User Table|Label 3'!E85=\"\",\"\",'Age - User Table|Label 3'!E85)","v":""},{"$f":"IF('Age - User Table|Label 3'!F85=\"\",\"\",'Age - User Table|Label 3'!F85)","v":""}]
[80,{"$f":"IF('Age - User Table|Label 3'!B86=\"\",\"\",'Age - User Table|Label 3'!B86)","v":""},{"$f":"IF('Age - User Table|Label 3'!C86=\"\",\"\",'Age - User Table|Label 3'!C86)","v":""},{"$f":"IF('Age - User Table|Label 3'!D86=\"\",\"\",'Age - User Table|Label 3'!D86)","v":""},{"$f":"IF('Age - User Table|Label 3'!E86=\"\",\"\",'Age - User Table|Label 3'!E86)","v":""},{"$f":"IF('Age - User Table|Label 3'!F86=\"\",\"\",'Age - User Table|Label 3'!F86)","v":""}]
[81,{"$f":"IF('Age - User Table|Label 3'!B87=\"\",\"\",'Age - User Table|Label 3'!B87)","v":""},{"$f":"IF('Age - User Table|Label 3'!C87=\"\",\"\",'Age - User Table|Label 3'!C87)","v":""},{"$f":"IF('Age - User Table|Label 3'!D87=\"\",\"\",'Age - User Table|Label 3'!D87)","v":""},{"$f":"IF('Age - User Table|Label 3'!E87=\"\",\"\",'Age - User Table|Label 3'!E87)","v":""},{"$f":"IF('Age - User Table|Label 3'!F87=\"\",\"\",'Age - User Table|Label 3'!F87)","v":""}]
[82,{"$f":"IF('Age - User Table|Label 3'!B88=\"\",\"\",'Age - User Table|Label 3'!B88)","v":""},{"$f":"IF('Age - User Table|Label 3'!C88=\"\",\"\",'Age - User Table|Label 3'!C88)","v":""},{"$f":"IF('Age - User Table|Label 3'!D88=\"\",\"\",'Age - User Table|Label 3'!D88)","v":""},{"$f":"IF('Age - User Table|Label 3'!E88=\"\",\"\",'Age - User Table|Label 3'!E88)","v":""},{"$f":"IF('Age - User Table|Label 3'!F88=\"\",\"\",'Age - User Table|Label 3'!F88)","v":""}]
[83,{"$f":"IF('Age - User Table|Label 3'!B89=\"\",\"\",'Age - User Table|Label 3'!B89)","v":""},{"$f":"IF('Age - User Table|Label 3'!C89=\"\",\"\",'Age - User Table|Label 3'!C89)","v":""},{"$f":"IF('Age - User Table|Label 3'!D89=\"\",\"\",'Age - User Table|Label 3'!D89)","v":""},{"$f":"IF('Age - User Table|Label 3'!E89=\"\",\"\",'Age - User Table|Label 3'!E89)","v":""},{"$f":"IF('Age - User Table|Label 3'!F89=\"\",\"\",'Age - User Table|Label 3'!F89)","v":""}]
[84,{"$f":"IF('Age - User Table|Label 3'!B90=\"\",\"\",'Age - User Table|Label 3'!B90)","v":""},{"$f":"IF('Age - User Table|Label 3'!C90=\"\",\"\",'Age - User Table|Label 3'!C90)","v":""},{"$f":"IF('Age - User Table|Label 3'!D90=\"\",\"\",'Age - User Table|Label 3'!D90)","v":""},{"$f":"IF('Age - User Table|Label 3'!E90=\"\",\"\",'Age - User Table|Label 3'!E90)","v":""},{"$f":"IF('Age - User Table|Label 3'!F90=\"\",\"\",'Age - User Table|Label 3'!F90)","v":""}]
[85,{"$f":"IF('Age - User Table|Label 3'!B91=\"\",\"\",'Age - User Table|Label 3'!B91)","v":""},{"$f":"IF('Age - User Table|Label 3'!C91=\"\",\"\",'Age - User Table|Label 3'!C91)","v":""},{"$f":"IF('Age - User Table|Label 3'!D91=\"\",\"\",'Age - User Table|Label 3'!D91)","v":""},{"$f":"IF('Age - User Table|Label 3'!E91=\"\",\"\",'Age - User Table|Label 3'!E91)","v":""},{"$f":"IF('Age - User Table|Label 3'!F91=\"\",\"\",'Age - User Table|Label 3'!F91)","v":""}]
[86,{"$f":"IF('Age - User Table|Label 3'!B92=\"\",\"\",'Age - User Table|Label 3'!B92)","v":""},{"$f":"IF('Age - User Table|Label 3'!C92=\"\",\"\",'Age - User Table|Label 3'!C92)","v":""},{"$f":"IF('Age - User Table|Label 3'!D92=\"\",\"\",'Age - User Table|Label 3'!D92)","v":""},{"$f":"IF('Age - User Table|Label 3'!E92=\"\",\"\",'Age - User Table|Label 3'!E92)","v":""},{"$f":"IF('Age - User Table|Label 3'!F92=\"\",\"\",'Age - User Table|Label 3'!F92)","v":""}]
[87,{"$f":"IF('Age - User Table|Label 3'!B93=\"\",\"\",'Age - User Table|Label 3'!B93)","v":""},{"$f":"IF('Age - User Table|Label 3'!C93=\"\",\"\",'Age - User Table|Label 3'!C93)","v":""},{"$f":"IF('Age - User Table|Label 3'!D93=\"\",\"\",'Age - User Table|Label 3'!D93)","v":""},{"$f":"IF('Age - User Table|Label 3'!E93=\"\",\"\",'Age - User Table|Label 3'!E93)","v":""},{"$f":"IF('Age - User Table|Label 3'!F93=\"\",\"\",'Age - User Table|Label 3'!F93)","v":""}]
[88,{"$f":"IF('Age - User Table|Label 3'!B94=\"\",\"\",'Age - User Table|Label 3'!B94)","v":""},{"$f":"IF('Age - User Table|Label 3'!C94=\"\",\"\",'Age - User Table|Label 3'!C94)","v":""},{"$f":"IF('Age - User Table|Label 3'!D94=\"\",\"\",'Age - User Table|Label 3'!D94)","v":""},{"$f":"IF('Age - User Table|Label 3'!E94=\"\",\"\",'Age - User Table|Label 3'!E94)","v":""},{"$f":"IF('Age - User Table|Label 3'!F94=\"\",\"\",'Age - User Table|Label 3'!F94)","v":""}]
[89,{"$f":"IF('Age - User Table|Label 3'!B95=\"\",\"\",'Age - User Table|Label 3'!B95)","v":""},{"$f":"IF('Age - User Table|Label 3'!C95=\"\",\"\",'Age - User Table|Label 3'!C95)","v":""},{"$f":"IF('Age - User Table|Label 3'!D95=\"\",\"\",'Age - User Table|Label 3'!D95)","v":""},{"$f":"IF('Age - User Table|Label 3'!E95=\"\",\"\",'Age - User Table|Label 3'!E95)","v":""},{"$f":"IF('Age - User Table|Label 3'!F95=\"\",\"\",'Age - User Table|Label 3'!F95)","v":""}]
[90,{"$f":"IF('Age - User Table|Label 3'!B96=\"\",\"\",'Age - User Table|Label 3'!B96)","v":""},{"$f":"IF('Age - User Table|Label 3'!C96=\"\",\"\",'Age - User Table|Label 3'!C96)","v":""},{"$f":"IF('Age - User Table|Label 3'!D96=\"\",\"\",'Age - User Table|Label 3'!D96)","v":""},{"$f":"IF('Age - User Table|Label 3'!E96=\"\",\"\",'Age - User Table|Label 3'!E96)","v":""},{"$f":"IF('Age - User Table|Label 3'!F96=\"\",\"\",'Age - User Table|Label 3'!F96)","v":""}]
[91,{"$f":"IF('Age - User Table|Label 3'!B97=\"\",\"\",'Age - User Table|Label 3'!B97)","v":""},{"$f":"IF('Age - User Table|Label 3'!C97=\"\",\"\",'Age - User Table|Label 3'!C97)","v":""},{"$f":"IF('Age - User Table|Label 3'!D97=\"\",\"\",'Age - User Table|Label 3'!D97)","v":""},{"$f":"IF('Age - User Table|Label 3'!E97=\"\",\"\",'Age - User Table|Label 3'!E97)","v":""},{"$f":"IF('Age - User Table|Label 3'!F97=\"\",\"\",'Age - User Table|Label 3'!F97)","v":""}]
[92,{"$f":"IF('Age - User Table|Label 3'!B98=\"\",\"\",'Age - User Table|Label 3'!B98)","v":""},{"$f":"IF('Age - User Table|Label 3'!C98=\"\",\"\",'Age - User Table|Label 3'!C98)","v":""},{"$f":"IF('Age - User Table|Label 3'!D98=\"\",\"\",'Age - User Table|Label 3'!D98)","v":""},{"$f":"IF('Age - User Table|Label 3'!E98=\"\",\"\",'Age - User Table|Label 3'!E98)","v":""},{"$f":"IF('Age - User Table|Label 3'!F98=\"\",\"\",'Age - User Table|Label 3'!F98)","v":""}]
[93,{"$f":"IF('Age - User Table|Label 3'!B99=\"\",\"\",'Age - User Table|Label 3'!B99)","v":""},{"$f":"IF('Age - User Table|Label 3'!C99=\"\",\"\",'Age - User Table|Label 3'!C99)","v":""},{"$f":"IF('Age - User Table|Label 3'!D99=\"\",\"\",'Age - User Table|Label 3'!D99)","v":""},{"$f":"IF('Age - User Table|Label 3'!E99=\"\",\"\",'Age - User Table|Label 3'!E99)","v":""},{"$f":"IF('Age - User Table|Label 3'!F99=\"\",\"\",'Age - User Table|Label 3'!F99)","v":""}]
[94,{"$f":"IF('Age - User Table|Label 3'!B100=\"\",\"\",'Age - User Table|Label 3'!B100)","v":""},{"$f":"IF('Age - User Table|Label 3'!C100=\"\",\"\",'Age - User Table|Label 3'!C100)","v":""},{"$f":"IF('Age - User Table|Label 3'!D100=\"\",\"\",'Age - User Table|Label 3'!D100)","v":""},{"$f":"IF('Age - User Table|Label 3'!E100=\"\",\"\",'Age - User Table|Label 3'!E100)","v":""},{"$f":"IF('Age - User Table|Label 3'!F100=\"\",\"\",'Age - User Table|Label 3'!F100)","v":""}]
[95,{"$f":"IF('Age - User Table|Label 3'!B101=\"\",\"\",'Age - User Table|Label 3'!B101)","v":""},{"$f":"IF('Age - User Table|Label 3'!C101=\"\",\"\",'Age - User Table|Label 3'!C101)","v":""},{"$f":"IF('Age - User Table|Label 3'!D101=\"\",\"\",'Age - User Table|Label 3'!D101)","v":""},{"$f":"IF('Age - User Table|Label 3'!E101=\"\",\"\",'Age - User Table|Label 3'!E101)","v":""},{"$f":"IF('Age - User Table|Label 3'!F101=\"\",\"\",'Age - User Table|Label 3'!F101)","v":""}]
[96,{"$f":"IF('Age - User Table|Label 3'!B102=\"\",\"\",'Age - User Table|Label 3'!B102)","v":""},{"$f":"IF('Age - User Table|Label 3'!C102=\"\",\"\",'Age - User Table|Label 3'!C102)","v":""},{"$f":"IF('Age - User Table|Label 3'!D102=\"\",\"\",'Age - User Table|Label 3'!D102)","v":""},{"$f":"IF('Age - User Table|Label 3'!E102=\"\",\"\",'Age - User Table|Label 3'!E102)","v":""},{"$f":"IF('Age - User Table|Label 3'!F102=\"\",\"\",'Age - User Table|Label 3'!F102)","v":""}]
[97,{"$f":"IF('Age - User Table|Label 3'!B103=\"\",\"\",'Age - User Table|Label 3'!B103)","v":""},{"$f":"IF('Age - User Table|Label 3'!C103=\"\",\"\",'Age - User Table|Label 3'!C103)","v":""},{"$f":"IF('Age - User Table|Label 3'!D103=\"\",\"\",'Age - User Table|Label 3'!D103)","v":""},{"$f":"IF('Age - User Table|Label 3'!E103=\"\",\"\",'Age - User Table|Label 3'!E103)","v":""},{"$f":"IF('Age - User Table|Label 3'!F103=\"\",\"\",'Age - User Table|Label 3'!F103)","v":""}]
[98,{"$f":"IF('Age - User Table|Label 3'!B104=\"\",\"\",'Age - User Table|Label 3'!B104)","v":""},{"$f":"IF('Age - User Table|Label 3'!C104=\"\",\"\",'Age - User Table|Label 3'!C104)","v":""},{"$f":"IF('Age - User Table|Label 3'!D104=\"\",\"\",'Age - User Table|Label 3'!D104)","v":""},{"$f":"IF('Age - User Table|Label 3'!E104=\"\",\"\",'Age - User Table|Label 3'!E104)","v":""},{"$f":"IF('Age - User Table|Label 3'!F104=\"\",\"\",'Age - User Table|Label 3'!F104)","v":""}]
[99,{"$f":"IF('Age - User Table|Label 3'!B105=\"\",\"\",'Age - User Table|Label 3'!B105)","v":""},{"$f":"IF('Age - User Table|Label 3'!C105=\"\",\"\",'Age - User Table|Label 3'!C105)","v":""},{"$f":"IF('Age - User Table|Label 3'!D105=\"\",\"\",'Age - User Table|Label 3'!D105)","v":""},{"$f":"IF('Age - User Table|Label 3'!E105=\"\",\"\",'Age - User Table|Label 3'!E105)","v":""},{"$f":"IF('Age - User Table|Label 3'!F105=\"\",\"\",'Age - User Table|Label 3'!F105)","v":""}]
[100,{"$f":"IF('Age - User Table|Label 3'!B106=\"\",\"\",'Age - User Table|Label 3'!B106)","v":""},{"$f":"IF('Age - User Table|Label 3'!C106=\"\",\"\",'Age - User Table|Label 3'!C106)","v":""},{"$f":"IF('Age - User Table|Label 3'!D106=\"\",\"\",'Age - User Table|Label 3'!D106)","v":""},{"$f":"IF('Age - User Table|Label 3'!E106=\"\",\"\",'Age - User Table|Label 3'!E106)","v":""},{"$f":"IF('Age - User Table|Label 3'!F106=\"\",\"\",'Age - User Table|Label 3'!F106)","v":""}]
[101,{"$f":"IF('Age - User Table|Label 3'!B107=\"\",\"\",'Age - User Table|Label 3'!B107)","v":""},{"$f":"IF('Age - User Table|Label 3'!C107=\"\",\"\",'Age - User Table|Label 3'!C107)","v":""},{"$f":"IF('Age - User Table|Label 3'!D107=\"\",\"\",'Age - User Table|Label 3'!D107)","v":""},{"$f":"IF('Age - User Table|Label 3'!E107=\"\",\"\",'Age - User Table|Label 3'!E107)","v":""},{"$f":"IF('Age - User Table|Label 3'!F107=\"\",\"\",'Age - User Table|Label 3'!F107)","v":""}]
[102,{"$f":"IF('Age - User Table|Label 3'!B108=\"\",\"\",'Age - User Table|Label 3'!B108)","v":""},{"$f":"IF('Age - User Table|Label 3'!C108=\"\",\"\",'Age - User Table|Label 3'!C108)","v":""},{"$f":"IF('Age - User Table|Label 3'!D108=\"\",\"\",'Age - User Table|Label 3'!D108)","v":""},{"$f":"IF('Age - User Table|Label 3'!E108=\"\",\"\",'Age - User Table|Label 3'!E108)","v":""},{"$f":"IF('Age - User Table|Label 3'!F108=\"\",\"\",'Age - User Table|Label 3'!F108)","v":""}]
[103,{"$f":"IF('Age - User Table|Label 3'!B109=\"\",\"\",'Age - User Table|Label 3'!B109)","v":""},{"$f":"IF('Age - User Table|Label 3'!C109=\"\",\"\",'Age - User Table|Label 3'!C109)","v":""},{"$f":"IF('Age - User Table|Label 3'!D109=\"\",\"\",'Age - User Table|Label 3'!D109)","v":""},{"$f":"IF('Age - User Table|Label 3'!E109=\"\",\"\",'Age - User Table|Label 3'!E109)","v":""},{"$f":"IF('Age - User Table|Label 3'!F109=\"\",\"\",'Age - User Table|Label 3'!F109)","v":""}]
[104,{"$f":"IF('Age - User Table|Label 3'!B110=\"\",\"\",'Age - User Table|Label 3'!B110)","v":""},{"$f":"IF('Age - User Table|Label 3'!C110=\"\",\"\",'Age - User Table|Label 3'!C110)","v":""},{"$f":"IF('Age - User Table|Label 3'!D110=\"\",\"\",'Age - User Table|Label 3'!D110)","v":""},{"$f":"IF('Age - User Table|Label 3'!E110=\"\",\"\",'Age - User Table|Label 3'!E110)","v":""},{"$f":"IF('Age - User Table|Label 3'!F110=\"\",\"\",'Age - User Table|Label 3'!F110)","v":""}]
[105,{"$f":"IF('Age - User Table|Label 3'!B111=\"\",\"\",'Age - User Table|Label 3'!B111)","v":""},{"$f":"IF('Age - User Table|Label 3'!C111=\"\",\"\",'Age - User Table|Label 3'!C111)","v":""},{"$f":"IF('Age - User Table|Label 3'!D111=\"\",\"\",'Age - User Table|Label 3'!D111)","v":""},{"$f":"IF('Age - User Table|Label 3'!E111=\"\",\"\",'Age - User Table|Label 3'!E111)","v":""},{"$f":"IF('Age - User Table|Label 3'!F111=\"\",\"\",'Age - User Table|Label 3'!F111)","v":""}]
[106,{"$f":"IF('Age - User Table|Label 3'!B112=\"\",\"\",'Age - User Table|Label 3'!B112)","v":""},{"$f":"IF('Age - User Table|Label 3'!C112=\"\",\"\",'Age - User Table|Label 3'!C112)","v":""},{"$f":"IF('Age - User Table|Label 3'!D112=\"\",\"\",'Age - User Table|Label 3'!D112)","v":""},{"$f":"IF('Age - User Table|Label 3'!E112=\"\",\"\",'Age - User Table|Label 3'!E112)","v":""},{"$f":"IF('Age - User Table|Label 3'!F112=\"\",\"\",'Age - User Table|Label 3'!F112)","v":""}]
[107,{"$f":"IF('Age - User Table|Label 3'!B113=\"\",\"\",'Age - User Table|Label 3'!B113)","v":""},{"$f":"IF('Age - User Table|Label 3'!C113=\"\",\"\",'Age - User Table|Label 3'!C113)","v":""},{"$f":"IF('Age - User Table|Label 3'!D113=\"\",\"\",'Age - User Table|Label 3'!D113)","v":""},{"$f":"IF('Age - User Table|Label 3'!E113=\"\",\"\",'Age - User Table|Label 3'!E113)","v":""},{"$f":"IF('Age - User Table|Label 3'!F113=\"\",\"\",'Age - User Table|Label 3'!F113)","v":""}]
[108,{"$f":"IF('Age - User Table|Label 3'!B114=\"\",\"\",'Age - User Table|Label 3'!B114)","v":""},{"$f":"IF('Age - User Table|Label 3'!C114=\"\",\"\",'Age - User Table|Label 3'!C114)","v":""},{"$f":"IF('Age - User Table|Label 3'!D114=\"\",\"\",'Age - User Table|Label 3'!D114)","v":""},{"$f":"IF('Age - User Table|Label 3'!E114=\"\",\"\",'Age - User Table|Label 3'!E114)","v":""},{"$f":"IF('Age - User Table|Label 3'!F114=\"\",\"\",'Age - User Table|Label 3'!F114)","v":""}]
[109,{"$f":"IF('Age - User Table|Label 3'!B115=\"\",\"\",'Age - User Table|Label 3'!B115)","v":""},{"$f":"IF('Age - User Table|Label 3'!C115=\"\",\"\",'Age - User Table|Label 3'!C115)","v":""},{"$f":"IF('Age - User Table|Label 3'!D115=\"\",\"\",'Age - User Table|Label 3'!D115)","v":""},{"$f":"IF('Age - User Table|Label 3'!E115=\"\",\"\",'Age - User Table|Label 3'!E115)","v":""},{"$f":"IF('Age - User Table|Label 3'!F115=\"\",\"\",'Age - User Table|Label 3'!F115)","v":""}]
[110,{"$f":"IF('Age - User Table|Label 3'!B116=\"\",\"\",'Age - User Table|Label 3'!B116)","v":""},{"$f":"IF('Age - User Table|Label 3'!C116=\"\",\"\",'Age - User Table|Label 3'!C116)","v":""},{"$f":"IF('Age - User Table|Label 3'!D116=\"\",\"\",'Age - User Table|Label 3'!D116)","v":""},{"$f":"IF('Age - User Table|Label 3'!E116=\"\",\"\",'Age - User Table|Label 3'!E116)","v":""},{"$f":"IF('Age - User Table|Label 3'!F116=\"\",\"\",'Age - User Table|Label 3'!F116)","v":""}]
[111,{"$f":"IF('Age - User Table|Label 3'!B117=\"\",\"\",'Age - User Table|Label 3'!B117)","v":""},{"$f":"IF('Age - User Table|Label 3'!C117=\"\",\"\",'Age - User Table|Label 3'!C117)","v":""},{"$f":"IF('Age - User Table|Label 3'!D117=\"\",\"\",'Age - User Table|Label 3'!D117)","v":""},{"$f":"IF('Age - User Table|Label 3'!E117=\"\",\"\",'Age - User Table|Label 3'!E117)","v":""},{"$f":"IF('Age - User Table|Label 3'!F117=\"\",\"\",'Age - User Table|Label 3'!F117)","v":""}]
[112,{"$f":"IF('Age - User Table|Label 3'!B118=\"\",\"\",'Age - User Table|Label 3'!B118)","v":""},{"$f":"IF('Age - User Table|Label 3'!C118=\"\",\"\",'Age - User Table|Label 3'!C118)","v":""},{"$f":"IF('Age - User Table|Label 3'!D118=\"\",\"\",'Age - User Table|Label 3'!D118)","v":""},{"$f":"IF('Age - User Table|Label 3'!E118=\"\",\"\",'Age - User Table|Label 3'!E118)","v":""},{"$f":"IF('Age - User Table|Label 3'!F118=\"\",\"\",'Age - User Table|Label 3'!F118)","v":""}]
[113,{"$f":"IF('Age - User Table|Label 3'!B119=\"\",\"\",'Age - User Table|Label 3'!B119)","v":""},{"$f":"IF('Age - User Table|Label 3'!C119=\"\",\"\",'Age - User Table|Label 3'!C119)","v":""},{"$f":"IF('Age - User Table|Label 3'!D119=\"\",\"\",'Age - User Table|Label 3'!D119)","v":""},{"$f":"IF('Age - User Table|Label 3'!E119=\"\",\"\",'Age - User Table|Label 3'!E119)","v":""},{"$f":"IF('Age - User Table|Label 3'!F119=\"\",\"\",'Age - User Table|Label 3'!F119)","v":""}]
[114,{"$f":"IF('Age - User Table|Label 3'!B120=\"\",\"\",'Age - User Table|Label 3'!B120)","v":""},{"$f":"IF('Age - User Table|Label 3'!C120=\"\",\"\",'Age - User Table|Label 3'!C120)","v":""},{"$f":"IF('Age - User Table|Label 3'!D120=\"\",\"\",'Age - User Table|Label 3'!D120)","v":""},{"$f":"IF('Age - User Table|Label 3'!E120=\"\",\"\",'Age - User Table|Label 3'!E120)","v":""},{"$f":"IF('Age - User Table|Label 3'!F120=\"\",\"\",'Age - User Table|Label 3'!F120)","v":""}]
[115,{"$f":"IF('Age - User Table|Label 3'!B121=\"\",\"\",'Age - User Table|Label 3'!B121)","v":""},{"$f":"IF('Age - User Table|Label 3'!C121=\"\",\"\",'Age - User Table|Label 3'!C121)","v":""},{"$f":"IF('Age - User Table|Label 3'!D121=\"\",\"\",'Age - User Table|Label 3'!D121)","v":""},{"$f":"IF('Age - User Table|Label 3'!E121=\"\",\"\",'Age - User Table|Label 3'!E121)","v":""},{"$f":"IF('Age - User Table|Label 3'!F121=\"\",\"\",'Age - User Table|Label 3'!F121)","v":""}]
[116,{"$f":"IF('Age - User Table|Label 3'!B122=\"\",\"\",'Age - User Table|Label 3'!B122)","v":""},{"$f":"IF('Age - User Table|Label 3'!C122=\"\",\"\",'Age - User Table|Label 3'!C122)","v":""},{"$f":"IF('Age - User Table|Label 3'!D122=\"\",\"\",'Age - User Table|Label 3'!D122)","v":""},{"$f":"IF('Age - User Table|Label 3'!E122=\"\",\"\",'Age - User Table|Label 3'!E122)","v":""},{"$f":"IF('Age - User Table|Label 3'!F122=\"\",\"\",'Age - User Table|Label 3'!F122)","v":""}]
[117,{"$f":"IF('Age - User Table|Label 3'!B123=\"\",\"\",'Age - User Table|Label 3'!B123)","v":""},{"$f":"IF('Age - User Table|Label 3'!C123=\"\",\"\",'Age - User Table|Label 3'!C123)","v":""},{"$f":"IF('Age - User Table|Label 3'!D123=\"\",\"\",'Age - User Table|Label 3'!D123)","v":""},{"$f":"IF('Age - User Table|Label 3'!E123=\"\",\"\",'Age - User Table|Label 3'!E123)","v":""},{"$f":"IF('Age - User Table|Label 3'!F123=\"\",\"\",'Age - User Table|Label 3'!F123)","v":""}]
[118,{"$f":"IF('Age - User Table|Label 3'!B124=\"\",\"\",'Age - User Table|Label 3'!B124)","v":""},{"$f":"IF('Age - User Table|Label 3'!C124=\"\",\"\",'Age - User Table|Label 3'!C124)","v":""},{"$f":"IF('Age - User Table|Label 3'!D124=\"\",\"\",'Age - User Table|Label 3'!D124)","v":""},{"$f":"IF('Age - User Table|Label 3'!E124=\"\",\"\",'Age - User Table|Label 3'!E124)","v":""},{"$f":"IF('Age - User Table|Label 3'!F124=\"\",\"\",'Age - User Table|Label 3'!F124)","v":""}]
[119,{"$f":"IF('Age - User Table|Label 3'!B125=\"\",\"\",'Age - User Table|Label 3'!B125)","v":""},{"$f":"IF('Age - User Table|Label 3'!C125=\"\",\"\",'Age - User Table|Label 3'!C125)","v":""},{"$f":"IF('Age - User Table|Label 3'!D125=\"\",\"\",'Age - User Table|Label 3'!D125)","v":""},{"$f":"IF('Age - User Table|Label 3'!E125=\"\",\"\",'Age - User Table|Label 3'!E125)","v":""},{"$f":"IF('Age - User Table|Label 3'!F125=\"\",\"\",'Age - User Table|Label 3'!F125)","v":""}]
[120,{"$f":"IF('Age - User Table|Label 3'!B126=\"\",\"\",'Age - User Table|Label 3'!B126)","v":""},{"$f":"IF('Age - User Table|Label 3'!C126=\"\",\"\",'Age - User Table|Label 3'!C126)","v":""},{"$f":"IF('Age - User Table|Label 3'!D126=\"\",\"\",'Age - User Table|Label 3'!D126)","v":""},{"$f":"IF('Age - User Table|Label 3'!E126=\"\",\"\",'Age - User Table|Label 3'!E126)","v":""},{"$f":"IF('Age - User Table|Label 3'!F126=\"\",\"\",'Age - User Table|Label 3'!F126)","v":""}]
[]
["AGE - User Table 4",null,null,null,null,{"$f":"IF('Age - User Table|Label 4'!F1=\"\",\"\",'Age - User Table|Label 4'!F1)","v":"Age User Table 4"}]
[null,null,null,null,null,{"$f":"ValidationData!DataVersion","v":"70.80.100.100"}]
["Index","Measurement Name",null,null,{"$f":"IF('Age - User Table|Label 4'!E3=\"\",\"\",'Age - User Table|Label 4'!E3)","v":""}]
[null,"Measurement Type",null,null,{"$f":"IF('Age - User Table|Label 4'!E4=\"\",\"\",IF(ISERROR(VLOOKUP('Age - User Table|Label 4'!E4,ValidationData!A5:B7,2, FALSE)), \"\", VLOOKUP('Age - User Table|Label 4'!E4,ValidationData!A5:B7,2, FALSE)))","v":""}]
[null,"Author",null,null,{"$f":"IF('Age - User Table|Label 4'!J5=\"\",\"\",'Age - User Table|Label 4'!J5)","v":""}]
[null,"Value","Age (weeks)","Age (days)","Range (weeks)","Range (days)"]
[1,{"$f":"IF('Age - User Table|Label 4'!B7=\"\",\"\",'Age - User Table|Label 4'!B7)","v":""},{"$f":"IF('Age - User Table|Label 4'!C7=\"\",\"\",'Age - User Table|Label 4'!C7)","v":""},{"$f":"IF('Age - User Table|Label 4'!D7=\"\",\"\",'Age - User Table|Label 4'!D7)","v":""},{"$f":"IF('Age - User Table|Label 4'!E7=\"\",\"\",'Age - User Table|Label 4'!E7)","v":""},{"$f":"IF('Age - User Table|Label 4'!F7=\"\",\"\",'Age - User Table|Label 4'!F7)","v":""}]
[2,{"$f":"IF('Age - User Table|Label 4'!B8=\"\",\"\",'Age - User Table|Label 4'!B8)","v":""},{"$f":"IF('Age - User Table|Label 4'!C8=\"\",\"\",'Age - User Table|Label 4'!C8)","v":""},{"$f":"IF('Age - User Table|Label 4'!D8=\"\",\"\",'Age - User Table|Label 4'!D8)","v":""},{"$f":"IF('Age - User Table|Label 4'!E8=\"\",\"\",'Age - User Table|Label 4'!E8)","v":""},{"$f":"IF('Age - User Table|Label 4'!F8=\"\",\"\",'Age - User Table|Label 4'!F8)","v":""}]
[3,{"$f":"IF('Age - User Table|Label 4'!B9=\"\",\"\",'Age - User Table|Label 4'!B9)","v":""},{"$f":"IF('Age - User Table|Label 4'!C9=\"\",\"\",'Age - User Table|Label 4'!C9)","v":""},{"$f":"IF('Age - User Table|Label 4'!D9=\"\",\"\",'Age - User Table|Label 4'!D9)","v":""},{"$f":"IF('Age - User Table|Label 4'!E9=\"\",\"\",'Age - User Table|Label 4'!E9)","v":""},{"$f":"IF('Age - User Table|Label 4'!F9=\"\",\"\",'Age - User Table|Label 4'!F9)","v":""}]
[4,{"$f":"IF('Age - User Table|Label 4'!B10=\"\",\"\",'Age - User Table|Label 4'!B10)","v":""},{"$f":"IF('Age - User Table|Label 4'!C10=\"\",\"\",'Age - User Table|Label 4'!C10)","v":""},{"$f":"IF('Age - User Table|Label 4'!D10=\"\",\"\",'Age - User Table|Label 4'!D10)","v":""},{"$f":"IF('Age - User Table|Label 4'!E10=\"\",\"\",'Age - User Table|Label 4'!E10)","v":""},{"$f":"IF('Age - User Table|Label 4'!F10=\"\",\"\",'Age - User Table|Label 4'!F10)","v":""}]
[5,{"$f":"IF('Age - User Table|Label 4'!B11=\"\",\"\",'Age - User Table|Label 4'!B11)","v":""},{"$f":"IF('Age - User Table|Label 4'!C11=\"\",\"\",'Age - User Table|Label 4'!C11)","v":""},{"$f":"IF('Age - User Table|Label 4'!D11=\"\",\"\",'Age - User Table|Label 4'!D11)","v":""},{"$f":"IF('Age - User Table|Label 4'!E11=\"\",\"\",'Age - User Table|Label 4'!E11)","v":""},{"$f":"IF('Age - User Table|Label 4'!F11=\"\",\"\",'Age - User Table|Label 4'!F11)","v":""}]
[6,{"$f":"IF('Age - User Table|Label 4'!B12=\"\",\"\",'Age - User Table|Label 4'!B12)","v":""},{"$f":"IF('Age - User Table|Label 4'!C12=\"\",\"\",'Age - User Table|Label 4'!C12)","v":""},{"$f":"IF('Age - User Table|Label 4'!D12=\"\",\"\",'Age - User Table|Label 4'!D12)","v":""},{"$f":"IF('Age - User Table|Label 4'!E12=\"\",\"\",'Age - User Table|Label 4'!E12)","v":""},{"$f":"IF('Age - User Table|Label 4'!F12=\"\",\"\",'Age - User Table|Label 4'!F12)","v":""}]
[7,{"$f":"IF('Age - User Table|Label 4'!B13=\"\",\"\",'Age - User Table|Label 4'!B13)","v":""},{"$f":"IF('Age - User Table|Label 4'!C13=\"\",\"\",'Age - User Table|Label 4'!C13)","v":""},{"$f":"IF('Age - User Table|Label 4'!D13=\"\",\"\",'Age - User Table|Label 4'!D13)","v":""},{"$f":"IF('Age - User Table|Label 4'!E13=\"\",\"\",'Age - User Table|Label 4'!E13)","v":""},{"$f":"IF('Age - User Table|Label 4'!F13=\"\",\"\",'Age - User Table|Label 4'!F13)","v":""}]
[8,{"$f":"IF('Age - User Table|Label 4'!B14=\"\",\"\",'Age - User Table|Label 4'!B14)","v":""},{"$f":"IF('Age - User Table|Label 4'!C14=\"\",\"\",'Age - User Table|Label 4'!C14)","v":""},{"$f":"IF('Age - User Table|Label 4'!D14=\"\",\"\",'Age - User Table|Label 4'!D14)","v":""},{"$f":"IF('Age - User Table|Label 4'!E14=\"\",\"\",'Age - User Table|Label 4'!E14)","v":""},{"$f":"IF('Age - User Table|Label 4'!F14=\"\",\"\",'Age - User Table|Label 4'!F14)","v":""}]
[9,{"$f":"IF('Age - User Table|Label 4'!B15=\"\",\"\",'Age - User Table|Label 4'!B15)","v":""},{"$f":"IF('Age - User Table|Label 4'!C15=\"\",\"\",'Age - User Table|Label 4'!C15)","v":""},{"$f":"IF('Age - User Table|Label 4'!D15=\"\",\"\",'Age - User Table|Label 4'!D15)","v":""},{"$f":"IF('Age - User Table|Label 4'!E15=\"\",\"\",'Age - User Table|Label 4'!E15)","v":""},{"$f":"IF('Age - User Table|Label 4'!F15=\"\",\"\",'Age - User Table|Label 4'!F15)","v":""}]
[10,{"$f":"IF('Age - User Table|Label 4'!B16=\"\",\"\",'Age - User Table|Label 4'!B16)","v":""},{"$f":"IF('Age - User Table|Label 4'!C16=\"\",\"\",'Age - User Table|Label 4'!C16)","v":""},{"$f":"IF('Age - User Table|Label 4'!D16=\"\",\"\",'Age - User Table|Label 4'!D16)","v":""},{"$f":"IF('Age - User Table|Label 4'!E16=\"\",\"\",'Age - User Table|Label 4'!E16)","v":""},{"$f":"IF('Age - User Table|Label 4'!F16=\"\",\"\",'Age - User Table|Label 4'!F16)","v":""}]
[11,{"$f":"IF('Age - User Table|Label 4'!B17=\"\",\"\",'Age - User Table|Label 4'!B17)","v":""},{"$f":"IF('Age - User Table|Label 4'!C17=\"\",\"\",'Age - User Table|Label 4'!C17)","v":""},{"$f":"IF('Age - User Table|Label 4'!D17=\"\",\"\",'Age - User Table|Label 4'!D17)","v":""},{"$f":"IF('Age - User Table|Label 4'!E17=\"\",\"\",'Age - User Table|Label 4'!E17)","v":""},{"$f":"IF('Age - User Table|Label 4'!F17=\"\",\"\",'Age - User Table|Label 4'!F17)","v":""}]
[12,{"$f":"IF('Age - User Table|Label 4'!B18=\"\",\"\",'Age - User Table|Label 4'!B18)","v":""},{"$f":"IF('Age - User Table|Label 4'!C18=\"\",\"\",'Age - User Table|Label 4'!C18)","v":""},{"$f":"IF('Age - User Table|Label 4'!D18=\"\",\"\",'Age - User Table|Label 4'!D18)","v":""},{"$f":"IF('Age - User Table|Label 4'!E18=\"\",\"\",'Age - User Table|Label 4'!E18)","v":""},{"$f":"IF('Age - User Table|Label 4'!F18=\"\",\"\",'Age - User Table|Label 4'!F18)","v":""}]
[13,{"$f":"IF('Age - User Table|Label 4'!B19=\"\",\"\",'Age - User Table|Label 4'!B19)","v":""},{"$f":"IF('Age - User Table|Label 4'!C19=\"\",\"\",'Age - User Table|Label 4'!C19)","v":""},{"$f":"IF('Age - User Table|Label 4'!D19=\"\",\"\",'Age - User Table|Label 4'!D19)","v":""},{"$f":"IF('Age - User Table|Label 4'!E19=\"\",\"\",'Age - User Table|Label 4'!E19)","v":""},{"$f":"IF('Age - User Table|Label 4'!F19=\"\",\"\",'Age - User Table|Label 4'!F19)","v":""}]
[14,{"$f":"IF('Age - User Table|Label 4'!B20=\"\",\"\",'Age - User Table|Label 4'!B20)","v":""},{"$f":"IF('Age - User Table|Label 4'!C20=\"\",\"\",'Age - User Table|Label 4'!C20)","v":""},{"$f":"IF('Age - User Table|Label 4'!D20=\"\",\"\",'Age - User Table|Label 4'!D20)","v":""},{"$f":"IF('Age - User Table|Label 4'!E20=\"\",\"\",'Age - User Table|Label 4'!E20)","v":""},{"$f":"IF('Age - User Table|Label 4'!F20=\"\",\"\",'Age - User Table|Label 4'!F20)","v":""}]
[15,{"$f":"IF('Age - User Table|Label 4'!B21=\"\",\"\",'Age - User Table|Label 4'!B21)","v":""},{"$f":"IF('Age - User Table|Label 4'!C21=\"\",\"\",'Age - User Table|Label 4'!C21)","v":""},{"$f":"IF('Age - User Table|Label 4'!D21=\"\",\"\",'Age - User Table|Label 4'!D21)","v":""},{"$f":"IF('Age - User Table|Label 4'!E21=\"\",\"\",'Age - User Table|Label 4'!E21)","v":""},{"$f":"IF('Age - User Table|Label 4'!F21=\"\",\"\",'Age - User Table|Label 4'!F21)","v":""}]
[16,{"$f":"IF('Age - User Table|Label 4'!B22=\"\",\"\",'Age - User Table|Label 4'!B22)","v":""},{"$f":"IF('Age - User Table|Label 4'!C22=\"\",\"\",'Age - User Table|Label 4'!C22)","v":""},{"$f":"IF('Age - User Table|Label 4'!D22=\"\",\"\",'Age - User Table|Label 4'!D22)","v":""},{"$f":"IF('Age - User Table|Label 4'!E22=\"\",\"\",'Age - User Table|Label 4'!E22)","v":""},{"$f":"IF('Age - User Table|Label 4'!F22=\"\",\"\",'Age - User Table|Label 4'!F22)","v":""}]
[17,{"$f":"IF('Age - User Table|Label 4'!B23=\"\",\"\",'Age - User Table|Label 4'!B23)","v":""},{"$f":"IF('Age - User Table|Label 4'!C23=\"\",\"\",'Age - User Table|Label 4'!C23)","v":""},{"$f":"IF('Age - User Table|Label 4'!D23=\"\",\"\",'Age - User Table|Label 4'!D23)","v":""},{"$f":"IF('Age - User Table|Label 4'!E23=\"\",\"\",'Age - User Table|Label 4'!E23)","v":""},{"$f":"IF('Age - User Table|Label 4'!F23=\"\",\"\",'Age - User Table|Label 4'!F23)","v":""}]
[18,{"$f":"IF('Age - User Table|Label 4'!B24=\"\",\"\",'Age - User Table|Label 4'!B24)","v":""},{"$f":"IF('Age - User Table|Label 4'!C24=\"\",\"\",'Age - User Table|Label 4'!C24)","v":""},{"$f":"IF('Age - User Table|Label 4'!D24=\"\",\"\",'Age - User Table|Label 4'!D24)","v":""},{"$f":"IF('Age - User Table|Label 4'!E24=\"\",\"\",'Age - User Table|Label 4'!E24)","v":""},{"$f":"IF('Age - User Table|Label 4'!F24=\"\",\"\",'Age - User Table|Label 4'!F24)","v":""}]
[19,{"$f":"IF('Age - User Table|Label 4'!B25=\"\",\"\",'Age - User Table|Label 4'!B25)","v":""},{"$f":"IF('Age - User Table|Label 4'!C25=\"\",\"\",'Age - User Table|Label 4'!C25)","v":""},{"$f":"IF('Age - User Table|Label 4'!D25=\"\",\"\",'Age - User Table|Label 4'!D25)","v":""},{"$f":"IF('Age - User Table|Label 4'!E25=\"\",\"\",'Age - User Table|Label 4'!E25)","v":""},{"$f":"IF('Age - User Table|Label 4'!F25=\"\",\"\",'Age - User Table|Label 4'!F25)","v":""}]
[20,{"$f":"IF('Age - User Table|Label 4'!B26=\"\",\"\",'Age - User Table|Label 4'!B26)","v":""},{"$f":"IF('Age - User Table|Label 4'!C26=\"\",\"\",'Age - User Table|Label 4'!C26)","v":""},{"$f":"IF('Age - User Table|Label 4'!D26=\"\",\"\",'Age - User Table|Label 4'!D26)","v":""},{"$f":"IF('Age - User Table|Label 4'!E26=\"\",\"\",'Age - User Table|Label 4'!E26)","v":""},{"$f":"IF('Age - User Table|Label 4'!F26=\"\",\"\",'Age - User Table|Label 4'!F26)","v":""}]
[21,{"$f":"IF('Age - User Table|Label 4'!B27=\"\",\"\",'Age - User Table|Label 4'!B27)","v":""},{"$f":"IF('Age - User Table|Label 4'!C27=\"\",\"\",'Age - User Table|Label 4'!C27)","v":""},{"$f":"IF('Age - User Table|Label 4'!D27=\"\",\"\",'Age - User Table|Label 4'!D27)","v":""},{"$f":"IF('Age - User Table|Label 4'!E27=\"\",\"\",'Age - User Table|Label 4'!E27)","v":""},{"$f":"IF('Age - User Table|Label 4'!F27=\"\",\"\",'Age - User Table|Label 4'!F27)","v":""}]
[22,{"$f":"IF('Age - User Table|Label 4'!B28=\"\",\"\",'Age - User Table|Label 4'!B28)","v":""},{"$f":"IF('Age - User Table|Label 4'!C28=\"\",\"\",'Age - User Table|Label 4'!C28)","v":""},{"$f":"IF('Age - User Table|Label 4'!D28=\"\",\"\",'Age - User Table|Label 4'!D28)","v":""},{"$f":"IF('Age - User Table|Label 4'!E28=\"\",\"\",'Age - User Table|Label 4'!E28)","v":""},{"$f":"IF('Age - User Table|Label 4'!F28=\"\",\"\",'Age - User Table|Label 4'!F28)","v":""}]
[23,{"$f":"IF('Age - User Table|Label 4'!B29=\"\",\"\",'Age - User Table|Label 4'!B29)","v":""},{"$f":"IF('Age - User Table|Label 4'!C29=\"\",\"\",'Age - User Table|Label 4'!C29)","v":""},{"$f":"IF('Age - User Table|Label 4'!D29=\"\",\"\",'Age - User Table|Label 4'!D29)","v":""},{"$f":"IF('Age - User Table|Label 4'!E29=\"\",\"\",'Age - User Table|Label 4'!E29)","v":""},{"$f":"IF('Age - User Table|Label 4'!F29=\"\",\"\",'Age - User Table|Label 4'!F29)","v":""}]
[24,{"$f":"IF('Age - User Table|Label 4'!B30=\"\",\"\",'Age - User Table|Label 4'!B30)","v":""},{"$f":"IF('Age - User Table|Label 4'!C30=\"\",\"\",'Age - User Table|Label 4'!C30)","v":""},{"$f":"IF('Age - User Table|Label 4'!D30=\"\",\"\",'Age - User Table|Label 4'!D30)","v":""},{"$f":"IF('Age - User Table|Label 4'!E30=\"\",\"\",'Age - User Table|Label 4'!E30)","v":""},{"$f":"IF('Age - User Table|Label 4'!F30=\"\",\"\",'Age - User Table|Label 4'!F30)","v":""}]
[25,{"$f":"IF('Age - User Table|Label 4'!B31=\"\",\"\",'Age - User Table|Label 4'!B31)","v":""},{"$f":"IF('Age - User Table|Label 4'!C31=\"\",\"\",'Age - User Table|Label 4'!C31)","v":""},{"$f":"IF('Age - User Table|Label 4'!D31=\"\",\"\",'Age - User Table|Label 4'!D31)","v":""},{"$f":"IF('Age - User Table|Label 4'!E31=\"\",\"\",'Age - User Table|Label 4'!E31)","v":""},{"$f":"IF('Age - User Table|Label 4'!F31=\"\",\"\",'Age - User Table|Label 4'!F31)","v":""}]
[26,{"$f":"IF('Age - User Table|Label 4'!B32=\"\",\"\",'Age - User Table|Label 4'!B32)","v":""},{"$f":"IF('Age - User Table|Label 4'!C32=\"\",\"\",'Age - User Table|Label 4'!C32)","v":""},{"$f":"IF('Age - User Table|Label 4'!D32=\"\",\"\",'Age - User Table|Label 4'!D32)","v":""},{"$f":"IF('Age - User Table|Label 4'!E32=\"\",\"\",'Age - User Table|Label 4'!E32)","v":""},{"$f":"IF('Age - User Table|Label 4'!F32=\"\",\"\",'Age - User Table|Label 4'!F32)","v":""}]
[27,{"$f":"IF('Age - User Table|Label 4'!B33=\"\",\"\",'Age - User Table|Label 4'!B33)","v":""},{"$f":"IF('Age - User Table|Label 4'!C33=\"\",\"\",'Age - User Table|Label 4'!C33)","v":""},{"$f":"IF('Age - User Table|Label 4'!D33=\"\",\"\",'Age - User Table|Label 4'!D33)","v":""},{"$f":"IF('Age - User Table|Label 4'!E33=\"\",\"\",'Age - User Table|Label 4'!E33)","v":""},{"$f":"IF('Age - User Table|Label 4'!F33=\"\",\"\",'Age - User Table|Label 4'!F33)","v":""}]
[28,{"$f":"IF('Age - User Table|Label 4'!B34=\"\",\"\",'Age - User Table|Label 4'!B34)","v":""},{"$f":"IF('Age - User Table|Label 4'!C34=\"\",\"\",'Age - User Table|Label 4'!C34)","v":""},{"$f":"IF('Age - User Table|Label 4'!D34=\"\",\"\",'Age - User Table|Label 4'!D34)","v":""},{"$f":"IF('Age - User Table|Label 4'!E34=\"\",\"\",'Age - User Table|Label 4'!E34)","v":""},{"$f":"IF('Age - User Table|Label 4'!F34=\"\",\"\",'Age - User Table|Label 4'!F34)","v":""}]
[29,{"$f":"IF('Age - User Table|Label 4'!B35=\"\",\"\",'Age - User Table|Label 4'!B35)","v":""},{"$f":"IF('Age - User Table|Label 4'!C35=\"\",\"\",'Age - User Table|Label 4'!C35)","v":""},{"$f":"IF('Age - User Table|Label 4'!D35=\"\",\"\",'Age - User Table|Label 4'!D35)","v":""},{"$f":"IF('Age - User Table|Label 4'!E35=\"\",\"\",'Age - User Table|Label 4'!E35)","v":""},{"$f":"IF('Age - User Table|Label 4'!F35=\"\",\"\",'Age - User Table|Label 4'!F35)","v":""}]
[30,{"$f":"IF('Age - User Table|Label 4'!B36=\"\",\"\",'Age - User Table|Label 4'!B36)","v":""},{"$f":"IF('Age - User Table|Label 4'!C36=\"\",\"\",'Age - User Table|Label 4'!C36)","v":""},{"$f":"IF('Age - User Table|Label 4'!D36=\"\",\"\",'Age - User Table|Label 4'!D36)","v":""},{"$f":"IF('Age - User Table|Label 4'!E36=\"\",\"\",'Age - User Table|Label 4'!E36)","v":""},{"$f":"IF('Age - User Table|Label 4'!F36=\"\",\"\",'Age - User Table|Label 4'!F36)","v":""}]
[31,{"$f":"IF('Age - User Table|Label 4'!B37=\"\",\"\",'Age - User Table|Label 4'!B37)","v":""},{"$f":"IF('Age - User Table|Label 4'!C37=\"\",\"\",'Age - User Table|Label 4'!C37)","v":""},{"$f":"IF('Age - User Table|Label 4'!D37=\"\",\"\",'Age - User Table|Label 4'!D37)","v":""},{"$f":"IF('Age - User Table|Label 4'!E37=\"\",\"\",'Age - User Table|Label 4'!E37)","v":""},{"$f":"IF('Age - User Table|Label 4'!F37=\"\",\"\",'Age - User Table|Label 4'!F37)","v":""}]
[32,{"$f":"IF('Age - User Table|Label 4'!B38=\"\",\"\",'Age - User Table|Label 4'!B38)","v":""},{"$f":"IF('Age - User Table|Label 4'!C38=\"\",\"\",'Age - User Table|Label 4'!C38)","v":""},{"$f":"IF('Age - User Table|Label 4'!D38=\"\",\"\",'Age - User Table|Label 4'!D38)","v":""},{"$f":"IF('Age - User Table|Label 4'!E38=\"\",\"\",'Age - User Table|Label 4'!E38)","v":""},{"$f":"IF('Age - User Table|Label 4'!F38=\"\",\"\",'Age - User Table|Label 4'!F38)","v":""}]
[33,{"$f":"IF('Age - User Table|Label 4'!B39=\"\",\"\",'Age - User Table|Label 4'!B39)","v":""},{"$f":"IF('Age - User Table|Label 4'!C39=\"\",\"\",'Age - User Table|Label 4'!C39)","v":""},{"$f":"IF('Age - User Table|Label 4'!D39=\"\",\"\",'Age - User Table|Label 4'!D39)","v":""},{"$f":"IF('Age - User Table|Label 4'!E39=\"\",\"\",'Age - User Table|Label 4'!E39)","v":""},{"$f":"IF('Age - User Table|Label 4'!F39=\"\",\"\",'Age - User Table|Label 4'!F39)","v":""}]
[34,{"$f":"IF('Age - User Table|Label 4'!B40=\"\",\"\",'Age - User Table|Label 4'!B40)","v":""},{"$f":"IF('Age - User Table|Label 4'!C40=\"\",\"\",'Age - User Table|Label 4'!C40)","v":""},{"$f":"IF('Age - User Table|Label 4'!D40=\"\",\"\",'Age - User Table|Label 4'!D40)","v":""},{"$f":"IF('Age - User Table|Label 4'!E40=\"\",\"\",'Age - User Table|Label 4'!E40)","v":""},{"$f":"IF('Age - User Table|Label 4'!F40=\"\",\"\",'Age - User Table|Label 4'!F40)","v":""}]
[35,{"$f":"IF('Age - User Table|Label 4'!B41=\"\",\"\",'Age - User Table|Label 4'!B41)","v":""},{"$f":"IF('Age - User Table|Label 4'!C41=\"\",\"\",'Age - User Table|Label 4'!C41)","v":""},{"$f":"IF('Age - User Table|Label 4'!D41=\"\",\"\",'Age - User Table|Label 4'!D41)","v":""},{"$f":"IF('Age - User Table|Label 4'!E41=\"\",\"\",'Age - User Table|Label 4'!E41)","v":""},{"$f":"IF('Age - User Table|Label 4'!F41=\"\",\"\",'Age - User Table|Label 4'!F41)","v":""}]
[36,{"$f":"IF('Age - User Table|Label 4'!B42=\"\",\"\",'Age - User Table|Label 4'!B42)","v":""},{"$f":"IF('Age - User Table|Label 4'!C42=\"\",\"\",'Age - User Table|Label 4'!C42)","v":""},{"$f":"IF('Age - User Table|Label 4'!D42=\"\",\"\",'Age - User Table|Label 4'!D42)","v":""},{"$f":"IF('Age - User Table|Label 4'!E42=\"\",\"\",'Age - User Table|Label 4'!E42)","v":""},{"$f":"IF('Age - User Table|Label 4'!F42=\"\",\"\",'Age - User Table|Label 4'!F42)","v":""}]
[37,{"$f":"IF('Age - User Table|Label 4'!B43=\"\",\"\",'Age - User Table|Label 4'!B43)","v":""},{"$f":"IF('Age - User Table|Label 4'!C43=\"\",\"\",'Age - User Table|Label 4'!C43)","v":""},{"$f":"IF('Age - User Table|Label 4'!D43=\"\",\"\",'Age - User Table|Label 4'!D43)","v":""},{"$f":"IF('Age - User Table|Label 4'!E43=\"\",\"\",'Age - User Table|Label 4'!E43)","v":""},{"$f":"IF('Age - User Table|Label 4'!F43=\"\",\"\",'Age - User Table|Label 4'!F43)","v":""}]
[38,{"$f":"IF('Age - User Table|Label 4'!B44=\"\",\"\",'Age - User Table|Label 4'!B44)","v":""},{"$f":"IF('Age - User Table|Label 4'!C44=\"\",\"\",'Age - User Table|Label 4'!C44)","v":""},{"$f":"IF('Age - User Table|Label 4'!D44=\"\",\"\",'Age - User Table|Label 4'!D44)","v":""},{"$f":"IF('Age - User Table|Label 4'!E44=\"\",\"\",'Age - User Table|Label 4'!E44)","v":""},{"$f":"IF('Age - User Table|Label 4'!F44=\"\",\"\",'Age - User Table|Label 4'!F44)","v":""}]
[39,{"$f":"IF('Age - User Table|Label 4'!B45=\"\",\"\",'Age - User Table|Label 4'!B45)","v":""},{"$f":"IF('Age - User Table|Label 4'!C45=\"\",\"\",'Age - User Table|Label 4'!C45)","v":""},{"$f":"IF('Age - User Table|Label 4'!D45=\"\",\"\",'Age - User Table|Label 4'!D45)","v":""},{"$f":"IF('Age - User Table|Label 4'!E45=\"\",\"\",'Age - User Table|Label 4'!E45)","v":""},{"$f":"IF('Age - User Table|Label 4'!F45=\"\",\"\",'Age - User Table|Label 4'!F45)","v":""}]
[40,{"$f":"IF('Age - User Table|Label 4'!B46=\"\",\"\",'Age - User Table|Label 4'!B46)","v":""},{"$f":"IF('Age - User Table|Label 4'!C46=\"\",\"\",'Age - User Table|Label 4'!C46)","v":""},{"$f":"IF('Age - User Table|Label 4'!D46=\"\",\"\",'Age - User Table|Label 4'!D46)","v":""},{"$f":"IF('Age - User Table|Label 4'!E46=\"\",\"\",'Age - User Table|Label 4'!E46)","v":""},{"$f":"IF('Age - User Table|Label 4'!F46=\"\",\"\",'Age - User Table|Label 4'!F46)","v":""}]
[41,{"$f":"IF('Age - User Table|Label 4'!B47=\"\",\"\",'Age - User Table|Label 4'!B47)","v":""},{"$f":"IF('Age - User Table|Label 4'!C47=\"\",\"\",'Age - User Table|Label 4'!C47)","v":""},{"$f":"IF('Age - User Table|Label 4'!D47=\"\",\"\",'Age - User Table|Label 4'!D47)","v":""},{"$f":"IF('Age - User Table|Label 4'!E47=\"\",\"\",'Age - User Table|Label 4'!E47)","v":""},{"$f":"IF('Age - User Table|Label 4'!F47=\"\",\"\",'Age - User Table|Label 4'!F47)","v":""}]
[42,{"$f":"IF('Age - User Table|Label 4'!B48=\"\",\"\",'Age - User Table|Label 4'!B48)","v":""},{"$f":"IF('Age - User Table|Label 4'!C48=\"\",\"\",'Age - User Table|Label 4'!C48)","v":""},{"$f":"IF('Age - User Table|Label 4'!D48=\"\",\"\",'Age - User Table|Label 4'!D48)","v":""},{"$f":"IF('Age - User Table|Label 4'!E48=\"\",\"\",'Age - User Table|Label 4'!E48)","v":""},{"$f":"IF('Age - User Table|Label 4'!F48=\"\",\"\",'Age - User Table|Label 4'!F48)","v":""}]
[43,{"$f":"IF('Age - User Table|Label 4'!B49=\"\",\"\",'Age - User Table|Label 4'!B49)","v":""},{"$f":"IF('Age - User Table|Label 4'!C49=\"\",\"\",'Age - User Table|Label 4'!C49)","v":""},{"$f":"IF('Age - User Table|Label 4'!D49=\"\",\"\",'Age - User Table|Label 4'!D49)","v":""},{"$f":"IF('Age - User Table|Label 4'!E49=\"\",\"\",'Age - User Table|Label 4'!E49)","v":""},{"$f":"IF('Age - User Table|Label 4'!F49=\"\",\"\",'Age - User Table|Label 4'!F49)","v":""}]
[44,{"$f":"IF('Age - User Table|Label 4'!B50=\"\",\"\",'Age - User Table|Label 4'!B50)","v":""},{"$f":"IF('Age - User Table|Label 4'!C50=\"\",\"\",'Age - User Table|Label 4'!C50)","v":""},{"$f":"IF('Age - User Table|Label 4'!D50=\"\",\"\",'Age - User Table|Label 4'!D50)","v":""},{"$f":"IF('Age - User Table|Label 4'!E50=\"\",\"\",'Age - User Table|Label 4'!E50)","v":""},{"$f":"IF('Age - User Table|Label 4'!F50=\"\",\"\",'Age - User Table|Label 4'!F50)","v":""}]
[45,{"$f":"IF('Age - User Table|Label 4'!B51=\"\",\"\",'Age - User Table|Label 4'!B51)","v":""},{"$f":"IF('Age - User Table|Label 4'!C51=\"\",\"\",'Age - User Table|Label 4'!C51)","v":""},{"$f":"IF('Age - User Table|Label 4'!D51=\"\",\"\",'Age - User Table|Label 4'!D51)","v":""},{"$f":"IF('Age - User Table|Label 4'!E51=\"\",\"\",'Age - User Table|Label 4'!E51)","v":""},{"$f":"IF('Age - User Table|Label 4'!F51=\"\",\"\",'Age - User Table|Label 4'!F51)","v":""}]
[46,{"$f":"IF('Age - User Table|Label 4'!B52=\"\",\"\",'Age - User Table|Label 4'!B52)","v":""},{"$f":"IF('Age - User Table|Label 4'!C52=\"\",\"\",'Age - User Table|Label 4'!C52)","v":""},{"$f":"IF('Age - User Table|Label 4'!D52=\"\",\"\",'Age - User Table|Label 4'!D52)","v":""},{"$f":"IF('Age - User Table|Label 4'!E52=\"\",\"\",'Age - User Table|Label 4'!E52)","v":""},{"$f":"IF('Age - User Table|Label 4'!F52=\"\",\"\",'Age - User Table|Label 4'!F52)","v":""}]
[47,{"$f":"IF('Age - User Table|Label 4'!B53=\"\",\"\",'Age - User Table|Label 4'!B53)","v":""},{"$f":"IF('Age - User Table|Label 4'!C53=\"\",\"\",'Age - User Table|Label 4'!C53)","v":""},{"$f":"IF('Age - User Table|Label 4'!D53=\"\",\"\",'Age - User Table|Label 4'!D53)","v":""},{"$f":"IF('Age - User Table|Label 4'!E53=\"\",\"\",'Age - User Table|Label 4'!E53)","v":""},{"$f":"IF('Age - User Table|Label 4'!F53=\"\",\"\",'Age - User Table|Label 4'!F53)","v":""}]
[48,{"$f":"IF('Age - User Table|Label 4'!B54=\"\",\"\",'Age - User Table|Label 4'!B54)","v":""},{"$f":"IF('Age - User Table|Label 4'!C54=\"\",\"\",'Age - User Table|Label 4'!C54)","v":""},{"$f":"IF('Age - User Table|Label 4'!D54=\"\",\"\",'Age - User Table|Label 4'!D54)","v":""},{"$f":"IF('Age - User Table|Label 4'!E54=\"\",\"\",'Age - User Table|Label 4'!E54)","v":""},{"$f":"IF('Age - User Table|Label 4'!F54=\"\",\"\",'Age - User Table|Label 4'!F54)","v":""}]
[49,{"$f":"IF('Age - User Table|Label 4'!B55=\"\",\"\",'Age - User Table|Label 4'!B55)","v":""},{"$f":"IF('Age - User Table|Label 4'!C55=\"\",\"\",'Age - User Table|Label 4'!C55)","v":""},{"$f":"IF('Age - User Table|Label 4'!D55=\"\",\"\",'Age - User Table|Label 4'!D55)","v":""},{"$f":"IF('Age - User Table|Label 4'!E55=\"\",\"\",'Age - User Table|Label 4'!E55)","v":""},{"$f":"IF('Age - User Table|Label 4'!F55=\"\",\"\",'Age - User Table|Label 4'!F55)","v":""}]
[50,{"$f":"IF('Age - User Table|Label 4'!B56=\"\",\"\",'Age - User Table|Label 4'!B56)","v":""},{"$f":"IF('Age - User Table|Label 4'!C56=\"\",\"\",'Age - User Table|Label 4'!C56)","v":""},{"$f":"IF('Age - User Table|Label 4'!D56=\"\",\"\",'Age - User Table|Label 4'!D56)","v":""},{"$f":"IF('Age - User Table|Label 4'!E56=\"\",\"\",'Age - User Table|Label 4'!E56)","v":""},{"$f":"IF('Age - User Table|Label 4'!F56=\"\",\"\",'Age - User Table|Label 4'!F56)","v":""}]
[51,{"$f":"IF('Age - User Table|Label 4'!B57=\"\",\"\",'Age - User Table|Label 4'!B57)","v":""},{"$f":"IF('Age - User Table|Label 4'!C57=\"\",\"\",'Age - User Table|Label 4'!C57)","v":""},{"$f":"IF('Age - User Table|Label 4'!D57=\"\",\"\",'Age - User Table|Label 4'!D57)","v":""},{"$f":"IF('Age - User Table|Label 4'!E57=\"\",\"\",'Age - User Table|Label 4'!E57)","v":""},{"$f":"IF('Age - User Table|Label 4'!F57=\"\",\"\",'Age - User Table|Label 4'!F57)","v":""}]
[52,{"$f":"IF('Age - User Table|Label 4'!B58=\"\",\"\",'Age - User Table|Label 4'!B58)","v":""},{"$f":"IF('Age - User Table|Label 4'!C58=\"\",\"\",'Age - User Table|Label 4'!C58)","v":""},{"$f":"IF('Age - User Table|Label 4'!D58=\"\",\"\",'Age - User Table|Label 4'!D58)","v":""},{"$f":"IF('Age - User Table|Label 4'!E58=\"\",\"\",'Age - User Table|Label 4'!E58)","v":""},{"$f":"IF('Age - User Table|Label 4'!F58=\"\",\"\",'Age - User Table|Label 4'!F58)","v":""}]
[53,{"$f":"IF('Age - User Table|Label 4'!B59=\"\",\"\",'Age - User Table|Label 4'!B59)","v":""},{"$f":"IF('Age - User Table|Label 4'!C59=\"\",\"\",'Age - User Table|Label 4'!C59)","v":""},{"$f":"IF('Age - User Table|Label 4'!D59=\"\",\"\",'Age - User Table|Label 4'!D59)","v":""},{"$f":"IF('Age - User Table|Label 4'!E59=\"\",\"\",'Age - User Table|Label 4'!E59)","v":""},{"$f":"IF('Age - User Table|Label 4'!F59=\"\",\"\",'Age - User Table|Label 4'!F59)","v":""}]
[54,{"$f":"IF('Age - User Table|Label 4'!B60=\"\",\"\",'Age - User Table|Label 4'!B60)","v":""},{"$f":"IF('Age - User Table|Label 4'!C60=\"\",\"\",'Age - User Table|Label 4'!C60)","v":""},{"$f":"IF('Age - User Table|Label 4'!D60=\"\",\"\",'Age - User Table|Label 4'!D60)","v":""},{"$f":"IF('Age - User Table|Label 4'!E60=\"\",\"\",'Age - User Table|Label 4'!E60)","v":""},{"$f":"IF('Age - User Table|Label 4'!F60=\"\",\"\",'Age - User Table|Label 4'!F60)","v":""}]
[55,{"$f":"IF('Age - User Table|Label 4'!B61=\"\",\"\",'Age - User Table|Label 4'!B61)","v":""},{"$f":"IF('Age - User Table|Label 4'!C61=\"\",\"\",'Age - User Table|Label 4'!C61)","v":""},{"$f":"IF('Age - User Table|Label 4'!D61=\"\",\"\",'Age - User Table|Label 4'!D61)","v":""},{"$f":"IF('Age - User Table|Label 4'!E61=\"\",\"\",'Age - User Table|Label 4'!E61)","v":""},{"$f":"IF('Age - User Table|Label 4'!F61=\"\",\"\",'Age - User Table|Label 4'!F61)","v":""}]
[56,{"$f":"IF('Age - User Table|Label 4'!B62=\"\",\"\",'Age - User Table|Label 4'!B62)","v":""},{"$f":"IF('Age - User Table|Label 4'!C62=\"\",\"\",'Age - User Table|Label 4'!C62)","v":""},{"$f":"IF('Age - User Table|Label 4'!D62=\"\",\"\",'Age - User Table|Label 4'!D62)","v":""},{"$f":"IF('Age - User Table|Label 4'!E62=\"\",\"\",'Age - User Table|Label 4'!E62)","v":""},{"$f":"IF('Age - User Table|Label 4'!F62=\"\",\"\",'Age - User Table|Label 4'!F62)","v":""}]
[57,{"$f":"IF('Age - User Table|Label 4'!B63=\"\",\"\",'Age - User Table|Label 4'!B63)","v":""},{"$f":"IF('Age - User Table|Label 4'!C63=\"\",\"\",'Age - User Table|Label 4'!C63)","v":""},{"$f":"IF('Age - User Table|Label 4'!D63=\"\",\"\",'Age - User Table|Label 4'!D63)","v":""},{"$f":"IF('Age - User Table|Label 4'!E63=\"\",\"\",'Age - User Table|Label 4'!E63)","v":""},{"$f":"IF('Age - User Table|Label 4'!F63=\"\",\"\",'Age - User Table|Label 4'!F63)","v":""}]
[58,{"$f":"IF('Age - User Table|Label 4'!B64=\"\",\"\",'Age - User Table|Label 4'!B64)","v":""},{"$f":"IF('Age - User Table|Label 4'!C64=\"\",\"\",'Age - User Table|Label 4'!C64)","v":""},{"$f":"IF('Age - User Table|Label 4'!D64=\"\",\"\",'Age - User Table|Label 4'!D64)","v":""},{"$f":"IF('Age - User Table|Label 4'!E64=\"\",\"\",'Age - User Table|Label 4'!E64)","v":""},{"$f":"IF('Age - User Table|Label 4'!F64=\"\",\"\",'Age - User Table|Label 4'!F64)","v":""}]
[59,{"$f":"IF('Age - User Table|Label 4'!B65=\"\",\"\",'Age - User Table|Label 4'!B65)","v":""},{"$f":"IF('Age - User Table|Label 4'!C65=\"\",\"\",'Age - User Table|Label 4'!C65)","v":""},{"$f":"IF('Age - User Table|Label 4'!D65=\"\",\"\",'Age - User Table|Label 4'!D65)","v":""},{"$f":"IF('Age - User Table|Label 4'!E65=\"\",\"\",'Age - User Table|Label 4'!E65)","v":""},{"$f":"IF('Age - User Table|Label 4'!F65=\"\",\"\",'Age - User Table|Label 4'!F65)","v":""}]
[60,{"$f":"IF('Age - User Table|Label 4'!B66=\"\",\"\",'Age - User Table|Label 4'!B66)","v":""},{"$f":"IF('Age - User Table|Label 4'!C66=\"\",\"\",'Age - User Table|Label 4'!C66)","v":""},{"$f":"IF('Age - User Table|Label 4'!D66=\"\",\"\",'Age - User Table|Label 4'!D66)","v":""},{"$f":"IF('Age - User Table|Label 4'!E66=\"\",\"\",'Age - User Table|Label 4'!E66)","v":""},{"$f":"IF('Age - User Table|Label 4'!F66=\"\",\"\",'Age - User Table|Label 4'!F66)","v":""}]
[61,{"$f":"IF('Age - User Table|Label 4'!B67=\"\",\"\",'Age - User Table|Label 4'!B67)","v":""},{"$f":"IF('Age - User Table|Label 4'!C67=\"\",\"\",'Age - User Table|Label 4'!C67)","v":""},{"$f":"IF('Age - User Table|Label 4'!D67=\"\",\"\",'Age - User Table|Label 4'!D67)","v":""},{"$f":"IF('Age - User Table|Label 4'!E67=\"\",\"\",'Age - User Table|Label 4'!E67)","v":""},{"$f":"IF('Age - User Table|Label 4'!F67=\"\",\"\",'Age - User Table|Label 4'!F67)","v":""}]
[62,{"$f":"IF('Age - User Table|Label 4'!B68=\"\",\"\",'Age - User Table|Label 4'!B68)","v":""},{"$f":"IF('Age - User Table|Label 4'!C68=\"\",\"\",'Age - User Table|Label 4'!C68)","v":""},{"$f":"IF('Age - User Table|Label 4'!D68=\"\",\"\",'Age - User Table|Label 4'!D68)","v":""},{"$f":"IF('Age - User Table|Label 4'!E68=\"\",\"\",'Age - User Table|Label 4'!E68)","v":""},{"$f":"IF('Age - User Table|Label 4'!F68=\"\",\"\",'Age - User Table|Label 4'!F68)","v":""}]
[63,{"$f":"IF('Age - User Table|Label 4'!B69=\"\",\"\",'Age - User Table|Label 4'!B69)","v":""},{"$f":"IF('Age - User Table|Label 4'!C69=\"\",\"\",'Age - User Table|Label 4'!C69)","v":""},{"$f":"IF('Age - User Table|Label 4'!D69=\"\",\"\",'Age - User Table|Label 4'!D69)","v":""},{"$f":"IF('Age - User Table|Label 4'!E69=\"\",\"\",'Age - User Table|Label 4'!E69)","v":""},{"$f":"IF('Age - User Table|Label 4'!F69=\"\",\"\",'Age - User Table|Label 4'!F69)","v":""}]
[64,{"$f":"IF('Age - User Table|Label 4'!B70=\"\",\"\",'Age - User Table|Label 4'!B70)","v":""},{"$f":"IF('Age - User Table|Label 4'!C70=\"\",\"\",'Age - User Table|Label 4'!C70)","v":""},{"$f":"IF('Age - User Table|Label 4'!D70=\"\",\"\",'Age - User Table|Label 4'!D70)","v":""},{"$f":"IF('Age - User Table|Label 4'!E70=\"\",\"\",'Age - User Table|Label 4'!E70)","v":""},{"$f":"IF('Age - User Table|Label 4'!F70=\"\",\"\",'Age - User Table|Label 4'!F70)","v":""}]
[65,{"$f":"IF('Age - User Table|Label 4'!B71=\"\",\"\",'Age - User Table|Label 4'!B71)","v":""},{"$f":"IF('Age - User Table|Label 4'!C71=\"\",\"\",'Age - User Table|Label 4'!C71)","v":""},{"$f":"IF('Age - User Table|Label 4'!D71=\"\",\"\",'Age - User Table|Label 4'!D71)","v":""},{"$f":"IF('Age - User Table|Label 4'!E71=\"\",\"\",'Age - User Table|Label 4'!E71)","v":""},{"$f":"IF('Age - User Table|Label 4'!F71=\"\",\"\",'Age - User Table|Label 4'!F71)","v":""}]
[66,{"$f":"IF('Age - User Table|Label 4'!B72=\"\",\"\",'Age - User Table|Label 4'!B72)","v":""},{"$f":"IF('Age - User Table|Label 4'!C72=\"\",\"\",'Age - User Table|Label 4'!C72)","v":""},{"$f":"IF('Age - User Table|Label 4'!D72=\"\",\"\",'Age - User Table|Label 4'!D72)","v":""},{"$f":"IF('Age - User Table|Label 4'!E72=\"\",\"\",'Age - User Table|Label 4'!E72)","v":""},{"$f":"IF('Age - User Table|Label 4'!F72=\"\",\"\",'Age - User Table|Label 4'!F72)","v":""}]
[67,{"$f":"IF('Age - User Table|Label 4'!B73=\"\",\"\",'Age - User Table|Label 4'!B73)","v":""},{"$f":"IF('Age - User Table|Label 4'!C73=\"\",\"\",'Age - User Table|Label 4'!C73)","v":""},{"$f":"IF('Age - User Table|Label 4'!D73=\"\",\"\",'Age - User Table|Label 4'!D73)","v":""},{"$f":"IF('Age - User Table|Label 4'!E73=\"\",\"\",'Age - User Table|Label 4'!E73)","v":""},{"$f":"IF('Age - User Table|Label 4'!F73=\"\",\"\",'Age - User Table|Label 4'!F73)","v":""}]
[68,{"$f":"IF('Age - User Table|Label 4'!B74=\"\",\"\",'Age - User Table|Label 4'!B74)","v":""},{"$f":"IF('Age - User Table|Label 4'!C74=\"\",\"\",'Age - User Table|Label 4'!C74)","v":""},{"$f":"IF('Age - User Table|Label 4'!D74=\"\",\"\",'Age - User Table|Label 4'!D74)","v":""},{"$f":"IF('Age - User Table|Label 4'!E74=\"\",\"\",'Age - User Table|Label 4'!E74)","v":""},{"$f":"IF('Age - User Table|Label 4'!F74=\"\",\"\",'Age - User Table|Label 4'!F74)","v":""}]
[69,{"$f":"IF('Age - User Table|Label 4'!B75=\"\",\"\",'Age - User Table|Label 4'!B75)","v":""},{"$f":"IF('Age - User Table|Label 4'!C75=\"\",\"\",'Age - User Table|Label 4'!C75)","v":""},{"$f":"IF('Age - User Table|Label 4'!D75=\"\",\"\",'Age - User Table|Label 4'!D75)","v":""},{"$f":"IF('Age - User Table|Label 4'!E75=\"\",\"\",'Age - User Table|Label 4'!E75)","v":""},{"$f":"IF('Age - User Table|Label 4'!F75=\"\",\"\",'Age - User Table|Label 4'!F75)","v":""}]
[70,{"$f":"IF('Age - User Table|Label 4'!B76=\"\",\"\",'Age - User Table|Label 4'!B76)","v":""},{"$f":"IF('Age - User Table|Label 4'!C76=\"\",\"\",'Age - User Table|Label 4'!C76)","v":""},{"$f":"IF('Age - User Table|Label 4'!D76=\"\",\"\",'Age - User Table|Label 4'!D76)","v":""},{"$f":"IF('Age - User Table|Label 4'!E76=\"\",\"\",'Age - User Table|Label 4'!E76)","v":""},{"$f":"IF('Age - User Table|Label 4'!F76=\"\",\"\",'Age - User Table|Label 4'!F76)","v":""}]
[71,{"$f":"IF('Age - User Table|Label 4'!B77=\"\",\"\",'Age - User Table|Label 4'!B77)","v":""},{"$f":"IF('Age - User Table|Label 4'!C77=\"\",\"\",'Age - User Table|Label 4'!C77)","v":""},{"$f":"IF('Age - User Table|Label 4'!D77=\"\",\"\",'Age - User Table|Label 4'!D77)","v":""},{"$f":"IF('Age - User Table|Label 4'!E77=\"\",\"\",'Age - User Table|Label 4'!E77)","v":""},{"$f":"IF('Age - User Table|Label 4'!F77=\"\",\"\",'Age - User Table|Label 4'!F77)","v":""}]
[72,{"$f":"IF('Age - User Table|Label 4'!B78=\"\",\"\",'Age - User Table|Label 4'!B78)","v":""},{"$f":"IF('Age - User Table|Label 4'!C78=\"\",\"\",'Age - User Table|Label 4'!C78)","v":""},{"$f":"IF('Age - User Table|Label 4'!D78=\"\",\"\",'Age - User Table|Label 4'!D78)","v":""},{"$f":"IF('Age - User Table|Label 4'!E78=\"\",\"\",'Age - User Table|Label 4'!E78)","v":""},{"$f":"IF('Age - User Table|Label 4'!F78=\"\",\"\",'Age - User Table|Label 4'!F78)","v":""}]
[73,{"$f":"IF('Age - User Table|Label 4'!B79=\"\",\"\",'Age - User Table|Label 4'!B79)","v":""},{"$f":"IF('Age - User Table|Label 4'!C79=\"\",\"\",'Age - User Table|Label 4'!C79)","v":""},{"$f":"IF('Age - User Table|Label 4'!D79=\"\",\"\",'Age - User Table|Label 4'!D79)","v":""},{"$f":"IF('Age - User Table|Label 4'!E79=\"\",\"\",'Age - User Table|Label 4'!E79)","v":""},{"$f":"IF('Age - User Table|Label 4'!F79=\"\",\"\",'Age - User Table|Label 4'!F79)","v":""}]
[74,{"$f":"IF('Age - User Table|Label 4'!B80=\"\",\"\",'Age - User Table|Label 4'!B80)","v":""},{"$f":"IF('Age - User Table|Label 4'!C80=\"\",\"\",'Age - User Table|Label 4'!C80)","v":""},{"$f":"IF('Age - User Table|Label 4'!D80=\"\",\"\",'Age - User Table|Label 4'!D80)","v":""},{"$f":"IF('Age - User Table|Label 4'!E80=\"\",\"\",'Age - User Table|Label 4'!E80)","v":""},{"$f":"IF('Age - User Table|Label 4'!F80=\"\",\"\",'Age - User Table|Label 4'!F80)","v":""}]
[75,{"$f":"IF('Age - User Table|Label 4'!B81=\"\",\"\",'Age - User Table|Label 4'!B81)","v":""},{"$f":"IF('Age - User Table|Label 4'!C81=\"\",\"\",'Age - User Table|Label 4'!C81)","v":""},{"$f":"IF('Age - User Table|Label 4'!D81=\"\",\"\",'Age - User Table|Label 4'!D81)","v":""},{"$f":"IF('Age - User Table|Label 4'!E81=\"\",\"\",'Age - User Table|Label 4'!E81)","v":""},{"$f":"IF('Age - User Table|Label 4'!F81=\"\",\"\",'Age - User Table|Label 4'!F81)","v":""}]
[76,{"$f":"IF('Age - User Table|Label 4'!B82=\"\",\"\",'Age - User Table|Label 4'!B82)","v":""},{"$f":"IF('Age - User Table|Label 4'!C82=\"\",\"\",'Age - User Table|Label 4'!C82)","v":""},{"$f":"IF('Age - User Table|Label 4'!D82=\"\",\"\",'Age - User Table|Label 4'!D82)","v":""},{"$f":"IF('Age - User Table|Label 4'!E82=\"\",\"\",'Age - User Table|Label 4'!E82)","v":""},{"$f":"IF('Age - User Table|Label 4'!F82=\"\",\"\",'Age - User Table|Label 4'!F82)","v":""}]
[77,{"$f":"IF('Age - User Table|Label 4'!B83=\"\",\"\",'Age - User Table|Label 4'!B83)","v":""},{"$f":"IF('Age - User Table|Label 4'!C83=\"\",\"\",'Age - User Table|Label 4'!C83)","v":""},{"$f":"IF('Age - User Table|Label 4'!D83=\"\",\"\",'Age - User Table|Label 4'!D83)","v":""},{"$f":"IF('Age - User Table|Label 4'!E83=\"\",\"\",'Age - User Table|Label 4'!E83)","v":""},{"$f":"IF('Age - User Table|Label 4'!F83=\"\",\"\",'Age - User Table|Label 4'!F83)","v":""}]
[78,{"$f":"IF('Age - User Table|Label 4'!B84=\"\",\"\",'Age - User Table|Label 4'!B84)","v":""},{"$f":"IF('Age - User Table|Label 4'!C84=\"\",\"\",'Age - User Table|Label 4'!C84)","v":""},{"$f":"IF('Age - User Table|Label 4'!D84=\"\",\"\",'Age - User Table|Label 4'!D84)","v":""},{"$f":"IF('Age - User Table|Label 4'!E84=\"\",\"\",'Age - User Table|Label 4'!E84)","v":""},{"$f":"IF('Age - User Table|Label 4'!F84=\"\",\"\",'Age - User Table|Label 4'!F84)","v":""}]
[79,{"$f":"IF('Age - User Table|Label 4'!B85=\"\",\"\",'Age - User Table|Label 4'!B85)","v":""},{"$f":"IF('Age - User Table|Label 4'!C85=\"\",\"\",'Age - User Table|Label 4'!C85)","v":""},{"$f":"IF('Age - User Table|Label 4'!D85=\"\",\"\",'Age - User Table|Label 4'!D85)","v":""},{"$f":"IF('Age - User Table|Label 4'!E85=\"\",\"\",'Age - User Table|Label 4'!E85)","v":""},{"$f":"IF('Age - User Table|Label 4'!F85=\"\",\"\",'Age - User Table|Label 4'!F85)","v":""}]
[80,{"$f":"IF('Age - User Table|Label 4'!B86=\"\",\"\",'Age - User Table|Label 4'!B86)","v":""},{"$f":"IF('Age - User Table|Label 4'!C86=\"\",\"\",'Age - User Table|Label 4'!C86)","v":""},{"$f":"IF('Age - User Table|Label 4'!D86=\"\",\"\",'Age - User Table|Label 4'!D86)","v":""},{"$f":"IF('Age - User Table|Label 4'!E86=\"\",\"\",'Age - User Table|Label 4'!E86)","v":""},{"$f":"IF('Age - User Table|Label 4'!F86=\"\",\"\",'Age - User Table|Label 4'!F86)","v":""}]
[81,{"$f":"IF('Age - User Table|Label 4'!B87=\"\",\"\",'Age - User Table|Label 4'!B87)","v":""},{"$f":"IF('Age - User Table|Label 4'!C87=\"\",\"\",'Age - User Table|Label 4'!C87)","v":""},{"$f":"IF('Age - User Table|Label 4'!D87=\"\",\"\",'Age - User Table|Label 4'!D87)","v":""},{"$f":"IF('Age - User Table|Label 4'!E87=\"\",\"\",'Age - User Table|Label 4'!E87)","v":""},{"$f":"IF('Age - User Table|Label 4'!F87=\"\",\"\",'Age - User Table|Label 4'!F87)","v":""}]
[82,{"$f":"IF('Age - User Table|Label 4'!B88=\"\",\"\",'Age - User Table|Label 4'!B88)","v":""},{"$f":"IF('Age - User Table|Label 4'!C88=\"\",\"\",'Age - User Table|Label 4'!C88)","v":""},{"$f":"IF('Age - User Table|Label 4'!D88=\"\",\"\",'Age - User Table|Label 4'!D88)","v":""},{"$f":"IF('Age - User Table|Label 4'!E88=\"\",\"\",'Age - User Table|Label 4'!E88)","v":""},{"$f":"IF('Age - User Table|Label 4'!F88=\"\",\"\",'Age - User Table|Label 4'!F88)","v":""}]
[83,{"$f":"IF('Age - User Table|Label 4'!B89=\"\",\"\",'Age - User Table|Label 4'!B89)","v":""},{"$f":"IF('Age - User Table|Label 4'!C89=\"\",\"\",'Age - User Table|Label 4'!C89)","v":""},{"$f":"IF('Age - User Table|Label 4'!D89=\"\",\"\",'Age - User Table|Label 4'!D89)","v":""},{"$f":"IF('Age - User Table|Label 4'!E89=\"\",\"\",'Age - User Table|Label 4'!E89)","v":""},{"$f":"IF('Age - User Table|Label 4'!F89=\"\",\"\",'Age - User Table|Label 4'!F89)","v":""}]
[84,{"$f":"IF('Age - User Table|Label 4'!B90=\"\",\"\",'Age - User Table|Label 4'!B90)","v":""},{"$f":"IF('Age - User Table|Label 4'!C90=\"\",\"\",'Age - User Table|Label 4'!C90)","v":""},{"$f":"IF('Age - User Table|Label 4'!D90=\"\",\"\",'Age - User Table|Label 4'!D90)","v":""},{"$f":"IF('Age - User Table|Label 4'!E90=\"\",\"\",'Age - User Table|Label 4'!E90)","v":""},{"$f":"IF('Age - User Table|Label 4'!F90=\"\",\"\",'Age - User Table|Label 4'!F90)","v":""}]
[85,{"$f":"IF('Age - User Table|Label 4'!B91=\"\",\"\",'Age - User Table|Label 4'!B91)","v":""},{"$f":"IF('Age - User Table|Label 4'!C91=\"\",\"\",'Age - User Table|Label 4'!C91)","v":""},{"$f":"IF('Age - User Table|Label 4'!D91=\"\",\"\",'Age - User Table|Label 4'!D91)","v":""},{"$f":"IF('Age - User Table|Label 4'!E91=\"\",\"\",'Age - User Table|Label 4'!E91)","v":""},{"$f":"IF('Age - User Table|Label 4'!F91=\"\",\"\",'Age - User Table|Label 4'!F91)","v":""}]
[86,{"$f":"IF('Age - User Table|Label 4'!B92=\"\",\"\",'Age - User Table|Label 4'!B92)","v":""},{"$f":"IF('Age - User Table|Label 4'!C92=\"\",\"\",'Age - User Table|Label 4'!C92)","v":""},{"$f":"IF('Age - User Table|Label 4'!D92=\"\",\"\",'Age - User Table|Label 4'!D92)","v":""},{"$f":"IF('Age - User Table|Label 4'!E92=\"\",\"\",'Age - User Table|Label 4'!E92)","v":""},{"$f":"IF('Age - User Table|Label 4'!F92=\"\",\"\",'Age - User Table|Label 4'!F92)","v":""}]
[87,{"$f":"IF('Age - User Table|Label 4'!B93=\"\",\"\",'Age - User Table|Label 4'!B93)","v":""},{"$f":"IF('Age - User Table|Label 4'!C93=\"\",\"\",'Age - User Table|Label 4'!C93)","v":""},{"$f":"IF('Age - User Table|Label 4'!D93=\"\",\"\",'Age - User Table|Label 4'!D93)","v":""},{"$f":"IF('Age - User Table|Label 4'!E93=\"\",\"\",'Age - User Table|Label 4'!E93)","v":""},{"$f":"IF('Age - User Table|Label 4'!F93=\"\",\"\",'Age - User Table|Label 4'!F93)","v":""}]
[88,{"$f":"IF('Age - User Table|Label 4'!B94=\"\",\"\",'Age - User Table|Label 4'!B94)","v":""},{"$f":"IF('Age - User Table|Label 4'!C94=\"\",\"\",'Age - User Table|Label 4'!C94)","v":""},{"$f":"IF('Age - User Table|Label 4'!D94=\"\",\"\",'Age - User Table|Label 4'!D94)","v":""},{"$f":"IF('Age - User Table|Label 4'!E94=\"\",\"\",'Age - User Table|Label 4'!E94)","v":""},{"$f":"IF('Age - User Table|Label 4'!F94=\"\",\"\",'Age - User Table|Label 4'!F94)","v":""}]
[89,{"$f":"IF('Age - User Table|Label 4'!B95=\"\",\"\",'Age - User Table|Label 4'!B95)","v":""},{"$f":"IF('Age - User Table|Label 4'!C95=\"\",\"\",'Age - User Table|Label 4'!C95)","v":""},{"$f":"IF('Age - User Table|Label 4'!D95=\"\",\"\",'Age - User Table|Label 4'!D95)","v":""},{"$f":"IF('Age - User Table|Label 4'!E95=\"\",\"\",'Age - User Table|Label 4'!E95)","v":""},{"$f":"IF('Age - User Table|Label 4'!F95=\"\",\"\",'Age - User Table|Label 4'!F95)","v":""}]
[90,{"$f":"IF('Age - User Table|Label 4'!B96=\"\",\"\",'Age - User Table|Label 4'!B96)","v":""},{"$f":"IF('Age - User Table|Label 4'!C96=\"\",\"\",'Age - User Table|Label 4'!C96)","v":""},{"$f":"IF('Age - User Table|Label 4'!D96=\"\",\"\",'Age - User Table|Label 4'!D96)","v":""},{"$f":"IF('Age - User Table|Label 4'!E96=\"\",\"\",'Age - User Table|Label 4'!E96)","v":""},{"$f":"IF('Age - User Table|Label 4'!F96=\"\",\"\",'Age - User Table|Label 4'!F96)","v":""}]
[91,{"$f":"IF('Age - User Table|Label 4'!B97=\"\",\"\",'Age - User Table|Label 4'!B97)","v":""},{"$f":"IF('Age - User Table|Label 4'!C97=\"\",\"\",'Age - User Table|Label 4'!C97)","v":""},{"$f":"IF('Age - User Table|Label 4'!D97=\"\",\"\",'Age - User Table|Label 4'!D97)","v":""},{"$f":"IF('Age - User Table|Label 4'!E97=\"\",\"\",'Age - User Table|Label 4'!E97)","v":""},{"$f":"IF('Age - User Table|Label 4'!F97=\"\",\"\",'Age - User Table|Label 4'!F97)","v":""}]
[92,{"$f":"IF('Age - User Table|Label 4'!B98=\"\",\"\",'Age - User Table|Label 4'!B98)","v":""},{"$f":"IF('Age - User Table|Label 4'!C98=\"\",\"\",'Age - User Table|Label 4'!C98)","v":""},{"$f":"IF('Age - User Table|Label 4'!D98=\"\",\"\",'Age - User Table|Label 4'!D98)","v":""},{"$f":"IF('Age - User Table|Label 4'!E98=\"\",\"\",'Age - User Table|Label 4'!E98)","v":""},{"$f":"IF('Age - User Table|Label 4'!F98=\"\",\"\",'Age - User Table|Label 4'!F98)","v":""}]
[93,{"$f":"IF('Age - User Table|Label 4'!B99=\"\",\"\",'Age - User Table|Label 4'!B99)","v":""},{"$f":"IF('Age - User Table|Label 4'!C99=\"\",\"\",'Age - User Table|Label 4'!C99)","v":""},{"$f":"IF('Age - User Table|Label 4'!D99=\"\",\"\",'Age - User Table|Label 4'!D99)","v":""},{"$f":"IF('Age - User Table|Label 4'!E99=\"\",\"\",'Age - User Table|Label 4'!E99)","v":""},{"$f":"IF('Age - User Table|Label 4'!F99=\"\",\"\",'Age - User Table|Label 4'!F99)","v":""}]
[94,{"$f":"IF('Age - User Table|Label 4'!B100=\"\",\"\",'Age - User Table|Label 4'!B100)","v":""},{"$f":"IF('Age - User Table|Label 4'!C100=\"\",\"\",'Age - User Table|Label 4'!C100)","v":""},{"$f":"IF('Age - User Table|Label 4'!D100=\"\",\"\",'Age - User Table|Label 4'!D100)","v":""},{"$f":"IF('Age - User Table|Label 4'!E100=\"\",\"\",'Age - User Table|Label 4'!E100)","v":""},{"$f":"IF('Age - User Table|Label 4'!F100=\"\",\"\",'Age - User Table|Label 4'!F100)","v":""}]
[95,{"$f":"IF('Age - User Table|Label 4'!B101=\"\",\"\",'Age - User Table|Label 4'!B101)","v":""},{"$f":"IF('Age - User Table|Label 4'!C101=\"\",\"\",'Age - User Table|Label 4'!C101)","v":""},{"$f":"IF('Age - User Table|Label 4'!D101=\"\",\"\",'Age - User Table|Label 4'!D101)","v":""},{"$f":"IF('Age - User Table|Label 4'!E101=\"\",\"\",'Age - User Table|Label 4'!E101)","v":""},{"$f":"IF('Age - User Table|Label 4'!F101=\"\",\"\",'Age - User Table|Label 4'!F101)","v":""}]
[96,{"$f":"IF('Age - User Table|Label 4'!B102=\"\",\"\",'Age - User Table|Label 4'!B102)","v":""},{"$f":"IF('Age - User Table|Label 4'!C102=\"\",\"\",'Age - User Table|Label 4'!C102)","v":""},{"$f":"IF('Age - User Table|Label 4'!D102=\"\",\"\",'Age - User Table|Label 4'!D102)","v":""},{"$f":"IF('Age - User Table|Label 4'!E102=\"\",\"\",'Age - User Table|Label 4'!E102)","v":""},{"$f":"IF('Age - User Table|Label 4'!F102=\"\",\"\",'Age - User Table|Label 4'!F102)","v":""}]
[97,{"$f":"IF('Age - User Table|Label 4'!B103=\"\",\"\",'Age - User Table|Label 4'!B103)","v":""},{"$f":"IF('Age - User Table|Label 4'!C103=\"\",\"\",'Age - User Table|Label 4'!C103)","v":""},{"$f":"IF('Age - User Table|Label 4'!D103=\"\",\"\",'Age - User Table|Label 4'!D103)","v":""},{"$f":"IF('Age - User Table|Label 4'!E103=\"\",\"\",'Age - User Table|Label 4'!E103)","v":""},{"$f":"IF('Age - User Table|Label 4'!F103=\"\",\"\",'Age - User Table|Label 4'!F103)","v":""}]
[98,{"$f":"IF('Age - User Table|Label 4'!B104=\"\",\"\",'Age - User Table|Label 4'!B104)","v":""},{"$f":"IF('Age - User Table|Label 4'!C104=\"\",\"\",'Age - User Table|Label 4'!C104)","v":""},{"$f":"IF('Age - User Table|Label 4'!D104=\"\",\"\",'Age - User Table|Label 4'!D104)","v":""},{"$f":"IF('Age - User Table|Label 4'!E104=\"\",\"\",'Age - User Table|Label 4'!E104)","v":""},{"$f":"IF('Age - User Table|Label 4'!F104=\"\",\"\",'Age - User Table|Label 4'!F104)","v":""}]
[99,{"$f":"IF('Age - User Table|Label 4'!B105=\"\",\"\",'Age - User Table|Label 4'!B105)","v":""},{"$f":"IF('Age - User Table|Label 4'!C105=\"\",\"\",'Age - User Table|Label 4'!C105)","v":""},{"$f":"IF('Age - User Table|Label 4'!D105=\"\",\"\",'Age - User Table|Label 4'!D105)","v":""},{"$f":"IF('Age - User Table|Label 4'!E105=\"\",\"\",'Age - User Table|Label 4'!E105)","v":""},{"$f":"IF('Age - User Table|Label 4'!F105=\"\",\"\",'Age - User Table|Label 4'!F105)","v":""}]
[100,{"$f":"IF('Age - User Table|Label 4'!B106=\"\",\"\",'Age - User Table|Label 4'!B106)","v":""},{"$f":"IF('Age - User Table|Label 4'!C106=\"\",\"\",'Age - User Table|Label 4'!C106)","v":""},{"$f":"IF('Age - User Table|Label 4'!D106=\"\",\"\",'Age - User Table|Label 4'!D106)","v":""},{"$f":"IF('Age - User Table|Label 4'!E106=\"\",\"\",'Age - User Table|Label 4'!E106)","v":""},{"$f":"IF('Age - User Table|Label 4'!F106=\"\",\"\",'Age - User Table|Label 4'!F106)","v":""}]
[101,{"$f":"IF('Age - User Table|Label 4'!B107=\"\",\"\",'Age - User Table|Label 4'!B107)","v":""},{"$f":"IF('Age - User Table|Label 4'!C107=\"\",\"\",'Age - User Table|Label 4'!C107)","v":""},{"$f":"IF('Age - User Table|Label 4'!D107=\"\",\"\",'Age - User Table|Label 4'!D107)","v":""},{"$f":"IF('Age - User Table|Label 4'!E107=\"\",\"\",'Age - User Table|Label 4'!E107)","v":""},{"$f":"IF('Age - User Table|Label 4'!F107=\"\",\"\",'Age - User Table|Label 4'!F107)","v":""}]
[102,{"$f":"IF('Age - User Table|Label 4'!B108=\"\",\"\",'Age - User Table|Label 4'!B108)","v":""},{"$f":"IF('Age - User Table|Label 4'!C108=\"\",\"\",'Age - User Table|Label 4'!C108)","v":""},{"$f":"IF('Age - User Table|Label 4'!D108=\"\",\"\",'Age - User Table|Label 4'!D108)","v":""},{"$f":"IF('Age - User Table|Label 4'!E108=\"\",\"\",'Age - User Table|Label 4'!E108)","v":""},{"$f":"IF('Age - User Table|Label 4'!F108=\"\",\"\",'Age - User Table|Label 4'!F108)","v":""}]
[103,{"$f":"IF('Age - User Table|Label 4'!B109=\"\",\"\",'Age - User Table|Label 4'!B109)","v":""},{"$f":"IF('Age - User Table|Label 4'!C109=\"\",\"\",'Age - User Table|Label 4'!C109)","v":""},{"$f":"IF('Age - User Table|Label 4'!D109=\"\",\"\",'Age - User Table|Label 4'!D109)","v":""},{"$f":"IF('Age - User Table|Label 4'!E109=\"\",\"\",'Age - User Table|Label 4'!E109)","v":""},{"$f":"IF('Age - User Table|Label 4'!F109=\"\",\"\",'Age - User Table|Label 4'!F109)","v":""}]
[104,{"$f":"IF('Age - User Table|Label 4'!B110=\"\",\"\",'Age - User Table|Label 4'!B110)","v":""},{"$f":"IF('Age - User Table|Label 4'!C110=\"\",\"\",'Age - User Table|Label 4'!C110)","v":""},{"$f":"IF('Age - User Table|Label 4'!D110=\"\",\"\",'Age - User Table|Label 4'!D110)","v":""},{"$f":"IF('Age - User Table|Label 4'!E110=\"\",\"\",'Age - User Table|Label 4'!E110)","v":""},{"$f":"IF('Age - User Table|Label 4'!F110=\"\",\"\",'Age - User Table|Label 4'!F110)","v":""}]
[105,{"$f":"IF('Age - User Table|Label 4'!B111=\"\",\"\",'Age - User Table|Label 4'!B111)","v":""},{"$f":"IF('Age - User Table|Label 4'!C111=\"\",\"\",'Age - User Table|Label 4'!C111)","v":""},{"$f":"IF('Age - User Table|Label 4'!D111=\"\",\"\",'Age - User Table|Label 4'!D111)","v":""},{"$f":"IF('Age - User Table|Label 4'!E111=\"\",\"\",'Age - User Table|Label 4'!E111)","v":""},{"$f":"IF('Age - User Table|Label 4'!F111=\"\",\"\",'Age - User Table|Label 4'!F111)","v":""}]
[106,{"$f":"IF('Age - User Table|Label 4'!B112=\"\",\"\",'Age - User Table|Label 4'!B112)","v":""},{"$f":"IF('Age - User Table|Label 4'!C112=\"\",\"\",'Age - User Table|Label 4'!C112)","v":""},{"$f":"IF('Age - User Table|Label 4'!D112=\"\",\"\",'Age - User Table|Label 4'!D112)","v":""},{"$f":"IF('Age - User Table|Label 4'!E112=\"\",\"\",'Age - User Table|Label 4'!E112)","v":""},{"$f":"IF('Age - User Table|Label 4'!F112=\"\",\"\",'Age - User Table|Label 4'!F112)","v":""}]
[107,{"$f":"IF('Age - User Table|Label 4'!B113=\"\",\"\",'Age - User Table|Label 4'!B113)","v":""},{"$f":"IF('Age - User Table|Label 4'!C113=\"\",\"\",'Age - User Table|Label 4'!C113)","v":""},{"$f":"IF('Age - User Table|Label 4'!D113=\"\",\"\",'Age - User Table|Label 4'!D113)","v":""},{"$f":"IF('Age - User Table|Label 4'!E113=\"\",\"\",'Age - User Table|Label 4'!E113)","v":""},{"$f":"IF('Age - User Table|Label 4'!F113=\"\",\"\",'Age - User Table|Label 4'!F113)","v":""}]
[108,{"$f":"IF('Age - User Table|Label 4'!B114=\"\",\"\",'Age - User Table|Label 4'!B114)","v":""},{"$f":"IF('Age - User Table|Label 4'!C114=\"\",\"\",'Age - User Table|Label 4'!C114)","v":""},{"$f":"IF('Age - User Table|Label 4'!D114=\"\",\"\",'Age - User Table|Label 4'!D114)","v":""},{"$f":"IF('Age - User Table|Label 4'!E114=\"\",\"\",'Age - User Table|Label 4'!E114)","v":""},{"$f":"IF('Age - User Table|Label 4'!F114=\"\",\"\",'Age - User Table|Label 4'!F114)","v":""}]
[109,{"$f":"IF('Age - User Table|Label 4'!B115=\"\",\"\",'Age - User Table|Label 4'!B115)","v":""},{"$f":"IF('Age - User Table|Label 4'!C115=\"\",\"\",'Age - User Table|Label 4'!C115)","v":""},{"$f":"IF('Age - User Table|Label 4'!D115=\"\",\"\",'Age - User Table|Label 4'!D115)","v":""},{"$f":"IF('Age - User Table|Label 4'!E115=\"\",\"\",'Age - User Table|Label 4'!E115)","v":""},{"$f":"IF('Age - User Table|Label 4'!F115=\"\",\"\",'Age - User Table|Label 4'!F115)","v":""}]
[110,{"$f":"IF('Age - User Table|Label 4'!B116=\"\",\"\",'Age - User Table|Label 4'!B116)","v":""},{"$f":"IF('Age - User Table|Label 4'!C116=\"\",\"\",'Age - User Table|Label 4'!C116)","v":""},{"$f":"IF('Age - User Table|Label 4'!D116=\"\",\"\",'Age - User Table|Label 4'!D116)","v":""},{"$f":"IF('Age - User Table|Label 4'!E116=\"\",\"\",'Age - User Table|Label 4'!E116)","v":""},{"$f":"IF('Age - User Table|Label 4'!F116=\"\",\"\",'Age - User Table|Label 4'!F116)","v":""}]
[111,{"$f":"IF('Age - User Table|Label 4'!B117=\"\",\"\",'Age - User Table|Label 4'!B117)","v":""},{"$f":"IF('Age - User Table|Label 4'!C117=\"\",\"\",'Age - User Table|Label 4'!C117)","v":""},{"$f":"IF('Age - User Table|Label 4'!D117=\"\",\"\",'Age - User Table|Label 4'!D117)","v":""},{"$f":"IF('Age - User Table|Label 4'!E117=\"\",\"\",'Age - User Table|Label 4'!E117)","v":""},{"$f":"IF('Age - User Table|Label 4'!F117=\"\",\"\",'Age - User Table|Label 4'!F117)","v":""}]
[112,{"$f":"IF('Age - User Table|Label 4'!B118=\"\",\"\",'Age - User Table|Label 4'!B118)","v":""},{"$f":"IF('Age - User Table|Label 4'!C118=\"\",\"\",'Age - User Table|Label 4'!C118)","v":""},{"$f":"IF('Age - User Table|Label 4'!D118=\"\",\"\",'Age - User Table|Label 4'!D118)","v":""},{"$f":"IF('Age - User Table|Label 4'!E118=\"\",\"\",'Age - User Table|Label 4'!E118)","v":""},{"$f":"IF('Age - User Table|Label 4'!F118=\"\",\"\",'Age - User Table|Label 4'!F118)","v":""}]
[113,{"$f":"IF('Age - User Table|Label 4'!B119=\"\",\"\",'Age - User Table|Label 4'!B119)","v":""},{"$f":"IF('Age - User Table|Label 4'!C119=\"\",\"\",'Age - User Table|Label 4'!C119)","v":""},{"$f":"IF('Age - User Table|Label 4'!D119=\"\",\"\",'Age - User Table|Label 4'!D119)","v":""},{"$f":"IF('Age - User Table|Label 4'!E119=\"\",\"\",'Age - User Table|Label 4'!E119)","v":""},{"$f":"IF('Age - User Table|Label 4'!F119=\"\",\"\",'Age - User Table|Label 4'!F119)","v":""}]
[114,{"$f":"IF('Age - User Table|Label 4'!B120=\"\",\"\",'Age - User Table|Label 4'!B120)","v":""},{"$f":"IF('Age - User Table|Label 4'!C120=\"\",\"\",'Age - User Table|Label 4'!C120)","v":""},{"$f":"IF('Age - User Table|Label 4'!D120=\"\",\"\",'Age - User Table|Label 4'!D120)","v":""},{"$f":"IF('Age - User Table|Label 4'!E120=\"\",\"\",'Age - User Table|Label 4'!E120)","v":""},{"$f":"IF('Age - User Table|Label 4'!F120=\"\",\"\",'Age - User Table|Label 4'!F120)","v":""}]
[115,{"$f":"IF('Age - User Table|Label 4'!B121=\"\",\"\",'Age - User Table|Label 4'!B121)","v":""},{"$f":"IF('Age - User Table|Label 4'!C121=\"\",\"\",'Age - User Table|Label 4'!C121)","v":""},{"$f":"IF('Age - User Table|Label 4'!D121=\"\",\"\",'Age - User Table|Label 4'!D121)","v":""},{"$f":"IF('Age - User Table|Label 4'!E121=\"\",\"\",'Age - User Table|Label 4'!E121)","v":""},{"$f":"IF('Age - User Table|Label 4'!F121=\"\",\"\",'Age - User Table|Label 4'!F121)","v":""}]
[116,{"$f":"IF('Age - User Table|Label 4'!B122=\"\",\"\",'Age - User Table|Label 4'!B122)","v":""},{"$f":"IF('Age - User Table|Label 4'!C122=\"\",\"\",'Age - User Table|Label 4'!C122)","v":""},{"$f":"IF('Age - User Table|Label 4'!D122=\"\",\"\",'Age - User Table|Label 4'!D122)","v":""},{"$f":"IF('Age - User Table|Label 4'!E122=\"\",\"\",'Age - User Table|Label 4'!E122)","v":""},{"$f":"IF('Age - User Table|Label 4'!F122=\"\",\"\",'Age - User Table|Label 4'!F122)","v":""}]
[117,{"$f":"IF('Age - User Table|Label 4'!B123=\"\",\"\",'Age - User Table|Label 4'!B123)","v":""},{"$f":"IF('Age - User Table|Label 4'!C123=\"\",\"\",'Age - User Table|Label 4'!C123)","v":""},{"$f":"IF('Age - User Table|Label 4'!D123=\"\",\"\",'Age - User Table|Label 4'!D123)","v":""},{"$f":"IF('Age - User Table|Label 4'!E123=\"\",\"\",'Age - User Table|Label 4'!E123)","v":""},{"$f":"IF('Age - User Table|Label 4'!F123=\"\",\"\",'Age - User Table|Label 4'!F123)","v":""}]
[118,{"$f":"IF('Age - User Table|Label 4'!B124=\"\",\"\",'Age - User Table|Label 4'!B124)","v":""},{"$f":"IF('Age - User Table|Label 4'!C124=\"\",\"\",'Age - User Table|Label 4'!C124)","v":""},{"$f":"IF('Age - User Table|Label 4'!D124=\"\",\"\",'Age - User Table|Label 4'!D124)","v":""},{"$f":"IF('Age - User Table|Label 4'!E124=\"\",\"\",'Age - User Table|Label 4'!E124)","v":""},{"$f":"IF('Age - User Table|Label 4'!F124=\"\",\"\",'Age - User Table|Label 4'!F124)","v":""}]
[119,{"$f":"IF('Age - User Table|Label 4'!B125=\"\",\"\",'Age - User Table|Label 4'!B125)","v":""},{"$f":"IF('Age - User Table|Label 4'!C125=\"\",\"\",'Age - User Table|Label 4'!C125)","v":""},{"$f":"IF('Age - User Table|Label 4'!D125=\"\",\"\",'Age - User Table|Label 4'!D125)","v":""},{"$f":"IF('Age - User Table|Label 4'!E125=\"\",\"\",'Age - User Table|Label 4'!E125)","v":""},{"$f":"IF('Age - User Table|Label 4'!F125=\"\",\"\",'Age - User Table|Label 4'!F125)","v":""}]
[120,{"$f":"IF('Age - User Table|Label 4'!B126=\"\",\"\",'Age - User Table|Label 4'!B126)","v":""},{"$f":"IF('Age - User Table|Label 4'!C126=\"\",\"\",'Age - User Table|Label 4'!C126)","v":""},{"$f":"IF('Age - User Table|Label 4'!D126=\"\",\"\",'Age - User Table|Label 4'!D126)","v":""},{"$f":"IF('Age - User Table|Label 4'!E126=\"\",\"\",'Age - User Table|Label 4'!E126)","v":""},{"$f":"IF('Age - User Table|Label 4'!F126=\"\",\"\",'Age - User Table|Label 4'!F126)","v":""}]
[]
["AGE - User Table 5",null,null,null,null,{"$f":"IF('Age - User Table|Label 5'!F1=\"\",\"\",'Age - User Table|Label 5'!F1)","v":"Age User Table 5"}]
[null,null,null,null,null,{"$f":"ValidationData!DataVersion","v":"70.80.100.100"}]
["Index","Measurement Name",null,null,{"$f":"IF('Age - User Table|Label 5'!E3=\"\",\"\",'Age - User Table|Label 5'!E3)","v":""}]
[null,"Measurement Type",null,null,{"$f":"IF('Age - User Table|Label 5'!E4=\"\",\"\",IF(ISERROR(VLOOKUP('Age - User Table|Label 5'!E4,ValidationData!A5:B7,2, FALSE)), \"\", VLOOKUP('Age - User Table|Label 5'!E4,ValidationData!A5:B7,2, FALSE)))","v":""}]
[null,"Author",null,null,{"$f":"IF('Age - User Table|Label 5'!J5=\"\",\"\",'Age - User Table|Label 5'!J5)","v":""}]
[null,"Value","Age (weeks)","Age (days)","Range (weeks)","Range (days)"]
[1,{"$f":"IF('Age - User Table|Label 5'!B7=\"\",\"\",'Age - User Table|Label 5'!B7)","v":""},{"$f":"IF('Age - User Table|Label 5'!C7=\"\",\"\",'Age - User Table|Label 5'!C7)","v":""},{"$f":"IF('Age - User Table|Label 5'!D7=\"\",\"\",'Age - User Table|Label 5'!D7)","v":""},{"$f":"IF('Age - User Table|Label 5'!E7=\"\",\"\",'Age - User Table|Label 5'!E7)","v":""},{"$f":"IF('Age - User Table|Label 5'!F7=\"\",\"\",'Age - User Table|Label 5'!F7)","v":""}]
[2,{"$f":"IF('Age - User Table|Label 5'!B8=\"\",\"\",'Age - User Table|Label 5'!B8)","v":""},{"$f":"IF('Age - User Table|Label 5'!C8=\"\",\"\",'Age - User Table|Label 5'!C8)","v":""},{"$f":"IF('Age - User Table|Label 5'!D8=\"\",\"\",'Age - User Table|Label 5'!D8)","v":""},{"$f":"IF('Age - User Table|Label 5'!E8=\"\",\"\",'Age - User Table|Label 5'!E8)","v":""},{"$f":"IF('Age - User Table|Label 5'!F8=\"\",\"\",'Age - User Table|Label 5'!F8)","v":""}]
[3,{"$f":"IF('Age - User Table|Label 5'!B9=\"\",\"\",'Age - User Table|Label 5'!B9)","v":""},{"$f":"IF('Age - User Table|Label 5'!C9=\"\",\"\",'Age - User Table|Label 5'!C9)","v":""},{"$f":"IF('Age - User Table|Label 5'!D9=\"\",\"\",'Age - User Table|Label 5'!D9)","v":""},{"$f":"IF('Age - User Table|Label 5'!E9=\"\",\"\",'Age - User Table|Label 5'!E9)","v":""},{"$f":"IF('Age - User Table|Label 5'!F9=\"\",\"\",'Age - User Table|Label 5'!F9)","v":""}]
[4,{"$f":"IF('Age - User Table|Label 5'!B10=\"\",\"\",'Age - User Table|Label 5'!B10)","v":""},{"$f":"IF('Age - User Table|Label 5'!C10=\"\",\"\",'Age - User Table|Label 5'!C10)","v":""},{"$f":"IF('Age - User Table|Label 5'!D10=\"\",\"\",'Age - User Table|Label 5'!D10)","v":""},{"$f":"IF('Age - User Table|Label 5'!E10=\"\",\"\",'Age - User Table|Label 5'!E10)","v":""},{"$f":"IF('Age - User Table|Label 5'!F10=\"\",\"\",'Age - User Table|Label 5'!F10)","v":""}]
[5,{"$f":"IF('Age - User Table|Label 5'!B11=\"\",\"\",'Age - User Table|Label 5'!B11)","v":""},{"$f":"IF('Age - User Table|Label 5'!C11=\"\",\"\",'Age - User Table|Label 5'!C11)","v":""},{"$f":"IF('Age - User Table|Label 5'!D11=\"\",\"\",'Age - User Table|Label 5'!D11)","v":""},{"$f":"IF('Age - User Table|Label 5'!E11=\"\",\"\",'Age - User Table|Label 5'!E11)","v":""},{"$f":"IF('Age - User Table|Label 5'!F11=\"\",\"\",'Age - User Table|Label 5'!F11)","v":""}]
[6,{"$f":"IF('Age - User Table|Label 5'!B12=\"\",\"\",'Age - User Table|Label 5'!B12)","v":""},{"$f":"IF('Age - User Table|Label 5'!C12=\"\",\"\",'Age - User Table|Label 5'!C12)","v":""},{"$f":"IF('Age - User Table|Label 5'!D12=\"\",\"\",'Age - User Table|Label 5'!D12)","v":""},{"$f":"IF('Age - User Table|Label 5'!E12=\"\",\"\",'Age - User Table|Label 5'!E12)","v":""},{"$f":"IF('Age - User Table|Label 5'!F12=\"\",\"\",'Age - User Table|Label 5'!F12)","v":""}]
[7,{"$f":"IF('Age - User Table|Label 5'!B13=\"\",\"\",'Age - User Table|Label 5'!B13)","v":""},{"$f":"IF('Age - User Table|Label 5'!C13=\"\",\"\",'Age - User Table|Label 5'!C13)","v":""},{"$f":"IF('Age - User Table|Label 5'!D13=\"\",\"\",'Age - User Table|Label 5'!D13)","v":""},{"$f":"IF('Age - User Table|Label 5'!E13=\"\",\"\",'Age - User Table|Label 5'!E13)","v":""},{"$f":"IF('Age - User Table|Label 5'!F13=\"\",\"\",'Age - User Table|Label 5'!F13)","v":""}]
[8,{"$f":"IF('Age - User Table|Label 5'!B14=\"\",\"\",'Age - User Table|Label 5'!B14)","v":""},{"$f":"IF('Age - User Table|Label 5'!C14=\"\",\"\",'Age - User Table|Label 5'!C14)","v":""},{"$f":"IF('Age - User Table|Label 5'!D14=\"\",\"\",'Age - User Table|Label 5'!D14)","v":""},{"$f":"IF('Age - User Table|Label 5'!E14=\"\",\"\",'Age - User Table|Label 5'!E14)","v":""},{"$f":"IF('Age - User Table|Label 5'!F14=\"\",\"\",'Age - User Table|Label 5'!F14)","v":""}]
[9,{"$f":"IF('Age - User Table|Label 5'!B15=\"\",\"\",'Age - User Table|Label 5'!B15)","v":""},{"$f":"IF('Age - User Table|Label 5'!C15=\"\",\"\",'Age - User Table|Label 5'!C15)","v":""},{"$f":"IF('Age - User Table|Label 5'!D15=\"\",\"\",'Age - User Table|Label 5'!D15)","v":""},{"$f":"IF('Age - User Table|Label 5'!E15=\"\",\"\",'Age - User Table|Label 5'!E15)","v":""},{"$f":"IF('Age - User Table|Label 5'!F15=\"\",\"\",'Age - User Table|Label 5'!F15)","v":""}]
[10,{"$f":"IF('Age - User Table|Label 5'!B16=\"\",\"\",'Age - User Table|Label 5'!B16)","v":""},{"$f":"IF('Age - User Table|Label 5'!C16=\"\",\"\",'Age - User Table|Label 5'!C16)","v":""},{"$f":"IF('Age - User Table|Label 5'!D16=\"\",\"\",'Age - User Table|Label 5'!D16)","v":""},{"$f":"IF('Age - User Table|Label 5'!E16=\"\",\"\",'Age - User Table|Label 5'!E16)","v":""},{"$f":"IF('Age - User Table|Label 5'!F16=\"\",\"\",'Age - User Table|Label 5'!F16)","v":""}]
[11,{"$f":"IF('Age - User Table|Label 5'!B17=\"\",\"\",'Age - User Table|Label 5'!B17)","v":""},{"$f":"IF('Age - User Table|Label 5'!C17=\"\",\"\",'Age - User Table|Label 5'!C17)","v":""},{"$f":"IF('Age - User Table|Label 5'!D17=\"\",\"\",'Age - User Table|Label 5'!D17)","v":""},{"$f":"IF('Age - User Table|Label 5'!E17=\"\",\"\",'Age - User Table|Label 5'!E17)","v":""},{"$f":"IF('Age - User Table|Label 5'!F17=\"\",\"\",'Age - User Table|Label 5'!F17)","v":""}]
[12,{"$f":"IF('Age - User Table|Label 5'!B18=\"\",\"\",'Age - User Table|Label 5'!B18)","v":""},{"$f":"IF('Age - User Table|Label 5'!C18=\"\",\"\",'Age - User Table|Label 5'!C18)","v":""},{"$f":"IF('Age - User Table|Label 5'!D18=\"\",\"\",'Age - User Table|Label 5'!D18)","v":""},{"$f":"IF('Age - User Table|Label 5'!E18=\"\",\"\",'Age - User Table|Label 5'!E18)","v":""},{"$f":"IF('Age - User Table|Label 5'!F18=\"\",\"\",'Age - User Table|Label 5'!F18)","v":""}]
[13,{"$f":"IF('Age - User Table|Label 5'!B19=\"\",\"\",'Age - User Table|Label 5'!B19)","v":""},{"$f":"IF('Age - User Table|Label 5'!C19=\"\",\"\",'Age - User Table|Label 5'!C19)","v":""},{"$f":"IF('Age - User Table|Label 5'!D19=\"\",\"\",'Age - User Table|Label 5'!D19)","v":""},{"$f":"IF('Age - User Table|Label 5'!E19=\"\",\"\",'Age - User Table|Label 5'!E19)","v":""},{"$f":"IF('Age - User Table|Label 5'!F19=\"\",\"\",'Age - User Table|Label 5'!F19)","v":""}]
[14,{"$f":"IF('Age - User Table|Label 5'!B20=\"\",\"\",'Age - User Table|Label 5'!B20)","v":""},{"$f":"IF('Age - User Table|Label 5'!C20=\"\",\"\",'Age - User Table|Label 5'!C20)","v":""},{"$f":"IF('Age - User Table|Label 5'!D20=\"\",\"\",'Age - User Table|Label 5'!D20)","v":""},{"$f":"IF('Age - User Table|Label 5'!E20=\"\",\"\",'Age - User Table|Label 5'!E20)","v":""},{"$f":"IF('Age - User Table|Label 5'!F20=\"\",\"\",'Age - User Table|Label 5'!F20)","v":""}]
[15,{"$f":"IF('Age - User Table|Label 5'!B21=\"\",\"\",'Age - User Table|Label 5'!B21)","v":""},{"$f":"IF('Age - User Table|Label 5'!C21=\"\",\"\",'Age - User Table|Label 5'!C21)","v":""},{"$f":"IF('Age - User Table|Label 5'!D21=\"\",\"\",'Age - User Table|Label 5'!D21)","v":""},{"$f":"IF('Age - User Table|Label 5'!E21=\"\",\"\",'Age - User Table|Label 5'!E21)","v":""},{"$f":"IF('Age - User Table|Label 5'!F21=\"\",\"\",'Age - User Table|Label 5'!F21)","v":""}]
[16,{"$f":"IF('Age - User Table|Label 5'!B22=\"\",\"\",'Age - User Table|Label 5'!B22)","v":""},{"$f":"IF('Age - User Table|Label 5'!C22=\"\",\"\",'Age - User Table|Label 5'!C22)","v":""},{"$f":"IF('Age - User Table|Label 5'!D22=\"\",\"\",'Age - User Table|Label 5'!D22)","v":""},{"$f":"IF('Age - User Table|Label 5'!E22=\"\",\"\",'Age - User Table|Label 5'!E22)","v":""},{"$f":"IF('Age - User Table|Label 5'!F22=\"\",\"\",'Age - User Table|Label 5'!F22)","v":""}]
[17,{"$f":"IF('Age - User Table|Label 5'!B23=\"\",\"\",'Age - User Table|Label 5'!B23)","v":""},{"$f":"IF('Age - User Table|Label 5'!C23=\"\",\"\",'Age - User Table|Label 5'!C23)","v":""},{"$f":"IF('Age - User Table|Label 5'!D23=\"\",\"\",'Age - User Table|Label 5'!D23)","v":""},{"$f":"IF('Age - User Table|Label 5'!E23=\"\",\"\",'Age - User Table|Label 5'!E23)","v":""},{"$f":"IF('Age - User Table|Label 5'!F23=\"\",\"\",'Age - User Table|Label 5'!F23)","v":""}]
[18,{"$f":"IF('Age - User Table|Label 5'!B24=\"\",\"\",'Age - User Table|Label 5'!B24)","v":""},{"$f":"IF('Age - User Table|Label 5'!C24=\"\",\"\",'Age - User Table|Label 5'!C24)","v":""},{"$f":"IF('Age - User Table|Label 5'!D24=\"\",\"\",'Age - User Table|Label 5'!D24)","v":""},{"$f":"IF('Age - User Table|Label 5'!E24=\"\",\"\",'Age - User Table|Label 5'!E24)","v":""},{"$f":"IF('Age - User Table|Label 5'!F24=\"\",\"\",'Age - User Table|Label 5'!F24)","v":""}]
[19,{"$f":"IF('Age - User Table|Label 5'!B25=\"\",\"\",'Age - User Table|Label 5'!B25)","v":""},{"$f":"IF('Age - User Table|Label 5'!C25=\"\",\"\",'Age - User Table|Label 5'!C25)","v":""},{"$f":"IF('Age - User Table|Label 5'!D25=\"\",\"\",'Age - User Table|Label 5'!D25)","v":""},{"$f":"IF('Age - User Table|Label 5'!E25=\"\",\"\",'Age - User Table|Label 5'!E25)","v":""},{"$f":"IF('Age - User Table|Label 5'!F25=\"\",\"\",'Age - User Table|Label 5'!F25)","v":""}]
[20,{"$f":"IF('Age - User Table|Label 5'!B26=\"\",\"\",'Age - User Table|Label 5'!B26)","v":""},{"$f":"IF('Age - User Table|Label 5'!C26=\"\",\"\",'Age - User Table|Label 5'!C26)","v":""},{"$f":"IF('Age - User Table|Label 5'!D26=\"\",\"\",'Age - User Table|Label 5'!D26)","v":""},{"$f":"IF('Age - User Table|Label 5'!E26=\"\",\"\",'Age - User Table|Label 5'!E26)","v":""},{"$f":"IF('Age - User Table|Label 5'!F26=\"\",\"\",'Age - User Table|Label 5'!F26)","v":""}]
[21,{"$f":"IF('Age - User Table|Label 5'!B27=\"\",\"\",'Age - User Table|Label 5'!B27)","v":""},{"$f":"IF('Age - User Table|Label 5'!C27=\"\",\"\",'Age - User Table|Label 5'!C27)","v":""},{"$f":"IF('Age - User Table|Label 5'!D27=\"\",\"\",'Age - User Table|Label 5'!D27)","v":""},{"$f":"IF('Age - User Table|Label 5'!E27=\"\",\"\",'Age - User Table|Label 5'!E27)","v":""},{"$f":"IF('Age - User Table|Label 5'!F27=\"\",\"\",'Age - User Table|Label 5'!F27)","v":""}]
[22,{"$f":"IF('Age - User Table|Label 5'!B28=\"\",\"\",'Age - User Table|Label 5'!B28)","v":""},{"$f":"IF('Age - User Table|Label 5'!C28=\"\",\"\",'Age - User Table|Label 5'!C28)","v":""},{"$f":"IF('Age - User Table|Label 5'!D28=\"\",\"\",'Age - User Table|Label 5'!D28)","v":""},{"$f":"IF('Age - User Table|Label 5'!E28=\"\",\"\",'Age - User Table|Label 5'!E28)","v":""},{"$f":"IF('Age - User Table|Label 5'!F28=\"\",\"\",'Age - User Table|Label 5'!F28)","v":""}]
[23,{"$f":"IF('Age - User Table|Label 5'!B29=\"\",\"\",'Age - User Table|Label 5'!B29)","v":""},{"$f":"IF('Age - User Table|Label 5'!C29=\"\",\"\",'Age - User Table|Label 5'!C29)","v":""},{"$f":"IF('Age - User Table|Label 5'!D29=\"\",\"\",'Age - User Table|Label 5'!D29)","v":""},{"$f":"IF('Age - User Table|Label 5'!E29=\"\",\"\",'Age - User Table|Label 5'!E29)","v":""},{"$f":"IF('Age - User Table|Label 5'!F29=\"\",\"\",'Age - User Table|Label 5'!F29)","v":""}]
[24,{"$f":"IF('Age - User Table|Label 5'!B30=\"\",\"\",'Age - User Table|Label 5'!B30)","v":""},{"$f":"IF('Age - User Table|Label 5'!C30=\"\",\"\",'Age - User Table|Label 5'!C30)","v":""},{"$f":"IF('Age - User Table|Label 5'!D30=\"\",\"\",'Age - User Table|Label 5'!D30)","v":""},{"$f":"IF('Age - User Table|Label 5'!E30=\"\",\"\",'Age - User Table|Label 5'!E30)","v":""},{"$f":"IF('Age - User Table|Label 5'!F30=\"\",\"\",'Age - User Table|Label 5'!F30)","v":""}]
[25,{"$f":"IF('Age - User Table|Label 5'!B31=\"\",\"\",'Age - User Table|Label 5'!B31)","v":""},{"$f":"IF('Age - User Table|Label 5'!C31=\"\",\"\",'Age - User Table|Label 5'!C31)","v":""},{"$f":"IF('Age - User Table|Label 5'!D31=\"\",\"\",'Age - User Table|Label 5'!D31)","v":""},{"$f":"IF('Age - User Table|Label 5'!E31=\"\",\"\",'Age - User Table|Label 5'!E31)","v":""},{"$f":"IF('Age - User Table|Label 5'!F31=\"\",\"\",'Age - User Table|Label 5'!F31)","v":""}]
[26,{"$f":"IF('Age - User Table|Label 5'!B32=\"\",\"\",'Age - User Table|Label 5'!B32)","v":""},{"$f":"IF('Age - User Table|Label 5'!C32=\"\",\"\",'Age - User Table|Label 5'!C32)","v":""},{"$f":"IF('Age - User Table|Label 5'!D32=\"\",\"\",'Age - User Table|Label 5'!D32)","v":""},{"$f":"IF('Age - User Table|Label 5'!E32=\"\",\"\",'Age - User Table|Label 5'!E32)","v":""},{"$f":"IF('Age - User Table|Label 5'!F32=\"\",\"\",'Age - User Table|Label 5'!F32)","v":""}]
[27,{"$f":"IF('Age - User Table|Label 5'!B33=\"\",\"\",'Age - User Table|Label 5'!B33)","v":""},{"$f":"IF('Age - User Table|Label 5'!C33=\"\",\"\",'Age - User Table|Label 5'!C33)","v":""},{"$f":"IF('Age - User Table|Label 5'!D33=\"\",\"\",'Age - User Table|Label 5'!D33)","v":""},{"$f":"IF('Age - User Table|Label 5'!E33=\"\",\"\",'Age - User Table|Label 5'!E33)","v":""},{"$f":"IF('Age - User Table|Label 5'!F33=\"\",\"\",'Age - User Table|Label 5'!F33)","v":""}]
[28,{"$f":"IF('Age - User Table|Label 5'!B34=\"\",\"\",'Age - User Table|Label 5'!B34)","v":""},{"$f":"IF('Age - User Table|Label 5'!C34=\"\",\"\",'Age - User Table|Label 5'!C34)","v":""},{"$f":"IF('Age - User Table|Label 5'!D34=\"\",\"\",'Age - User Table|Label 5'!D34)","v":""},{"$f":"IF('Age - User Table|Label 5'!E34=\"\",\"\",'Age - User Table|Label 5'!E34)","v":""},{"$f":"IF('Age - User Table|Label 5'!F34=\"\",\"\",'Age - User Table|Label 5'!F34)","v":""}]
[29,{"$f":"IF('Age - User Table|Label 5'!B35=\"\",\"\",'Age - User Table|Label 5'!B35)","v":""},{"$f":"IF('Age - User Table|Label 5'!C35=\"\",\"\",'Age - User Table|Label 5'!C35)","v":""},{"$f":"IF('Age - User Table|Label 5'!D35=\"\",\"\",'Age - User Table|Label 5'!D35)","v":""},{"$f":"IF('Age - User Table|Label 5'!E35=\"\",\"\",'Age - User Table|Label 5'!E35)","v":""},{"$f":"IF('Age - User Table|Label 5'!F35=\"\",\"\",'Age - User Table|Label 5'!F35)","v":""}]
[30,{"$f":"IF('Age - User Table|Label 5'!B36=\"\",\"\",'Age - User Table|Label 5'!B36)","v":""},{"$f":"IF('Age - User Table|Label 5'!C36=\"\",\"\",'Age - User Table|Label 5'!C36)","v":""},{"$f":"IF('Age - User Table|Label 5'!D36=\"\",\"\",'Age - User Table|Label 5'!D36)","v":""},{"$f":"IF('Age - User Table|Label 5'!E36=\"\",\"\",'Age - User Table|Label 5'!E36)","v":""},{"$f":"IF('Age - User Table|Label 5'!F36=\"\",\"\",'Age - User Table|Label 5'!F36)","v":""}]
[31,{"$f":"IF('Age - User Table|Label 5'!B37=\"\",\"\",'Age - User Table|Label 5'!B37)","v":""},{"$f":"IF('Age - User Table|Label 5'!C37=\"\",\"\",'Age - User Table|Label 5'!C37)","v":""},{"$f":"IF('Age - User Table|Label 5'!D37=\"\",\"\",'Age - User Table|Label 5'!D37)","v":""},{"$f":"IF('Age - User Table|Label 5'!E37=\"\",\"\",'Age - User Table|Label 5'!E37)","v":""},{"$f":"IF('Age - User Table|Label 5'!F37=\"\",\"\",'Age - User Table|Label 5'!F37)","v":""}]
[32,{"$f":"IF('Age - User Table|Label 5'!B38=\"\",\"\",'Age - User Table|Label 5'!B38)","v":""},{"$f":"IF('Age - User Table|Label 5'!C38=\"\",\"\",'Age - User Table|Label 5'!C38)","v":""},{"$f":"IF('Age - User Table|Label 5'!D38=\"\",\"\",'Age - User Table|Label 5'!D38)","v":""},{"$f":"IF('Age - User Table|Label 5'!E38=\"\",\"\",'Age - User Table|Label 5'!E38)","v":""},{"$f":"IF('Age - User Table|Label 5'!F38=\"\",\"\",'Age - User Table|Label 5'!F38)","v":""}]
[33,{"$f":"IF('Age - User Table|Label 5'!B39=\"\",\"\",'Age - User Table|Label 5'!B39)","v":""},{"$f":"IF('Age - User Table|Label 5'!C39=\"\",\"\",'Age - User Table|Label 5'!C39)","v":""},{"$f":"IF('Age - User Table|Label 5'!D39=\"\",\"\",'Age - User Table|Label 5'!D39)","v":""},{"$f":"IF('Age - User Table|Label 5'!E39=\"\",\"\",'Age - User Table|Label 5'!E39)","v":""},{"$f":"IF('Age - User Table|Label 5'!F39=\"\",\"\",'Age - User Table|Label 5'!F39)","v":""}]
[34,{"$f":"IF('Age - User Table|Label 5'!B40=\"\",\"\",'Age - User Table|Label 5'!B40)","v":""},{"$f":"IF('Age - User Table|Label 5'!C40=\"\",\"\",'Age - User Table|Label 5'!C40)","v":""},{"$f":"IF('Age - User Table|Label 5'!D40=\"\",\"\",'Age - User Table|Label 5'!D40)","v":""},{"$f":"IF('Age - User Table|Label 5'!E40=\"\",\"\",'Age - User Table|Label 5'!E40)","v":""},{"$f":"IF('Age - User Table|Label 5'!F40=\"\",\"\",'Age - User Table|Label 5'!F40)","v":""}]
[35,{"$f":"IF('Age - User Table|Label 5'!B41=\"\",\"\",'Age - User Table|Label 5'!B41)","v":""},{"$f":"IF('Age - User Table|Label 5'!C41=\"\",\"\",'Age - User Table|Label 5'!C41)","v":""},{"$f":"IF('Age - User Table|Label 5'!D41=\"\",\"\",'Age - User Table|Label 5'!D41)","v":""},{"$f":"IF('Age - User Table|Label 5'!E41=\"\",\"\",'Age - User Table|Label 5'!E41)","v":""},{"$f":"IF('Age - User Table|Label 5'!F41=\"\",\"\",'Age - User Table|Label 5'!F41)","v":""}]
[36,{"$f":"IF('Age - User Table|Label 5'!B42=\"\",\"\",'Age - User Table|Label 5'!B42)","v":""},{"$f":"IF('Age - User Table|Label 5'!C42=\"\",\"\",'Age - User Table|Label 5'!C42)","v":""},{"$f":"IF('Age - User Table|Label 5'!D42=\"\",\"\",'Age - User Table|Label 5'!D42)","v":""},{"$f":"IF('Age - User Table|Label 5'!E42=\"\",\"\",'Age - User Table|Label 5'!E42)","v":""},{"$f":"IF('Age - User Table|Label 5'!F42=\"\",\"\",'Age - User Table|Label 5'!F42)","v":""}]
[37,{"$f":"IF('Age - User Table|Label 5'!B43=\"\",\"\",'Age - User Table|Label 5'!B43)","v":""},{"$f":"IF('Age - User Table|Label 5'!C43=\"\",\"\",'Age - User Table|Label 5'!C43)","v":""},{"$f":"IF('Age - User Table|Label 5'!D43=\"\",\"\",'Age - User Table|Label 5'!D43)","v":""},{"$f":"IF('Age - User Table|Label 5'!E43=\"\",\"\",'Age - User Table|Label 5'!E43)","v":""},{"$f":"IF('Age - User Table|Label 5'!F43=\"\",\"\",'Age - User Table|Label 5'!F43)","v":""}]
[38,{"$f":"IF('Age - User Table|Label 5'!B44=\"\",\"\",'Age - User Table|Label 5'!B44)","v":""},{"$f":"IF('Age - User Table|Label 5'!C44=\"\",\"\",'Age - User Table|Label 5'!C44)","v":""},{"$f":"IF('Age - User Table|Label 5'!D44=\"\",\"\",'Age - User Table|Label 5'!D44)","v":""},{"$f":"IF('Age - User Table|Label 5'!E44=\"\",\"\",'Age - User Table|Label 5'!E44)","v":""},{"$f":"IF('Age - User Table|Label 5'!F44=\"\",\"\",'Age - User Table|Label 5'!F44)","v":""}]
[39,{"$f":"IF('Age - User Table|Label 5'!B45=\"\",\"\",'Age - User Table|Label 5'!B45)","v":""},{"$f":"IF('Age - User Table|Label 5'!C45=\"\",\"\",'Age - User Table|Label 5'!C45)","v":""},{"$f":"IF('Age - User Table|Label 5'!D45=\"\",\"\",'Age - User Table|Label 5'!D45)","v":""},{"$f":"IF('Age - User Table|Label 5'!E45=\"\",\"\",'Age - User Table|Label 5'!E45)","v":""},{"$f":"IF('Age - User Table|Label 5'!F45=\"\",\"\",'Age - User Table|Label 5'!F45)","v":""}]
[40,{"$f":"IF('Age - User Table|Label 5'!B46=\"\",\"\",'Age - User Table|Label 5'!B46)","v":""},{"$f":"IF('Age - User Table|Label 5'!C46=\"\",\"\",'Age - User Table|Label 5'!C46)","v":""},{"$f":"IF('Age - User Table|Label 5'!D46=\"\",\"\",'Age - User Table|Label 5'!D46)","v":""},{"$f":"IF('Age - User Table|Label 5'!E46=\"\",\"\",'Age - User Table|Label 5'!E46)","v":""},{"$f":"IF('Age - User Table|Label 5'!F46=\"\",\"\",'Age - User Table|Label 5'!F46)","v":""}]
[41,{"$f":"IF('Age - User Table|Label 5'!B47=\"\",\"\",'Age - User Table|Label 5'!B47)","v":""},{"$f":"IF('Age - User Table|Label 5'!C47=\"\",\"\",'Age - User Table|Label 5'!C47)","v":""},{"$f":"IF('Age - User Table|Label 5'!D47=\"\",\"\",'Age - User Table|Label 5'!D47)","v":""},{"$f":"IF('Age - User Table|Label 5'!E47=\"\",\"\",'Age - User Table|Label 5'!E47)","v":""},{"$f":"IF('Age - User Table|Label 5'!F47=\"\",\"\",'Age - User Table|Label 5'!F47)","v":""}]
[42,{"$f":"IF('Age - User Table|Label 5'!B48=\"\",\"\",'Age - User Table|Label 5'!B48)","v":""},{"$f":"IF('Age - User Table|Label 5'!C48=\"\",\"\",'Age - User Table|Label 5'!C48)","v":""},{"$f":"IF('Age - User Table|Label 5'!D48=\"\",\"\",'Age - User Table|Label 5'!D48)","v":""},{"$f":"IF('Age - User Table|Label 5'!E48=\"\",\"\",'Age - User Table|Label 5'!E48)","v":""},{"$f":"IF('Age - User Table|Label 5'!F48=\"\",\"\",'Age - User Table|Label 5'!F48)","v":""}]
[43,{"$f":"IF('Age - User Table|Label 5'!B49=\"\",\"\",'Age - User Table|Label 5'!B49)","v":""},{"$f":"IF('Age - User Table|Label 5'!C49=\"\",\"\",'Age - User Table|Label 5'!C49)","v":""},{"$f":"IF('Age - User Table|Label 5'!D49=\"\",\"\",'Age - User Table|Label 5'!D49)","v":""},{"$f":"IF('Age - User Table|Label 5'!E49=\"\",\"\",'Age - User Table|Label 5'!E49)","v":""},{"$f":"IF('Age - User Table|Label 5'!F49=\"\",\"\",'Age - User Table|Label 5'!F49)","v":""}]
[44,{"$f":"IF('Age - User Table|Label 5'!B50=\"\",\"\",'Age - User Table|Label 5'!B50)","v":""},{"$f":"IF('Age - User Table|Label 5'!C50=\"\",\"\",'Age - User Table|Label 5'!C50)","v":""},{"$f":"IF('Age - User Table|Label 5'!D50=\"\",\"\",'Age - User Table|Label 5'!D50)","v":""},{"$f":"IF('Age - User Table|Label 5'!E50=\"\",\"\",'Age - User Table|Label 5'!E50)","v":""},{"$f":"IF('Age - User Table|Label 5'!F50=\"\",\"\",'Age - User Table|Label 5'!F50)","v":""}]
[45,{"$f":"IF('Age - User Table|Label 5'!B51=\"\",\"\",'Age - User Table|Label 5'!B51)","v":""},{"$f":"IF('Age - User Table|Label 5'!C51=\"\",\"\",'Age - User Table|Label 5'!C51)","v":""},{"$f":"IF('Age - User Table|Label 5'!D51=\"\",\"\",'Age - User Table|Label 5'!D51)","v":""},{"$f":"IF('Age - User Table|Label 5'!E51=\"\",\"\",'Age - User Table|Label 5'!E51)","v":""},{"$f":"IF('Age - User Table|Label 5'!F51=\"\",\"\",'Age - User Table|Label 5'!F51)","v":""}]
[46,{"$f":"IF('Age - User Table|Label 5'!B52=\"\",\"\",'Age - User Table|Label 5'!B52)","v":""},{"$f":"IF('Age - User Table|Label 5'!C52=\"\",\"\",'Age - User Table|Label 5'!C52)","v":""},{"$f":"IF('Age - User Table|Label 5'!D52=\"\",\"\",'Age - User Table|Label 5'!D52)","v":""},{"$f":"IF('Age - User Table|Label 5'!E52=\"\",\"\",'Age - User Table|Label 5'!E52)","v":""},{"$f":"IF('Age - User Table|Label 5'!F52=\"\",\"\",'Age - User Table|Label 5'!F52)","v":""}]
[47,{"$f":"IF('Age - User Table|Label 5'!B53=\"\",\"\",'Age - User Table|Label 5'!B53)","v":""},{"$f":"IF('Age - User Table|Label 5'!C53=\"\",\"\",'Age - User Table|Label 5'!C53)","v":""},{"$f":"IF('Age - User Table|Label 5'!D53=\"\",\"\",'Age - User Table|Label 5'!D53)","v":""},{"$f":"IF('Age - User Table|Label 5'!E53=\"\",\"\",'Age - User Table|Label 5'!E53)","v":""},{"$f":"IF('Age - User Table|Label 5'!F53=\"\",\"\",'Age - User Table|Label 5'!F53)","v":""}]
[48,{"$f":"IF('Age - User Table|Label 5'!B54=\"\",\"\",'Age - User Table|Label 5'!B54)","v":""},{"$f":"IF('Age - User Table|Label 5'!C54=\"\",\"\",'Age - User Table|Label 5'!C54)","v":""},{"$f":"IF('Age - User Table|Label 5'!D54=\"\",\"\",'Age - User Table|Label 5'!D54)","v":""},{"$f":"IF('Age - User Table|Label 5'!E54=\"\",\"\",'Age - User Table|Label 5'!E54)","v":""},{"$f":"IF('Age - User Table|Label 5'!F54=\"\",\"\",'Age - User Table|Label 5'!F54)","v":""}]
[49,{"$f":"IF('Age - User Table|Label 5'!B55=\"\",\"\",'Age - User Table|Label 5'!B55)","v":""},{"$f":"IF('Age - User Table|Label 5'!C55=\"\",\"\",'Age - User Table|Label 5'!C55)","v":""},{"$f":"IF('Age - User Table|Label 5'!D55=\"\",\"\",'Age - User Table|Label 5'!D55)","v":""},{"$f":"IF('Age - User Table|Label 5'!E55=\"\",\"\",'Age - User Table|Label 5'!E55)","v":""},{"$f":"IF('Age - User Table|Label 5'!F55=\"\",\"\",'Age - User Table|Label 5'!F55)","v":""}]
[50,{"$f":"IF('Age - User Table|Label 5'!B56=\"\",\"\",'Age - User Table|Label 5'!B56)","v":""},{"$f":"IF('Age - User Table|Label 5'!C56=\"\",\"\",'Age - User Table|Label 5'!C56)","v":""},{"$f":"IF('Age - User Table|Label 5'!D56=\"\",\"\",'Age - User Table|Label 5'!D56)","v":""},{"$f":"IF('Age - User Table|Label 5'!E56=\"\",\"\",'Age - User Table|Label 5'!E56)","v":""},{"$f":"IF('Age - User Table|Label 5'!F56=\"\",\"\",'Age - User Table|Label 5'!F56)","v":""}]
[51,{"$f":"IF('Age - User Table|Label 5'!B57=\"\",\"\",'Age - User Table|Label 5'!B57)","v":""},{"$f":"IF('Age - User Table|Label 5'!C57=\"\",\"\",'Age - User Table|Label 5'!C57)","v":""},{"$f":"IF('Age - User Table|Label 5'!D57=\"\",\"\",'Age - User Table|Label 5'!D57)","v":""},{"$f":"IF('Age - User Table|Label 5'!E57=\"\",\"\",'Age - User Table|Label 5'!E57)","v":""},{"$f":"IF('Age - User Table|Label 5'!F57=\"\",\"\",'Age - User Table|Label 5'!F57)","v":""}]
[52,{"$f":"IF('Age - User Table|Label 5'!B58=\"\",\"\",'Age - User Table|Label 5'!B58)","v":""},{"$f":"IF('Age - User Table|Label 5'!C58=\"\",\"\",'Age - User Table|Label 5'!C58)","v":""},{"$f":"IF('Age - User Table|Label 5'!D58=\"\",\"\",'Age - User Table|Label 5'!D58)","v":""},{"$f":"IF('Age - User Table|Label 5'!E58=\"\",\"\",'Age - User Table|Label 5'!E58)","v":""},{"$f":"IF('Age - User Table|Label 5'!F58=\"\",\"\",'Age - User Table|Label 5'!F58)","v":""}]
[53,{"$f":"IF('Age - User Table|Label 5'!B59=\"\",\"\",'Age - User Table|Label 5'!B59)","v":""},{"$f":"IF('Age - User Table|Label 5'!C59=\"\",\"\",'Age - User Table|Label 5'!C59)","v":""},{"$f":"IF('Age - User Table|Label 5'!D59=\"\",\"\",'Age - User Table|Label 5'!D59)","v":""},{"$f":"IF('Age - User Table|Label 5'!E59=\"\",\"\",'Age - User Table|Label 5'!E59)","v":""},{"$f":"IF('Age - User Table|Label 5'!F59=\"\",\"\",'Age - User Table|Label 5'!F59)","v":""}]
[54,{"$f":"IF('Age - User Table|Label 5'!B60=\"\",\"\",'Age - User Table|Label 5'!B60)","v":""},{"$f":"IF('Age - User Table|Label 5'!C60=\"\",\"\",'Age - User Table|Label 5'!C60)","v":""},{"$f":"IF('Age - User Table|Label 5'!D60=\"\",\"\",'Age - User Table|Label 5'!D60)","v":""},{"$f":"IF('Age - User Table|Label 5'!E60=\"\",\"\",'Age - User Table|Label 5'!E60)","v":""},{"$f":"IF('Age - User Table|Label 5'!F60=\"\",\"\",'Age - User Table|Label 5'!F60)","v":""}]
[55,{"$f":"IF('Age - User Table|Label 5'!B61=\"\",\"\",'Age - User Table|Label 5'!B61)","v":""},{"$f":"IF('Age - User Table|Label 5'!C61=\"\",\"\",'Age - User Table|Label 5'!C61)","v":""},{"$f":"IF('Age - User Table|Label 5'!D61=\"\",\"\",'Age - User Table|Label 5'!D61)","v":""},{"$f":"IF('Age - User Table|Label 5'!E61=\"\",\"\",'Age - User Table|Label 5'!E61)","v":""},{"$f":"IF('Age - User Table|Label 5'!F61=\"\",\"\",'Age - User Table|Label 5'!F61)","v":""}]
[56,{"$f":"IF('Age - User Table|Label 5'!B62=\"\",\"\",'Age - User Table|Label 5'!B62)","v":""},{"$f":"IF('Age - User Table|Label 5'!C62=\"\",\"\",'Age - User Table|Label 5'!C62)","v":""},{"$f":"IF('Age - User Table|Label 5'!D62=\"\",\"\",'Age - User Table|Label 5'!D62)","v":""},{"$f":"IF('Age - User Table|Label 5'!E62=\"\",\"\",'Age - User Table|Label 5'!E62)","v":""},{"$f":"IF('Age - User Table|Label 5'!F62=\"\",\"\",'Age - User Table|Label 5'!F62)","v":""}]
[57,{"$f":"IF('Age - User Table|Label 5'!B63=\"\",\"\",'Age - User Table|Label 5'!B63)","v":""},{"$f":"IF('Age - User Table|Label 5'!C63=\"\",\"\",'Age - User Table|Label 5'!C63)","v":""},{"$f":"IF('Age - User Table|Label 5'!D63=\"\",\"\",'Age - User Table|Label 5'!D63)","v":""},{"$f":"IF('Age - User Table|Label 5'!E63=\"\",\"\",'Age - User Table|Label 5'!E63)","v":""},{"$f":"IF('Age - User Table|Label 5'!F63=\"\",\"\",'Age - User Table|Label 5'!F63)","v":""}]
[58,{"$f":"IF('Age - User Table|Label 5'!B64=\"\",\"\",'Age - User Table|Label 5'!B64)","v":""},{"$f":"IF('Age - User Table|Label 5'!C64=\"\",\"\",'Age - User Table|Label 5'!C64)","v":""},{"$f":"IF('Age - User Table|Label 5'!D64=\"\",\"\",'Age - User Table|Label 5'!D64)","v":""},{"$f":"IF('Age - User Table|Label 5'!E64=\"\",\"\",'Age - User Table|Label 5'!E64)","v":""},{"$f":"IF('Age - User Table|Label 5'!F64=\"\",\"\",'Age - User Table|Label 5'!F64)","v":""}]
[59,{"$f":"IF('Age - User Table|Label 5'!B65=\"\",\"\",'Age - User Table|Label 5'!B65)","v":""},{"$f":"IF('Age - User Table|Label 5'!C65=\"\",\"\",'Age - User Table|Label 5'!C65)","v":""},{"$f":"IF('Age - User Table|Label 5'!D65=\"\",\"\",'Age - User Table|Label 5'!D65)","v":""},{"$f":"IF('Age - User Table|Label 5'!E65=\"\",\"\",'Age - User Table|Label 5'!E65)","v":""},{"$f":"IF('Age - User Table|Label 5'!F65=\"\",\"\",'Age - User Table|Label 5'!F65)","v":""}]
[60,{"$f":"IF('Age - User Table|Label 5'!B66=\"\",\"\",'Age - User Table|Label 5'!B66)","v":""},{"$f":"IF('Age - User Table|Label 5'!C66=\"\",\"\",'Age - User Table|Label 5'!C66)","v":""},{"$f":"IF('Age - User Table|Label 5'!D66=\"\",\"\",'Age - User Table|Label 5'!D66)","v":""},{"$f":"IF('Age - User Table|Label 5'!E66=\"\",\"\",'Age - User Table|Label 5'!E66)","v":""},{"$f":"IF('Age - User Table|Label 5'!F66=\"\",\"\",'Age - User Table|Label 5'!F66)","v":""}]
[61,{"$f":"IF('Age - User Table|Label 5'!B67=\"\",\"\",'Age - User Table|Label 5'!B67)","v":""},{"$f":"IF('Age - User Table|Label 5'!C67=\"\",\"\",'Age - User Table|Label 5'!C67)","v":""},{"$f":"IF('Age - User Table|Label 5'!D67=\"\",\"\",'Age - User Table|Label 5'!D67)","v":""},{"$f":"IF('Age - User Table|Label 5'!E67=\"\",\"\",'Age - User Table|Label 5'!E67)","v":""},{"$f":"IF('Age - User Table|Label 5'!F67=\"\",\"\",'Age - User Table|Label 5'!F67)","v":""}]
[62,{"$f":"IF('Age - User Table|Label 5'!B68=\"\",\"\",'Age - User Table|Label 5'!B68)","v":""},{"$f":"IF('Age - User Table|Label 5'!C68=\"\",\"\",'Age - User Table|Label 5'!C68)","v":""},{"$f":"IF('Age - User Table|Label 5'!D68=\"\",\"\",'Age - User Table|Label 5'!D68)","v":""},{"$f":"IF('Age - User Table|Label 5'!E68=\"\",\"\",'Age - User Table|Label 5'!E68)","v":""},{"$f":"IF('Age - User Table|Label 5'!F68=\"\",\"\",'Age - User Table|Label 5'!F68)","v":""}]
[63,{"$f":"IF('Age - User Table|Label 5'!B69=\"\",\"\",'Age - User Table|Label 5'!B69)","v":""},{"$f":"IF('Age - User Table|Label 5'!C69=\"\",\"\",'Age - User Table|Label 5'!C69)","v":""},{"$f":"IF('Age - User Table|Label 5'!D69=\"\",\"\",'Age - User Table|Label 5'!D69)","v":""},{"$f":"IF('Age - User Table|Label 5'!E69=\"\",\"\",'Age - User Table|Label 5'!E69)","v":""},{"$f":"IF('Age - User Table|Label 5'!F69=\"\",\"\",'Age - User Table|Label 5'!F69)","v":""}]
[64,{"$f":"IF('Age - User Table|Label 5'!B70=\"\",\"\",'Age - User Table|Label 5'!B70)","v":""},{"$f":"IF('Age - User Table|Label 5'!C70=\"\",\"\",'Age - User Table|Label 5'!C70)","v":""},{"$f":"IF('Age - User Table|Label 5'!D70=\"\",\"\",'Age - User Table|Label 5'!D70)","v":""},{"$f":"IF('Age - User Table|Label 5'!E70=\"\",\"\",'Age - User Table|Label 5'!E70)","v":""},{"$f":"IF('Age - User Table|Label 5'!F70=\"\",\"\",'Age - User Table|Label 5'!F70)","v":""}]
[65,{"$f":"IF('Age - User Table|Label 5'!B71=\"\",\"\",'Age - User Table|Label 5'!B71)","v":""},{"$f":"IF('Age - User Table|Label 5'!C71=\"\",\"\",'Age - User Table|Label 5'!C71)","v":""},{"$f":"IF('Age - User Table|Label 5'!D71=\"\",\"\",'Age - User Table|Label 5'!D71)","v":""},{"$f":"IF('Age - User Table|Label 5'!E71=\"\",\"\",'Age - User Table|Label 5'!E71)","v":""},{"$f":"IF('Age - User Table|Label 5'!F71=\"\",\"\",'Age - User Table|Label 5'!F71)","v":""}]
[66,{"$f":"IF('Age - User Table|Label 5'!B72=\"\",\"\",'Age - User Table|Label 5'!B72)","v":""},{"$f":"IF('Age - User Table|Label 5'!C72=\"\",\"\",'Age - User Table|Label 5'!C72)","v":""},{"$f":"IF('Age - User Table|Label 5'!D72=\"\",\"\",'Age - User Table|Label 5'!D72)","v":""},{"$f":"IF('Age - User Table|Label 5'!E72=\"\",\"\",'Age - User Table|Label 5'!E72)","v":""},{"$f":"IF('Age - User Table|Label 5'!F72=\"\",\"\",'Age - User Table|Label 5'!F72)","v":""}]
[67,{"$f":"IF('Age - User Table|Label 5'!B73=\"\",\"\",'Age - User Table|Label 5'!B73)","v":""},{"$f":"IF('Age - User Table|Label 5'!C73=\"\",\"\",'Age - User Table|Label 5'!C73)","v":""},{"$f":"IF('Age - User Table|Label 5'!D73=\"\",\"\",'Age - User Table|Label 5'!D73)","v":""},{"$f":"IF('Age - User Table|Label 5'!E73=\"\",\"\",'Age - User Table|Label 5'!E73)","v":""},{"$f":"IF('Age - User Table|Label 5'!F73=\"\",\"\",'Age - User Table|Label 5'!F73)","v":""}]
[68,{"$f":"IF('Age - User Table|Label 5'!B74=\"\",\"\",'Age - User Table|Label 5'!B74)","v":""},{"$f":"IF('Age - User Table|Label 5'!C74=\"\",\"\",'Age - User Table|Label 5'!C74)","v":""},{"$f":"IF('Age - User Table|Label 5'!D74=\"\",\"\",'Age - User Table|Label 5'!D74)","v":""},{"$f":"IF('Age - User Table|Label 5'!E74=\"\",\"\",'Age - User Table|Label 5'!E74)","v":""},{"$f":"IF('Age - User Table|Label 5'!F74=\"\",\"\",'Age - User Table|Label 5'!F74)","v":""}]
[69,{"$f":"IF('Age - User Table|Label 5'!B75=\"\",\"\",'Age - User Table|Label 5'!B75)","v":""},{"$f":"IF('Age - User Table|Label 5'!C75=\"\",\"\",'Age - User Table|Label 5'!C75)","v":""},{"$f":"IF('Age - User Table|Label 5'!D75=\"\",\"\",'Age - User Table|Label 5'!D75)","v":""},{"$f":"IF('Age - User Table|Label 5'!E75=\"\",\"\",'Age - User Table|Label 5'!E75)","v":""},{"$f":"IF('Age - User Table|Label 5'!F75=\"\",\"\",'Age - User Table|Label 5'!F75)","v":""}]
[70,{"$f":"IF('Age - User Table|Label 5'!B76=\"\",\"\",'Age - User Table|Label 5'!B76)","v":""},{"$f":"IF('Age - User Table|Label 5'!C76=\"\",\"\",'Age - User Table|Label 5'!C76)","v":""},{"$f":"IF('Age - User Table|Label 5'!D76=\"\",\"\",'Age - User Table|Label 5'!D76)","v":""},{"$f":"IF('Age - User Table|Label 5'!E76=\"\",\"\",'Age - User Table|Label 5'!E76)","v":""},{"$f":"IF('Age - User Table|Label 5'!F76=\"\",\"\",'Age - User Table|Label 5'!F76)","v":""}]
[71,{"$f":"IF('Age - User Table|Label 5'!B77=\"\",\"\",'Age - User Table|Label 5'!B77)","v":""},{"$f":"IF('Age - User Table|Label 5'!C77=\"\",\"\",'Age - User Table|Label 5'!C77)","v":""},{"$f":"IF('Age - User Table|Label 5'!D77=\"\",\"\",'Age - User Table|Label 5'!D77)","v":""},{"$f":"IF('Age - User Table|Label 5'!E77=\"\",\"\",'Age - User Table|Label 5'!E77)","v":""},{"$f":"IF('Age - User Table|Label 5'!F77=\"\",\"\",'Age - User Table|Label 5'!F77)","v":""}]
[72,{"$f":"IF('Age - User Table|Label 5'!B78=\"\",\"\",'Age - User Table|Label 5'!B78)","v":""},{"$f":"IF('Age - User Table|Label 5'!C78=\"\",\"\",'Age - User Table|Label 5'!C78)","v":""},{"$f":"IF('Age - User Table|Label 5'!D78=\"\",\"\",'Age - User Table|Label 5'!D78)","v":""},{"$f":"IF('Age - User Table|Label 5'!E78=\"\",\"\",'Age - User Table|Label 5'!E78)","v":""},{"$f":"IF('Age - User Table|Label 5'!F78=\"\",\"\",'Age - User Table|Label 5'!F78)","v":""}]
[73,{"$f":"IF('Age - User Table|Label 5'!B79=\"\",\"\",'Age - User Table|Label 5'!B79)","v":""},{"$f":"IF('Age - User Table|Label 5'!C79=\"\",\"\",'Age - User Table|Label 5'!C79)","v":""},{"$f":"IF('Age - User Table|Label 5'!D79=\"\",\"\",'Age - User Table|Label 5'!D79)","v":""},{"$f":"IF('Age - User Table|Label 5'!E79=\"\",\"\",'Age - User Table|Label 5'!E79)","v":""},{"$f":"IF('Age - User Table|Label 5'!F79=\"\",\"\",'Age - User Table|Label 5'!F79)","v":""}]
[74,{"$f":"IF('Age - User Table|Label 5'!B80=\"\",\"\",'Age - User Table|Label 5'!B80)","v":""},{"$f":"IF('Age - User Table|Label 5'!C80=\"\",\"\",'Age - User Table|Label 5'!C80)","v":""},{"$f":"IF('Age - User Table|Label 5'!D80=\"\",\"\",'Age - User Table|Label 5'!D80)","v":""},{"$f":"IF('Age - User Table|Label 5'!E80=\"\",\"\",'Age - User Table|Label 5'!E80)","v":""},{"$f":"IF('Age - User Table|Label 5'!F80=\"\",\"\",'Age - User Table|Label 5'!F80)","v":""}]
[75,{"$f":"IF('Age - User Table|Label 5'!B81=\"\",\"\",'Age - User Table|Label 5'!B81)","v":""},{"$f":"IF('Age - User Table|Label 5'!C81=\"\",\"\",'Age - User Table|Label 5'!C81)","v":""},{"$f":"IF('Age - User Table|Label 5'!D81=\"\",\"\",'Age - User Table|Label 5'!D81)","v":""},{"$f":"IF('Age - User Table|Label 5'!E81=\"\",\"\",'Age - User Table|Label 5'!E81)","v":""},{"$f":"IF('Age - User Table|Label 5'!F81=\"\",\"\",'Age - User Table|Label 5'!F81)","v":""}]
[76,{"$f":"IF('Age - User Table|Label 5'!B82=\"\",\"\",'Age - User Table|Label 5'!B82)","v":""},{"$f":"IF('Age - User Table|Label 5'!C82=\"\",\"\",'Age - User Table|Label 5'!C82)","v":""},{"$f":"IF('Age - User Table|Label 5'!D82=\"\",\"\",'Age - User Table|Label 5'!D82)","v":""},{"$f":"IF('Age - User Table|Label 5'!E82=\"\",\"\",'Age - User Table|Label 5'!E82)","v":""},{"$f":"IF('Age - User Table|Label 5'!F82=\"\",\"\",'Age - User Table|Label 5'!F82)","v":""}]
[77,{"$f":"IF('Age - User Table|Label 5'!B83=\"\",\"\",'Age - User Table|Label 5'!B83)","v":""},{"$f":"IF('Age - User Table|Label 5'!C83=\"\",\"\",'Age - User Table|Label 5'!C83)","v":""},{"$f":"IF('Age - User Table|Label 5'!D83=\"\",\"\",'Age - User Table|Label 5'!D83)","v":""},{"$f":"IF('Age - User Table|Label 5'!E83=\"\",\"\",'Age - User Table|Label 5'!E83)","v":""},{"$f":"IF('Age - User Table|Label 5'!F83=\"\",\"\",'Age - User Table|Label 5'!F83)","v":""}]
[78,{"$f":"IF('Age - User Table|Label 5'!B84=\"\",\"\",'Age - User Table|Label 5'!B84)","v":""},{"$f":"IF('Age - User Table|Label 5'!C84=\"\",\"\",'Age - User Table|Label 5'!C84)","v":""},{"$f":"IF('Age - User Table|Label 5'!D84=\"\",\"\",'Age - User Table|Label 5'!D84)","v":""},{"$f":"IF('Age - User Table|Label 5'!E84=\"\",\"\",'Age - User Table|Label 5'!E84)","v":""},{"$f":"IF('Age - User Table|Label 5'!F84=\"\",\"\",'Age - User Table|Label 5'!F84)","v":""}]
[79,{"$f":"IF('Age - User Table|Label 5'!B85=\"\",\"\",'Age - User Table|Label 5'!B85)","v":""},{"$f":"IF('Age - User Table|Label 5'!C85=\"\",\"\",'Age - User Table|Label 5'!C85)","v":""},{"$f":"IF('Age - User Table|Label 5'!D85=\"\",\"\",'Age - User Table|Label 5'!D85)","v":""},{"$f":"IF('Age - User Table|Label 5'!E85=\"\",\"\",'Age - User Table|Label 5'!E85)","v":""},{"$f":"IF('Age - User Table|Label 5'!F85=\"\",\"\",'Age - User Table|Label 5'!F85)","v":""}]
[80,{"$f":"IF('Age - User Table|Label 5'!B86=\"\",\"\",'Age - User Table|Label 5'!B86)","v":""},{"$f":"IF('Age - User Table|Label 5'!C86=\"\",\"\",'Age - User Table|Label 5'!C86)","v":""},{"$f":"IF('Age - User Table|Label 5'!D86=\"\",\"\",'Age - User Table|Label 5'!D86)","v":""},{"$f":"IF('Age - User Table|Label 5'!E86=\"\",\"\",'Age - User Table|Label 5'!E86)","v":""},{"$f":"IF('Age - User Table|Label 5'!F86=\"\",\"\",'Age - User Table|Label 5'!F86)","v":""}]
[81,{"$f":"IF('Age - User Table|Label 5'!B87=\"\",\"\",'Age - User Table|Label 5'!B87)","v":""},{"$f":"IF('Age - User Table|Label 5'!C87=\"\",\"\",'Age - User Table|Label 5'!C87)","v":""},{"$f":"IF('Age - User Table|Label 5'!D87=\"\",\"\",'Age - User Table|Label 5'!D87)","v":""},{"$f":"IF('Age - User Table|Label 5'!E87=\"\",\"\",'Age - User Table|Label 5'!E87)","v":""},{"$f":"IF('Age - User Table|Label 5'!F87=\"\",\"\",'Age - User Table|Label 5'!F87)","v":""}]
[82,{"$f":"IF('Age - User Table|Label 5'!B88=\"\",\"\",'Age - User Table|Label 5'!B88)","v":""},{"$f":"IF('Age - User Table|Label 5'!C88=\"\",\"\",'Age - User Table|Label 5'!C88)","v":""},{"$f":"IF('Age - User Table|Label 5'!D88=\"\",\"\",'Age - User Table|Label 5'!D88)","v":""},{"$f":"IF('Age - User Table|Label 5'!E88=\"\",\"\",'Age - User Table|Label 5'!E88)","v":""},{"$f":"IF('Age - User Table|Label 5'!F88=\"\",\"\",'Age - User Table|Label 5'!F88)","v":""}]
[83,{"$f":"IF('Age - User Table|Label 5'!B89=\"\",\"\",'Age - User Table|Label 5'!B89)","v":""},{"$f":"IF('Age - User Table|Label 5'!C89=\"\",\"\",'Age - User Table|Label 5'!C89)","v":""},{"$f":"IF('Age - User Table|Label 5'!D89=\"\",\"\",'Age - User Table|Label 5'!D89)","v":""},{"$f":"IF('Age - User Table|Label 5'!E89=\"\",\"\",'Age - User Table|Label 5'!E89)","v":""},{"$f":"IF('Age - User Table|Label 5'!F89=\"\",\"\",'Age - User Table|Label 5'!F89)","v":""}]
[84,{"$f":"IF('Age - User Table|Label 5'!B90=\"\",\"\",'Age - User Table|Label 5'!B90)","v":""},{"$f":"IF('Age - User Table|Label 5'!C90=\"\",\"\",'Age - User Table|Label 5'!C90)","v":""},{"$f":"IF('Age - User Table|Label 5'!D90=\"\",\"\",'Age - User Table|Label 5'!D90)","v":""},{"$f":"IF('Age - User Table|Label 5'!E90=\"\",\"\",'Age - User Table|Label 5'!E90)","v":""},{"$f":"IF('Age - User Table|Label 5'!F90=\"\",\"\",'Age - User Table|Label 5'!F90)","v":""}]
[85,{"$f":"IF('Age - User Table|Label 5'!B91=\"\",\"\",'Age - User Table|Label 5'!B91)","v":""},{"$f":"IF('Age - User Table|Label 5'!C91=\"\",\"\",'Age - User Table|Label 5'!C91)","v":""},{"$f":"IF('Age - User Table|Label 5'!D91=\"\",\"\",'Age - User Table|Label 5'!D91)","v":""},{"$f":"IF('Age - User Table|Label 5'!E91=\"\",\"\",'Age - User Table|Label 5'!E91)","v":""},{"$f":"IF('Age - User Table|Label 5'!F91=\"\",\"\",'Age - User Table|Label 5'!F91)","v":""}]
[86,{"$f":"IF('Age - User Table|Label 5'!B92=\"\",\"\",'Age - User Table|Label 5'!B92)","v":""},{"$f":"IF('Age - User Table|Label 5'!C92=\"\",\"\",'Age - User Table|Label 5'!C92)","v":""},{"$f":"IF('Age - User Table|Label 5'!D92=\"\",\"\",'Age - User Table|Label 5'!D92)","v":""},{"$f":"IF('Age - User Table|Label 5'!E92=\"\",\"\",'Age - User Table|Label 5'!E92)","v":""},{"$f":"IF('Age - User Table|Label 5'!F92=\"\",\"\",'Age - User Table|Label 5'!F92)","v":""}]
[87,{"$f":"IF('Age - User Table|Label 5'!B93=\"\",\"\",'Age - User Table|Label 5'!B93)","v":""},{"$f":"IF('Age - User Table|Label 5'!C93=\"\",\"\",'Age - User Table|Label 5'!C93)","v":""},{"$f":"IF('Age - User Table|Label 5'!D93=\"\",\"\",'Age - User Table|Label 5'!D93)","v":""},{"$f":"IF('Age - User Table|Label 5'!E93=\"\",\"\",'Age - User Table|Label 5'!E93)","v":""},{"$f":"IF('Age - User Table|Label 5'!F93=\"\",\"\",'Age - User Table|Label 5'!F93)","v":""}]
[88,{"$f":"IF('Age - User Table|Label 5'!B94=\"\",\"\",'Age - User Table|Label 5'!B94)","v":""},{"$f":"IF('Age - User Table|Label 5'!C94=\"\",\"\",'Age - User Table|Label 5'!C94)","v":""},{"$f":"IF('Age - User Table|Label 5'!D94=\"\",\"\",'Age - User Table|Label 5'!D94)","v":""},{"$f":"IF('Age - User Table|Label 5'!E94=\"\",\"\",'Age - User Table|Label 5'!E94)","v":""},{"$f":"IF('Age - User Table|Label 5'!F94=\"\",\"\",'Age - User Table|Label 5'!F94)","v":""}]
[89,{"$f":"IF('Age - User Table|Label 5'!B95=\"\",\"\",'Age - User Table|Label 5'!B95)","v":""},{"$f":"IF('Age - User Table|Label 5'!C95=\"\",\"\",'Age - User Table|Label 5'!C95)","v":""},{"$f":"IF('Age - User Table|Label 5'!D95=\"\",\"\",'Age - User Table|Label 5'!D95)","v":""},{"$f":"IF('Age - User Table|Label 5'!E95=\"\",\"\",'Age - User Table|Label 5'!E95)","v":""},{"$f":"IF('Age - User Table|Label 5'!F95=\"\",\"\",'Age - User Table|Label 5'!F95)","v":""}]
[90,{"$f":"IF('Age - User Table|Label 5'!B96=\"\",\"\",'Age - User Table|Label 5'!B96)","v":""},{"$f":"IF('Age - User Table|Label 5'!C96=\"\",\"\",'Age - User Table|Label 5'!C96)","v":""},{"$f":"IF('Age - User Table|Label 5'!D96=\"\",\"\",'Age - User Table|Label 5'!D96)","v":""},{"$f":"IF('Age - User Table|Label 5'!E96=\"\",\"\",'Age - User Table|Label 5'!E96)","v":""},{"$f":"IF('Age - User Table|Label 5'!F96=\"\",\"\",'Age - User Table|Label 5'!F96)","v":""}]
[91,{"$f":"IF('Age - User Table|Label 5'!B97=\"\",\"\",'Age - User Table|Label 5'!B97)","v":""},{"$f":"IF('Age - User Table|Label 5'!C97=\"\",\"\",'Age - User Table|Label 5'!C97)","v":""},{"$f":"IF('Age - User Table|Label 5'!D97=\"\",\"\",'Age - User Table|Label 5'!D97)","v":""},{"$f":"IF('Age - User Table|Label 5'!E97=\"\",\"\",'Age - User Table|Label 5'!E97)","v":""},{"$f":"IF('Age - User Table|Label 5'!F97=\"\",\"\",'Age - User Table|Label 5'!F97)","v":""}]
[92,{"$f":"IF('Age - User Table|Label 5'!B98=\"\",\"\",'Age - User Table|Label 5'!B98)","v":""},{"$f":"IF('Age - User Table|Label 5'!C98=\"\",\"\",'Age - User Table|Label 5'!C98)","v":""},{"$f":"IF('Age - User Table|Label 5'!D98=\"\",\"\",'Age - User Table|Label 5'!D98)","v":""},{"$f":"IF('Age - User Table|Label 5'!E98=\"\",\"\",'Age - User Table|Label 5'!E98)","v":""},{"$f":"IF('Age - User Table|Label 5'!F98=\"\",\"\",'Age - User Table|Label 5'!F98)","v":""}]
[93,{"$f":"IF('Age - User Table|Label 5'!B99=\"\",\"\",'Age - User Table|Label 5'!B99)","v":""},{"$f":"IF('Age - User Table|Label 5'!C99=\"\",\"\",'Age - User Table|Label 5'!C99)","v":""},{"$f":"IF('Age - User Table|Label 5'!D99=\"\",\"\",'Age - User Table|Label 5'!D99)","v":""},{"$f":"IF('Age - User Table|Label 5'!E99=\"\",\"\",'Age - User Table|Label 5'!E99)","v":""},{"$f":"IF('Age - User Table|Label 5'!F99=\"\",\"\",'Age - User Table|Label 5'!F99)","v":""}]
[94,{"$f":"IF('Age - User Table|Label 5'!B100=\"\",\"\",'Age - User Table|Label 5'!B100)","v":""},{"$f":"IF('Age - User Table|Label 5'!C100=\"\",\"\",'Age - User Table|Label 5'!C100)","v":""},{"$f":"IF('Age - User Table|Label 5'!D100=\"\",\"\",'Age - User Table|Label 5'!D100)","v":""},{"$f":"IF('Age - User Table|Label 5'!E100=\"\",\"\",'Age - User Table|Label 5'!E100)","v":""},{"$f":"IF('Age - User Table|Label 5'!F100=\"\",\"\",'Age - User Table|Label 5'!F100)","v":""}]
[95,{"$f":"IF('Age - User Table|Label 5'!B101=\"\",\"\",'Age - User Table|Label 5'!B101)","v":""},{"$f":"IF('Age - User Table|Label 5'!C101=\"\",\"\",'Age - User Table|Label 5'!C101)","v":""},{"$f":"IF('Age - User Table|Label 5'!D101=\"\",\"\",'Age - User Table|Label 5'!D101)","v":""},{"$f":"IF('Age - User Table|Label 5'!E101=\"\",\"\",'Age - User Table|Label 5'!E101)","v":""},{"$f":"IF('Age - User Table|Label 5'!F101=\"\",\"\",'Age - User Table|Label 5'!F101)","v":""}]
[96,{"$f":"IF('Age - User Table|Label 5'!B102=\"\",\"\",'Age - User Table|Label 5'!B102)","v":""},{"$f":"IF('Age - User Table|Label 5'!C102=\"\",\"\",'Age - User Table|Label 5'!C102)","v":""},{"$f":"IF('Age - User Table|Label 5'!D102=\"\",\"\",'Age - User Table|Label 5'!D102)","v":""},{"$f":"IF('Age - User Table|Label 5'!E102=\"\",\"\",'Age - User Table|Label 5'!E102)","v":""},{"$f":"IF('Age - User Table|Label 5'!F102=\"\",\"\",'Age - User Table|Label 5'!F102)","v":""}]
[97,{"$f":"IF('Age - User Table|Label 5'!B103=\"\",\"\",'Age - User Table|Label 5'!B103)","v":""},{"$f":"IF('Age - User Table|Label 5'!C103=\"\",\"\",'Age - User Table|Label 5'!C103)","v":""},{"$f":"IF('Age - User Table|Label 5'!D103=\"\",\"\",'Age - User Table|Label 5'!D103)","v":""},{"$f":"IF('Age - User Table|Label 5'!E103=\"\",\"\",'Age - User Table|Label 5'!E103)","v":""},{"$f":"IF('Age - User Table|Label 5'!F103=\"\",\"\",'Age - User Table|Label 5'!F103)","v":""}]
[98,{"$f":"IF('Age - User Table|Label 5'!B104=\"\",\"\",'Age - User Table|Label 5'!B104)","v":""},{"$f":"IF('Age - User Table|Label 5'!C104=\"\",\"\",'Age - User Table|Label 5'!C104)","v":""},{"$f":"IF('Age - User Table|Label 5'!D104=\"\",\"\",'Age - User Table|Label 5'!D104)","v":""},{"$f":"IF('Age - User Table|Label 5'!E104=\"\",\"\",'Age - User Table|Label 5'!E104)","v":""},{"$f":"IF('Age - User Table|Label 5'!F104=\"\",\"\",'Age - User Table|Label 5'!F104)","v":""}]
[99,{"$f":"IF('Age - User Table|Label 5'!B105=\"\",\"\",'Age - User Table|Label 5'!B105)","v":""},{"$f":"IF('Age - User Table|Label 5'!C105=\"\",\"\",'Age - User Table|Label 5'!C105)","v":""},{"$f":"IF('Age - User Table|Label 5'!D105=\"\",\"\",'Age - User Table|Label 5'!D105)","v":""},{"$f":"IF('Age - User Table|Label 5'!E105=\"\",\"\",'Age - User Table|Label 5'!E105)","v":""},{"$f":"IF('Age - User Table|Label 5'!F105=\"\",\"\",'Age - User Table|Label 5'!F105)","v":""}]
[100,{"$f":"IF('Age - User Table|Label 5'!B106=\"\",\"\",'Age - User Table|Label 5'!B106)","v":""},{"$f":"IF('Age - User Table|Label 5'!C106=\"\",\"\",'Age - User Table|Label 5'!C106)","v":""},{"$f":"IF('Age - User Table|Label 5'!D106=\"\",\"\",'Age - User Table|Label 5'!D106)","v":""},{"$f":"IF('Age - User Table|Label 5'!E106=\"\",\"\",'Age - User Table|Label 5'!E106)","v":""},{"$f":"IF('Age - User Table|Label 5'!F106=\"\",\"\",'Age - User Table|Label 5'!F106)","v":""}]
[101,{"$f":"IF('Age - User Table|Label 5'!B107=\"\",\"\",'Age - User Table|Label 5'!B107)","v":""},{"$f":"IF('Age - User Table|Label 5'!C107=\"\",\"\",'Age - User Table|Label 5'!C107)","v":""},{"$f":"IF('Age - User Table|Label 5'!D107=\"\",\"\",'Age - User Table|Label 5'!D107)","v":""},{"$f":"IF('Age - User Table|Label 5'!E107=\"\",\"\",'Age - User Table|Label 5'!E107)","v":""},{"$f":"IF('Age - User Table|Label 5'!F107=\"\",\"\",'Age - User Table|Label 5'!F107)","v":""}]
[102,{"$f":"IF('Age - User Table|Label 5'!B108=\"\",\"\",'Age - User Table|Label 5'!B108)","v":""},{"$f":"IF('Age - User Table|Label 5'!C108=\"\",\"\",'Age - User Table|Label 5'!C108)","v":""},{"$f":"IF('Age - User Table|Label 5'!D108=\"\",\"\",'Age - User Table|Label 5'!D108)","v":""},{"$f":"IF('Age - User Table|Label 5'!E108=\"\",\"\",'Age - User Table|Label 5'!E108)","v":""},{"$f":"IF('Age - User Table|Label 5'!F108=\"\",\"\",'Age - User Table|Label 5'!F108)","v":""}]
[103,{"$f":"IF('Age - User Table|Label 5'!B109=\"\",\"\",'Age - User Table|Label 5'!B109)","v":""},{"$f":"IF('Age - User Table|Label 5'!C109=\"\",\"\",'Age - User Table|Label 5'!C109)","v":""},{"$f":"IF('Age - User Table|Label 5'!D109=\"\",\"\",'Age - User Table|Label 5'!D109)","v":""},{"$f":"IF('Age - User Table|Label 5'!E109=\"\",\"\",'Age - User Table|Label 5'!E109)","v":""},{"$f":"IF('Age - User Table|Label 5'!F109=\"\",\"\",'Age - User Table|Label 5'!F109)","v":""}]
[104,{"$f":"IF('Age - User Table|Label 5'!B110=\"\",\"\",'Age - User Table|Label 5'!B110)","v":""},{"$f":"IF('Age - User Table|Label 5'!C110=\"\",\"\",'Age - User Table|Label 5'!C110)","v":""},{"$f":"IF('Age - User Table|Label 5'!D110=\"\",\"\",'Age - User Table|Label 5'!D110)","v":""},{"$f":"IF('Age - User Table|Label 5'!E110=\"\",\"\",'Age - User Table|Label 5'!E110)","v":""},{"$f":"IF('Age - User Table|Label 5'!F110=\"\",\"\",'Age - User Table|Label 5'!F110)","v":""}]
[105,{"$f":"IF('Age - User Table|Label 5'!B111=\"\",\"\",'Age - User Table|Label 5'!B111)","v":""},{"$f":"IF('Age - User Table|Label 5'!C111=\"\",\"\",'Age - User Table|Label 5'!C111)","v":""},{"$f":"IF('Age - User Table|Label 5'!D111=\"\",\"\",'Age - User Table|Label 5'!D111)","v":""},{"$f":"IF('Age - User Table|Label 5'!E111=\"\",\"\",'Age - User Table|Label 5'!E111)","v":""},{"$f":"IF('Age - User Table|Label 5'!F111=\"\",\"\",'Age - User Table|Label 5'!F111)","v":""}]
[106,{"$f":"IF('Age - User Table|Label 5'!B112=\"\",\"\",'Age - User Table|Label 5'!B112)","v":""},{"$f":"IF('Age - User Table|Label 5'!C112=\"\",\"\",'Age - User Table|Label 5'!C112)","v":""},{"$f":"IF('Age - User Table|Label 5'!D112=\"\",\"\",'Age - User Table|Label 5'!D112)","v":""},{"$f":"IF('Age - User Table|Label 5'!E112=\"\",\"\",'Age - User Table|Label 5'!E112)","v":""},{"$f":"IF('Age - User Table|Label 5'!F112=\"\",\"\",'Age - User Table|Label 5'!F112)","v":""}]
[107,{"$f":"IF('Age - User Table|Label 5'!B113=\"\",\"\",'Age - User Table|Label 5'!B113)","v":""},{"$f":"IF('Age - User Table|Label 5'!C113=\"\",\"\",'Age - User Table|Label 5'!C113)","v":""},{"$f":"IF('Age - User Table|Label 5'!D113=\"\",\"\",'Age - User Table|Label 5'!D113)","v":""},{"$f":"IF('Age - User Table|Label 5'!E113=\"\",\"\",'Age - User Table|Label 5'!E113)","v":""},{"$f":"IF('Age - User Table|Label 5'!F113=\"\",\"\",'Age - User Table|Label 5'!F113)","v":""}]
[108,{"$f":"IF('Age - User Table|Label 5'!B114=\"\",\"\",'Age - User Table|Label 5'!B114)","v":""},{"$f":"IF('Age - User Table|Label 5'!C114=\"\",\"\",'Age - User Table|Label 5'!C114)","v":""},{"$f":"IF('Age - User Table|Label 5'!D114=\"\",\"\",'Age - User Table|Label 5'!D114)","v":""},{"$f":"IF('Age - User Table|Label 5'!E114=\"\",\"\",'Age - User Table|Label 5'!E114)","v":""},{"$f":"IF('Age - User Table|Label 5'!F114=\"\",\"\",'Age - User Table|Label 5'!F114)","v":""}]
[109,{"$f":"IF('Age - User Table|Label 5'!B115=\"\",\"\",'Age - User Table|Label 5'!B115)","v":""},{"$f":"IF('Age - User Table|Label 5'!C115=\"\",\"\",'Age - User Table|Label 5'!C115)","v":""},{"$f":"IF('Age - User Table|Label 5'!D115=\"\",\"\",'Age - User Table|Label 5'!D115)","v":""},{"$f":"IF('Age - User Table|Label 5'!E115=\"\",\"\",'Age - User Table|Label 5'!E115)","v":""},{"$f":"IF('Age - User Table|Label 5'!F115=\"\",\"\",'Age - User Table|Label 5'!F115)","v":""}]
[110,{"$f":"IF('Age - User Table|Label 5'!B116=\"\",\"\",'Age - User Table|Label 5'!B116)","v":""},{"$f":"IF('Age - User Table|Label 5'!C116=\"\",\"\",'Age - User Table|Label 5'!C116)","v":""},{"$f":"IF('Age - User Table|Label 5'!D116=\"\",\"\",'Age - User Table|Label 5'!D116)","v":""},{"$f":"IF('Age - User Table|Label 5'!E116=\"\",\"\",'Age - User Table|Label 5'!E116)","v":""},{"$f":"IF('Age - User Table|Label 5'!F116=\"\",\"\",'Age - User Table|Label 5'!F116)","v":""}]
[111,{"$f":"IF('Age - User Table|Label 5'!B117=\"\",\"\",'Age - User Table|Label 5'!B117)","v":""},{"$f":"IF('Age - User Table|Label 5'!C117=\"\",\"\",'Age - User Table|Label 5'!C117)","v":""},{"$f":"IF('Age - User Table|Label 5'!D117=\"\",\"\",'Age - User Table|Label 5'!D117)","v":""},{"$f":"IF('Age - User Table|Label 5'!E117=\"\",\"\",'Age - User Table|Label 5'!E117)","v":""},{"$f":"IF('Age - User Table|Label 5'!F117=\"\",\"\",'Age - User Table|Label 5'!F117)","v":""}]
[112,{"$f":"IF('Age - User Table|Label 5'!B118=\"\",\"\",'Age - User Table|Label 5'!B118)","v":""},{"$f":"IF('Age - User Table|Label 5'!C118=\"\",\"\",'Age - User Table|Label 5'!C118)","v":""},{"$f":"IF('Age - User Table|Label 5'!D118=\"\",\"\",'Age - User Table|Label 5'!D118)","v":""},{"$f":"IF('Age - User Table|Label 5'!E118=\"\",\"\",'Age - User Table|Label 5'!E118)","v":""},{"$f":"IF('Age - User Table|Label 5'!F118=\"\",\"\",'Age - User Table|Label 5'!F118)","v":""}]
[113,{"$f":"IF('Age - User Table|Label 5'!B119=\"\",\"\",'Age - User Table|Label 5'!B119)","v":""},{"$f":"IF('Age - User Table|Label 5'!C119=\"\",\"\",'Age - User Table|Label 5'!C119)","v":""},{"$f":"IF('Age - User Table|Label 5'!D119=\"\",\"\",'Age - User Table|Label 5'!D119)","v":""},{"$f":"IF('Age - User Table|Label 5'!E119=\"\",\"\",'Age - User Table|Label 5'!E119)","v":""},{"$f":"IF('Age - User Table|Label 5'!F119=\"\",\"\",'Age - User Table|Label 5'!F119)","v":""}]
[114,{"$f":"IF('Age - User Table|Label 5'!B120=\"\",\"\",'Age - User Table|Label 5'!B120)","v":""},{"$f":"IF('Age - User Table|Label 5'!C120=\"\",\"\",'Age - User Table|Label 5'!C120)","v":""},{"$f":"IF('Age - User Table|Label 5'!D120=\"\",\"\",'Age - User Table|Label 5'!D120)","v":""},{"$f":"IF('Age - User Table|Label 5'!E120=\"\",\"\",'Age - User Table|Label 5'!E120)","v":""},{"$f":"IF('Age - User Table|Label 5'!F120=\"\",\"\",'Age - User Table|Label 5'!F120)","v":""}]
[115,{"$f":"IF('Age - User Table|Label 5'!B121=\"\",\"\",'Age - User Table|Label 5'!B121)","v":""},{"$f":"IF('Age - User Table|Label 5'!C121=\"\",\"\",'Age - User Table|Label 5'!C121)","v":""},{"$f":"IF('Age - User Table|Label 5'!D121=\"\",\"\",'Age - User Table|Label 5'!D121)","v":""},{"$f":"IF('Age - User Table|Label 5'!E121=\"\",\"\",'Age - User Table|Label 5'!E121)","v":""},{"$f":"IF('Age - User Table|Label 5'!F121=\"\",\"\",'Age - User Table|Label 5'!F121)","v":""}]
[116,{"$f":"IF('Age - User Table|Label 5'!B122=\"\",\"\",'Age - User Table|Label 5'!B122)","v":""},{"$f":"IF('Age - User Table|Label 5'!C122=\"\",\"\",'Age - User Table|Label 5'!C122)","v":""},{"$f":"IF('Age - User Table|Label 5'!D122=\"\",\"\",'Age - User Table|Label 5'!D122)","v":""},{"$f":"IF('Age - User Table|Label 5'!E122=\"\",\"\",'Age - User Table|Label 5'!E122)","v":""},{"$f":"IF('Age - User Table|Label 5'!F122=\"\",\"\",'Age - User Table|Label 5'!F122)","v":""}]
[117,{"$f":"IF('Age - User Table|Label 5'!B123=\"\",\"\",'Age - User Table|Label 5'!B123)","v":""},{"$f":"IF('Age - User Table|Label 5'!C123=\"\",\"\",'Age - User Table|Label 5'!C123)","v":""},{"$f":"IF('Age - User Table|Label 5'!D123=\"\",\"\",'Age - User Table|Label 5'!D123)","v":""},{"$f":"IF('Age - User Table|Label 5'!E123=\"\",\"\",'Age - User Table|Label 5'!E123)","v":""},{"$f":"IF('Age - User Table|Label 5'!F123=\"\",\"\",'Age - User Table|Label 5'!F123)","v":""}]
[118,{"$f":"IF('Age - User Table|Label 5'!B124=\"\",\"\",'Age - User Table|Label 5'!B124)","v":""},{"$f":"IF('Age - User Table|Label 5'!C124=\"\",\"\",'Age - User Table|Label 5'!C124)","v":""},{"$f":"IF('Age - User Table|Label 5'!D124=\"\",\"\",'Age - User Table|Label 5'!D124)","v":""},{"$f":"IF('Age - User Table|Label 5'!E124=\"\",\"\",'Age - User Table|Label 5'!E124)","v":""},{"$f":"IF('Age - User Table|Label 5'!F124=\"\",\"\",'Age - User Table|Label 5'!F124)","v":""}]
[119,{"$f":"IF('Age - User Table|Label 5'!B125=\"\",\"\",'Age - User Table|Label 5'!B125)","v":""},{"$f":"IF('Age - User Table|Label 5'!C125=\"\",\"\",'Age - User Table|Label 5'!C125)","v":""},{"$f":"IF('Age - User Table|Label 5'!D125=\"\",\"\",'Age - User Table|Label 5'!D125)","v":""},{"$f":"IF('Age - User Table|Label 5'!E125=\"\",\"\",'Age - User Table|Label 5'!E125)","v":""},{"$f":"IF('Age - User Table|Label 5'!F125=\"\",\"\",'Age - User Table|Label 5'!F125)","v":""}]
[120,{"$f":"IF('Age - User Table|Label 5'!B126=\"\",\"\",'Age - User Table|Label 5'!B126)","v":""},{"$f":"IF('Age - User Table|Label 5'!C126=\"\",\"\",'Age - User Table|Label 5'!C126)","v":""},{"$f":"IF('Age - User Table|Label 5'!D126=\"\",\"\",'Age - User Table|Label 5'!D126)","v":""},{"$f":"IF('Age - User Table|Label 5'!E126=\"\",\"\",'Age - User Table|Label 5'!E126)","v":""},{"$f":"IF('Age - User Table|Label 5'!F126=\"\",\"\",'Age - User Table|Label 5'!F126)","v":""}]
[]
["AGE - Crown-Rump Length",null,null,null,null,{"$f":"IF('Age - CRL'!F1=\"\",\"\",'Age - CRL'!F1)","v":"Age CRL"}]
[null,null,null,null,null,{"$f":"ValidationData!DataVersion","v":"70.80.100.100"}]
["Index","Measurement Name",null,null,"CRL"]
[null,"Measurement Type",null,null,"Distance (cm)"]
[null,"Author",null,null,{"$f":"IF('Age - CRL'!J5=\"\",\"\",'Age - CRL'!J5)","v":""}]
[null,"Value","Age (weeks)","Age (days)","Range (weeks)","Range (days)"]
[1,{"$f":"IF('Age - CRL'!B7=\"\",\"\",'Age - CRL'!B7)","v":""},{"$f":"IF('Age - CRL'!C7=\"\",\"\",'Age - CRL'!C7)","v":""},{"$f":"IF('Age - CRL'!D7=\"\",\"\",'Age - CRL'!D7)","v":""},{"$f":"IF('Age - CRL'!E7=\"\",\"\",'Age - CRL'!E7)","v":""},{"$f":"IF('Age - CRL'!F7=\"\",\"\",'Age - CRL'!F7)","v":""}]
[2,{"$f":"IF('Age - CRL'!B8=\"\",\"\",'Age - CRL'!B8)","v":""},{"$f":"IF('Age - CRL'!C8=\"\",\"\",'Age - CRL'!C8)","v":""},{"$f":"IF('Age - CRL'!D8=\"\",\"\",'Age - CRL'!D8)","v":""},{"$f":"IF('Age - CRL'!E8=\"\",\"\",'Age - CRL'!E8)","v":""},{"$f":"IF('Age - CRL'!F8=\"\",\"\",'Age - CRL'!F8)","v":""}]
[3,{"$f":"IF('Age - CRL'!B9=\"\",\"\",'Age - CRL'!B9)","v":""},{"$f":"IF('Age - CRL'!C9=\"\",\"\",'Age - CRL'!C9)","v":""},{"$f":"IF('Age - CRL'!D9=\"\",\"\",'Age - CRL'!D9)","v":""},{"$f":"IF('Age - CRL'!E9=\"\",\"\",'Age - CRL'!E9)","v":""},{"$f":"IF('Age - CRL'!F9=\"\",\"\",'Age - CRL'!F9)","v":""}]
[4,{"$f":"IF('Age - CRL'!B10=\"\",\"\",'Age - CRL'!B10)","v":""},{"$f":"IF('Age - CRL'!C10=\"\",\"\",'Age - CRL'!C10)","v":""},{"$f":"IF('Age - CRL'!D10=\"\",\"\",'Age - CRL'!D10)","v":""},{"$f":"IF('Age - CRL'!E10=\"\",\"\",'Age - CRL'!E10)","v":""},{"$f":"IF('Age - CRL'!F10=\"\",\"\",'Age - CRL'!F10)","v":""}]
[5,{"$f":"IF('Age - CRL'!B11=\"\",\"\",'Age - CRL'!B11)","v":""},{"$f":"IF('Age - CRL'!C11=\"\",\"\",'Age - CRL'!C11)","v":""},{"$f":"IF('Age - CRL'!D11=\"\",\"\",'Age - CRL'!D11)","v":""},{"$f":"IF('Age - CRL'!E11=\"\",\"\",'Age - CRL'!E11)","v":""},{"$f":"IF('Age - CRL'!F11=\"\",\"\",'Age - CRL'!F11)","v":""}]
[6,{"$f":"IF('Age - CRL'!B12=\"\",\"\",'Age - CRL'!B12)","v":""},{"$f":"IF('Age - CRL'!C12=\"\",\"\",'Age - CRL'!C12)","v":""},{"$f":"IF('Age - CRL'!D12=\"\",\"\",'Age - CRL'!D12)","v":""},{"$f":"IF('Age - CRL'!E12=\"\",\"\",'Age - CRL'!E12)","v":""},{"$f":"IF('Age - CRL'!F12=\"\",\"\",'Age - CRL'!F12)","v":""}]
[7,{"$f":"IF('Age - CRL'!B13=\"\",\"\",'Age - CRL'!B13)","v":""},{"$f":"IF('Age - CRL'!C13=\"\",\"\",'Age - CRL'!C13)","v":""},{"$f":"IF('Age - CRL'!D13=\"\",\"\",'Age - CRL'!D13)","v":""},{"$f":"IF('Age - CRL'!E13=\"\",\"\",'Age - CRL'!E13)","v":""},{"$f":"IF('Age - CRL'!F13=\"\",\"\",'Age - CRL'!F13)","v":""}]
[8,{"$f":"IF('Age - CRL'!B14=\"\",\"\",'Age - CRL'!B14)","v":""},{"$f":"IF('Age - CRL'!C14=\"\",\"\",'Age - CRL'!C14)","v":""},{"$f":"IF('Age - CRL'!D14=\"\",\"\",'Age - CRL'!D14)","v":""},{"$f":"IF('Age - CRL'!E14=\"\",\"\",'Age - CRL'!E14)","v":""},{"$f":"IF('Age - CRL'!F14=\"\",\"\",'Age - CRL'!F14)","v":""}]
[9,{"$f":"IF('Age - CRL'!B15=\"\",\"\",'Age - CRL'!B15)","v":""},{"$f":"IF('Age - CRL'!C15=\"\",\"\",'Age - CRL'!C15)","v":""},{"$f":"IF('Age - CRL'!D15=\"\",\"\",'Age - CRL'!D15)","v":""},{"$f":"IF('Age - CRL'!E15=\"\",\"\",'Age - CRL'!E15)","v":""},{"$f":"IF('Age - CRL'!F15=\"\",\"\",'Age - CRL'!F15)","v":""}]
[10,{"$f":"IF('Age - CRL'!B16=\"\",\"\",'Age - CRL'!B16)","v":""},{"$f":"IF('Age - CRL'!C16=\"\",\"\",'Age - CRL'!C16)","v":""},{"$f":"IF('Age - CRL'!D16=\"\",\"\",'Age - CRL'!D16)","v":""},{"$f":"IF('Age - CRL'!E16=\"\",\"\",'Age - CRL'!E16)","v":""},{"$f":"IF('Age - CRL'!F16=\"\",\"\",'Age - CRL'!F16)","v":""}]
[11,{"$f":"IF('Age - CRL'!B17=\"\",\"\",'Age - CRL'!B17)","v":""},{"$f":"IF('Age - CRL'!C17=\"\",\"\",'Age - CRL'!C17)","v":""},{"$f":"IF('Age - CRL'!D17=\"\",\"\",'Age - CRL'!D17)","v":""},{"$f":"IF('Age - CRL'!E17=\"\",\"\",'Age - CRL'!E17)","v":""},{"$f":"IF('Age - CRL'!F17=\"\",\"\",'Age - CRL'!F17)","v":""}]
[12,{"$f":"IF('Age - CRL'!B18=\"\",\"\",'Age - CRL'!B18)","v":""},{"$f":"IF('Age - CRL'!C18=\"\",\"\",'Age - CRL'!C18)","v":""},{"$f":"IF('Age - CRL'!D18=\"\",\"\",'Age - CRL'!D18)","v":""},{"$f":"IF('Age - CRL'!E18=\"\",\"\",'Age - CRL'!E18)","v":""},{"$f":"IF('Age - CRL'!F18=\"\",\"\",'Age - CRL'!F18)","v":""}]
[13,{"$f":"IF('Age - CRL'!B19=\"\",\"\",'Age - CRL'!B19)","v":""},{"$f":"IF('Age - CRL'!C19=\"\",\"\",'Age - CRL'!C19)","v":""},{"$f":"IF('Age - CRL'!D19=\"\",\"\",'Age - CRL'!D19)","v":""},{"$f":"IF('Age - CRL'!E19=\"\",\"\",'Age - CRL'!E19)","v":""},{"$f":"IF('Age - CRL'!F19=\"\",\"\",'Age - CRL'!F19)","v":""}]
[14,{"$f":"IF('Age - CRL'!B20=\"\",\"\",'Age - CRL'!B20)","v":""},{"$f":"IF('Age - CRL'!C20=\"\",\"\",'Age - CRL'!C20)","v":""},{"$f":"IF('Age - CRL'!D20=\"\",\"\",'Age - CRL'!D20)","v":""},{"$f":"IF('Age - CRL'!E20=\"\",\"\",'Age - CRL'!E20)","v":""},{"$f":"IF('Age - CRL'!F20=\"\",\"\",'Age - CRL'!F20)","v":""}]
[15,{"$f":"IF('Age - CRL'!B21=\"\",\"\",'Age - CRL'!B21)","v":""},{"$f":"IF('Age - CRL'!C21=\"\",\"\",'Age - CRL'!C21)","v":""},{"$f":"IF('Age - CRL'!D21=\"\",\"\",'Age - CRL'!D21)","v":""},{"$f":"IF('Age - CRL'!E21=\"\",\"\",'Age - CRL'!E21)","v":""},{"$f":"IF('Age - CRL'!F21=\"\",\"\",'Age - CRL'!F21)","v":""}]
[16,{"$f":"IF('Age - CRL'!B22=\"\",\"\",'Age - CRL'!B22)","v":""},{"$f":"IF('Age - CRL'!C22=\"\",\"\",'Age - CRL'!C22)","v":""},{"$f":"IF('Age - CRL'!D22=\"\",\"\",'Age - CRL'!D22)","v":""},{"$f":"IF('Age - CRL'!E22=\"\",\"\",'Age - CRL'!E22)","v":""},{"$f":"IF('Age - CRL'!F22=\"\",\"\",'Age - CRL'!F22)","v":""}]
[17,{"$f":"IF('Age - CRL'!B23=\"\",\"\",'Age - CRL'!B23)","v":""},{"$f":"IF('Age - CRL'!C23=\"\",\"\",'Age - CRL'!C23)","v":""},{"$f":"IF('Age - CRL'!D23=\"\",\"\",'Age - CRL'!D23)","v":""},{"$f":"IF('Age - CRL'!E23=\"\",\"\",'Age - CRL'!E23)","v":""},{"$f":"IF('Age - CRL'!F23=\"\",\"\",'Age - CRL'!F23)","v":""}]
[18,{"$f":"IF('Age - CRL'!B24=\"\",\"\",'Age - CRL'!B24)","v":""},{"$f":"IF('Age - CRL'!C24=\"\",\"\",'Age - CRL'!C24)","v":""},{"$f":"IF('Age - CRL'!D24=\"\",\"\",'Age - CRL'!D24)","v":""},{"$f":"IF('Age - CRL'!E24=\"\",\"\",'Age - CRL'!E24)","v":""},{"$f":"IF('Age - CRL'!F24=\"\",\"\",'Age - CRL'!F24)","v":""}]
[19,{"$f":"IF('Age - CRL'!B25=\"\",\"\",'Age - CRL'!B25)","v":""},{"$f":"IF('Age - CRL'!C25=\"\",\"\",'Age - CRL'!C25)","v":""},{"$f":"IF('Age - CRL'!D25=\"\",\"\",'Age - CRL'!D25)","v":""},{"$f":"IF('Age - CRL'!E25=\"\",\"\",'Age - CRL'!E25)","v":""},{"$f":"IF('Age - CRL'!F25=\"\",\"\",'Age - CRL'!F25)","v":""}]
[20,{"$f":"IF('Age - CRL'!B26=\"\",\"\",'Age - CRL'!B26)","v":""},{"$f":"IF('Age - CRL'!C26=\"\",\"\",'Age - CRL'!C26)","v":""},{"$f":"IF('Age - CRL'!D26=\"\",\"\",'Age - CRL'!D26)","v":""},{"$f":"IF('Age - CRL'!E26=\"\",\"\",'Age - CRL'!E26)","v":""},{"$f":"IF('Age - CRL'!F26=\"\",\"\",'Age - CRL'!F26)","v":""}]
[21,{"$f":"IF('Age - CRL'!B27=\"\",\"\",'Age - CRL'!B27)","v":""},{"$f":"IF('Age - CRL'!C27=\"\",\"\",'Age - CRL'!C27)","v":""},{"$f":"IF('Age - CRL'!D27=\"\",\"\",'Age - CRL'!D27)","v":""},{"$f":"IF('Age - CRL'!E27=\"\",\"\",'Age - CRL'!E27)","v":""},{"$f":"IF('Age - CRL'!F27=\"\",\"\",'Age - CRL'!F27)","v":""}]
[22,{"$f":"IF('Age - CRL'!B28=\"\",\"\",'Age - CRL'!B28)","v":""},{"$f":"IF('Age - CRL'!C28=\"\",\"\",'Age - CRL'!C28)","v":""},{"$f":"IF('Age - CRL'!D28=\"\",\"\",'Age - CRL'!D28)","v":""},{"$f":"IF('Age - CRL'!E28=\"\",\"\",'Age - CRL'!E28)","v":""},{"$f":"IF('Age - CRL'!F28=\"\",\"\",'Age - CRL'!F28)","v":""}]
[23,{"$f":"IF('Age - CRL'!B29=\"\",\"\",'Age - CRL'!B29)","v":""},{"$f":"IF('Age - CRL'!C29=\"\",\"\",'Age - CRL'!C29)","v":""},{"$f":"IF('Age - CRL'!D29=\"\",\"\",'Age - CRL'!D29)","v":""},{"$f":"IF('Age - CRL'!E29=\"\",\"\",'Age - CRL'!E29)","v":""},{"$f":"IF('Age - CRL'!F29=\"\",\"\",'Age - CRL'!F29)","v":""}]
[24,{"$f":"IF('Age - CRL'!B30=\"\",\"\",'Age - CRL'!B30)","v":""},{"$f":"IF('Age - CRL'!C30=\"\",\"\",'Age - CRL'!C30)","v":""},{"$f":"IF('Age - CRL'!D30=\"\",\"\",'Age - CRL'!D30)","v":""},{"$f":"IF('Age - CRL'!E30=\"\",\"\",'Age - CRL'!E30)","v":""},{"$f":"IF('Age - CRL'!F30=\"\",\"\",'Age - CRL'!F30)","v":""}]
[25,{"$f":"IF('Age - CRL'!B31=\"\",\"\",'Age - CRL'!B31)","v":""},{"$f":"IF('Age - CRL'!C31=\"\",\"\",'Age - CRL'!C31)","v":""},{"$f":"IF('Age - CRL'!D31=\"\",\"\",'Age - CRL'!D31)","v":""},{"$f":"IF('Age - CRL'!E31=\"\",\"\",'Age - CRL'!E31)","v":""},{"$f":"IF('Age - CRL'!F31=\"\",\"\",'Age - CRL'!F31)","v":""}]
[26,{"$f":"IF('Age - CRL'!B32=\"\",\"\",'Age - CRL'!B32)","v":""},{"$f":"IF('Age - CRL'!C32=\"\",\"\",'Age - CRL'!C32)","v":""},{"$f":"IF('Age - CRL'!D32=\"\",\"\",'Age - CRL'!D32)","v":""},{"$f":"IF('Age - CRL'!E32=\"\",\"\",'Age - CRL'!E32)","v":""},{"$f":"IF('Age - CRL'!F32=\"\",\"\",'Age - CRL'!F32)","v":""}]
[27,{"$f":"IF('Age - CRL'!B33=\"\",\"\",'Age - CRL'!B33)","v":""},{"$f":"IF('Age - CRL'!C33=\"\",\"\",'Age - CRL'!C33)","v":""},{"$f":"IF('Age - CRL'!D33=\"\",\"\",'Age - CRL'!D33)","v":""},{"$f":"IF('Age - CRL'!E33=\"\",\"\",'Age - CRL'!E33)","v":""},{"$f":"IF('Age - CRL'!F33=\"\",\"\",'Age - CRL'!F33)","v":""}]
[28,{"$f":"IF('Age - CRL'!B34=\"\",\"\",'Age - CRL'!B34)","v":""},{"$f":"IF('Age - CRL'!C34=\"\",\"\",'Age - CRL'!C34)","v":""},{"$f":"IF('Age - CRL'!D34=\"\",\"\",'Age - CRL'!D34)","v":""},{"$f":"IF('Age - CRL'!E34=\"\",\"\",'Age - CRL'!E34)","v":""},{"$f":"IF('Age - CRL'!F34=\"\",\"\",'Age - CRL'!F34)","v":""}]
[29,{"$f":"IF('Age - CRL'!B35=\"\",\"\",'Age - CRL'!B35)","v":""},{"$f":"IF('Age - CRL'!C35=\"\",\"\",'Age - CRL'!C35)","v":""},{"$f":"IF('Age - CRL'!D35=\"\",\"\",'Age - CRL'!D35)","v":""},{"$f":"IF('Age - CRL'!E35=\"\",\"\",'Age - CRL'!E35)","v":""},{"$f":"IF('Age - CRL'!F35=\"\",\"\",'Age - CRL'!F35)","v":""}]
[30,{"$f":"IF('Age - CRL'!B36=\"\",\"\",'Age - CRL'!B36)","v":""},{"$f":"IF('Age - CRL'!C36=\"\",\"\",'Age - CRL'!C36)","v":""},{"$f":"IF('Age - CRL'!D36=\"\",\"\",'Age - CRL'!D36)","v":""},{"$f":"IF('Age - CRL'!E36=\"\",\"\",'Age - CRL'!E36)","v":""},{"$f":"IF('Age - CRL'!F36=\"\",\"\",'Age - CRL'!F36)","v":""}]
[31,{"$f":"IF('Age - CRL'!B37=\"\",\"\",'Age - CRL'!B37)","v":""},{"$f":"IF('Age - CRL'!C37=\"\",\"\",'Age - CRL'!C37)","v":""},{"$f":"IF('Age - CRL'!D37=\"\",\"\",'Age - CRL'!D37)","v":""},{"$f":"IF('Age - CRL'!E37=\"\",\"\",'Age - CRL'!E37)","v":""},{"$f":"IF('Age - CRL'!F37=\"\",\"\",'Age - CRL'!F37)","v":""}]
[32,{"$f":"IF('Age - CRL'!B38=\"\",\"\",'Age - CRL'!B38)","v":""},{"$f":"IF('Age - CRL'!C38=\"\",\"\",'Age - CRL'!C38)","v":""},{"$f":"IF('Age - CRL'!D38=\"\",\"\",'Age - CRL'!D38)","v":""},{"$f":"IF('Age - CRL'!E38=\"\",\"\",'Age - CRL'!E38)","v":""},{"$f":"IF('Age - CRL'!F38=\"\",\"\",'Age - CRL'!F38)","v":""}]
[33,{"$f":"IF('Age - CRL'!B39=\"\",\"\",'Age - CRL'!B39)","v":""},{"$f":"IF('Age - CRL'!C39=\"\",\"\",'Age - CRL'!C39)","v":""},{"$f":"IF('Age - CRL'!D39=\"\",\"\",'Age - CRL'!D39)","v":""},{"$f":"IF('Age - CRL'!E39=\"\",\"\",'Age - CRL'!E39)","v":""},{"$f":"IF('Age - CRL'!F39=\"\",\"\",'Age - CRL'!F39)","v":""}]
[34,{"$f":"IF('Age - CRL'!B40=\"\",\"\",'Age - CRL'!B40)","v":""},{"$f":"IF('Age - CRL'!C40=\"\",\"\",'Age - CRL'!C40)","v":""},{"$f":"IF('Age - CRL'!D40=\"\",\"\",'Age - CRL'!D40)","v":""},{"$f":"IF('Age - CRL'!E40=\"\",\"\",'Age - CRL'!E40)","v":""},{"$f":"IF('Age - CRL'!F40=\"\",\"\",'Age - CRL'!F40)","v":""}]
[35,{"$f":"IF('Age - CRL'!B41=\"\",\"\",'Age - CRL'!B41)","v":""},{"$f":"IF('Age - CRL'!C41=\"\",\"\",'Age - CRL'!C41)","v":""},{"$f":"IF('Age - CRL'!D41=\"\",\"\",'Age - CRL'!D41)","v":""},{"$f":"IF('Age - CRL'!E41=\"\",\"\",'Age - CRL'!E41)","v":""},{"$f":"IF('Age - CRL'!F41=\"\",\"\",'Age - CRL'!F41)","v":""}]
[36,{"$f":"IF('Age - CRL'!B42=\"\",\"\",'Age - CRL'!B42)","v":""},{"$f":"IF('Age - CRL'!C42=\"\",\"\",'Age - CRL'!C42)","v":""},{"$f":"IF('Age - CRL'!D42=\"\",\"\",'Age - CRL'!D42)","v":""},{"$f":"IF('Age - CRL'!E42=\"\",\"\",'Age - CRL'!E42)","v":""},{"$f":"IF('Age - CRL'!F42=\"\",\"\",'Age - CRL'!F42)","v":""}]
[37,{"$f":"IF('Age - CRL'!B43=\"\",\"\",'Age - CRL'!B43)","v":""},{"$f":"IF('Age - CRL'!C43=\"\",\"\",'Age - CRL'!C43)","v":""},{"$f":"IF('Age - CRL'!D43=\"\",\"\",'Age - CRL'!D43)","v":""},{"$f":"IF('Age - CRL'!E43=\"\",\"\",'Age - CRL'!E43)","v":""},{"$f":"IF('Age - CRL'!F43=\"\",\"\",'Age - CRL'!F43)","v":""}]
[38,{"$f":"IF('Age - CRL'!B44=\"\",\"\",'Age - CRL'!B44)","v":""},{"$f":"IF('Age - CRL'!C44=\"\",\"\",'Age - CRL'!C44)","v":""},{"$f":"IF('Age - CRL'!D44=\"\",\"\",'Age - CRL'!D44)","v":""},{"$f":"IF('Age - CRL'!E44=\"\",\"\",'Age - CRL'!E44)","v":""},{"$f":"IF('Age - CRL'!F44=\"\",\"\",'Age - CRL'!F44)","v":""}]
[39,{"$f":"IF('Age - CRL'!B45=\"\",\"\",'Age - CRL'!B45)","v":""},{"$f":"IF('Age - CRL'!C45=\"\",\"\",'Age - CRL'!C45)","v":""},{"$f":"IF('Age - CRL'!D45=\"\",\"\",'Age - CRL'!D45)","v":""},{"$f":"IF('Age - CRL'!E45=\"\",\"\",'Age - CRL'!E45)","v":""},{"$f":"IF('Age - CRL'!F45=\"\",\"\",'Age - CRL'!F45)","v":""}]
[40,{"$f":"IF('Age - CRL'!B46=\"\",\"\",'Age - CRL'!B46)","v":""},{"$f":"IF('Age - CRL'!C46=\"\",\"\",'Age - CRL'!C46)","v":""},{"$f":"IF('Age - CRL'!D46=\"\",\"\",'Age - CRL'!D46)","v":""},{"$f":"IF('Age - CRL'!E46=\"\",\"\",'Age - CRL'!E46)","v":""},{"$f":"IF('Age - CRL'!F46=\"\",\"\",'Age - CRL'!F46)","v":""}]
[41,{"$f":"IF('Age - CRL'!B47=\"\",\"\",'Age - CRL'!B47)","v":""},{"$f":"IF('Age - CRL'!C47=\"\",\"\",'Age - CRL'!C47)","v":""},{"$f":"IF('Age - CRL'!D47=\"\",\"\",'Age - CRL'!D47)","v":""},{"$f":"IF('Age - CRL'!E47=\"\",\"\",'Age - CRL'!E47)","v":""},{"$f":"IF('Age - CRL'!F47=\"\",\"\",'Age - CRL'!F47)","v":""}]
[42,{"$f":"IF('Age - CRL'!B48=\"\",\"\",'Age - CRL'!B48)","v":""},{"$f":"IF('Age - CRL'!C48=\"\",\"\",'Age - CRL'!C48)","v":""},{"$f":"IF('Age - CRL'!D48=\"\",\"\",'Age - CRL'!D48)","v":""},{"$f":"IF('Age - CRL'!E48=\"\",\"\",'Age - CRL'!E48)","v":""},{"$f":"IF('Age - CRL'!F48=\"\",\"\",'Age - CRL'!F48)","v":""}]
[43,{"$f":"IF('Age - CRL'!B49=\"\",\"\",'Age - CRL'!B49)","v":""},{"$f":"IF('Age - CRL'!C49=\"\",\"\",'Age - CRL'!C49)","v":""},{"$f":"IF('Age - CRL'!D49=\"\",\"\",'Age - CRL'!D49)","v":""},{"$f":"IF('Age - CRL'!E49=\"\",\"\",'Age - CRL'!E49)","v":""},{"$f":"IF('Age - CRL'!F49=\"\",\"\",'Age - CRL'!F49)","v":""}]
[44,{"$f":"IF('Age - CRL'!B50=\"\",\"\",'Age - CRL'!B50)","v":""},{"$f":"IF('Age - CRL'!C50=\"\",\"\",'Age - CRL'!C50)","v":""},{"$f":"IF('Age - CRL'!D50=\"\",\"\",'Age - CRL'!D50)","v":""},{"$f":"IF('Age - CRL'!E50=\"\",\"\",'Age - CRL'!E50)","v":""},{"$f":"IF('Age - CRL'!F50=\"\",\"\",'Age - CRL'!F50)","v":""}]
[45,{"$f":"IF('Age - CRL'!B51=\"\",\"\",'Age - CRL'!B51)","v":""},{"$f":"IF('Age - CRL'!C51=\"\",\"\",'Age - CRL'!C51)","v":""},{"$f":"IF('Age - CRL'!D51=\"\",\"\",'Age - CRL'!D51)","v":""},{"$f":"IF('Age - CRL'!E51=\"\",\"\",'Age - CRL'!E51)","v":""},{"$f":"IF('Age - CRL'!F51=\"\",\"\",'Age - CRL'!F51)","v":""}]
[46,{"$f":"IF('Age - CRL'!B52=\"\",\"\",'Age - CRL'!B52)","v":""},{"$f":"IF('Age - CRL'!C52=\"\",\"\",'Age - CRL'!C52)","v":""},{"$f":"IF('Age - CRL'!D52=\"\",\"\",'Age - CRL'!D52)","v":""},{"$f":"IF('Age - CRL'!E52=\"\",\"\",'Age - CRL'!E52)","v":""},{"$f":"IF('Age - CRL'!F52=\"\",\"\",'Age - CRL'!F52)","v":""}]
[47,{"$f":"IF('Age - CRL'!B53=\"\",\"\",'Age - CRL'!B53)","v":""},{"$f":"IF('Age - CRL'!C53=\"\",\"\",'Age - CRL'!C53)","v":""},{"$f":"IF('Age - CRL'!D53=\"\",\"\",'Age - CRL'!D53)","v":""},{"$f":"IF('Age - CRL'!E53=\"\",\"\",'Age - CRL'!E53)","v":""},{"$f":"IF('Age - CRL'!F53=\"\",\"\",'Age - CRL'!F53)","v":""}]
[48,{"$f":"IF('Age - CRL'!B54=\"\",\"\",'Age - CRL'!B54)","v":""},{"$f":"IF('Age - CRL'!C54=\"\",\"\",'Age - CRL'!C54)","v":""},{"$f":"IF('Age - CRL'!D54=\"\",\"\",'Age - CRL'!D54)","v":""},{"$f":"IF('Age - CRL'!E54=\"\",\"\",'Age - CRL'!E54)","v":""},{"$f":"IF('Age - CRL'!F54=\"\",\"\",'Age - CRL'!F54)","v":""}]
[49,{"$f":"IF('Age - CRL'!B55=\"\",\"\",'Age - CRL'!B55)","v":""},{"$f":"IF('Age - CRL'!C55=\"\",\"\",'Age - CRL'!C55)","v":""},{"$f":"IF('Age - CRL'!D55=\"\",\"\",'Age - CRL'!D55)","v":""},{"$f":"IF('Age - CRL'!E55=\"\",\"\",'Age - CRL'!E55)","v":""},{"$f":"IF('Age - CRL'!F55=\"\",\"\",'Age - CRL'!F55)","v":""}]
[50,{"$f":"IF('Age - CRL'!B56=\"\",\"\",'Age - CRL'!B56)","v":""},{"$f":"IF('Age - CRL'!C56=\"\",\"\",'Age - CRL'!C56)","v":""},{"$f":"IF('Age - CRL'!D56=\"\",\"\",'Age - CRL'!D56)","v":""},{"$f":"IF('Age - CRL'!E56=\"\",\"\",'Age - CRL'!E56)","v":""},{"$f":"IF('Age - CRL'!F56=\"\",\"\",'Age - CRL'!F56)","v":""}]
[51,{"$f":"IF('Age - CRL'!B57=\"\",\"\",'Age - CRL'!B57)","v":""},{"$f":"IF('Age - CRL'!C57=\"\",\"\",'Age - CRL'!C57)","v":""},{"$f":"IF('Age - CRL'!D57=\"\",\"\",'Age - CRL'!D57)","v":""},{"$f":"IF('Age - CRL'!E57=\"\",\"\",'Age - CRL'!E57)","v":""},{"$f":"IF('Age - CRL'!F57=\"\",\"\",'Age - CRL'!F57)","v":""}]
[52,{"$f":"IF('Age - CRL'!B58=\"\",\"\",'Age - CRL'!B58)","v":""},{"$f":"IF('Age - CRL'!C58=\"\",\"\",'Age - CRL'!C58)","v":""},{"$f":"IF('Age - CRL'!D58=\"\",\"\",'Age - CRL'!D58)","v":""},{"$f":"IF('Age - CRL'!E58=\"\",\"\",'Age - CRL'!E58)","v":""},{"$f":"IF('Age - CRL'!F58=\"\",\"\",'Age - CRL'!F58)","v":""}]
[53,{"$f":"IF('Age - CRL'!B59=\"\",\"\",'Age - CRL'!B59)","v":""},{"$f":"IF('Age - CRL'!C59=\"\",\"\",'Age - CRL'!C59)","v":""},{"$f":"IF('Age - CRL'!D59=\"\",\"\",'Age - CRL'!D59)","v":""},{"$f":"IF('Age - CRL'!E59=\"\",\"\",'Age - CRL'!E59)","v":""},{"$f":"IF('Age - CRL'!F59=\"\",\"\",'Age - CRL'!F59)","v":""}]
[54,{"$f":"IF('Age - CRL'!B60=\"\",\"\",'Age - CRL'!B60)","v":""},{"$f":"IF('Age - CRL'!C60=\"\",\"\",'Age - CRL'!C60)","v":""},{"$f":"IF('Age - CRL'!D60=\"\",\"\",'Age - CRL'!D60)","v":""},{"$f":"IF('Age - CRL'!E60=\"\",\"\",'Age - CRL'!E60)","v":""},{"$f":"IF('Age - CRL'!F60=\"\",\"\",'Age - CRL'!F60)","v":""}]
[55,{"$f":"IF('Age - CRL'!B61=\"\",\"\",'Age - CRL'!B61)","v":""},{"$f":"IF('Age - CRL'!C61=\"\",\"\",'Age - CRL'!C61)","v":""},{"$f":"IF('Age - CRL'!D61=\"\",\"\",'Age - CRL'!D61)","v":""},{"$f":"IF('Age - CRL'!E61=\"\",\"\",'Age - CRL'!E61)","v":""},{"$f":"IF('Age - CRL'!F61=\"\",\"\",'Age - CRL'!F61)","v":""}]
[56,{"$f":"IF('Age - CRL'!B62=\"\",\"\",'Age - CRL'!B62)","v":""},{"$f":"IF('Age - CRL'!C62=\"\",\"\",'Age - CRL'!C62)","v":""},{"$f":"IF('Age - CRL'!D62=\"\",\"\",'Age - CRL'!D62)","v":""},{"$f":"IF('Age - CRL'!E62=\"\",\"\",'Age - CRL'!E62)","v":""},{"$f":"IF('Age - CRL'!F62=\"\",\"\",'Age - CRL'!F62)","v":""}]
[57,{"$f":"IF('Age - CRL'!B63=\"\",\"\",'Age - CRL'!B63)","v":""},{"$f":"IF('Age - CRL'!C63=\"\",\"\",'Age - CRL'!C63)","v":""},{"$f":"IF('Age - CRL'!D63=\"\",\"\",'Age - CRL'!D63)","v":""},{"$f":"IF('Age - CRL'!E63=\"\",\"\",'Age - CRL'!E63)","v":""},{"$f":"IF('Age - CRL'!F63=\"\",\"\",'Age - CRL'!F63)","v":""}]
[58,{"$f":"IF('Age - CRL'!B64=\"\",\"\",'Age - CRL'!B64)","v":""},{"$f":"IF('Age - CRL'!C64=\"\",\"\",'Age - CRL'!C64)","v":""},{"$f":"IF('Age - CRL'!D64=\"\",\"\",'Age - CRL'!D64)","v":""},{"$f":"IF('Age - CRL'!E64=\"\",\"\",'Age - CRL'!E64)","v":""},{"$f":"IF('Age - CRL'!F64=\"\",\"\",'Age - CRL'!F64)","v":""}]
[59,{"$f":"IF('Age - CRL'!B65=\"\",\"\",'Age - CRL'!B65)","v":""},{"$f":"IF('Age - CRL'!C65=\"\",\"\",'Age - CRL'!C65)","v":""},{"$f":"IF('Age - CRL'!D65=\"\",\"\",'Age - CRL'!D65)","v":""},{"$f":"IF('Age - CRL'!E65=\"\",\"\",'Age - CRL'!E65)","v":""},{"$f":"IF('Age - CRL'!F65=\"\",\"\",'Age - CRL'!F65)","v":""}]
[60,{"$f":"IF('Age - CRL'!B66=\"\",\"\",'Age - CRL'!B66)","v":""},{"$f":"IF('Age - CRL'!C66=\"\",\"\",'Age - CRL'!C66)","v":""},{"$f":"IF('Age - CRL'!D66=\"\",\"\",'Age - CRL'!D66)","v":""},{"$f":"IF('Age - CRL'!E66=\"\",\"\",'Age - CRL'!E66)","v":""},{"$f":"IF('Age - CRL'!F66=\"\",\"\",'Age - CRL'!F66)","v":""}]
[61,{"$f":"IF('Age - CRL'!B67=\"\",\"\",'Age - CRL'!B67)","v":""},{"$f":"IF('Age - CRL'!C67=\"\",\"\",'Age - CRL'!C67)","v":""},{"$f":"IF('Age - CRL'!D67=\"\",\"\",'Age - CRL'!D67)","v":""},{"$f":"IF('Age - CRL'!E67=\"\",\"\",'Age - CRL'!E67)","v":""},{"$f":"IF('Age - CRL'!F67=\"\",\"\",'Age - CRL'!F67)","v":""}]
[62,{"$f":"IF('Age - CRL'!B68=\"\",\"\",'Age - CRL'!B68)","v":""},{"$f":"IF('Age - CRL'!C68=\"\",\"\",'Age - CRL'!C68)","v":""},{"$f":"IF('Age - CRL'!D68=\"\",\"\",'Age - CRL'!D68)","v":""},{"$f":"IF('Age - CRL'!E68=\"\",\"\",'Age - CRL'!E68)","v":""},{"$f":"IF('Age - CRL'!F68=\"\",\"\",'Age - CRL'!F68)","v":""}]
[63,{"$f":"IF('Age - CRL'!B69=\"\",\"\",'Age - CRL'!B69)","v":""},{"$f":"IF('Age - CRL'!C69=\"\",\"\",'Age - CRL'!C69)","v":""},{"$f":"IF('Age - CRL'!D69=\"\",\"\",'Age - CRL'!D69)","v":""},{"$f":"IF('Age - CRL'!E69=\"\",\"\",'Age - CRL'!E69)","v":""},{"$f":"IF('Age - CRL'!F69=\"\",\"\",'Age - CRL'!F69)","v":""}]
[64,{"$f":"IF('Age - CRL'!B70=\"\",\"\",'Age - CRL'!B70)","v":""},{"$f":"IF('Age - CRL'!C70=\"\",\"\",'Age - CRL'!C70)","v":""},{"$f":"IF('Age - CRL'!D70=\"\",\"\",'Age - CRL'!D70)","v":""},{"$f":"IF('Age - CRL'!E70=\"\",\"\",'Age - CRL'!E70)","v":""},{"$f":"IF('Age - CRL'!F70=\"\",\"\",'Age - CRL'!F70)","v":""}]
[65,{"$f":"IF('Age - CRL'!B71=\"\",\"\",'Age - CRL'!B71)","v":""},{"$f":"IF('Age - CRL'!C71=\"\",\"\",'Age - CRL'!C71)","v":""},{"$f":"IF('Age - CRL'!D71=\"\",\"\",'Age - CRL'!D71)","v":""},{"$f":"IF('Age - CRL'!E71=\"\",\"\",'Age - CRL'!E71)","v":""},{"$f":"IF('Age - CRL'!F71=\"\",\"\",'Age - CRL'!F71)","v":""}]
[66,{"$f":"IF('Age - CRL'!B72=\"\",\"\",'Age - CRL'!B72)","v":""},{"$f":"IF('Age - CRL'!C72=\"\",\"\",'Age - CRL'!C72)","v":""},{"$f":"IF('Age - CRL'!D72=\"\",\"\",'Age - CRL'!D72)","v":""},{"$f":"IF('Age - CRL'!E72=\"\",\"\",'Age - CRL'!E72)","v":""},{"$f":"IF('Age - CRL'!F72=\"\",\"\",'Age - CRL'!F72)","v":""}]
[67,{"$f":"IF('Age - CRL'!B73=\"\",\"\",'Age - CRL'!B73)","v":""},{"$f":"IF('Age - CRL'!C73=\"\",\"\",'Age - CRL'!C73)","v":""},{"$f":"IF('Age - CRL'!D73=\"\",\"\",'Age - CRL'!D73)","v":""},{"$f":"IF('Age - CRL'!E73=\"\",\"\",'Age - CRL'!E73)","v":""},{"$f":"IF('Age - CRL'!F73=\"\",\"\",'Age - CRL'!F73)","v":""}]
[68,{"$f":"IF('Age - CRL'!B74=\"\",\"\",'Age - CRL'!B74)","v":""},{"$f":"IF('Age - CRL'!C74=\"\",\"\",'Age - CRL'!C74)","v":""},{"$f":"IF('Age - CRL'!D74=\"\",\"\",'Age - CRL'!D74)","v":""},{"$f":"IF('Age - CRL'!E74=\"\",\"\",'Age - CRL'!E74)","v":""},{"$f":"IF('Age - CRL'!F74=\"\",\"\",'Age - CRL'!F74)","v":""}]
[69,{"$f":"IF('Age - CRL'!B75=\"\",\"\",'Age - CRL'!B75)","v":""},{"$f":"IF('Age - CRL'!C75=\"\",\"\",'Age - CRL'!C75)","v":""},{"$f":"IF('Age - CRL'!D75=\"\",\"\",'Age - CRL'!D75)","v":""},{"$f":"IF('Age - CRL'!E75=\"\",\"\",'Age - CRL'!E75)","v":""},{"$f":"IF('Age - CRL'!F75=\"\",\"\",'Age - CRL'!F75)","v":""}]
[70,{"$f":"IF('Age - CRL'!B76=\"\",\"\",'Age - CRL'!B76)","v":""},{"$f":"IF('Age - CRL'!C76=\"\",\"\",'Age - CRL'!C76)","v":""},{"$f":"IF('Age - CRL'!D76=\"\",\"\",'Age - CRL'!D76)","v":""},{"$f":"IF('Age - CRL'!E76=\"\",\"\",'Age - CRL'!E76)","v":""},{"$f":"IF('Age - CRL'!F76=\"\",\"\",'Age - CRL'!F76)","v":""}]
[71,{"$f":"IF('Age - CRL'!B77=\"\",\"\",'Age - CRL'!B77)","v":""},{"$f":"IF('Age - CRL'!C77=\"\",\"\",'Age - CRL'!C77)","v":""},{"$f":"IF('Age - CRL'!D77=\"\",\"\",'Age - CRL'!D77)","v":""},{"$f":"IF('Age - CRL'!E77=\"\",\"\",'Age - CRL'!E77)","v":""},{"$f":"IF('Age - CRL'!F77=\"\",\"\",'Age - CRL'!F77)","v":""}]
[72,{"$f":"IF('Age - CRL'!B78=\"\",\"\",'Age - CRL'!B78)","v":""},{"$f":"IF('Age - CRL'!C78=\"\",\"\",'Age - CRL'!C78)","v":""},{"$f":"IF('Age - CRL'!D78=\"\",\"\",'Age - CRL'!D78)","v":""},{"$f":"IF('Age - CRL'!E78=\"\",\"\",'Age - CRL'!E78)","v":""},{"$f":"IF('Age - CRL'!F78=\"\",\"\",'Age - CRL'!F78)","v":""}]
[73,{"$f":"IF('Age - CRL'!B79=\"\",\"\",'Age - CRL'!B79)","v":""},{"$f":"IF('Age - CRL'!C79=\"\",\"\",'Age - CRL'!C79)","v":""},{"$f":"IF('Age - CRL'!D79=\"\",\"\",'Age - CRL'!D79)","v":""},{"$f":"IF('Age - CRL'!E79=\"\",\"\",'Age - CRL'!E79)","v":""},{"$f":"IF('Age - CRL'!F79=\"\",\"\",'Age - CRL'!F79)","v":""}]
[74,{"$f":"IF('Age - CRL'!B80=\"\",\"\",'Age - CRL'!B80)","v":""},{"$f":"IF('Age - CRL'!C80=\"\",\"\",'Age - CRL'!C80)","v":""},{"$f":"IF('Age - CRL'!D80=\"\",\"\",'Age - CRL'!D80)","v":""},{"$f":"IF('Age - CRL'!E80=\"\",\"\",'Age - CRL'!E80)","v":""},{"$f":"IF('Age - CRL'!F80=\"\",\"\",'Age - CRL'!F80)","v":""}]
[75,{"$f":"IF('Age - CRL'!B81=\"\",\"\",'Age - CRL'!B81)","v":""},{"$f":"IF('Age - CRL'!C81=\"\",\"\",'Age - CRL'!C81)","v":""},{"$f":"IF('Age - CRL'!D81=\"\",\"\",'Age - CRL'!D81)","v":""},{"$f":"IF('Age - CRL'!E81=\"\",\"\",'Age - CRL'!E81)","v":""},{"$f":"IF('Age - CRL'!F81=\"\",\"\",'Age - CRL'!F81)","v":""}]
[76,{"$f":"IF('Age - CRL'!B82=\"\",\"\",'Age - CRL'!B82)","v":""},{"$f":"IF('Age - CRL'!C82=\"\",\"\",'Age - CRL'!C82)","v":""},{"$f":"IF('Age - CRL'!D82=\"\",\"\",'Age - CRL'!D82)","v":""},{"$f":"IF('Age - CRL'!E82=\"\",\"\",'Age - CRL'!E82)","v":""},{"$f":"IF('Age - CRL'!F82=\"\",\"\",'Age - CRL'!F82)","v":""}]
[77,{"$f":"IF('Age - CRL'!B83=\"\",\"\",'Age - CRL'!B83)","v":""},{"$f":"IF('Age - CRL'!C83=\"\",\"\",'Age - CRL'!C83)","v":""},{"$f":"IF('Age - CRL'!D83=\"\",\"\",'Age - CRL'!D83)","v":""},{"$f":"IF('Age - CRL'!E83=\"\",\"\",'Age - CRL'!E83)","v":""},{"$f":"IF('Age - CRL'!F83=\"\",\"\",'Age - CRL'!F83)","v":""}]
[78,{"$f":"IF('Age - CRL'!B84=\"\",\"\",'Age - CRL'!B84)","v":""},{"$f":"IF('Age - CRL'!C84=\"\",\"\",'Age - CRL'!C84)","v":""},{"$f":"IF('Age - CRL'!D84=\"\",\"\",'Age - CRL'!D84)","v":""},{"$f":"IF('Age - CRL'!E84=\"\",\"\",'Age - CRL'!E84)","v":""},{"$f":"IF('Age - CRL'!F84=\"\",\"\",'Age - CRL'!F84)","v":""}]
[79,{"$f":"IF('Age - CRL'!B85=\"\",\"\",'Age - CRL'!B85)","v":""},{"$f":"IF('Age - CRL'!C85=\"\",\"\",'Age - CRL'!C85)","v":""},{"$f":"IF('Age - CRL'!D85=\"\",\"\",'Age - CRL'!D85)","v":""},{"$f":"IF('Age - CRL'!E85=\"\",\"\",'Age - CRL'!E85)","v":""},{"$f":"IF('Age - CRL'!F85=\"\",\"\",'Age - CRL'!F85)","v":""}]
[80,{"$f":"IF('Age - CRL'!B86=\"\",\"\",'Age - CRL'!B86)","v":""},{"$f":"IF('Age - CRL'!C86=\"\",\"\",'Age - CRL'!C86)","v":""},{"$f":"IF('Age - CRL'!D86=\"\",\"\",'Age - CRL'!D86)","v":""},{"$f":"IF('Age - CRL'!E86=\"\",\"\",'Age - CRL'!E86)","v":""},{"$f":"IF('Age - CRL'!F86=\"\",\"\",'Age - CRL'!F86)","v":""}]
[81,{"$f":"IF('Age - CRL'!B87=\"\",\"\",'Age - CRL'!B87)","v":""},{"$f":"IF('Age - CRL'!C87=\"\",\"\",'Age - CRL'!C87)","v":""},{"$f":"IF('Age - CRL'!D87=\"\",\"\",'Age - CRL'!D87)","v":""},{"$f":"IF('Age - CRL'!E87=\"\",\"\",'Age - CRL'!E87)","v":""},{"$f":"IF('Age - CRL'!F87=\"\",\"\",'Age - CRL'!F87)","v":""}]
[82,{"$f":"IF('Age - CRL'!B88=\"\",\"\",'Age - CRL'!B88)","v":""},{"$f":"IF('Age - CRL'!C88=\"\",\"\",'Age - CRL'!C88)","v":""},{"$f":"IF('Age - CRL'!D88=\"\",\"\",'Age - CRL'!D88)","v":""},{"$f":"IF('Age - CRL'!E88=\"\",\"\",'Age - CRL'!E88)","v":""},{"$f":"IF('Age - CRL'!F88=\"\",\"\",'Age - CRL'!F88)","v":""}]
[83,{"$f":"IF('Age - CRL'!B89=\"\",\"\",'Age - CRL'!B89)","v":""},{"$f":"IF('Age - CRL'!C89=\"\",\"\",'Age - CRL'!C89)","v":""},{"$f":"IF('Age - CRL'!D89=\"\",\"\",'Age - CRL'!D89)","v":""},{"$f":"IF('Age - CRL'!E89=\"\",\"\",'Age - CRL'!E89)","v":""},{"$f":"IF('Age - CRL'!F89=\"\",\"\",'Age - CRL'!F89)","v":""}]
[84,{"$f":"IF('Age - CRL'!B90=\"\",\"\",'Age - CRL'!B90)","v":""},{"$f":"IF('Age - CRL'!C90=\"\",\"\",'Age - CRL'!C90)","v":""},{"$f":"IF('Age - CRL'!D90=\"\",\"\",'Age - CRL'!D90)","v":""},{"$f":"IF('Age - CRL'!E90=\"\",\"\",'Age - CRL'!E90)","v":""},{"$f":"IF('Age - CRL'!F90=\"\",\"\",'Age - CRL'!F90)","v":""}]
[85,{"$f":"IF('Age - CRL'!B91=\"\",\"\",'Age - CRL'!B91)","v":""},{"$f":"IF('Age - CRL'!C91=\"\",\"\",'Age - CRL'!C91)","v":""},{"$f":"IF('Age - CRL'!D91=\"\",\"\",'Age - CRL'!D91)","v":""},{"$f":"IF('Age - CRL'!E91=\"\",\"\",'Age - CRL'!E91)","v":""},{"$f":"IF('Age - CRL'!F91=\"\",\"\",'Age - CRL'!F91)","v":""}]
[86,{"$f":"IF('Age - CRL'!B92=\"\",\"\",'Age - CRL'!B92)","v":""},{"$f":"IF('Age - CRL'!C92=\"\",\"\",'Age - CRL'!C92)","v":""},{"$f":"IF('Age - CRL'!D92=\"\",\"\",'Age - CRL'!D92)","v":""},{"$f":"IF('Age - CRL'!E92=\"\",\"\",'Age - CRL'!E92)","v":""},{"$f":"IF('Age - CRL'!F92=\"\",\"\",'Age - CRL'!F92)","v":""}]
[87,{"$f":"IF('Age - CRL'!B93=\"\",\"\",'Age - CRL'!B93)","v":""},{"$f":"IF('Age - CRL'!C93=\"\",\"\",'Age - CRL'!C93)","v":""},{"$f":"IF('Age - CRL'!D93=\"\",\"\",'Age - CRL'!D93)","v":""},{"$f":"IF('Age - CRL'!E93=\"\",\"\",'Age - CRL'!E93)","v":""},{"$f":"IF('Age - CRL'!F93=\"\",\"\",'Age - CRL'!F93)","v":""}]
[88,{"$f":"IF('Age - CRL'!B94=\"\",\"\",'Age - CRL'!B94)","v":""},{"$f":"IF('Age - CRL'!C94=\"\",\"\",'Age - CRL'!C94)","v":""},{"$f":"IF('Age - CRL'!D94=\"\",\"\",'Age - CRL'!D94)","v":""},{"$f":"IF('Age - CRL'!E94=\"\",\"\",'Age - CRL'!E94)","v":""},{"$f":"IF('Age - CRL'!F94=\"\",\"\",'Age - CRL'!F94)","v":""}]
[89,{"$f":"IF('Age - CRL'!B95=\"\",\"\",'Age - CRL'!B95)","v":""},{"$f":"IF('Age - CRL'!C95=\"\",\"\",'Age - CRL'!C95)","v":""},{"$f":"IF('Age - CRL'!D95=\"\",\"\",'Age - CRL'!D95)","v":""},{"$f":"IF('Age - CRL'!E95=\"\",\"\",'Age - CRL'!E95)","v":""},{"$f":"IF('Age - CRL'!F95=\"\",\"\",'Age - CRL'!F95)","v":""}]
[90,{"$f":"IF('Age - CRL'!B96=\"\",\"\",'Age - CRL'!B96)","v":""},{"$f":"IF('Age - CRL'!C96=\"\",\"\",'Age - CRL'!C96)","v":""},{"$f":"IF('Age - CRL'!D96=\"\",\"\",'Age - CRL'!D96)","v":""},{"$f":"IF('Age - CRL'!E96=\"\",\"\",'Age - CRL'!E96)","v":""},{"$f":"IF('Age - CRL'!F96=\"\",\"\",'Age - CRL'!F96)","v":""}]
[91,{"$f":"IF('Age - CRL'!B97=\"\",\"\",'Age - CRL'!B97)","v":""},{"$f":"IF('Age - CRL'!C97=\"\",\"\",'Age - CRL'!C97)","v":""},{"$f":"IF('Age - CRL'!D97=\"\",\"\",'Age - CRL'!D97)","v":""},{"$f":"IF('Age - CRL'!E97=\"\",\"\",'Age - CRL'!E97)","v":""},{"$f":"IF('Age - CRL'!F97=\"\",\"\",'Age - CRL'!F97)","v":""}]
[92,{"$f":"IF('Age - CRL'!B98=\"\",\"\",'Age - CRL'!B98)","v":""},{"$f":"IF('Age - CRL'!C98=\"\",\"\",'Age - CRL'!C98)","v":""},{"$f":"IF('Age - CRL'!D98=\"\",\"\",'Age - CRL'!D98)","v":""},{"$f":"IF('Age - CRL'!E98=\"\",\"\",'Age - CRL'!E98)","v":""},{"$f":"IF('Age - CRL'!F98=\"\",\"\",'Age - CRL'!F98)","v":""}]
[93,{"$f":"IF('Age - CRL'!B99=\"\",\"\",'Age - CRL'!B99)","v":""},{"$f":"IF('Age - CRL'!C99=\"\",\"\",'Age - CRL'!C99)","v":""},{"$f":"IF('Age - CRL'!D99=\"\",\"\",'Age - CRL'!D99)","v":""},{"$f":"IF('Age - CRL'!E99=\"\",\"\",'Age - CRL'!E99)","v":""},{"$f":"IF('Age - CRL'!F99=\"\",\"\",'Age - CRL'!F99)","v":""}]
[94,{"$f":"IF('Age - CRL'!B100=\"\",\"\",'Age - CRL'!B100)","v":""},{"$f":"IF('Age - CRL'!C100=\"\",\"\",'Age - CRL'!C100)","v":""},{"$f":"IF('Age - CRL'!D100=\"\",\"\",'Age - CRL'!D100)","v":""},{"$f":"IF('Age - CRL'!E100=\"\",\"\",'Age - CRL'!E100)","v":""},{"$f":"IF('Age - CRL'!F100=\"\",\"\",'Age - CRL'!F100)","v":""}]
[95,{"$f":"IF('Age - CRL'!B101=\"\",\"\",'Age - CRL'!B101)","v":""},{"$f":"IF('Age - CRL'!C101=\"\",\"\",'Age - CRL'!C101)","v":""},{"$f":"IF('Age - CRL'!D101=\"\",\"\",'Age - CRL'!D101)","v":""},{"$f":"IF('Age - CRL'!E101=\"\",\"\",'Age - CRL'!E101)","v":""},{"$f":"IF('Age - CRL'!F101=\"\",\"\",'Age - CRL'!F101)","v":""}]
[96,{"$f":"IF('Age - CRL'!B102=\"\",\"\",'Age - CRL'!B102)","v":""},{"$f":"IF('Age - CRL'!C102=\"\",\"\",'Age - CRL'!C102)","v":""},{"$f":"IF('Age - CRL'!D102=\"\",\"\",'Age - CRL'!D102)","v":""},{"$f":"IF('Age - CRL'!E102=\"\",\"\",'Age - CRL'!E102)","v":""},{"$f":"IF('Age - CRL'!F102=\"\",\"\",'Age - CRL'!F102)","v":""}]
[97,{"$f":"IF('Age - CRL'!B103=\"\",\"\",'Age - CRL'!B103)","v":""},{"$f":"IF('Age - CRL'!C103=\"\",\"\",'Age - CRL'!C103)","v":""},{"$f":"IF('Age - CRL'!D103=\"\",\"\",'Age - CRL'!D103)","v":""},{"$f":"IF('Age - CRL'!E103=\"\",\"\",'Age - CRL'!E103)","v":""},{"$f":"IF('Age - CRL'!F103=\"\",\"\",'Age - CRL'!F103)","v":""}]
[98,{"$f":"IF('Age - CRL'!B104=\"\",\"\",'Age - CRL'!B104)","v":""},{"$f":"IF('Age - CRL'!C104=\"\",\"\",'Age - CRL'!C104)","v":""},{"$f":"IF('Age - CRL'!D104=\"\",\"\",'Age - CRL'!D104)","v":""},{"$f":"IF('Age - CRL'!E104=\"\",\"\",'Age - CRL'!E104)","v":""},{"$f":"IF('Age - CRL'!F104=\"\",\"\",'Age - CRL'!F104)","v":""}]
[99,{"$f":"IF('Age - CRL'!B105=\"\",\"\",'Age - CRL'!B105)","v":""},{"$f":"IF('Age - CRL'!C105=\"\",\"\",'Age - CRL'!C105)","v":""},{"$f":"IF('Age - CRL'!D105=\"\",\"\",'Age - CRL'!D105)","v":""},{"$f":"IF('Age - CRL'!E105=\"\",\"\",'Age - CRL'!E105)","v":""},{"$f":"IF('Age - CRL'!F105=\"\",\"\",'Age - CRL'!F105)","v":""}]
[100,{"$f":"IF('Age - CRL'!B106=\"\",\"\",'Age - CRL'!B106)","v":""},{"$f":"IF('Age - CRL'!C106=\"\",\"\",'Age - CRL'!C106)","v":""},{"$f":"IF('Age - CRL'!D106=\"\",\"\",'Age - CRL'!D106)","v":""},{"$f":"IF('Age - CRL'!E106=\"\",\"\",'Age - CRL'!E106)","v":""},{"$f":"IF('Age - CRL'!F106=\"\",\"\",'Age - CRL'!F106)","v":""}]
[101,{"$f":"IF('Age - CRL'!B107=\"\",\"\",'Age - CRL'!B107)","v":""},{"$f":"IF('Age - CRL'!C107=\"\",\"\",'Age - CRL'!C107)","v":""},{"$f":"IF('Age - CRL'!D107=\"\",\"\",'Age - CRL'!D107)","v":""},{"$f":"IF('Age - CRL'!E107=\"\",\"\",'Age - CRL'!E107)","v":""},{"$f":"IF('Age - CRL'!F107=\"\",\"\",'Age - CRL'!F107)","v":""}]
[102,{"$f":"IF('Age - CRL'!B108=\"\",\"\",'Age - CRL'!B108)","v":""},{"$f":"IF('Age - CRL'!C108=\"\",\"\",'Age - CRL'!C108)","v":""},{"$f":"IF('Age - CRL'!D108=\"\",\"\",'Age - CRL'!D108)","v":""},{"$f":"IF('Age - CRL'!E108=\"\",\"\",'Age - CRL'!E108)","v":""},{"$f":"IF('Age - CRL'!F108=\"\",\"\",'Age - CRL'!F108)","v":""}]
[103,{"$f":"IF('Age - CRL'!B109=\"\",\"\",'Age - CRL'!B109)","v":""},{"$f":"IF('Age - CRL'!C109=\"\",\"\",'Age - CRL'!C109)","v":""},{"$f":"IF('Age - CRL'!D109=\"\",\"\",'Age - CRL'!D109)","v":""},{"$f":"IF('Age - CRL'!E109=\"\",\"\",'Age - CRL'!E109)","v":""},{"$f":"IF('Age - CRL'!F109=\"\",\"\",'Age - CRL'!F109)","v":""}]
[104,{"$f":"IF('Age - CRL'!B110=\"\",\"\",'Age - CRL'!B110)","v":""},{"$f":"IF('Age - CRL'!C110=\"\",\"\",'Age - CRL'!C110)","v":""},{"$f":"IF('Age - CRL'!D110=\"\",\"\",'Age - CRL'!D110)","v":""},{"$f":"IF('Age - CRL'!E110=\"\",\"\",'Age - CRL'!E110)","v":""},{"$f":"IF('Age - CRL'!F110=\"\",\"\",'Age - CRL'!F110)","v":""}]
[105,{"$f":"IF('Age - CRL'!B111=\"\",\"\",'Age - CRL'!B111)","v":""},{"$f":"IF('Age - CRL'!C111=\"\",\"\",'Age - CRL'!C111)","v":""},{"$f":"IF('Age - CRL'!D111=\"\",\"\",'Age - CRL'!D111)","v":""},{"$f":"IF('Age - CRL'!E111=\"\",\"\",'Age - CRL'!E111)","v":""},{"$f":"IF('Age - CRL'!F111=\"\",\"\",'Age - CRL'!F111)","v":""}]
[106,{"$f":"IF('Age - CRL'!B112=\"\",\"\",'Age - CRL'!B112)","v":""},{"$f":"IF('Age - CRL'!C112=\"\",\"\",'Age - CRL'!C112)","v":""},{"$f":"IF('Age - CRL'!D112=\"\",\"\",'Age - CRL'!D112)","v":""},{"$f":"IF('Age - CRL'!E112=\"\",\"\",'Age - CRL'!E112)","v":""},{"$f":"IF('Age - CRL'!F112=\"\",\"\",'Age - CRL'!F112)","v":""}]
[107,{"$f":"IF('Age - CRL'!B113=\"\",\"\",'Age - CRL'!B113)","v":""},{"$f":"IF('Age - CRL'!C113=\"\",\"\",'Age - CRL'!C113)","v":""},{"$f":"IF('Age - CRL'!D113=\"\",\"\",'Age - CRL'!D113)","v":""},{"$f":"IF('Age - CRL'!E113=\"\",\"\",'Age - CRL'!E113)","v":""},{"$f":"IF('Age - CRL'!F113=\"\",\"\",'Age - CRL'!F113)","v":""}]
[108,{"$f":"IF('Age - CRL'!B114=\"\",\"\",'Age - CRL'!B114)","v":""},{"$f":"IF('Age - CRL'!C114=\"\",\"\",'Age - CRL'!C114)","v":""},{"$f":"IF('Age - CRL'!D114=\"\",\"\",'Age - CRL'!D114)","v":""},{"$f":"IF('Age - CRL'!E114=\"\",\"\",'Age - CRL'!E114)","v":""},{"$f":"IF('Age - CRL'!F114=\"\",\"\",'Age - CRL'!F114)","v":""}]
[109,{"$f":"IF('Age - CRL'!B115=\"\",\"\",'Age - CRL'!B115)","v":""},{"$f":"IF('Age - CRL'!C115=\"\",\"\",'Age - CRL'!C115)","v":""},{"$f":"IF('Age - CRL'!D115=\"\",\"\",'Age - CRL'!D115)","v":""},{"$f":"IF('Age - CRL'!E115=\"\",\"\",'Age - CRL'!E115)","v":""},{"$f":"IF('Age - CRL'!F115=\"\",\"\",'Age - CRL'!F115)","v":""}]
[110,{"$f":"IF('Age - CRL'!B116=\"\",\"\",'Age - CRL'!B116)","v":""},{"$f":"IF('Age - CRL'!C116=\"\",\"\",'Age - CRL'!C116)","v":""},{"$f":"IF('Age - CRL'!D116=\"\",\"\",'Age - CRL'!D116)","v":""},{"$f":"IF('Age - CRL'!E116=\"\",\"\",'Age - CRL'!E116)","v":""},{"$f":"IF('Age - CRL'!F116=\"\",\"\",'Age - CRL'!F116)","v":""}]
[111,{"$f":"IF('Age - CRL'!B117=\"\",\"\",'Age - CRL'!B117)","v":""},{"$f":"IF('Age - CRL'!C117=\"\",\"\",'Age - CRL'!C117)","v":""},{"$f":"IF('Age - CRL'!D117=\"\",\"\",'Age - CRL'!D117)","v":""},{"$f":"IF('Age - CRL'!E117=\"\",\"\",'Age - CRL'!E117)","v":""},{"$f":"IF('Age - CRL'!F117=\"\",\"\",'Age - CRL'!F117)","v":""}]
[112,{"$f":"IF('Age - CRL'!B118=\"\",\"\",'Age - CRL'!B118)","v":""},{"$f":"IF('Age - CRL'!C118=\"\",\"\",'Age - CRL'!C118)","v":""},{"$f":"IF('Age - CRL'!D118=\"\",\"\",'Age - CRL'!D118)","v":""},{"$f":"IF('Age - CRL'!E118=\"\",\"\",'Age - CRL'!E118)","v":""},{"$f":"IF('Age - CRL'!F118=\"\",\"\",'Age - CRL'!F118)","v":""}]
[113,{"$f":"IF('Age - CRL'!B119=\"\",\"\",'Age - CRL'!B119)","v":""},{"$f":"IF('Age - CRL'!C119=\"\",\"\",'Age - CRL'!C119)","v":""},{"$f":"IF('Age - CRL'!D119=\"\",\"\",'Age - CRL'!D119)","v":""},{"$f":"IF('Age - CRL'!E119=\"\",\"\",'Age - CRL'!E119)","v":""},{"$f":"IF('Age - CRL'!F119=\"\",\"\",'Age - CRL'!F119)","v":""}]
[114,{"$f":"IF('Age - CRL'!B120=\"\",\"\",'Age - CRL'!B120)","v":""},{"$f":"IF('Age - CRL'!C120=\"\",\"\",'Age - CRL'!C120)","v":""},{"$f":"IF('Age - CRL'!D120=\"\",\"\",'Age - CRL'!D120)","v":""},{"$f":"IF('Age - CRL'!E120=\"\",\"\",'Age - CRL'!E120)","v":""},{"$f":"IF('Age - CRL'!F120=\"\",\"\",'Age - CRL'!F120)","v":""}]
[115,{"$f":"IF('Age - CRL'!B121=\"\",\"\",'Age - CRL'!B121)","v":""},{"$f":"IF('Age - CRL'!C121=\"\",\"\",'Age - CRL'!C121)","v":""},{"$f":"IF('Age - CRL'!D121=\"\",\"\",'Age - CRL'!D121)","v":""},{"$f":"IF('Age - CRL'!E121=\"\",\"\",'Age - CRL'!E121)","v":""},{"$f":"IF('Age - CRL'!F121=\"\",\"\",'Age - CRL'!F121)","v":""}]
[116,{"$f":"IF('Age - CRL'!B122=\"\",\"\",'Age - CRL'!B122)","v":""},{"$f":"IF('Age - CRL'!C122=\"\",\"\",'Age - CRL'!C122)","v":""},{"$f":"IF('Age - CRL'!D122=\"\",\"\",'Age - CRL'!D122)","v":""},{"$f":"IF('Age - CRL'!E122=\"\",\"\",'Age - CRL'!E122)","v":""},{"$f":"IF('Age - CRL'!F122=\"\",\"\",'Age - CRL'!F122)","v":""}]
[117,{"$f":"IF('Age - CRL'!B123=\"\",\"\",'Age - CRL'!B123)","v":""},{"$f":"IF('Age - CRL'!C123=\"\",\"\",'Age - CRL'!C123)","v":""},{"$f":"IF('Age - CRL'!D123=\"\",\"\",'Age - CRL'!D123)","v":""},{"$f":"IF('Age - CRL'!E123=\"\",\"\",'Age - CRL'!E123)","v":""},{"$f":"IF('Age - CRL'!F123=\"\",\"\",'Age - CRL'!F123)","v":""}]
[118,{"$f":"IF('Age - CRL'!B124=\"\",\"\",'Age - CRL'!B124)","v":""},{"$f":"IF('Age - CRL'!C124=\"\",\"\",'Age - CRL'!C124)","v":""},{"$f":"IF('Age - CRL'!D124=\"\",\"\",'Age - CRL'!D124)","v":""},{"$f":"IF('Age - CRL'!E124=\"\",\"\",'Age - CRL'!E124)","v":""},{"$f":"IF('Age - CRL'!F124=\"\",\"\",'Age - CRL'!F124)","v":""}]
[119,{"$f":"IF('Age - CRL'!B125=\"\",\"\",'Age - CRL'!B125)","v":""},{"$f":"IF('Age - CRL'!C125=\"\",\"\",'Age - CRL'!C125)","v":""},{"$f":"IF('Age - CRL'!D125=\"\",\"\",'Age - CRL'!D125)","v":""},{"$f":"IF('Age - CRL'!E125=\"\",\"\",'Age - CRL'!E125)","v":""},{"$f":"IF('Age - CRL'!F125=\"\",\"\",'Age - CRL'!F125)","v":""}]
[120,{"$f":"IF('Age - CRL'!B126=\"\",\"\",'Age - CRL'!B126)","v":""},{"$f":"IF('Age - CRL'!C126=\"\",\"\",'Age - CRL'!C126)","v":""},{"$f":"IF('Age - CRL'!D126=\"\",\"\",'Age - CRL'!D126)","v":""},{"$f":"IF('Age - CRL'!E126=\"\",\"\",'Age - CRL'!E126)","v":""},{"$f":"IF('Age - CRL'!F126=\"\",\"\",'Age - CRL'!F126)","v":""}]
[]
["AGE - Gestational Sac",null,null,null,null,{"$f":"IF('Age - GS'!F1=\"\",\"\",'Age - GS'!F1)","v":"Age GS"}]
[null,null,null,null,null,{"$f":"ValidationData!DataVersion","v":"70.80.100.100"}]
["Index","Measurement Name",null,null,"GS"]
[null,"Measurement Type",null,null,"Distance (cm)"]
[null,"Author",null,null,{"$f":"IF('Age - GS'!J5=\"\",\"\",'Age - GS'!J5)","v":""}]
[null,"Value","Age (weeks)","Age (days)","Range (weeks)","Range (days)"]
[1,{"$f":"IF('Age - GS'!B7=\"\",\"\",'Age - GS'!B7)","v":""},{"$f":"IF('Age - GS'!C7=\"\",\"\",'Age - GS'!C7)","v":""},{"$f":"IF('Age - GS'!D7=\"\",\"\",'Age - GS'!D7)","v":""},{"$f":"IF('Age - GS'!E7=\"\",\"\",'Age - GS'!E7)","v":""},{"$f":"IF('Age - GS'!F7=\"\",\"\",'Age - GS'!F7)","v":""}]
[2,{"$f":"IF('Age - GS'!B8=\"\",\"\",'Age - GS'!B8)","v":""},{"$f":"IF('Age - GS'!C8=\"\",\"\",'Age - GS'!C8)","v":""},{"$f":"IF('Age - GS'!D8=\"\",\"\",'Age - GS'!D8)","v":""},{"$f":"IF('Age - GS'!E8=\"\",\"\",'Age - GS'!E8)","v":""},{"$f":"IF('Age - GS'!F8=\"\",\"\",'Age - GS'!F8)","v":""}]
[3,{"$f":"IF('Age - GS'!B9=\"\",\"\",'Age - GS'!B9)","v":""},{"$f":"IF('Age - GS'!C9=\"\",\"\",'Age - GS'!C9)","v":""},{"$f":"IF('Age - GS'!D9=\"\",\"\",'Age - GS'!D9)","v":""},{"$f":"IF('Age - GS'!E9=\"\",\"\",'Age - GS'!E9)","v":""},{"$f":"IF('Age - GS'!F9=\"\",\"\",'Age - GS'!F9)","v":""}]
[4,{"$f":"IF('Age - GS'!B10=\"\",\"\",'Age - GS'!B10)","v":""},{"$f":"IF('Age - GS'!C10=\"\",\"\",'Age - GS'!C10)","v":""},{"$f":"IF('Age - GS'!D10=\"\",\"\",'Age - GS'!D10)","v":""},{"$f":"IF('Age - GS'!E10=\"\",\"\",'Age - GS'!E10)","v":""},{"$f":"IF('Age - GS'!F10=\"\",\"\",'Age - GS'!F10)","v":""}]
[5,{"$f":"IF('Age - GS'!B11=\"\",\"\",'Age - GS'!B11)","v":""},{"$f":"IF('Age - GS'!C11=\"\",\"\",'Age - GS'!C11)","v":""},{"$f":"IF('Age - GS'!D11=\"\",\"\",'Age - GS'!D11)","v":""},{"$f":"IF('Age - GS'!E11=\"\",\"\",'Age - GS'!E11)","v":""},{"$f":"IF('Age - GS'!F11=\"\",\"\",'Age - GS'!F11)","v":""}]
[6,{"$f":"IF('Age - GS'!B12=\"\",\"\",'Age - GS'!B12)","v":""},{"$f":"IF('Age - GS'!C12=\"\",\"\",'Age - GS'!C12)","v":""},{"$f":"IF('Age - GS'!D12=\"\",\"\",'Age - GS'!D12)","v":""},{"$f":"IF('Age - GS'!E12=\"\",\"\",'Age - GS'!E12)","v":""},{"$f":"IF('Age - GS'!F12=\"\",\"\",'Age - GS'!F12)","v":""}]
[7,{"$f":"IF('Age - GS'!B13=\"\",\"\",'Age - GS'!B13)","v":""},{"$f":"IF('Age - GS'!C13=\"\",\"\",'Age - GS'!C13)","v":""},{"$f":"IF('Age - GS'!D13=\"\",\"\",'Age - GS'!D13)","v":""},{"$f":"IF('Age - GS'!E13=\"\",\"\",'Age - GS'!E13)","v":""},{"$f":"IF('Age - GS'!F13=\"\",\"\",'Age - GS'!F13)","v":""}]
[8,{"$f":"IF('Age - GS'!B14=\"\",\"\",'Age - GS'!B14)","v":""},{"$f":"IF('Age - GS'!C14=\"\",\"\",'Age - GS'!C14)","v":""},{"$f":"IF('Age - GS'!D14=\"\",\"\",'Age - GS'!D14)","v":""},{"$f":"IF('Age - GS'!E14=\"\",\"\",'Age - GS'!E14)","v":""},{"$f":"IF('Age - GS'!F14=\"\",\"\",'Age - GS'!F14)","v":""}]
[9,{"$f":"IF('Age - GS'!B15=\"\",\"\",'Age - GS'!B15)","v":""},{"$f":"IF('Age - GS'!C15=\"\",\"\",'Age - GS'!C15)","v":""},{"$f":"IF('Age - GS'!D15=\"\",\"\",'Age - GS'!D15)","v":""},{"$f":"IF('Age - GS'!E15=\"\",\"\",'Age - GS'!E15)","v":""},{"$f":"IF('Age - GS'!F15=\"\",\"\",'Age - GS'!F15)","v":""}]
[10,{"$f":"IF('Age - GS'!B16=\"\",\"\",'Age - GS'!B16)","v":""},{"$f":"IF('Age - GS'!C16=\"\",\"\",'Age - GS'!C16)","v":""},{"$f":"IF('Age - GS'!D16=\"\",\"\",'Age - GS'!D16)","v":""},{"$f":"IF('Age - GS'!E16=\"\",\"\",'Age - GS'!E16)","v":""},{"$f":"IF('Age - GS'!F16=\"\",\"\",'Age - GS'!F16)","v":""}]
[11,{"$f":"IF('Age - GS'!B17=\"\",\"\",'Age - GS'!B17)","v":""},{"$f":"IF('Age - GS'!C17=\"\",\"\",'Age - GS'!C17)","v":""},{"$f":"IF('Age - GS'!D17=\"\",\"\",'Age - GS'!D17)","v":""},{"$f":"IF('Age - GS'!E17=\"\",\"\",'Age - GS'!E17)","v":""},{"$f":"IF('Age - GS'!F17=\"\",\"\",'Age - GS'!F17)","v":""}]
[12,{"$f":"IF('Age - GS'!B18=\"\",\"\",'Age - GS'!B18)","v":""},{"$f":"IF('Age - GS'!C18=\"\",\"\",'Age - GS'!C18)","v":""},{"$f":"IF('Age - GS'!D18=\"\",\"\",'Age - GS'!D18)","v":""},{"$f":"IF('Age - GS'!E18=\"\",\"\",'Age - GS'!E18)","v":""},{"$f":"IF('Age - GS'!F18=\"\",\"\",'Age - GS'!F18)","v":""}]
[13,{"$f":"IF('Age - GS'!B19=\"\",\"\",'Age - GS'!B19)","v":""},{"$f":"IF('Age - GS'!C19=\"\",\"\",'Age - GS'!C19)","v":""},{"$f":"IF('Age - GS'!D19=\"\",\"\",'Age - GS'!D19)","v":""},{"$f":"IF('Age - GS'!E19=\"\",\"\",'Age - GS'!E19)","v":""},{"$f":"IF('Age - GS'!F19=\"\",\"\",'Age - GS'!F19)","v":""}]
[14,{"$f":"IF('Age - GS'!B20=\"\",\"\",'Age - GS'!B20)","v":""},{"$f":"IF('Age - GS'!C20=\"\",\"\",'Age - GS'!C20)","v":""},{"$f":"IF('Age - GS'!D20=\"\",\"\",'Age - GS'!D20)","v":""},{"$f":"IF('Age - GS'!E20=\"\",\"\",'Age - GS'!E20)","v":""},{"$f":"IF('Age - GS'!F20=\"\",\"\",'Age - GS'!F20)","v":""}]
[15,{"$f":"IF('Age - GS'!B21=\"\",\"\",'Age - GS'!B21)","v":""},{"$f":"IF('Age - GS'!C21=\"\",\"\",'Age - GS'!C21)","v":""},{"$f":"IF('Age - GS'!D21=\"\",\"\",'Age - GS'!D21)","v":""},{"$f":"IF('Age - GS'!E21=\"\",\"\",'Age - GS'!E21)","v":""},{"$f":"IF('Age - GS'!F21=\"\",\"\",'Age - GS'!F21)","v":""}]
[16,{"$f":"IF('Age - GS'!B22=\"\",\"\",'Age - GS'!B22)","v":""},{"$f":"IF('Age - GS'!C22=\"\",\"\",'Age - GS'!C22)","v":""},{"$f":"IF('Age - GS'!D22=\"\",\"\",'Age - GS'!D22)","v":""},{"$f":"IF('Age - GS'!E22=\"\",\"\",'Age - GS'!E22)","v":""},{"$f":"IF('Age - GS'!F22=\"\",\"\",'Age - GS'!F22)","v":""}]
[17,{"$f":"IF('Age - GS'!B23=\"\",\"\",'Age - GS'!B23)","v":""},{"$f":"IF('Age - GS'!C23=\"\",\"\",'Age - GS'!C23)","v":""},{"$f":"IF('Age - GS'!D23=\"\",\"\",'Age - GS'!D23)","v":""},{"$f":"IF('Age - GS'!E23=\"\",\"\",'Age - GS'!E23)","v":""},{"$f":"IF('Age - GS'!F23=\"\",\"\",'Age - GS'!F23)","v":""}]
[18,{"$f":"IF('Age - GS'!B24=\"\",\"\",'Age - GS'!B24)","v":""},{"$f":"IF('Age - GS'!C24=\"\",\"\",'Age - GS'!C24)","v":""},{"$f":"IF('Age - GS'!D24=\"\",\"\",'Age - GS'!D24)","v":""},{"$f":"IF('Age - GS'!E24=\"\",\"\",'Age - GS'!E24)","v":""},{"$f":"IF('Age - GS'!F24=\"\",\"\",'Age - GS'!F24)","v":""}]
[19,{"$f":"IF('Age - GS'!B25=\"\",\"\",'Age - GS'!B25)","v":""},{"$f":"IF('Age - GS'!C25=\"\",\"\",'Age - GS'!C25)","v":""},{"$f":"IF('Age - GS'!D25=\"\",\"\",'Age - GS'!D25)","v":""},{"$f":"IF('Age - GS'!E25=\"\",\"\",'Age - GS'!E25)","v":""},{"$f":"IF('Age - GS'!F25=\"\",\"\",'Age - GS'!F25)","v":""}]
[20,{"$f":"IF('Age - GS'!B26=\"\",\"\",'Age - GS'!B26)","v":""},{"$f":"IF('Age - GS'!C26=\"\",\"\",'Age - GS'!C26)","v":""},{"$f":"IF('Age - GS'!D26=\"\",\"\",'Age - GS'!D26)","v":""},{"$f":"IF('Age - GS'!E26=\"\",\"\",'Age - GS'!E26)","v":""},{"$f":"IF('Age - GS'!F26=\"\",\"\",'Age - GS'!F26)","v":""}]
[21,{"$f":"IF('Age - GS'!B27=\"\",\"\",'Age - GS'!B27)","v":""},{"$f":"IF('Age - GS'!C27=\"\",\"\",'Age - GS'!C27)","v":""},{"$f":"IF('Age - GS'!D27=\"\",\"\",'Age - GS'!D27)","v":""},{"$f":"IF('Age - GS'!E27=\"\",\"\",'Age - GS'!E27)","v":""},{"$f":"IF('Age - GS'!F27=\"\",\"\",'Age - GS'!F27)","v":""}]
[22,{"$f":"IF('Age - GS'!B28=\"\",\"\",'Age - GS'!B28)","v":""},{"$f":"IF('Age - GS'!C28=\"\",\"\",'Age - GS'!C28)","v":""},{"$f":"IF('Age - GS'!D28=\"\",\"\",'Age - GS'!D28)","v":""},{"$f":"IF('Age - GS'!E28=\"\",\"\",'Age - GS'!E28)","v":""},{"$f":"IF('Age - GS'!F28=\"\",\"\",'Age - GS'!F28)","v":""}]
[23,{"$f":"IF('Age - GS'!B29=\"\",\"\",'Age - GS'!B29)","v":""},{"$f":"IF('Age - GS'!C29=\"\",\"\",'Age - GS'!C29)","v":""},{"$f":"IF('Age - GS'!D29=\"\",\"\",'Age - GS'!D29)","v":""},{"$f":"IF('Age - GS'!E29=\"\",\"\",'Age - GS'!E29)","v":""},{"$f":"IF('Age - GS'!F29=\"\",\"\",'Age - GS'!F29)","v":""}]
[24,{"$f":"IF('Age - GS'!B30=\"\",\"\",'Age - GS'!B30)","v":""},{"$f":"IF('Age - GS'!C30=\"\",\"\",'Age - GS'!C30)","v":""},{"$f":"IF('Age - GS'!D30=\"\",\"\",'Age - GS'!D30)","v":""},{"$f":"IF('Age - GS'!E30=\"\",\"\",'Age - GS'!E30)","v":""},{"$f":"IF('Age - GS'!F30=\"\",\"\",'Age - GS'!F30)","v":""}]
[25,{"$f":"IF('Age - GS'!B31=\"\",\"\",'Age - GS'!B31)","v":""},{"$f":"IF('Age - GS'!C31=\"\",\"\",'Age - GS'!C31)","v":""},{"$f":"IF('Age - GS'!D31=\"\",\"\",'Age - GS'!D31)","v":""},{"$f":"IF('Age - GS'!E31=\"\",\"\",'Age - GS'!E31)","v":""},{"$f":"IF('Age - GS'!F31=\"\",\"\",'Age - GS'!F31)","v":""}]
[26,{"$f":"IF('Age - GS'!B32=\"\",\"\",'Age - GS'!B32)","v":""},{"$f":"IF('Age - GS'!C32=\"\",\"\",'Age - GS'!C32)","v":""},{"$f":"IF('Age - GS'!D32=\"\",\"\",'Age - GS'!D32)","v":""},{"$f":"IF('Age - GS'!E32=\"\",\"\",'Age - GS'!E32)","v":""},{"$f":"IF('Age - GS'!F32=\"\",\"\",'Age - GS'!F32)","v":""}]
[27,{"$f":"IF('Age - GS'!B33=\"\",\"\",'Age - GS'!B33)","v":""},{"$f":"IF('Age - GS'!C33=\"\",\"\",'Age - GS'!C33)","v":""},{"$f":"IF('Age - GS'!D33=\"\",\"\",'Age - GS'!D33)","v":""},{"$f":"IF('Age - GS'!E33=\"\",\"\",'Age - GS'!E33)","v":""},{"$f":"IF('Age - GS'!F33=\"\",\"\",'Age - GS'!F33)","v":""}]
[28,{"$f":"IF('Age - GS'!B34=\"\",\"\",'Age - GS'!B34)","v":""},{"$f":"IF('Age - GS'!C34=\"\",\"\",'Age - GS'!C34)","v":""},{"$f":"IF('Age - GS'!D34=\"\",\"\",'Age - GS'!D34)","v":""},{"$f":"IF('Age - GS'!E34=\"\",\"\",'Age - GS'!E34)","v":""},{"$f":"IF('Age - GS'!F34=\"\",\"\",'Age - GS'!F34)","v":""}]
[29,{"$f":"IF('Age - GS'!B35=\"\",\"\",'Age - GS'!B35)","v":""},{"$f":"IF('Age - GS'!C35=\"\",\"\",'Age - GS'!C35)","v":""},{"$f":"IF('Age - GS'!D35=\"\",\"\",'Age - GS'!D35)","v":""},{"$f":"IF('Age - GS'!E35=\"\",\"\",'Age - GS'!E35)","v":""},{"$f":"IF('Age - GS'!F35=\"\",\"\",'Age - GS'!F35)","v":""}]
[30,{"$f":"IF('Age - GS'!B36=\"\",\"\",'Age - GS'!B36)","v":""},{"$f":"IF('Age - GS'!C36=\"\",\"\",'Age - GS'!C36)","v":""},{"$f":"IF('Age - GS'!D36=\"\",\"\",'Age - GS'!D36)","v":""},{"$f":"IF('Age - GS'!E36=\"\",\"\",'Age - GS'!E36)","v":""},{"$f":"IF('Age - GS'!F36=\"\",\"\",'Age - GS'!F36)","v":""}]
[31,{"$f":"IF('Age - GS'!B37=\"\",\"\",'Age - GS'!B37)","v":""},{"$f":"IF('Age - GS'!C37=\"\",\"\",'Age - GS'!C37)","v":""},{"$f":"IF('Age - GS'!D37=\"\",\"\",'Age - GS'!D37)","v":""},{"$f":"IF('Age - GS'!E37=\"\",\"\",'Age - GS'!E37)","v":""},{"$f":"IF('Age - GS'!F37=\"\",\"\",'Age - GS'!F37)","v":""}]
[32,{"$f":"IF('Age - GS'!B38=\"\",\"\",'Age - GS'!B38)","v":""},{"$f":"IF('Age - GS'!C38=\"\",\"\",'Age - GS'!C38)","v":""},{"$f":"IF('Age - GS'!D38=\"\",\"\",'Age - GS'!D38)","v":""},{"$f":"IF('Age - GS'!E38=\"\",\"\",'Age - GS'!E38)","v":""},{"$f":"IF('Age - GS'!F38=\"\",\"\",'Age - GS'!F38)","v":""}]
[33,{"$f":"IF('Age - GS'!B39=\"\",\"\",'Age - GS'!B39)","v":""},{"$f":"IF('Age - GS'!C39=\"\",\"\",'Age - GS'!C39)","v":""},{"$f":"IF('Age - GS'!D39=\"\",\"\",'Age - GS'!D39)","v":""},{"$f":"IF('Age - GS'!E39=\"\",\"\",'Age - GS'!E39)","v":""},{"$f":"IF('Age - GS'!F39=\"\",\"\",'Age - GS'!F39)","v":""}]
[34,{"$f":"IF('Age - GS'!B40=\"\",\"\",'Age - GS'!B40)","v":""},{"$f":"IF('Age - GS'!C40=\"\",\"\",'Age - GS'!C40)","v":""},{"$f":"IF('Age - GS'!D40=\"\",\"\",'Age - GS'!D40)","v":""},{"$f":"IF('Age - GS'!E40=\"\",\"\",'Age - GS'!E40)","v":""},{"$f":"IF('Age - GS'!F40=\"\",\"\",'Age - GS'!F40)","v":""}]
[35,{"$f":"IF('Age - GS'!B41=\"\",\"\",'Age - GS'!B41)","v":""},{"$f":"IF('Age - GS'!C41=\"\",\"\",'Age - GS'!C41)","v":""},{"$f":"IF('Age - GS'!D41=\"\",\"\",'Age - GS'!D41)","v":""},{"$f":"IF('Age - GS'!E41=\"\",\"\",'Age - GS'!E41)","v":""},{"$f":"IF('Age - GS'!F41=\"\",\"\",'Age - GS'!F41)","v":""}]
[36,{"$f":"IF('Age - GS'!B42=\"\",\"\",'Age - GS'!B42)","v":""},{"$f":"IF('Age - GS'!C42=\"\",\"\",'Age - GS'!C42)","v":""},{"$f":"IF('Age - GS'!D42=\"\",\"\",'Age - GS'!D42)","v":""},{"$f":"IF('Age - GS'!E42=\"\",\"\",'Age - GS'!E42)","v":""},{"$f":"IF('Age - GS'!F42=\"\",\"\",'Age - GS'!F42)","v":""}]
[37,{"$f":"IF('Age - GS'!B43=\"\",\"\",'Age - GS'!B43)","v":""},{"$f":"IF('Age - GS'!C43=\"\",\"\",'Age - GS'!C43)","v":""},{"$f":"IF('Age - GS'!D43=\"\",\"\",'Age - GS'!D43)","v":""},{"$f":"IF('Age - GS'!E43=\"\",\"\",'Age - GS'!E43)","v":""},{"$f":"IF('Age - GS'!F43=\"\",\"\",'Age - GS'!F43)","v":""}]
[38,{"$f":"IF('Age - GS'!B44=\"\",\"\",'Age - GS'!B44)","v":""},{"$f":"IF('Age - GS'!C44=\"\",\"\",'Age - GS'!C44)","v":""},{"$f":"IF('Age - GS'!D44=\"\",\"\",'Age - GS'!D44)","v":""},{"$f":"IF('Age - GS'!E44=\"\",\"\",'Age - GS'!E44)","v":""},{"$f":"IF('Age - GS'!F44=\"\",\"\",'Age - GS'!F44)","v":""}]
[39,{"$f":"IF('Age - GS'!B45=\"\",\"\",'Age - GS'!B45)","v":""},{"$f":"IF('Age - GS'!C45=\"\",\"\",'Age - GS'!C45)","v":""},{"$f":"IF('Age - GS'!D45=\"\",\"\",'Age - GS'!D45)","v":""},{"$f":"IF('Age - GS'!E45=\"\",\"\",'Age - GS'!E45)","v":""},{"$f":"IF('Age - GS'!F45=\"\",\"\",'Age - GS'!F45)","v":""}]
[40,{"$f":"IF('Age - GS'!B46=\"\",\"\",'Age - GS'!B46)","v":""},{"$f":"IF('Age - GS'!C46=\"\",\"\",'Age - GS'!C46)","v":""},{"$f":"IF('Age - GS'!D46=\"\",\"\",'Age - GS'!D46)","v":""},{"$f":"IF('Age - GS'!E46=\"\",\"\",'Age - GS'!E46)","v":""},{"$f":"IF('Age - GS'!F46=\"\",\"\",'Age - GS'!F46)","v":""}]
[41,{"$f":"IF('Age - GS'!B47=\"\",\"\",'Age - GS'!B47)","v":""},{"$f":"IF('Age - GS'!C47=\"\",\"\",'Age - GS'!C47)","v":""},{"$f":"IF('Age - GS'!D47=\"\",\"\",'Age - GS'!D47)","v":""},{"$f":"IF('Age - GS'!E47=\"\",\"\",'Age - GS'!E47)","v":""},{"$f":"IF('Age - GS'!F47=\"\",\"\",'Age - GS'!F47)","v":""}]
[42,{"$f":"IF('Age - GS'!B48=\"\",\"\",'Age - GS'!B48)","v":""},{"$f":"IF('Age - GS'!C48=\"\",\"\",'Age - GS'!C48)","v":""},{"$f":"IF('Age - GS'!D48=\"\",\"\",'Age - GS'!D48)","v":""},{"$f":"IF('Age - GS'!E48=\"\",\"\",'Age - GS'!E48)","v":""},{"$f":"IF('Age - GS'!F48=\"\",\"\",'Age - GS'!F48)","v":""}]
[43,{"$f":"IF('Age - GS'!B49=\"\",\"\",'Age - GS'!B49)","v":""},{"$f":"IF('Age - GS'!C49=\"\",\"\",'Age - GS'!C49)","v":""},{"$f":"IF('Age - GS'!D49=\"\",\"\",'Age - GS'!D49)","v":""},{"$f":"IF('Age - GS'!E49=\"\",\"\",'Age - GS'!E49)","v":""},{"$f":"IF('Age - GS'!F49=\"\",\"\",'Age - GS'!F49)","v":""}]
[44,{"$f":"IF('Age - GS'!B50=\"\",\"\",'Age - GS'!B50)","v":""},{"$f":"IF('Age - GS'!C50=\"\",\"\",'Age - GS'!C50)","v":""},{"$f":"IF('Age - GS'!D50=\"\",\"\",'Age - GS'!D50)","v":""},{"$f":"IF('Age - GS'!E50=\"\",\"\",'Age - GS'!E50)","v":""},{"$f":"IF('Age - GS'!F50=\"\",\"\",'Age - GS'!F50)","v":""}]
[45,{"$f":"IF('Age - GS'!B51=\"\",\"\",'Age - GS'!B51)","v":""},{"$f":"IF('Age - GS'!C51=\"\",\"\",'Age - GS'!C51)","v":""},{"$f":"IF('Age - GS'!D51=\"\",\"\",'Age - GS'!D51)","v":""},{"$f":"IF('Age - GS'!E51=\"\",\"\",'Age - GS'!E51)","v":""},{"$f":"IF('Age - GS'!F51=\"\",\"\",'Age - GS'!F51)","v":""}]
[46,{"$f":"IF('Age - GS'!B52=\"\",\"\",'Age - GS'!B52)","v":""},{"$f":"IF('Age - GS'!C52=\"\",\"\",'Age - GS'!C52)","v":""},{"$f":"IF('Age - GS'!D52=\"\",\"\",'Age - GS'!D52)","v":""},{"$f":"IF('Age - GS'!E52=\"\",\"\",'Age - GS'!E52)","v":""},{"$f":"IF('Age - GS'!F52=\"\",\"\",'Age - GS'!F52)","v":""}]
[47,{"$f":"IF('Age - GS'!B53=\"\",\"\",'Age - GS'!B53)","v":""},{"$f":"IF('Age - GS'!C53=\"\",\"\",'Age - GS'!C53)","v":""},{"$f":"IF('Age - GS'!D53=\"\",\"\",'Age - GS'!D53)","v":""},{"$f":"IF('Age - GS'!E53=\"\",\"\",'Age - GS'!E53)","v":""},{"$f":"IF('Age - GS'!F53=\"\",\"\",'Age - GS'!F53)","v":""}]
[48,{"$f":"IF('Age - GS'!B54=\"\",\"\",'Age - GS'!B54)","v":""},{"$f":"IF('Age - GS'!C54=\"\",\"\",'Age - GS'!C54)","v":""},{"$f":"IF('Age - GS'!D54=\"\",\"\",'Age - GS'!D54)","v":""},{"$f":"IF('Age - GS'!E54=\"\",\"\",'Age - GS'!E54)","v":""},{"$f":"IF('Age - GS'!F54=\"\",\"\",'Age - GS'!F54)","v":""}]
[49,{"$f":"IF('Age - GS'!B55=\"\",\"\",'Age - GS'!B55)","v":""},{"$f":"IF('Age - GS'!C55=\"\",\"\",'Age - GS'!C55)","v":""},{"$f":"IF('Age - GS'!D55=\"\",\"\",'Age - GS'!D55)","v":""},{"$f":"IF('Age - GS'!E55=\"\",\"\",'Age - GS'!E55)","v":""},{"$f":"IF('Age - GS'!F55=\"\",\"\",'Age - GS'!F55)","v":""}]
[50,{"$f":"IF('Age - GS'!B56=\"\",\"\",'Age - GS'!B56)","v":""},{"$f":"IF('Age - GS'!C56=\"\",\"\",'Age - GS'!C56)","v":""},{"$f":"IF('Age - GS'!D56=\"\",\"\",'Age - GS'!D56)","v":""},{"$f":"IF('Age - GS'!E56=\"\",\"\",'Age - GS'!E56)","v":""},{"$f":"IF('Age - GS'!F56=\"\",\"\",'Age - GS'!F56)","v":""}]
[51,{"$f":"IF('Age - GS'!B57=\"\",\"\",'Age - GS'!B57)","v":""},{"$f":"IF('Age - GS'!C57=\"\",\"\",'Age - GS'!C57)","v":""},{"$f":"IF('Age - GS'!D57=\"\",\"\",'Age - GS'!D57)","v":""},{"$f":"IF('Age - GS'!E57=\"\",\"\",'Age - GS'!E57)","v":""},{"$f":"IF('Age - GS'!F57=\"\",\"\",'Age - GS'!F57)","v":""}]
[52,{"$f":"IF('Age - GS'!B58=\"\",\"\",'Age - GS'!B58)","v":""},{"$f":"IF('Age - GS'!C58=\"\",\"\",'Age - GS'!C58)","v":""},{"$f":"IF('Age - GS'!D58=\"\",\"\",'Age - GS'!D58)","v":""},{"$f":"IF('Age - GS'!E58=\"\",\"\",'Age - GS'!E58)","v":""},{"$f":"IF('Age - GS'!F58=\"\",\"\",'Age - GS'!F58)","v":""}]
[53,{"$f":"IF('Age - GS'!B59=\"\",\"\",'Age - GS'!B59)","v":""},{"$f":"IF('Age - GS'!C59=\"\",\"\",'Age - GS'!C59)","v":""},{"$f":"IF('Age - GS'!D59=\"\",\"\",'Age - GS'!D59)","v":""},{"$f":"IF('Age - GS'!E59=\"\",\"\",'Age - GS'!E59)","v":""},{"$f":"IF('Age - GS'!F59=\"\",\"\",'Age - GS'!F59)","v":""}]
[54,{"$f":"IF('Age - GS'!B60=\"\",\"\",'Age - GS'!B60)","v":""},{"$f":"IF('Age - GS'!C60=\"\",\"\",'Age - GS'!C60)","v":""},{"$f":"IF('Age - GS'!D60=\"\",\"\",'Age - GS'!D60)","v":""},{"$f":"IF('Age - GS'!E60=\"\",\"\",'Age - GS'!E60)","v":""},{"$f":"IF('Age - GS'!F60=\"\",\"\",'Age - GS'!F60)","v":""}]
[55,{"$f":"IF('Age - GS'!B61=\"\",\"\",'Age - GS'!B61)","v":""},{"$f":"IF('Age - GS'!C61=\"\",\"\",'Age - GS'!C61)","v":""},{"$f":"IF('Age - GS'!D61=\"\",\"\",'Age - GS'!D61)","v":""},{"$f":"IF('Age - GS'!E61=\"\",\"\",'Age - GS'!E61)","v":""},{"$f":"IF('Age - GS'!F61=\"\",\"\",'Age - GS'!F61)","v":""}]
[56,{"$f":"IF('Age - GS'!B62=\"\",\"\",'Age - GS'!B62)","v":""},{"$f":"IF('Age - GS'!C62=\"\",\"\",'Age - GS'!C62)","v":""},{"$f":"IF('Age - GS'!D62=\"\",\"\",'Age - GS'!D62)","v":""},{"$f":"IF('Age - GS'!E62=\"\",\"\",'Age - GS'!E62)","v":""},{"$f":"IF('Age - GS'!F62=\"\",\"\",'Age - GS'!F62)","v":""}]
[57,{"$f":"IF('Age - GS'!B63=\"\",\"\",'Age - GS'!B63)","v":""},{"$f":"IF('Age - GS'!C63=\"\",\"\",'Age - GS'!C63)","v":""},{"$f":"IF('Age - GS'!D63=\"\",\"\",'Age - GS'!D63)","v":""},{"$f":"IF('Age - GS'!E63=\"\",\"\",'Age - GS'!E63)","v":""},{"$f":"IF('Age - GS'!F63=\"\",\"\",'Age - GS'!F63)","v":""}]
[58,{"$f":"IF('Age - GS'!B64=\"\",\"\",'Age - GS'!B64)","v":""},{"$f":"IF('Age - GS'!C64=\"\",\"\",'Age - GS'!C64)","v":""},{"$f":"IF('Age - GS'!D64=\"\",\"\",'Age - GS'!D64)","v":""},{"$f":"IF('Age - GS'!E64=\"\",\"\",'Age - GS'!E64)","v":""},{"$f":"IF('Age - GS'!F64=\"\",\"\",'Age - GS'!F64)","v":""}]
[59,{"$f":"IF('Age - GS'!B65=\"\",\"\",'Age - GS'!B65)","v":""},{"$f":"IF('Age - GS'!C65=\"\",\"\",'Age - GS'!C65)","v":""},{"$f":"IF('Age - GS'!D65=\"\",\"\",'Age - GS'!D65)","v":""},{"$f":"IF('Age - GS'!E65=\"\",\"\",'Age - GS'!E65)","v":""},{"$f":"IF('Age - GS'!F65=\"\",\"\",'Age - GS'!F65)","v":""}]
[60,{"$f":"IF('Age - GS'!B66=\"\",\"\",'Age - GS'!B66)","v":""},{"$f":"IF('Age - GS'!C66=\"\",\"\",'Age - GS'!C66)","v":""},{"$f":"IF('Age - GS'!D66=\"\",\"\",'Age - GS'!D66)","v":""},{"$f":"IF('Age - GS'!E66=\"\",\"\",'Age - GS'!E66)","v":""},{"$f":"IF('Age - GS'!F66=\"\",\"\",'Age - GS'!F66)","v":""}]
[61,{"$f":"IF('Age - GS'!B67=\"\",\"\",'Age - GS'!B67)","v":""},{"$f":"IF('Age - GS'!C67=\"\",\"\",'Age - GS'!C67)","v":""},{"$f":"IF('Age - GS'!D67=\"\",\"\",'Age - GS'!D67)","v":""},{"$f":"IF('Age - GS'!E67=\"\",\"\",'Age - GS'!E67)","v":""},{"$f":"IF('Age - GS'!F67=\"\",\"\",'Age - GS'!F67)","v":""}]
[62,{"$f":"IF('Age - GS'!B68=\"\",\"\",'Age - GS'!B68)","v":""},{"$f":"IF('Age - GS'!C68=\"\",\"\",'Age - GS'!C68)","v":""},{"$f":"IF('Age - GS'!D68=\"\",\"\",'Age - GS'!D68)","v":""},{"$f":"IF('Age - GS'!E68=\"\",\"\",'Age - GS'!E68)","v":""},{"$f":"IF('Age - GS'!F68=\"\",\"\",'Age - GS'!F68)","v":""}]
[63,{"$f":"IF('Age - GS'!B69=\"\",\"\",'Age - GS'!B69)","v":""},{"$f":"IF('Age - GS'!C69=\"\",\"\",'Age - GS'!C69)","v":""},{"$f":"IF('Age - GS'!D69=\"\",\"\",'Age - GS'!D69)","v":""},{"$f":"IF('Age - GS'!E69=\"\",\"\",'Age - GS'!E69)","v":""},{"$f":"IF('Age - GS'!F69=\"\",\"\",'Age - GS'!F69)","v":""}]
[64,{"$f":"IF('Age - GS'!B70=\"\",\"\",'Age - GS'!B70)","v":""},{"$f":"IF('Age - GS'!C70=\"\",\"\",'Age - GS'!C70)","v":""},{"$f":"IF('Age - GS'!D70=\"\",\"\",'Age - GS'!D70)","v":""},{"$f":"IF('Age - GS'!E70=\"\",\"\",'Age - GS'!E70)","v":""},{"$f":"IF('Age - GS'!F70=\"\",\"\",'Age - GS'!F70)","v":""}]
[65,{"$f":"IF('Age - GS'!B71=\"\",\"\",'Age - GS'!B71)","v":""},{"$f":"IF('Age - GS'!C71=\"\",\"\",'Age - GS'!C71)","v":""},{"$f":"IF('Age - GS'!D71=\"\",\"\",'Age - GS'!D71)","v":""},{"$f":"IF('Age - GS'!E71=\"\",\"\",'Age - GS'!E71)","v":""},{"$f":"IF('Age - GS'!F71=\"\",\"\",'Age - GS'!F71)","v":""}]
[66,{"$f":"IF('Age - GS'!B72=\"\",\"\",'Age - GS'!B72)","v":""},{"$f":"IF('Age - GS'!C72=\"\",\"\",'Age - GS'!C72)","v":""},{"$f":"IF('Age - GS'!D72=\"\",\"\",'Age - GS'!D72)","v":""},{"$f":"IF('Age - GS'!E72=\"\",\"\",'Age - GS'!E72)","v":""},{"$f":"IF('Age - GS'!F72=\"\",\"\",'Age - GS'!F72)","v":""}]
[67,{"$f":"IF('Age - GS'!B73=\"\",\"\",'Age - GS'!B73)","v":""},{"$f":"IF('Age - GS'!C73=\"\",\"\",'Age - GS'!C73)","v":""},{"$f":"IF('Age - GS'!D73=\"\",\"\",'Age - GS'!D73)","v":""},{"$f":"IF('Age - GS'!E73=\"\",\"\",'Age - GS'!E73)","v":""},{"$f":"IF('Age - GS'!F73=\"\",\"\",'Age - GS'!F73)","v":""}]
[68,{"$f":"IF('Age - GS'!B74=\"\",\"\",'Age - GS'!B74)","v":""},{"$f":"IF('Age - GS'!C74=\"\",\"\",'Age - GS'!C74)","v":""},{"$f":"IF('Age - GS'!D74=\"\",\"\",'Age - GS'!D74)","v":""},{"$f":"IF('Age - GS'!E74=\"\",\"\",'Age - GS'!E74)","v":""},{"$f":"IF('Age - GS'!F74=\"\",\"\",'Age - GS'!F74)","v":""}]
[69,{"$f":"IF('Age - GS'!B75=\"\",\"\",'Age - GS'!B75)","v":""},{"$f":"IF('Age - GS'!C75=\"\",\"\",'Age - GS'!C75)","v":""},{"$f":"IF('Age - GS'!D75=\"\",\"\",'Age - GS'!D75)","v":""},{"$f":"IF('Age - GS'!E75=\"\",\"\",'Age - GS'!E75)","v":""},{"$f":"IF('Age - GS'!F75=\"\",\"\",'Age - GS'!F75)","v":""}]
[70,{"$f":"IF('Age - GS'!B76=\"\",\"\",'Age - GS'!B76)","v":""},{"$f":"IF('Age - GS'!C76=\"\",\"\",'Age - GS'!C76)","v":""},{"$f":"IF('Age - GS'!D76=\"\",\"\",'Age - GS'!D76)","v":""},{"$f":"IF('Age - GS'!E76=\"\",\"\",'Age - GS'!E76)","v":""},{"$f":"IF('Age - GS'!F76=\"\",\"\",'Age - GS'!F76)","v":""}]
[71,{"$f":"IF('Age - GS'!B77=\"\",\"\",'Age - GS'!B77)","v":""},{"$f":"IF('Age - GS'!C77=\"\",\"\",'Age - GS'!C77)","v":""},{"$f":"IF('Age - GS'!D77=\"\",\"\",'Age - GS'!D77)","v":""},{"$f":"IF('Age - GS'!E77=\"\",\"\",'Age - GS'!E77)","v":""},{"$f":"IF('Age - GS'!F77=\"\",\"\",'Age - GS'!F77)","v":""}]
[72,{"$f":"IF('Age - GS'!B78=\"\",\"\",'Age - GS'!B78)","v":""},{"$f":"IF('Age - GS'!C78=\"\",\"\",'Age - GS'!C78)","v":""},{"$f":"IF('Age - GS'!D78=\"\",\"\",'Age - GS'!D78)","v":""},{"$f":"IF('Age - GS'!E78=\"\",\"\",'Age - GS'!E78)","v":""},{"$f":"IF('Age - GS'!F78=\"\",\"\",'Age - GS'!F78)","v":""}]
[73,{"$f":"IF('Age - GS'!B79=\"\",\"\",'Age - GS'!B79)","v":""},{"$f":"IF('Age - GS'!C79=\"\",\"\",'Age - GS'!C79)","v":""},{"$f":"IF('Age - GS'!D79=\"\",\"\",'Age - GS'!D79)","v":""},{"$f":"IF('Age - GS'!E79=\"\",\"\",'Age - GS'!E79)","v":""},{"$f":"IF('Age - GS'!F79=\"\",\"\",'Age - GS'!F79)","v":""}]
[74,{"$f":"IF('Age - GS'!B80=\"\",\"\",'Age - GS'!B80)","v":""},{"$f":"IF('Age - GS'!C80=\"\",\"\",'Age - GS'!C80)","v":""},{"$f":"IF('Age - GS'!D80=\"\",\"\",'Age - GS'!D80)","v":""},{"$f":"IF('Age - GS'!E80=\"\",\"\",'Age - GS'!E80)","v":""},{"$f":"IF('Age - GS'!F80=\"\",\"\",'Age - GS'!F80)","v":""}]
[75,{"$f":"IF('Age - GS'!B81=\"\",\"\",'Age - GS'!B81)","v":""},{"$f":"IF('Age - GS'!C81=\"\",\"\",'Age - GS'!C81)","v":""},{"$f":"IF('Age - GS'!D81=\"\",\"\",'Age - GS'!D81)","v":""},{"$f":"IF('Age - GS'!E81=\"\",\"\",'Age - GS'!E81)","v":""},{"$f":"IF('Age - GS'!F81=\"\",\"\",'Age - GS'!F81)","v":""}]
[76,{"$f":"IF('Age - GS'!B82=\"\",\"\",'Age - GS'!B82)","v":""},{"$f":"IF('Age - GS'!C82=\"\",\"\",'Age - GS'!C82)","v":""},{"$f":"IF('Age - GS'!D82=\"\",\"\",'Age - GS'!D82)","v":""},{"$f":"IF('Age - GS'!E82=\"\",\"\",'Age - GS'!E82)","v":""},{"$f":"IF('Age - GS'!F82=\"\",\"\",'Age - GS'!F82)","v":""}]
[77,{"$f":"IF('Age - GS'!B83=\"\",\"\",'Age - GS'!B83)","v":""},{"$f":"IF('Age - GS'!C83=\"\",\"\",'Age - GS'!C83)","v":""},{"$f":"IF('Age - GS'!D83=\"\",\"\",'Age - GS'!D83)","v":""},{"$f":"IF('Age - GS'!E83=\"\",\"\",'Age - GS'!E83)","v":""},{"$f":"IF('Age - GS'!F83=\"\",\"\",'Age - GS'!F83)","v":""}]
[78,{"$f":"IF('Age - GS'!B84=\"\",\"\",'Age - GS'!B84)","v":""},{"$f":"IF('Age - GS'!C84=\"\",\"\",'Age - GS'!C84)","v":""},{"$f":"IF('Age - GS'!D84=\"\",\"\",'Age - GS'!D84)","v":""},{"$f":"IF('Age - GS'!E84=\"\",\"\",'Age - GS'!E84)","v":""},{"$f":"IF('Age - GS'!F84=\"\",\"\",'Age - GS'!F84)","v":""}]
[79,{"$f":"IF('Age - GS'!B85=\"\",\"\",'Age - GS'!B85)","v":""},{"$f":"IF('Age - GS'!C85=\"\",\"\",'Age - GS'!C85)","v":""},{"$f":"IF('Age - GS'!D85=\"\",\"\",'Age - GS'!D85)","v":""},{"$f":"IF('Age - GS'!E85=\"\",\"\",'Age - GS'!E85)","v":""},{"$f":"IF('Age - GS'!F85=\"\",\"\",'Age - GS'!F85)","v":""}]
[80,{"$f":"IF('Age - GS'!B86=\"\",\"\",'Age - GS'!B86)","v":""},{"$f":"IF('Age - GS'!C86=\"\",\"\",'Age - GS'!C86)","v":""},{"$f":"IF('Age - GS'!D86=\"\",\"\",'Age - GS'!D86)","v":""},{"$f":"IF('Age - GS'!E86=\"\",\"\",'Age - GS'!E86)","v":""},{"$f":"IF('Age - GS'!F86=\"\",\"\",'Age - GS'!F86)","v":""}]
[81,{"$f":"IF('Age - GS'!B87=\"\",\"\",'Age - GS'!B87)","v":""},{"$f":"IF('Age - GS'!C87=\"\",\"\",'Age - GS'!C87)","v":""},{"$f":"IF('Age - GS'!D87=\"\",\"\",'Age - GS'!D87)","v":""},{"$f":"IF('Age - GS'!E87=\"\",\"\",'Age - GS'!E87)","v":""},{"$f":"IF('Age - GS'!F87=\"\",\"\",'Age - GS'!F87)","v":""}]
[82,{"$f":"IF('Age - GS'!B88=\"\",\"\",'Age - GS'!B88)","v":""},{"$f":"IF('Age - GS'!C88=\"\",\"\",'Age - GS'!C88)","v":""},{"$f":"IF('Age - GS'!D88=\"\",\"\",'Age - GS'!D88)","v":""},{"$f":"IF('Age - GS'!E88=\"\",\"\",'Age - GS'!E88)","v":""},{"$f":"IF('Age - GS'!F88=\"\",\"\",'Age - GS'!F88)","v":""}]
[83,{"$f":"IF('Age - GS'!B89=\"\",\"\",'Age - GS'!B89)","v":""},{"$f":"IF('Age - GS'!C89=\"\",\"\",'Age - GS'!C89)","v":""},{"$f":"IF('Age - GS'!D89=\"\",\"\",'Age - GS'!D89)","v":""},{"$f":"IF('Age - GS'!E89=\"\",\"\",'Age - GS'!E89)","v":""},{"$f":"IF('Age - GS'!F89=\"\",\"\",'Age - GS'!F89)","v":""}]
[84,{"$f":"IF('Age - GS'!B90=\"\",\"\",'Age - GS'!B90)","v":""},{"$f":"IF('Age - GS'!C90=\"\",\"\",'Age - GS'!C90)","v":""},{"$f":"IF('Age - GS'!D90=\"\",\"\",'Age - GS'!D90)","v":""},{"$f":"IF('Age - GS'!E90=\"\",\"\",'Age - GS'!E90)","v":""},{"$f":"IF('Age - GS'!F90=\"\",\"\",'Age - GS'!F90)","v":""}]
[85,{"$f":"IF('Age - GS'!B91=\"\",\"\",'Age - GS'!B91)","v":""},{"$f":"IF('Age - GS'!C91=\"\",\"\",'Age - GS'!C91)","v":""},{"$f":"IF('Age - GS'!D91=\"\",\"\",'Age - GS'!D91)","v":""},{"$f":"IF('Age - GS'!E91=\"\",\"\",'Age - GS'!E91)","v":""},{"$f":"IF('Age - GS'!F91=\"\",\"\",'Age - GS'!F91)","v":""}]
[86,{"$f":"IF('Age - GS'!B92=\"\",\"\",'Age - GS'!B92)","v":""},{"$f":"IF('Age - GS'!C92=\"\",\"\",'Age - GS'!C92)","v":""},{"$f":"IF('Age - GS'!D92=\"\",\"\",'Age - GS'!D92)","v":""},{"$f":"IF('Age - GS'!E92=\"\",\"\",'Age - GS'!E92)","v":""},{"$f":"IF('Age - GS'!F92=\"\",\"\",'Age - GS'!F92)","v":""}]
[87,{"$f":"IF('Age - GS'!B93=\"\",\"\",'Age - GS'!B93)","v":""},{"$f":"IF('Age - GS'!C93=\"\",\"\",'Age - GS'!C93)","v":""},{"$f":"IF('Age - GS'!D93=\"\",\"\",'Age - GS'!D93)","v":""},{"$f":"IF('Age - GS'!E93=\"\",\"\",'Age - GS'!E93)","v":""},{"$f":"IF('Age - GS'!F93=\"\",\"\",'Age - GS'!F93)","v":""}]
[88,{"$f":"IF('Age - GS'!B94=\"\",\"\",'Age - GS'!B94)","v":""},{"$f":"IF('Age - GS'!C94=\"\",\"\",'Age - GS'!C94)","v":""},{"$f":"IF('Age - GS'!D94=\"\",\"\",'Age - GS'!D94)","v":""},{"$f":"IF('Age - GS'!E94=\"\",\"\",'Age - GS'!E94)","v":""},{"$f":"IF('Age - GS'!F94=\"\",\"\",'Age - GS'!F94)","v":""}]
[89,{"$f":"IF('Age - GS'!B95=\"\",\"\",'Age - GS'!B95)","v":""},{"$f":"IF('Age - GS'!C95=\"\",\"\",'Age - GS'!C95)","v":""},{"$f":"IF('Age - GS'!D95=\"\",\"\",'Age - GS'!D95)","v":""},{"$f":"IF('Age - GS'!E95=\"\",\"\",'Age - GS'!E95)","v":""},{"$f":"IF('Age - GS'!F95=\"\",\"\",'Age - GS'!F95)","v":""}]
[90,{"$f":"IF('Age - GS'!B96=\"\",\"\",'Age - GS'!B96)","v":""},{"$f":"IF('Age - GS'!C96=\"\",\"\",'Age - GS'!C96)","v":""},{"$f":"IF('Age - GS'!D96=\"\",\"\",'Age - GS'!D96)","v":""},{"$f":"IF('Age - GS'!E96=\"\",\"\",'Age - GS'!E96)","v":""},{"$f":"IF('Age - GS'!F96=\"\",\"\",'Age - GS'!F96)","v":""}]
[91,{"$f":"IF('Age - GS'!B97=\"\",\"\",'Age - GS'!B97)","v":""},{"$f":"IF('Age - GS'!C97=\"\",\"\",'Age - GS'!C97)","v":""},{"$f":"IF('Age - GS'!D97=\"\",\"\",'Age - GS'!D97)","v":""},{"$f":"IF('Age - GS'!E97=\"\",\"\",'Age - GS'!E97)","v":""},{"$f":"IF('Age - GS'!F97=\"\",\"\",'Age - GS'!F97)","v":""}]
[92,{"$f":"IF('Age - GS'!B98=\"\",\"\",'Age - GS'!B98)","v":""},{"$f":"IF('Age - GS'!C98=\"\",\"\",'Age - GS'!C98)","v":""},{"$f":"IF('Age - GS'!D98=\"\",\"\",'Age - GS'!D98)","v":""},{"$f":"IF('Age - GS'!E98=\"\",\"\",'Age - GS'!E98)","v":""},{"$f":"IF('Age - GS'!F98=\"\",\"\",'Age - GS'!F98)","v":""}]
[93,{"$f":"IF('Age - GS'!B99=\"\",\"\",'Age - GS'!B99)","v":""},{"$f":"IF('Age - GS'!C99=\"\",\"\",'Age - GS'!C99)","v":""},{"$f":"IF('Age - GS'!D99=\"\",\"\",'Age - GS'!D99)","v":""},{"$f":"IF('Age - GS'!E99=\"\",\"\",'Age - GS'!E99)","v":""},{"$f":"IF('Age - GS'!F99=\"\",\"\",'Age - GS'!F99)","v":""}]
[94,{"$f":"IF('Age - GS'!B100=\"\",\"\",'Age - GS'!B100)","v":""},{"$f":"IF('Age - GS'!C100=\"\",\"\",'Age - GS'!C100)","v":""},{"$f":"IF('Age - GS'!D100=\"\",\"\",'Age - GS'!D100)","v":""},{"$f":"IF('Age - GS'!E100=\"\",\"\",'Age - GS'!E100)","v":""},{"$f":"IF('Age - GS'!F100=\"\",\"\",'Age - GS'!F100)","v":""}]
[95,{"$f":"IF('Age - GS'!B101=\"\",\"\",'Age - GS'!B101)","v":""},{"$f":"IF('Age - GS'!C101=\"\",\"\",'Age - GS'!C101)","v":""},{"$f":"IF('Age - GS'!D101=\"\",\"\",'Age - GS'!D101)","v":""},{"$f":"IF('Age - GS'!E101=\"\",\"\",'Age - GS'!E101)","v":""},{"$f":"IF('Age - GS'!F101=\"\",\"\",'Age - GS'!F101)","v":""}]
[96,{"$f":"IF('Age - GS'!B102=\"\",\"\",'Age - GS'!B102)","v":""},{"$f":"IF('Age - GS'!C102=\"\",\"\",'Age - GS'!C102)","v":""},{"$f":"IF('Age - GS'!D102=\"\",\"\",'Age - GS'!D102)","v":""},{"$f":"IF('Age - GS'!E102=\"\",\"\",'Age - GS'!E102)","v":""},{"$f":"IF('Age - GS'!F102=\"\",\"\",'Age - GS'!F102)","v":""}]
[97,{"$f":"IF('Age - GS'!B103=\"\",\"\",'Age - GS'!B103)","v":""},{"$f":"IF('Age - GS'!C103=\"\",\"\",'Age - GS'!C103)","v":""},{"$f":"IF('Age - GS'!D103=\"\",\"\",'Age - GS'!D103)","v":""},{"$f":"IF('Age - GS'!E103=\"\",\"\",'Age - GS'!E103)","v":""},{"$f":"IF('Age - GS'!F103=\"\",\"\",'Age - GS'!F103)","v":""}]
[98,{"$f":"IF('Age - GS'!B104=\"\",\"\",'Age - GS'!B104)","v":""},{"$f":"IF('Age - GS'!C104=\"\",\"\",'Age - GS'!C104)","v":""},{"$f":"IF('Age - GS'!D104=\"\",\"\",'Age - GS'!D104)","v":""},{"$f":"IF('Age - GS'!E104=\"\",\"\",'Age - GS'!E104)","v":""},{"$f":"IF('Age - GS'!F104=\"\",\"\",'Age - GS'!F104)","v":""}]
[99,{"$f":"IF('Age - GS'!B105=\"\",\"\",'Age - GS'!B105)","v":""},{"$f":"IF('Age - GS'!C105=\"\",\"\",'Age - GS'!C105)","v":""},{"$f":"IF('Age - GS'!D105=\"\",\"\",'Age - GS'!D105)","v":""},{"$f":"IF('Age - GS'!E105=\"\",\"\",'Age - GS'!E105)","v":""},{"$f":"IF('Age - GS'!F105=\"\",\"\",'Age - GS'!F105)","v":""}]
[100,{"$f":"IF('Age - GS'!B106=\"\",\"\",'Age - GS'!B106)","v":""},{"$f":"IF('Age - GS'!C106=\"\",\"\",'Age - GS'!C106)","v":""},{"$f":"IF('Age - GS'!D106=\"\",\"\",'Age - GS'!D106)","v":""},{"$f":"IF('Age - GS'!E106=\"\",\"\",'Age - GS'!E106)","v":""},{"$f":"IF('Age - GS'!F106=\"\",\"\",'Age - GS'!F106)","v":""}]
[101,{"$f":"IF('Age - GS'!B107=\"\",\"\",'Age - GS'!B107)","v":""},{"$f":"IF('Age - GS'!C107=\"\",\"\",'Age - GS'!C107)","v":""},{"$f":"IF('Age - GS'!D107=\"\",\"\",'Age - GS'!D107)","v":""},{"$f":"IF('Age - GS'!E107=\"\",\"\",'Age - GS'!E107)","v":""},{"$f":"IF('Age - GS'!F107=\"\",\"\",'Age - GS'!F107)","v":""}]
[102,{"$f":"IF('Age - GS'!B108=\"\",\"\",'Age - GS'!B108)","v":""},{"$f":"IF('Age - GS'!C108=\"\",\"\",'Age - GS'!C108)","v":""},{"$f":"IF('Age - GS'!D108=\"\",\"\",'Age - GS'!D108)","v":""},{"$f":"IF('Age - GS'!E108=\"\",\"\",'Age - GS'!E108)","v":""},{"$f":"IF('Age - GS'!F108=\"\",\"\",'Age - GS'!F108)","v":""}]
[103,{"$f":"IF('Age - GS'!B109=\"\",\"\",'Age - GS'!B109)","v":""},{"$f":"IF('Age - GS'!C109=\"\",\"\",'Age - GS'!C109)","v":""},{"$f":"IF('Age - GS'!D109=\"\",\"\",'Age - GS'!D109)","v":""},{"$f":"IF('Age - GS'!E109=\"\",\"\",'Age - GS'!E109)","v":""},{"$f":"IF('Age - GS'!F109=\"\",\"\",'Age - GS'!F109)","v":""}]
[104,{"$f":"IF('Age - GS'!B110=\"\",\"\",'Age - GS'!B110)","v":""},{"$f":"IF('Age - GS'!C110=\"\",\"\",'Age - GS'!C110)","v":""},{"$f":"IF('Age - GS'!D110=\"\",\"\",'Age - GS'!D110)","v":""},{"$f":"IF('Age - GS'!E110=\"\",\"\",'Age - GS'!E110)","v":""},{"$f":"IF('Age - GS'!F110=\"\",\"\",'Age - GS'!F110)","v":""}]
[105,{"$f":"IF('Age - GS'!B111=\"\",\"\",'Age - GS'!B111)","v":""},{"$f":"IF('Age - GS'!C111=\"\",\"\",'Age - GS'!C111)","v":""},{"$f":"IF('Age - GS'!D111=\"\",\"\",'Age - GS'!D111)","v":""},{"$f":"IF('Age - GS'!E111=\"\",\"\",'Age - GS'!E111)","v":""},{"$f":"IF('Age - GS'!F111=\"\",\"\",'Age - GS'!F111)","v":""}]
[106,{"$f":"IF('Age - GS'!B112=\"\",\"\",'Age - GS'!B112)","v":""},{"$f":"IF('Age - GS'!C112=\"\",\"\",'Age - GS'!C112)","v":""},{"$f":"IF('Age - GS'!D112=\"\",\"\",'Age - GS'!D112)","v":""},{"$f":"IF('Age - GS'!E112=\"\",\"\",'Age - GS'!E112)","v":""},{"$f":"IF('Age - GS'!F112=\"\",\"\",'Age - GS'!F112)","v":""}]
[107,{"$f":"IF('Age - GS'!B113=\"\",\"\",'Age - GS'!B113)","v":""},{"$f":"IF('Age - GS'!C113=\"\",\"\",'Age - GS'!C113)","v":""},{"$f":"IF('Age - GS'!D113=\"\",\"\",'Age - GS'!D113)","v":""},{"$f":"IF('Age - GS'!E113=\"\",\"\",'Age - GS'!E113)","v":""},{"$f":"IF('Age - GS'!F113=\"\",\"\",'Age - GS'!F113)","v":""}]
[108,{"$f":"IF('Age - GS'!B114=\"\",\"\",'Age - GS'!B114)","v":""},{"$f":"IF('Age - GS'!C114=\"\",\"\",'Age - GS'!C114)","v":""},{"$f":"IF('Age - GS'!D114=\"\",\"\",'Age - GS'!D114)","v":""},{"$f":"IF('Age - GS'!E114=\"\",\"\",'Age - GS'!E114)","v":""},{"$f":"IF('Age - GS'!F114=\"\",\"\",'Age - GS'!F114)","v":""}]
[109,{"$f":"IF('Age - GS'!B115=\"\",\"\",'Age - GS'!B115)","v":""},{"$f":"IF('Age - GS'!C115=\"\",\"\",'Age - GS'!C115)","v":""},{"$f":"IF('Age - GS'!D115=\"\",\"\",'Age - GS'!D115)","v":""},{"$f":"IF('Age - GS'!E115=\"\",\"\",'Age - GS'!E115)","v":""},{"$f":"IF('Age - GS'!F115=\"\",\"\",'Age - GS'!F115)","v":""}]
[110,{"$f":"IF('Age - GS'!B116=\"\",\"\",'Age - GS'!B116)","v":""},{"$f":"IF('Age - GS'!C116=\"\",\"\",'Age - GS'!C116)","v":""},{"$f":"IF('Age - GS'!D116=\"\",\"\",'Age - GS'!D116)","v":""},{"$f":"IF('Age - GS'!E116=\"\",\"\",'Age - GS'!E116)","v":""},{"$f":"IF('Age - GS'!F116=\"\",\"\",'Age - GS'!F116)","v":""}]
[111,{"$f":"IF('Age - GS'!B117=\"\",\"\",'Age - GS'!B117)","v":""},{"$f":"IF('Age - GS'!C117=\"\",\"\",'Age - GS'!C117)","v":""},{"$f":"IF('Age - GS'!D117=\"\",\"\",'Age - GS'!D117)","v":""},{"$f":"IF('Age - GS'!E117=\"\",\"\",'Age - GS'!E117)","v":""},{"$f":"IF('Age - GS'!F117=\"\",\"\",'Age - GS'!F117)","v":""}]
[112,{"$f":"IF('Age - GS'!B118=\"\",\"\",'Age - GS'!B118)","v":""},{"$f":"IF('Age - GS'!C118=\"\",\"\",'Age - GS'!C118)","v":""},{"$f":"IF('Age - GS'!D118=\"\",\"\",'Age - GS'!D118)","v":""},{"$f":"IF('Age - GS'!E118=\"\",\"\",'Age - GS'!E118)","v":""},{"$f":"IF('Age - GS'!F118=\"\",\"\",'Age - GS'!F118)","v":""}]
[113,{"$f":"IF('Age - GS'!B119=\"\",\"\",'Age - GS'!B119)","v":""},{"$f":"IF('Age - GS'!C119=\"\",\"\",'Age - GS'!C119)","v":""},{"$f":"IF('Age - GS'!D119=\"\",\"\",'Age - GS'!D119)","v":""},{"$f":"IF('Age - GS'!E119=\"\",\"\",'Age - GS'!E119)","v":""},{"$f":"IF('Age - GS'!F119=\"\",\"\",'Age - GS'!F119)","v":""}]
[114,{"$f":"IF('Age - GS'!B120=\"\",\"\",'Age - GS'!B120)","v":""},{"$f":"IF('Age - GS'!C120=\"\",\"\",'Age - GS'!C120)","v":""},{"$f":"IF('Age - GS'!D120=\"\",\"\",'Age - GS'!D120)","v":""},{"$f":"IF('Age - GS'!E120=\"\",\"\",'Age - GS'!E120)","v":""},{"$f":"IF('Age - GS'!F120=\"\",\"\",'Age - GS'!F120)","v":""}]
[115,{"$f":"IF('Age - GS'!B121=\"\",\"\",'Age - GS'!B121)","v":""},{"$f":"IF('Age - GS'!C121=\"\",\"\",'Age - GS'!C121)","v":""},{"$f":"IF('Age - GS'!D121=\"\",\"\",'Age - GS'!D121)","v":""},{"$f":"IF('Age - GS'!E121=\"\",\"\",'Age - GS'!E121)","v":""},{"$f":"IF('Age - GS'!F121=\"\",\"\",'Age - GS'!F121)","v":""}]
[116,{"$f":"IF('Age - GS'!B122=\"\",\"\",'Age - GS'!B122)","v":""},{"$f":"IF('Age - GS'!C122=\"\",\"\",'Age - GS'!C122)","v":""},{"$f":"IF('Age - GS'!D122=\"\",\"\",'Age - GS'!D122)","v":""},{"$f":"IF('Age - GS'!E122=\"\",\"\",'Age - GS'!E122)","v":""},{"$f":"IF('Age - GS'!F122=\"\",\"\",'Age - GS'!F122)","v":""}]
[117,{"$f":"IF('Age - GS'!B123=\"\",\"\",'Age - GS'!B123)","v":""},{"$f":"IF('Age - GS'!C123=\"\",\"\",'Age - GS'!C123)","v":""},{"$f":"IF('Age - GS'!D123=\"\",\"\",'Age - GS'!D123)","v":""},{"$f":"IF('Age - GS'!E123=\"\",\"\",'Age - GS'!E123)","v":""},{"$f":"IF('Age - GS'!F123=\"\",\"\",'Age - GS'!F123)","v":""}]
[118,{"$f":"IF('Age - GS'!B124=\"\",\"\",'Age - GS'!B124)","v":""},{"$f":"IF('Age - GS'!C124=\"\",\"\",'Age - GS'!C124)","v":""},{"$f":"IF('Age - GS'!D124=\"\",\"\",'Age - GS'!D124)","v":""},{"$f":"IF('Age - GS'!E124=\"\",\"\",'Age - GS'!E124)","v":""},{"$f":"IF('Age - GS'!F124=\"\",\"\",'Age - GS'!F124)","v":""}]
[119,{"$f":"IF('Age - GS'!B125=\"\",\"\",'Age - GS'!B125)","v":""},{"$f":"IF('Age - GS'!C125=\"\",\"\",'Age - GS'!C125)","v":""},{"$f":"IF('Age - GS'!D125=\"\",\"\",'Age - GS'!D125)","v":""},{"$f":"IF('Age - GS'!E125=\"\",\"\",'Age - GS'!E125)","v":""},{"$f":"IF('Age - GS'!F125=\"\",\"\",'Age - GS'!F125)","v":""}]
[120,{"$f":"IF('Age - GS'!B126=\"\",\"\",'Age - GS'!B126)","v":""},{"$f":"IF('Age - GS'!C126=\"\",\"\",'Age - GS'!C126)","v":""},{"$f":"IF('Age - GS'!D126=\"\",\"\",'Age - GS'!D126)","v":""},{"$f":"IF('Age - GS'!E126=\"\",\"\",'Age - GS'!E126)","v":""},{"$f":"IF('Age - GS'!F126=\"\",\"\",'Age - GS'!F126)","v":""}]
[]
["AGE - Biparietal Diameter",null,null,null,null,{"$f":"IF('Age - BPD'!F1=\"\",\"\",'Age - BPD'!F1)","v":"Age BPD"}]
[null,null,null,null,null,{"$f":"ValidationData!DataVersion","v":"70.80.100.100"}]
["Index","Measurement Name",null,null,"BPD"]
[null,"Measurement Type",null,null,"Distance (cm)"]
[null,"Author",null,null,{"$f":"IF('Age - BPD'!J5=\"\",\"\",'Age - BPD'!J5)","v":""}]
[null,"Value","Age (weeks)","Age (days)","Range (weeks)","Range (days)"]
[1,{"$f":"IF('Age - BPD'!B7=\"\",\"\",'Age - BPD'!B7)","v":""},{"$f":"IF('Age - BPD'!C7=\"\",\"\",'Age - BPD'!C7)","v":""},{"$f":"IF('Age - BPD'!D7=\"\",\"\",'Age - BPD'!D7)","v":""},{"$f":"IF('Age - BPD'!E7=\"\",\"\",'Age - BPD'!E7)","v":""},{"$f":"IF('Age - BPD'!F7=\"\",\"\",'Age - BPD'!F7)","v":""}]
[2,{"$f":"IF('Age - BPD'!B8=\"\",\"\",'Age - BPD'!B8)","v":""},{"$f":"IF('Age - BPD'!C8=\"\",\"\",'Age - BPD'!C8)","v":""},{"$f":"IF('Age - BPD'!D8=\"\",\"\",'Age - BPD'!D8)","v":""},{"$f":"IF('Age - BPD'!E8=\"\",\"\",'Age - BPD'!E8)","v":""},{"$f":"IF('Age - BPD'!F8=\"\",\"\",'Age - BPD'!F8)","v":""}]
[3,{"$f":"IF('Age - BPD'!B9=\"\",\"\",'Age - BPD'!B9)","v":""},{"$f":"IF('Age - BPD'!C9=\"\",\"\",'Age - BPD'!C9)","v":""},{"$f":"IF('Age - BPD'!D9=\"\",\"\",'Age - BPD'!D9)","v":""},{"$f":"IF('Age - BPD'!E9=\"\",\"\",'Age - BPD'!E9)","v":""},{"$f":"IF('Age - BPD'!F9=\"\",\"\",'Age - BPD'!F9)","v":""}]
[4,{"$f":"IF('Age - BPD'!B10=\"\",\"\",'Age - BPD'!B10)","v":""},{"$f":"IF('Age - BPD'!C10=\"\",\"\",'Age - BPD'!C10)","v":""},{"$f":"IF('Age - BPD'!D10=\"\",\"\",'Age - BPD'!D10)","v":""},{"$f":"IF('Age - BPD'!E10=\"\",\"\",'Age - BPD'!E10)","v":""},{"$f":"IF('Age - BPD'!F10=\"\",\"\",'Age - BPD'!F10)","v":""}]
[5,{"$f":"IF('Age - BPD'!B11=\"\",\"\",'Age - BPD'!B11)","v":""},{"$f":"IF('Age - BPD'!C11=\"\",\"\",'Age - BPD'!C11)","v":""},{"$f":"IF('Age - BPD'!D11=\"\",\"\",'Age - BPD'!D11)","v":""},{"$f":"IF('Age - BPD'!E11=\"\",\"\",'Age - BPD'!E11)","v":""},{"$f":"IF('Age - BPD'!F11=\"\",\"\",'Age - BPD'!F11)","v":""}]
[6,{"$f":"IF('Age - BPD'!B12=\"\",\"\",'Age - BPD'!B12)","v":""},{"$f":"IF('Age - BPD'!C12=\"\",\"\",'Age - BPD'!C12)","v":""},{"$f":"IF('Age - BPD'!D12=\"\",\"\",'Age - BPD'!D12)","v":""},{"$f":"IF('Age - BPD'!E12=\"\",\"\",'Age - BPD'!E12)","v":""},{"$f":"IF('Age - BPD'!F12=\"\",\"\",'Age - BPD'!F12)","v":""}]
[7,{"$f":"IF('Age - BPD'!B13=\"\",\"\",'Age - BPD'!B13)","v":""},{"$f":"IF('Age - BPD'!C13=\"\",\"\",'Age - BPD'!C13)","v":""},{"$f":"IF('Age - BPD'!D13=\"\",\"\",'Age - BPD'!D13)","v":""},{"$f":"IF('Age - BPD'!E13=\"\",\"\",'Age - BPD'!E13)","v":""},{"$f":"IF('Age - BPD'!F13=\"\",\"\",'Age - BPD'!F13)","v":""}]
[8,{"$f":"IF('Age - BPD'!B14=\"\",\"\",'Age - BPD'!B14)","v":""},{"$f":"IF('Age - BPD'!C14=\"\",\"\",'Age - BPD'!C14)","v":""},{"$f":"IF('Age - BPD'!D14=\"\",\"\",'Age - BPD'!D14)","v":""},{"$f":"IF('Age - BPD'!E14=\"\",\"\",'Age - BPD'!E14)","v":""},{"$f":"IF('Age - BPD'!F14=\"\",\"\",'Age - BPD'!F14)","v":""}]
[9,{"$f":"IF('Age - BPD'!B15=\"\",\"\",'Age - BPD'!B15)","v":""},{"$f":"IF('Age - BPD'!C15=\"\",\"\",'Age - BPD'!C15)","v":""},{"$f":"IF('Age - BPD'!D15=\"\",\"\",'Age - BPD'!D15)","v":""},{"$f":"IF('Age - BPD'!E15=\"\",\"\",'Age - BPD'!E15)","v":""},{"$f":"IF('Age - BPD'!F15=\"\",\"\",'Age - BPD'!F15)","v":""}]
[10,{"$f":"IF('Age - BPD'!B16=\"\",\"\",'Age - BPD'!B16)","v":""},{"$f":"IF('Age - BPD'!C16=\"\",\"\",'Age - BPD'!C16)","v":""},{"$f":"IF('Age - BPD'!D16=\"\",\"\",'Age - BPD'!D16)","v":""},{"$f":"IF('Age - BPD'!E16=\"\",\"\",'Age - BPD'!E16)","v":""},{"$f":"IF('Age - BPD'!F16=\"\",\"\",'Age - BPD'!F16)","v":""}]
[11,{"$f":"IF('Age - BPD'!B17=\"\",\"\",'Age - BPD'!B17)","v":""},{"$f":"IF('Age - BPD'!C17=\"\",\"\",'Age - BPD'!C17)","v":""},{"$f":"IF('Age - BPD'!D17=\"\",\"\",'Age - BPD'!D17)","v":""},{"$f":"IF('Age - BPD'!E17=\"\",\"\",'Age - BPD'!E17)","v":""},{"$f":"IF('Age - BPD'!F17=\"\",\"\",'Age - BPD'!F17)","v":""}]
[12,{"$f":"IF('Age - BPD'!B18=\"\",\"\",'Age - BPD'!B18)","v":""},{"$f":"IF('Age - BPD'!C18=\"\",\"\",'Age - BPD'!C18)","v":""},{"$f":"IF('Age - BPD'!D18=\"\",\"\",'Age - BPD'!D18)","v":""},{"$f":"IF('Age - BPD'!E18=\"\",\"\",'Age - BPD'!E18)","v":""},{"$f":"IF('Age - BPD'!F18=\"\",\"\",'Age - BPD'!F18)","v":""}]
[13,{"$f":"IF('Age - BPD'!B19=\"\",\"\",'Age - BPD'!B19)","v":""},{"$f":"IF('Age - BPD'!C19=\"\",\"\",'Age - BPD'!C19)","v":""},{"$f":"IF('Age - BPD'!D19=\"\",\"\",'Age - BPD'!D19)","v":""},{"$f":"IF('Age - BPD'!E19=\"\",\"\",'Age - BPD'!E19)","v":""},{"$f":"IF('Age - BPD'!F19=\"\",\"\",'Age - BPD'!F19)","v":""}]
[14,{"$f":"IF('Age - BPD'!B20=\"\",\"\",'Age - BPD'!B20)","v":""},{"$f":"IF('Age - BPD'!C20=\"\",\"\",'Age - BPD'!C20)","v":""},{"$f":"IF('Age - BPD'!D20=\"\",\"\",'Age - BPD'!D20)","v":""},{"$f":"IF('Age - BPD'!E20=\"\",\"\",'Age - BPD'!E20)","v":""},{"$f":"IF('Age - BPD'!F20=\"\",\"\",'Age - BPD'!F20)","v":""}]
[15,{"$f":"IF('Age - BPD'!B21=\"\",\"\",'Age - BPD'!B21)","v":""},{"$f":"IF('Age - BPD'!C21=\"\",\"\",'Age - BPD'!C21)","v":""},{"$f":"IF('Age - BPD'!D21=\"\",\"\",'Age - BPD'!D21)","v":""},{"$f":"IF('Age - BPD'!E21=\"\",\"\",'Age - BPD'!E21)","v":""},{"$f":"IF('Age - BPD'!F21=\"\",\"\",'Age - BPD'!F21)","v":""}]
[16,{"$f":"IF('Age - BPD'!B22=\"\",\"\",'Age - BPD'!B22)","v":""},{"$f":"IF('Age - BPD'!C22=\"\",\"\",'Age - BPD'!C22)","v":""},{"$f":"IF('Age - BPD'!D22=\"\",\"\",'Age - BPD'!D22)","v":""},{"$f":"IF('Age - BPD'!E22=\"\",\"\",'Age - BPD'!E22)","v":""},{"$f":"IF('Age - BPD'!F22=\"\",\"\",'Age - BPD'!F22)","v":""}]
[17,{"$f":"IF('Age - BPD'!B23=\"\",\"\",'Age - BPD'!B23)","v":""},{"$f":"IF('Age - BPD'!C23=\"\",\"\",'Age - BPD'!C23)","v":""},{"$f":"IF('Age - BPD'!D23=\"\",\"\",'Age - BPD'!D23)","v":""},{"$f":"IF('Age - BPD'!E23=\"\",\"\",'Age - BPD'!E23)","v":""},{"$f":"IF('Age - BPD'!F23=\"\",\"\",'Age - BPD'!F23)","v":""}]
[18,{"$f":"IF('Age - BPD'!B24=\"\",\"\",'Age - BPD'!B24)","v":""},{"$f":"IF('Age - BPD'!C24=\"\",\"\",'Age - BPD'!C24)","v":""},{"$f":"IF('Age - BPD'!D24=\"\",\"\",'Age - BPD'!D24)","v":""},{"$f":"IF('Age - BPD'!E24=\"\",\"\",'Age - BPD'!E24)","v":""},{"$f":"IF('Age - BPD'!F24=\"\",\"\",'Age - BPD'!F24)","v":""}]
[19,{"$f":"IF('Age - BPD'!B25=\"\",\"\",'Age - BPD'!B25)","v":""},{"$f":"IF('Age - BPD'!C25=\"\",\"\",'Age - BPD'!C25)","v":""},{"$f":"IF('Age - BPD'!D25=\"\",\"\",'Age - BPD'!D25)","v":""},{"$f":"IF('Age - BPD'!E25=\"\",\"\",'Age - BPD'!E25)","v":""},{"$f":"IF('Age - BPD'!F25=\"\",\"\",'Age - BPD'!F25)","v":""}]
[20,{"$f":"IF('Age - BPD'!B26=\"\",\"\",'Age - BPD'!B26)","v":""},{"$f":"IF('Age - BPD'!C26=\"\",\"\",'Age - BPD'!C26)","v":""},{"$f":"IF('Age - BPD'!D26=\"\",\"\",'Age - BPD'!D26)","v":""},{"$f":"IF('Age - BPD'!E26=\"\",\"\",'Age - BPD'!E26)","v":""},{"$f":"IF('Age - BPD'!F26=\"\",\"\",'Age - BPD'!F26)","v":""}]
[21,{"$f":"IF('Age - BPD'!B27=\"\",\"\",'Age - BPD'!B27)","v":""},{"$f":"IF('Age - BPD'!C27=\"\",\"\",'Age - BPD'!C27)","v":""},{"$f":"IF('Age - BPD'!D27=\"\",\"\",'Age - BPD'!D27)","v":""},{"$f":"IF('Age - BPD'!E27=\"\",\"\",'Age - BPD'!E27)","v":""},{"$f":"IF('Age - BPD'!F27=\"\",\"\",'Age - BPD'!F27)","v":""}]
[22,{"$f":"IF('Age - BPD'!B28=\"\",\"\",'Age - BPD'!B28)","v":""},{"$f":"IF('Age - BPD'!C28=\"\",\"\",'Age - BPD'!C28)","v":""},{"$f":"IF('Age - BPD'!D28=\"\",\"\",'Age - BPD'!D28)","v":""},{"$f":"IF('Age - BPD'!E28=\"\",\"\",'Age - BPD'!E28)","v":""},{"$f":"IF('Age - BPD'!F28=\"\",\"\",'Age - BPD'!F28)","v":""}]
[23,{"$f":"IF('Age - BPD'!B29=\"\",\"\",'Age - BPD'!B29)","v":""},{"$f":"IF('Age - BPD'!C29=\"\",\"\",'Age - BPD'!C29)","v":""},{"$f":"IF('Age - BPD'!D29=\"\",\"\",'Age - BPD'!D29)","v":""},{"$f":"IF('Age - BPD'!E29=\"\",\"\",'Age - BPD'!E29)","v":""},{"$f":"IF('Age - BPD'!F29=\"\",\"\",'Age - BPD'!F29)","v":""}]
[24,{"$f":"IF('Age - BPD'!B30=\"\",\"\",'Age - BPD'!B30)","v":""},{"$f":"IF('Age - BPD'!C30=\"\",\"\",'Age - BPD'!C30)","v":""},{"$f":"IF('Age - BPD'!D30=\"\",\"\",'Age - BPD'!D30)","v":""},{"$f":"IF('Age - BPD'!E30=\"\",\"\",'Age - BPD'!E30)","v":""},{"$f":"IF('Age - BPD'!F30=\"\",\"\",'Age - BPD'!F30)","v":""}]
[25,{"$f":"IF('Age - BPD'!B31=\"\",\"\",'Age - BPD'!B31)","v":""},{"$f":"IF('Age - BPD'!C31=\"\",\"\",'Age - BPD'!C31)","v":""},{"$f":"IF('Age - BPD'!D31=\"\",\"\",'Age - BPD'!D31)","v":""},{"$f":"IF('Age - BPD'!E31=\"\",\"\",'Age - BPD'!E31)","v":""},{"$f":"IF('Age - BPD'!F31=\"\",\"\",'Age - BPD'!F31)","v":""}]
[26,{"$f":"IF('Age - BPD'!B32=\"\",\"\",'Age - BPD'!B32)","v":""},{"$f":"IF('Age - BPD'!C32=\"\",\"\",'Age - BPD'!C32)","v":""},{"$f":"IF('Age - BPD'!D32=\"\",\"\",'Age - BPD'!D32)","v":""},{"$f":"IF('Age - BPD'!E32=\"\",\"\",'Age - BPD'!E32)","v":""},{"$f":"IF('Age - BPD'!F32=\"\",\"\",'Age - BPD'!F32)","v":""}]
[27,{"$f":"IF('Age - BPD'!B33=\"\",\"\",'Age - BPD'!B33)","v":""},{"$f":"IF('Age - BPD'!C33=\"\",\"\",'Age - BPD'!C33)","v":""},{"$f":"IF('Age - BPD'!D33=\"\",\"\",'Age - BPD'!D33)","v":""},{"$f":"IF('Age - BPD'!E33=\"\",\"\",'Age - BPD'!E33)","v":""},{"$f":"IF('Age - BPD'!F33=\"\",\"\",'Age - BPD'!F33)","v":""}]
[28,{"$f":"IF('Age - BPD'!B34=\"\",\"\",'Age - BPD'!B34)","v":""},{"$f":"IF('Age - BPD'!C34=\"\",\"\",'Age - BPD'!C34)","v":""},{"$f":"IF('Age - BPD'!D34=\"\",\"\",'Age - BPD'!D34)","v":""},{"$f":"IF('Age - BPD'!E34=\"\",\"\",'Age - BPD'!E34)","v":""},{"$f":"IF('Age - BPD'!F34=\"\",\"\",'Age - BPD'!F34)","v":""}]
[29,{"$f":"IF('Age - BPD'!B35=\"\",\"\",'Age - BPD'!B35)","v":""},{"$f":"IF('Age - BPD'!C35=\"\",\"\",'Age - BPD'!C35)","v":""},{"$f":"IF('Age - BPD'!D35=\"\",\"\",'Age - BPD'!D35)","v":""},{"$f":"IF('Age - BPD'!E35=\"\",\"\",'Age - BPD'!E35)","v":""},{"$f":"IF('Age - BPD'!F35=\"\",\"\",'Age - BPD'!F35)","v":""}]
[30,{"$f":"IF('Age - BPD'!B36=\"\",\"\",'Age - BPD'!B36)","v":""},{"$f":"IF('Age - BPD'!C36=\"\",\"\",'Age - BPD'!C36)","v":""},{"$f":"IF('Age - BPD'!D36=\"\",\"\",'Age - BPD'!D36)","v":""},{"$f":"IF('Age - BPD'!E36=\"\",\"\",'Age - BPD'!E36)","v":""},{"$f":"IF('Age - BPD'!F36=\"\",\"\",'Age - BPD'!F36)","v":""}]
[31,{"$f":"IF('Age - BPD'!B37=\"\",\"\",'Age - BPD'!B37)","v":""},{"$f":"IF('Age - BPD'!C37=\"\",\"\",'Age - BPD'!C37)","v":""},{"$f":"IF('Age - BPD'!D37=\"\",\"\",'Age - BPD'!D37)","v":""},{"$f":"IF('Age - BPD'!E37=\"\",\"\",'Age - BPD'!E37)","v":""},{"$f":"IF('Age - BPD'!F37=\"\",\"\",'Age - BPD'!F37)","v":""}]
[32,{"$f":"IF('Age - BPD'!B38=\"\",\"\",'Age - BPD'!B38)","v":""},{"$f":"IF('Age - BPD'!C38=\"\",\"\",'Age - BPD'!C38)","v":""},{"$f":"IF('Age - BPD'!D38=\"\",\"\",'Age - BPD'!D38)","v":""},{"$f":"IF('Age - BPD'!E38=\"\",\"\",'Age - BPD'!E38)","v":""},{"$f":"IF('Age - BPD'!F38=\"\",\"\",'Age - BPD'!F38)","v":""}]
[33,{"$f":"IF('Age - BPD'!B39=\"\",\"\",'Age - BPD'!B39)","v":""},{"$f":"IF('Age - BPD'!C39=\"\",\"\",'Age - BPD'!C39)","v":""},{"$f":"IF('Age - BPD'!D39=\"\",\"\",'Age - BPD'!D39)","v":""},{"$f":"IF('Age - BPD'!E39=\"\",\"\",'Age - BPD'!E39)","v":""},{"$f":"IF('Age - BPD'!F39=\"\",\"\",'Age - BPD'!F39)","v":""}]
[34,{"$f":"IF('Age - BPD'!B40=\"\",\"\",'Age - BPD'!B40)","v":""},{"$f":"IF('Age - BPD'!C40=\"\",\"\",'Age - BPD'!C40)","v":""},{"$f":"IF('Age - BPD'!D40=\"\",\"\",'Age - BPD'!D40)","v":""},{"$f":"IF('Age - BPD'!E40=\"\",\"\",'Age - BPD'!E40)","v":""},{"$f":"IF('Age - BPD'!F40=\"\",\"\",'Age - BPD'!F40)","v":""}]
[35,{"$f":"IF('Age - BPD'!B41=\"\",\"\",'Age - BPD'!B41)","v":""},{"$f":"IF('Age - BPD'!C41=\"\",\"\",'Age - BPD'!C41)","v":""},{"$f":"IF('Age - BPD'!D41=\"\",\"\",'Age - BPD'!D41)","v":""},{"$f":"IF('Age - BPD'!E41=\"\",\"\",'Age - BPD'!E41)","v":""},{"$f":"IF('Age - BPD'!F41=\"\",\"\",'Age - BPD'!F41)","v":""}]
[36,{"$f":"IF('Age - BPD'!B42=\"\",\"\",'Age - BPD'!B42)","v":""},{"$f":"IF('Age - BPD'!C42=\"\",\"\",'Age - BPD'!C42)","v":""},{"$f":"IF('Age - BPD'!D42=\"\",\"\",'Age - BPD'!D42)","v":""},{"$f":"IF('Age - BPD'!E42=\"\",\"\",'Age - BPD'!E42)","v":""},{"$f":"IF('Age - BPD'!F42=\"\",\"\",'Age - BPD'!F42)","v":""}]
[37,{"$f":"IF('Age - BPD'!B43=\"\",\"\",'Age - BPD'!B43)","v":""},{"$f":"IF('Age - BPD'!C43=\"\",\"\",'Age - BPD'!C43)","v":""},{"$f":"IF('Age - BPD'!D43=\"\",\"\",'Age - BPD'!D43)","v":""},{"$f":"IF('Age - BPD'!E43=\"\",\"\",'Age - BPD'!E43)","v":""},{"$f":"IF('Age - BPD'!F43=\"\",\"\",'Age - BPD'!F43)","v":""}]
[38,{"$f":"IF('Age - BPD'!B44=\"\",\"\",'Age - BPD'!B44)","v":""},{"$f":"IF('Age - BPD'!C44=\"\",\"\",'Age - BPD'!C44)","v":""},{"$f":"IF('Age - BPD'!D44=\"\",\"\",'Age - BPD'!D44)","v":""},{"$f":"IF('Age - BPD'!E44=\"\",\"\",'Age - BPD'!E44)","v":""},{"$f":"IF('Age - BPD'!F44=\"\",\"\",'Age - BPD'!F44)","v":""}]
[39,{"$f":"IF('Age - BPD'!B45=\"\",\"\",'Age - BPD'!B45)","v":""},{"$f":"IF('Age - BPD'!C45=\"\",\"\",'Age - BPD'!C45)","v":""},{"$f":"IF('Age - BPD'!D45=\"\",\"\",'Age - BPD'!D45)","v":""},{"$f":"IF('Age - BPD'!E45=\"\",\"\",'Age - BPD'!E45)","v":""},{"$f":"IF('Age - BPD'!F45=\"\",\"\",'Age - BPD'!F45)","v":""}]
[40,{"$f":"IF('Age - BPD'!B46=\"\",\"\",'Age - BPD'!B46)","v":""},{"$f":"IF('Age - BPD'!C46=\"\",\"\",'Age - BPD'!C46)","v":""},{"$f":"IF('Age - BPD'!D46=\"\",\"\",'Age - BPD'!D46)","v":""},{"$f":"IF('Age - BPD'!E46=\"\",\"\",'Age - BPD'!E46)","v":""},{"$f":"IF('Age - BPD'!F46=\"\",\"\",'Age - BPD'!F46)","v":""}]
[41,{"$f":"IF('Age - BPD'!B47=\"\",\"\",'Age - BPD'!B47)","v":""},{"$f":"IF('Age - BPD'!C47=\"\",\"\",'Age - BPD'!C47)","v":""},{"$f":"IF('Age - BPD'!D47=\"\",\"\",'Age - BPD'!D47)","v":""},{"$f":"IF('Age - BPD'!E47=\"\",\"\",'Age - BPD'!E47)","v":""},{"$f":"IF('Age - BPD'!F47=\"\",\"\",'Age - BPD'!F47)","v":""}]
[42,{"$f":"IF('Age - BPD'!B48=\"\",\"\",'Age - BPD'!B48)","v":""},{"$f":"IF('Age - BPD'!C48=\"\",\"\",'Age - BPD'!C48)","v":""},{"$f":"IF('Age - BPD'!D48=\"\",\"\",'Age - BPD'!D48)","v":""},{"$f":"IF('Age - BPD'!E48=\"\",\"\",'Age - BPD'!E48)","v":""},{"$f":"IF('Age - BPD'!F48=\"\",\"\",'Age - BPD'!F48)","v":""}]
[43,{"$f":"IF('Age - BPD'!B49=\"\",\"\",'Age - BPD'!B49)","v":""},{"$f":"IF('Age - BPD'!C49=\"\",\"\",'Age - BPD'!C49)","v":""},{"$f":"IF('Age - BPD'!D49=\"\",\"\",'Age - BPD'!D49)","v":""},{"$f":"IF('Age - BPD'!E49=\"\",\"\",'Age - BPD'!E49)","v":""},{"$f":"IF('Age - BPD'!F49=\"\",\"\",'Age - BPD'!F49)","v":""}]
[44,{"$f":"IF('Age - BPD'!B50=\"\",\"\",'Age - BPD'!B50)","v":""},{"$f":"IF('Age - BPD'!C50=\"\",\"\",'Age - BPD'!C50)","v":""},{"$f":"IF('Age - BPD'!D50=\"\",\"\",'Age - BPD'!D50)","v":""},{"$f":"IF('Age - BPD'!E50=\"\",\"\",'Age - BPD'!E50)","v":""},{"$f":"IF('Age - BPD'!F50=\"\",\"\",'Age - BPD'!F50)","v":""}]
[45,{"$f":"IF('Age - BPD'!B51=\"\",\"\",'Age - BPD'!B51)","v":""},{"$f":"IF('Age - BPD'!C51=\"\",\"\",'Age - BPD'!C51)","v":""},{"$f":"IF('Age - BPD'!D51=\"\",\"\",'Age - BPD'!D51)","v":""},{"$f":"IF('Age - BPD'!E51=\"\",\"\",'Age - BPD'!E51)","v":""},{"$f":"IF('Age - BPD'!F51=\"\",\"\",'Age - BPD'!F51)","v":""}]
[46,{"$f":"IF('Age - BPD'!B52=\"\",\"\",'Age - BPD'!B52)","v":""},{"$f":"IF('Age - BPD'!C52=\"\",\"\",'Age - BPD'!C52)","v":""},{"$f":"IF('Age - BPD'!D52=\"\",\"\",'Age - BPD'!D52)","v":""},{"$f":"IF('Age - BPD'!E52=\"\",\"\",'Age - BPD'!E52)","v":""},{"$f":"IF('Age - BPD'!F52=\"\",\"\",'Age - BPD'!F52)","v":""}]
[47,{"$f":"IF('Age - BPD'!B53=\"\",\"\",'Age - BPD'!B53)","v":""},{"$f":"IF('Age - BPD'!C53=\"\",\"\",'Age - BPD'!C53)","v":""},{"$f":"IF('Age - BPD'!D53=\"\",\"\",'Age - BPD'!D53)","v":""},{"$f":"IF('Age - BPD'!E53=\"\",\"\",'Age - BPD'!E53)","v":""},{"$f":"IF('Age - BPD'!F53=\"\",\"\",'Age - BPD'!F53)","v":""}]
[48,{"$f":"IF('Age - BPD'!B54=\"\",\"\",'Age - BPD'!B54)","v":""},{"$f":"IF('Age - BPD'!C54=\"\",\"\",'Age - BPD'!C54)","v":""},{"$f":"IF('Age - BPD'!D54=\"\",\"\",'Age - BPD'!D54)","v":""},{"$f":"IF('Age - BPD'!E54=\"\",\"\",'Age - BPD'!E54)","v":""},{"$f":"IF('Age - BPD'!F54=\"\",\"\",'Age - BPD'!F54)","v":""}]
[49,{"$f":"IF('Age - BPD'!B55=\"\",\"\",'Age - BPD'!B55)","v":""},{"$f":"IF('Age - BPD'!C55=\"\",\"\",'Age - BPD'!C55)","v":""},{"$f":"IF('Age - BPD'!D55=\"\",\"\",'Age - BPD'!D55)","v":""},{"$f":"IF('Age - BPD'!E55=\"\",\"\",'Age - BPD'!E55)","v":""},{"$f":"IF('Age - BPD'!F55=\"\",\"\",'Age - BPD'!F55)","v":""}]
[50,{"$f":"IF('Age - BPD'!B56=\"\",\"\",'Age - BPD'!B56)","v":""},{"$f":"IF('Age - BPD'!C56=\"\",\"\",'Age - BPD'!C56)","v":""},{"$f":"IF('Age - BPD'!D56=\"\",\"\",'Age - BPD'!D56)","v":""},{"$f":"IF('Age - BPD'!E56=\"\",\"\",'Age - BPD'!E56)","v":""},{"$f":"IF('Age - BPD'!F56=\"\",\"\",'Age - BPD'!F56)","v":""}]
[51,{"$f":"IF('Age - BPD'!B57=\"\",\"\",'Age - BPD'!B57)","v":""},{"$f":"IF('Age - BPD'!C57=\"\",\"\",'Age - BPD'!C57)","v":""},{"$f":"IF('Age - BPD'!D57=\"\",\"\",'Age - BPD'!D57)","v":""},{"$f":"IF('Age - BPD'!E57=\"\",\"\",'Age - BPD'!E57)","v":""},{"$f":"IF('Age - BPD'!F57=\"\",\"\",'Age - BPD'!F57)","v":""}]
[52,{"$f":"IF('Age - BPD'!B58=\"\",\"\",'Age - BPD'!B58)","v":""},{"$f":"IF('Age - BPD'!C58=\"\",\"\",'Age - BPD'!C58)","v":""},{"$f":"IF('Age - BPD'!D58=\"\",\"\",'Age - BPD'!D58)","v":""},{"$f":"IF('Age - BPD'!E58=\"\",\"\",'Age - BPD'!E58)","v":""},{"$f":"IF('Age - BPD'!F58=\"\",\"\",'Age - BPD'!F58)","v":""}]
[53,{"$f":"IF('Age - BPD'!B59=\"\",\"\",'Age - BPD'!B59)","v":""},{"$f":"IF('Age - BPD'!C59=\"\",\"\",'Age - BPD'!C59)","v":""},{"$f":"IF('Age - BPD'!D59=\"\",\"\",'Age - BPD'!D59)","v":""},{"$f":"IF('Age - BPD'!E59=\"\",\"\",'Age - BPD'!E59)","v":""},{"$f":"IF('Age - BPD'!F59=\"\",\"\",'Age - BPD'!F59)","v":""}]
[54,{"$f":"IF('Age - BPD'!B60=\"\",\"\",'Age - BPD'!B60)","v":""},{"$f":"IF('Age - BPD'!C60=\"\",\"\",'Age - BPD'!C60)","v":""},{"$f":"IF('Age - BPD'!D60=\"\",\"\",'Age - BPD'!D60)","v":""},{"$f":"IF('Age - BPD'!E60=\"\",\"\",'Age - BPD'!E60)","v":""},{"$f":"IF('Age - BPD'!F60=\"\",\"\",'Age - BPD'!F60)","v":""}]
[55,{"$f":"IF('Age - BPD'!B61=\"\",\"\",'Age - BPD'!B61)","v":""},{"$f":"IF('Age - BPD'!C61=\"\",\"\",'Age - BPD'!C61)","v":""},{"$f":"IF('Age - BPD'!D61=\"\",\"\",'Age - BPD'!D61)","v":""},{"$f":"IF('Age - BPD'!E61=\"\",\"\",'Age - BPD'!E61)","v":""},{"$f":"IF('Age - BPD'!F61=\"\",\"\",'Age - BPD'!F61)","v":""}]
[56,{"$f":"IF('Age - BPD'!B62=\"\",\"\",'Age - BPD'!B62)","v":""},{"$f":"IF('Age - BPD'!C62=\"\",\"\",'Age - BPD'!C62)","v":""},{"$f":"IF('Age - BPD'!D62=\"\",\"\",'Age - BPD'!D62)","v":""},{"$f":"IF('Age - BPD'!E62=\"\",\"\",'Age - BPD'!E62)","v":""},{"$f":"IF('Age - BPD'!F62=\"\",\"\",'Age - BPD'!F62)","v":""}]
[57,{"$f":"IF('Age - BPD'!B63=\"\",\"\",'Age - BPD'!B63)","v":""},{"$f":"IF('Age - BPD'!C63=\"\",\"\",'Age - BPD'!C63)","v":""},{"$f":"IF('Age - BPD'!D63=\"\",\"\",'Age - BPD'!D63)","v":""},{"$f":"IF('Age - BPD'!E63=\"\",\"\",'Age - BPD'!E63)","v":""},{"$f":"IF('Age - BPD'!F63=\"\",\"\",'Age - BPD'!F63)","v":""}]
[58,{"$f":"IF('Age - BPD'!B64=\"\",\"\",'Age - BPD'!B64)","v":""},{"$f":"IF('Age - BPD'!C64=\"\",\"\",'Age - BPD'!C64)","v":""},{"$f":"IF('Age - BPD'!D64=\"\",\"\",'Age - BPD'!D64)","v":""},{"$f":"IF('Age - BPD'!E64=\"\",\"\",'Age - BPD'!E64)","v":""},{"$f":"IF('Age - BPD'!F64=\"\",\"\",'Age - BPD'!F64)","v":""}]
[59,{"$f":"IF('Age - BPD'!B65=\"\",\"\",'Age - BPD'!B65)","v":""},{"$f":"IF('Age - BPD'!C65=\"\",\"\",'Age - BPD'!C65)","v":""},{"$f":"IF('Age - BPD'!D65=\"\",\"\",'Age - BPD'!D65)","v":""},{"$f":"IF('Age - BPD'!E65=\"\",\"\",'Age - BPD'!E65)","v":""},{"$f":"IF('Age - BPD'!F65=\"\",\"\",'Age - BPD'!F65)","v":""}]
[60,{"$f":"IF('Age - BPD'!B66=\"\",\"\",'Age - BPD'!B66)","v":""},{"$f":"IF('Age - BPD'!C66=\"\",\"\",'Age - BPD'!C66)","v":""},{"$f":"IF('Age - BPD'!D66=\"\",\"\",'Age - BPD'!D66)","v":""},{"$f":"IF('Age - BPD'!E66=\"\",\"\",'Age - BPD'!E66)","v":""},{"$f":"IF('Age - BPD'!F66=\"\",\"\",'Age - BPD'!F66)","v":""}]
[61,{"$f":"IF('Age - BPD'!B67=\"\",\"\",'Age - BPD'!B67)","v":""},{"$f":"IF('Age - BPD'!C67=\"\",\"\",'Age - BPD'!C67)","v":""},{"$f":"IF('Age - BPD'!D67=\"\",\"\",'Age - BPD'!D67)","v":""},{"$f":"IF('Age - BPD'!E67=\"\",\"\",'Age - BPD'!E67)","v":""},{"$f":"IF('Age - BPD'!F67=\"\",\"\",'Age - BPD'!F67)","v":""}]
[62,{"$f":"IF('Age - BPD'!B68=\"\",\"\",'Age - BPD'!B68)","v":""},{"$f":"IF('Age - BPD'!C68=\"\",\"\",'Age - BPD'!C68)","v":""},{"$f":"IF('Age - BPD'!D68=\"\",\"\",'Age - BPD'!D68)","v":""},{"$f":"IF('Age - BPD'!E68=\"\",\"\",'Age - BPD'!E68)","v":""},{"$f":"IF('Age - BPD'!F68=\"\",\"\",'Age - BPD'!F68)","v":""}]
[63,{"$f":"IF('Age - BPD'!B69=\"\",\"\",'Age - BPD'!B69)","v":""},{"$f":"IF('Age - BPD'!C69=\"\",\"\",'Age - BPD'!C69)","v":""},{"$f":"IF('Age - BPD'!D69=\"\",\"\",'Age - BPD'!D69)","v":""},{"$f":"IF('Age - BPD'!E69=\"\",\"\",'Age - BPD'!E69)","v":""},{"$f":"IF('Age - BPD'!F69=\"\",\"\",'Age - BPD'!F69)","v":""}]
[64,{"$f":"IF('Age - BPD'!B70=\"\",\"\",'Age - BPD'!B70)","v":""},{"$f":"IF('Age - BPD'!C70=\"\",\"\",'Age - BPD'!C70)","v":""},{"$f":"IF('Age - BPD'!D70=\"\",\"\",'Age - BPD'!D70)","v":""},{"$f":"IF('Age - BPD'!E70=\"\",\"\",'Age - BPD'!E70)","v":""},{"$f":"IF('Age - BPD'!F70=\"\",\"\",'Age - BPD'!F70)","v":""}]
[65,{"$f":"IF('Age - BPD'!B71=\"\",\"\",'Age - BPD'!B71)","v":""},{"$f":"IF('Age - BPD'!C71=\"\",\"\",'Age - BPD'!C71)","v":""},{"$f":"IF('Age - BPD'!D71=\"\",\"\",'Age - BPD'!D71)","v":""},{"$f":"IF('Age - BPD'!E71=\"\",\"\",'Age - BPD'!E71)","v":""},{"$f":"IF('Age - BPD'!F71=\"\",\"\",'Age - BPD'!F71)","v":""}]
[66,{"$f":"IF('Age - BPD'!B72=\"\",\"\",'Age - BPD'!B72)","v":""},{"$f":"IF('Age - BPD'!C72=\"\",\"\",'Age - BPD'!C72)","v":""},{"$f":"IF('Age - BPD'!D72=\"\",\"\",'Age - BPD'!D72)","v":""},{"$f":"IF('Age - BPD'!E72=\"\",\"\",'Age - BPD'!E72)","v":""},{"$f":"IF('Age - BPD'!F72=\"\",\"\",'Age - BPD'!F72)","v":""}]
[67,{"$f":"IF('Age - BPD'!B73=\"\",\"\",'Age - BPD'!B73)","v":""},{"$f":"IF('Age - BPD'!C73=\"\",\"\",'Age - BPD'!C73)","v":""},{"$f":"IF('Age - BPD'!D73=\"\",\"\",'Age - BPD'!D73)","v":""},{"$f":"IF('Age - BPD'!E73=\"\",\"\",'Age - BPD'!E73)","v":""},{"$f":"IF('Age - BPD'!F73=\"\",\"\",'Age - BPD'!F73)","v":""}]
[68,{"$f":"IF('Age - BPD'!B74=\"\",\"\",'Age - BPD'!B74)","v":""},{"$f":"IF('Age - BPD'!C74=\"\",\"\",'Age - BPD'!C74)","v":""},{"$f":"IF('Age - BPD'!D74=\"\",\"\",'Age - BPD'!D74)","v":""},{"$f":"IF('Age - BPD'!E74=\"\",\"\",'Age - BPD'!E74)","v":""},{"$f":"IF('Age - BPD'!F74=\"\",\"\",'Age - BPD'!F74)","v":""}]
[69,{"$f":"IF('Age - BPD'!B75=\"\",\"\",'Age - BPD'!B75)","v":""},{"$f":"IF('Age - BPD'!C75=\"\",\"\",'Age - BPD'!C75)","v":""},{"$f":"IF('Age - BPD'!D75=\"\",\"\",'Age - BPD'!D75)","v":""},{"$f":"IF('Age - BPD'!E75=\"\",\"\",'Age - BPD'!E75)","v":""},{"$f":"IF('Age - BPD'!F75=\"\",\"\",'Age - BPD'!F75)","v":""}]
[70,{"$f":"IF('Age - BPD'!B76=\"\",\"\",'Age - BPD'!B76)","v":""},{"$f":"IF('Age - BPD'!C76=\"\",\"\",'Age - BPD'!C76)","v":""},{"$f":"IF('Age - BPD'!D76=\"\",\"\",'Age - BPD'!D76)","v":""},{"$f":"IF('Age - BPD'!E76=\"\",\"\",'Age - BPD'!E76)","v":""},{"$f":"IF('Age - BPD'!F76=\"\",\"\",'Age - BPD'!F76)","v":""}]
[71,{"$f":"IF('Age - BPD'!B77=\"\",\"\",'Age - BPD'!B77)","v":""},{"$f":"IF('Age - BPD'!C77=\"\",\"\",'Age - BPD'!C77)","v":""},{"$f":"IF('Age - BPD'!D77=\"\",\"\",'Age - BPD'!D77)","v":""},{"$f":"IF('Age - BPD'!E77=\"\",\"\",'Age - BPD'!E77)","v":""},{"$f":"IF('Age - BPD'!F77=\"\",\"\",'Age - BPD'!F77)","v":""}]
[72,{"$f":"IF('Age - BPD'!B78=\"\",\"\",'Age - BPD'!B78)","v":""},{"$f":"IF('Age - BPD'!C78=\"\",\"\",'Age - BPD'!C78)","v":""},{"$f":"IF('Age - BPD'!D78=\"\",\"\",'Age - BPD'!D78)","v":""},{"$f":"IF('Age - BPD'!E78=\"\",\"\",'Age - BPD'!E78)","v":""},{"$f":"IF('Age - BPD'!F78=\"\",\"\",'Age - BPD'!F78)","v":""}]
[73,{"$f":"IF('Age - BPD'!B79=\"\",\"\",'Age - BPD'!B79)","v":""},{"$f":"IF('Age - BPD'!C79=\"\",\"\",'Age - BPD'!C79)","v":""},{"$f":"IF('Age - BPD'!D79=\"\",\"\",'Age - BPD'!D79)","v":""},{"$f":"IF('Age - BPD'!E79=\"\",\"\",'Age - BPD'!E79)","v":""},{"$f":"IF('Age - BPD'!F79=\"\",\"\",'Age - BPD'!F79)","v":""}]
[74,{"$f":"IF('Age - BPD'!B80=\"\",\"\",'Age - BPD'!B80)","v":""},{"$f":"IF('Age - BPD'!C80=\"\",\"\",'Age - BPD'!C80)","v":""},{"$f":"IF('Age - BPD'!D80=\"\",\"\",'Age - BPD'!D80)","v":""},{"$f":"IF('Age - BPD'!E80=\"\",\"\",'Age - BPD'!E80)","v":""},{"$f":"IF('Age - BPD'!F80=\"\",\"\",'Age - BPD'!F80)","v":""}]
[75,{"$f":"IF('Age - BPD'!B81=\"\",\"\",'Age - BPD'!B81)","v":""},{"$f":"IF('Age - BPD'!C81=\"\",\"\",'Age - BPD'!C81)","v":""},{"$f":"IF('Age - BPD'!D81=\"\",\"\",'Age - BPD'!D81)","v":""},{"$f":"IF('Age - BPD'!E81=\"\",\"\",'Age - BPD'!E81)","v":""},{"$f":"IF('Age - BPD'!F81=\"\",\"\",'Age - BPD'!F81)","v":""}]
[76,{"$f":"IF('Age - BPD'!B82=\"\",\"\",'Age - BPD'!B82)","v":""},{"$f":"IF('Age - BPD'!C82=\"\",\"\",'Age - BPD'!C82)","v":""},{"$f":"IF('Age - BPD'!D82=\"\",\"\",'Age - BPD'!D82)","v":""},{"$f":"IF('Age - BPD'!E82=\"\",\"\",'Age - BPD'!E82)","v":""},{"$f":"IF('Age - BPD'!F82=\"\",\"\",'Age - BPD'!F82)","v":""}]
[77,{"$f":"IF('Age - BPD'!B83=\"\",\"\",'Age - BPD'!B83)","v":""},{"$f":"IF('Age - BPD'!C83=\"\",\"\",'Age - BPD'!C83)","v":""},{"$f":"IF('Age - BPD'!D83=\"\",\"\",'Age - BPD'!D83)","v":""},{"$f":"IF('Age - BPD'!E83=\"\",\"\",'Age - BPD'!E83)","v":""},{"$f":"IF('Age - BPD'!F83=\"\",\"\",'Age - BPD'!F83)","v":""}]
[78,{"$f":"IF('Age - BPD'!B84=\"\",\"\",'Age - BPD'!B84)","v":""},{"$f":"IF('Age - BPD'!C84=\"\",\"\",'Age - BPD'!C84)","v":""},{"$f":"IF('Age - BPD'!D84=\"\",\"\",'Age - BPD'!D84)","v":""},{"$f":"IF('Age - BPD'!E84=\"\",\"\",'Age - BPD'!E84)","v":""},{"$f":"IF('Age - BPD'!F84=\"\",\"\",'Age - BPD'!F84)","v":""}]
[79,{"$f":"IF('Age - BPD'!B85=\"\",\"\",'Age - BPD'!B85)","v":""},{"$f":"IF('Age - BPD'!C85=\"\",\"\",'Age - BPD'!C85)","v":""},{"$f":"IF('Age - BPD'!D85=\"\",\"\",'Age - BPD'!D85)","v":""},{"$f":"IF('Age - BPD'!E85=\"\",\"\",'Age - BPD'!E85)","v":""},{"$f":"IF('Age - BPD'!F85=\"\",\"\",'Age - BPD'!F85)","v":""}]
[80,{"$f":"IF('Age - BPD'!B86=\"\",\"\",'Age - BPD'!B86)","v":""},{"$f":"IF('Age - BPD'!C86=\"\",\"\",'Age - BPD'!C86)","v":""},{"$f":"IF('Age - BPD'!D86=\"\",\"\",'Age - BPD'!D86)","v":""},{"$f":"IF('Age - BPD'!E86=\"\",\"\",'Age - BPD'!E86)","v":""},{"$f":"IF('Age - BPD'!F86=\"\",\"\",'Age - BPD'!F86)","v":""}]
[81,{"$f":"IF('Age - BPD'!B87=\"\",\"\",'Age - BPD'!B87)","v":""},{"$f":"IF('Age - BPD'!C87=\"\",\"\",'Age - BPD'!C87)","v":""},{"$f":"IF('Age - BPD'!D87=\"\",\"\",'Age - BPD'!D87)","v":""},{"$f":"IF('Age - BPD'!E87=\"\",\"\",'Age - BPD'!E87)","v":""},{"$f":"IF('Age - BPD'!F87=\"\",\"\",'Age - BPD'!F87)","v":""}]
[82,{"$f":"IF('Age - BPD'!B88=\"\",\"\",'Age - BPD'!B88)","v":""},{"$f":"IF('Age - BPD'!C88=\"\",\"\",'Age - BPD'!C88)","v":""},{"$f":"IF('Age - BPD'!D88=\"\",\"\",'Age - BPD'!D88)","v":""},{"$f":"IF('Age - BPD'!E88=\"\",\"\",'Age - BPD'!E88)","v":""},{"$f":"IF('Age - BPD'!F88=\"\",\"\",'Age - BPD'!F88)","v":""}]
[83,{"$f":"IF('Age - BPD'!B89=\"\",\"\",'Age - BPD'!B89)","v":""},{"$f":"IF('Age - BPD'!C89=\"\",\"\",'Age - BPD'!C89)","v":""},{"$f":"IF('Age - BPD'!D89=\"\",\"\",'Age - BPD'!D89)","v":""},{"$f":"IF('Age - BPD'!E89=\"\",\"\",'Age - BPD'!E89)","v":""},{"$f":"IF('Age - BPD'!F89=\"\",\"\",'Age - BPD'!F89)","v":""}]
[84,{"$f":"IF('Age - BPD'!B90=\"\",\"\",'Age - BPD'!B90)","v":""},{"$f":"IF('Age - BPD'!C90=\"\",\"\",'Age - BPD'!C90)","v":""},{"$f":"IF('Age - BPD'!D90=\"\",\"\",'Age - BPD'!D90)","v":""},{"$f":"IF('Age - BPD'!E90=\"\",\"\",'Age - BPD'!E90)","v":""},{"$f":"IF('Age - BPD'!F90=\"\",\"\",'Age - BPD'!F90)","v":""}]
[85,{"$f":"IF('Age - BPD'!B91=\"\",\"\",'Age - BPD'!B91)","v":""},{"$f":"IF('Age - BPD'!C91=\"\",\"\",'Age - BPD'!C91)","v":""},{"$f":"IF('Age - BPD'!D91=\"\",\"\",'Age - BPD'!D91)","v":""},{"$f":"IF('Age - BPD'!E91=\"\",\"\",'Age - BPD'!E91)","v":""},{"$f":"IF('Age - BPD'!F91=\"\",\"\",'Age - BPD'!F91)","v":""}]
[86,{"$f":"IF('Age - BPD'!B92=\"\",\"\",'Age - BPD'!B92)","v":""},{"$f":"IF('Age - BPD'!C92=\"\",\"\",'Age - BPD'!C92)","v":""},{"$f":"IF('Age - BPD'!D92=\"\",\"\",'Age - BPD'!D92)","v":""},{"$f":"IF('Age - BPD'!E92=\"\",\"\",'Age - BPD'!E92)","v":""},{"$f":"IF('Age - BPD'!F92=\"\",\"\",'Age - BPD'!F92)","v":""}]
[87,{"$f":"IF('Age - BPD'!B93=\"\",\"\",'Age - BPD'!B93)","v":""},{"$f":"IF('Age - BPD'!C93=\"\",\"\",'Age - BPD'!C93)","v":""},{"$f":"IF('Age - BPD'!D93=\"\",\"\",'Age - BPD'!D93)","v":""},{"$f":"IF('Age - BPD'!E93=\"\",\"\",'Age - BPD'!E93)","v":""},{"$f":"IF('Age - BPD'!F93=\"\",\"\",'Age - BPD'!F93)","v":""}]
[88,{"$f":"IF('Age - BPD'!B94=\"\",\"\",'Age - BPD'!B94)","v":""},{"$f":"IF('Age - BPD'!C94=\"\",\"\",'Age - BPD'!C94)","v":""},{"$f":"IF('Age - BPD'!D94=\"\",\"\",'Age - BPD'!D94)","v":""},{"$f":"IF('Age - BPD'!E94=\"\",\"\",'Age - BPD'!E94)","v":""},{"$f":"IF('Age - BPD'!F94=\"\",\"\",'Age - BPD'!F94)","v":""}]
[89,{"$f":"IF('Age - BPD'!B95=\"\",\"\",'Age - BPD'!B95)","v":""},{"$f":"IF('Age - BPD'!C95=\"\",\"\",'Age - BPD'!C95)","v":""},{"$f":"IF('Age - BPD'!D95=\"\",\"\",'Age - BPD'!D95)","v":""},{"$f":"IF('Age - BPD'!E95=\"\",\"\",'Age - BPD'!E95)","v":""},{"$f":"IF('Age - BPD'!F95=\"\",\"\",'Age - BPD'!F95)","v":""}]
[90,{"$f":"IF('Age - BPD'!B96=\"\",\"\",'Age - BPD'!B96)","v":""},{"$f":"IF('Age - BPD'!C96=\"\",\"\",'Age - BPD'!C96)","v":""},{"$f":"IF('Age - BPD'!D96=\"\",\"\",'Age - BPD'!D96)","v":""},{"$f":"IF('Age - BPD'!E96=\"\",\"\",'Age - BPD'!E96)","v":""},{"$f":"IF('Age - BPD'!F96=\"\",\"\",'Age - BPD'!F96)","v":""}]
[91,{"$f":"IF('Age - BPD'!B97=\"\",\"\",'Age - BPD'!B97)","v":""},{"$f":"IF('Age - BPD'!C97=\"\",\"\",'Age - BPD'!C97)","v":""},{"$f":"IF('Age - BPD'!D97=\"\",\"\",'Age - BPD'!D97)","v":""},{"$f":"IF('Age - BPD'!E97=\"\",\"\",'Age - BPD'!E97)","v":""},{"$f":"IF('Age - BPD'!F97=\"\",\"\",'Age - BPD'!F97)","v":""}]
[92,{"$f":"IF('Age - BPD'!B98=\"\",\"\",'Age - BPD'!B98)","v":""},{"$f":"IF('Age - BPD'!C98=\"\",\"\",'Age - BPD'!C98)","v":""},{"$f":"IF('Age - BPD'!D98=\"\",\"\",'Age - BPD'!D98)","v":""},{"$f":"IF('Age - BPD'!E98=\"\",\"\",'Age - BPD'!E98)","v":""},{"$f":"IF('Age - BPD'!F98=\"\",\"\",'Age - BPD'!F98)","v":""}]
[93,{"$f":"IF('Age - BPD'!B99=\"\",\"\",'Age - BPD'!B99)","v":""},{"$f":"IF('Age - BPD'!C99=\"\",\"\",'Age - BPD'!C99)","v":""},{"$f":"IF('Age - BPD'!D99=\"\",\"\",'Age - BPD'!D99)","v":""},{"$f":"IF('Age - BPD'!E99=\"\",\"\",'Age - BPD'!E99)","v":""},{"$f":"IF('Age - BPD'!F99=\"\",\"\",'Age - BPD'!F99)","v":""}]
[94,{"$f":"IF('Age - BPD'!B100=\"\",\"\",'Age - BPD'!B100)","v":""},{"$f":"IF('Age - BPD'!C100=\"\",\"\",'Age - BPD'!C100)","v":""},{"$f":"IF('Age - BPD'!D100=\"\",\"\",'Age - BPD'!D100)","v":""},{"$f":"IF('Age - BPD'!E100=\"\",\"\",'Age - BPD'!E100)","v":""},{"$f":"IF('Age - BPD'!F100=\"\",\"\",'Age - BPD'!F100)","v":""}]
[95,{"$f":"IF('Age - BPD'!B101=\"\",\"\",'Age - BPD'!B101)","v":""},{"$f":"IF('Age - BPD'!C101=\"\",\"\",'Age - BPD'!C101)","v":""},{"$f":"IF('Age - BPD'!D101=\"\",\"\",'Age - BPD'!D101)","v":""},{"$f":"IF('Age - BPD'!E101=\"\",\"\",'Age - BPD'!E101)","v":""},{"$f":"IF('Age - BPD'!F101=\"\",\"\",'Age - BPD'!F101)","v":""}]
[96,{"$f":"IF('Age - BPD'!B102=\"\",\"\",'Age - BPD'!B102)","v":""},{"$f":"IF('Age - BPD'!C102=\"\",\"\",'Age - BPD'!C102)","v":""},{"$f":"IF('Age - BPD'!D102=\"\",\"\",'Age - BPD'!D102)","v":""},{"$f":"IF('Age - BPD'!E102=\"\",\"\",'Age - BPD'!E102)","v":""},{"$f":"IF('Age - BPD'!F102=\"\",\"\",'Age - BPD'!F102)","v":""}]
[97,{"$f":"IF('Age - BPD'!B103=\"\",\"\",'Age - BPD'!B103)","v":""},{"$f":"IF('Age - BPD'!C103=\"\",\"\",'Age - BPD'!C103)","v":""},{"$f":"IF('Age - BPD'!D103=\"\",\"\",'Age - BPD'!D103)","v":""},{"$f":"IF('Age - BPD'!E103=\"\",\"\",'Age - BPD'!E103)","v":""},{"$f":"IF('Age - BPD'!F103=\"\",\"\",'Age - BPD'!F103)","v":""}]
[98,{"$f":"IF('Age - BPD'!B104=\"\",\"\",'Age - BPD'!B104)","v":""},{"$f":"IF('Age - BPD'!C104=\"\",\"\",'Age - BPD'!C104)","v":""},{"$f":"IF('Age - BPD'!D104=\"\",\"\",'Age - BPD'!D104)","v":""},{"$f":"IF('Age - BPD'!E104=\"\",\"\",'Age - BPD'!E104)","v":""},{"$f":"IF('Age - BPD'!F104=\"\",\"\",'Age - BPD'!F104)","v":""}]
[99,{"$f":"IF('Age - BPD'!B105=\"\",\"\",'Age - BPD'!B105)","v":""},{"$f":"IF('Age - BPD'!C105=\"\",\"\",'Age - BPD'!C105)","v":""},{"$f":"IF('Age - BPD'!D105=\"\",\"\",'Age - BPD'!D105)","v":""},{"$f":"IF('Age - BPD'!E105=\"\",\"\",'Age - BPD'!E105)","v":""},{"$f":"IF('Age - BPD'!F105=\"\",\"\",'Age - BPD'!F105)","v":""}]
[100,{"$f":"IF('Age - BPD'!B106=\"\",\"\",'Age - BPD'!B106)","v":""},{"$f":"IF('Age - BPD'!C106=\"\",\"\",'Age - BPD'!C106)","v":""},{"$f":"IF('Age - BPD'!D106=\"\",\"\",'Age - BPD'!D106)","v":""},{"$f":"IF('Age - BPD'!E106=\"\",\"\",'Age - BPD'!E106)","v":""},{"$f":"IF('Age - BPD'!F106=\"\",\"\",'Age - BPD'!F106)","v":""}]
[101,{"$f":"IF('Age - BPD'!B107=\"\",\"\",'Age - BPD'!B107)","v":""},{"$f":"IF('Age - BPD'!C107=\"\",\"\",'Age - BPD'!C107)","v":""},{"$f":"IF('Age - BPD'!D107=\"\",\"\",'Age - BPD'!D107)","v":""},{"$f":"IF('Age - BPD'!E107=\"\",\"\",'Age - BPD'!E107)","v":""},{"$f":"IF('Age - BPD'!F107=\"\",\"\",'Age - BPD'!F107)","v":""}]
[102,{"$f":"IF('Age - BPD'!B108=\"\",\"\",'Age - BPD'!B108)","v":""},{"$f":"IF('Age - BPD'!C108=\"\",\"\",'Age - BPD'!C108)","v":""},{"$f":"IF('Age - BPD'!D108=\"\",\"\",'Age - BPD'!D108)","v":""},{"$f":"IF('Age - BPD'!E108=\"\",\"\",'Age - BPD'!E108)","v":""},{"$f":"IF('Age - BPD'!F108=\"\",\"\",'Age - BPD'!F108)","v":""}]
[103,{"$f":"IF('Age - BPD'!B109=\"\",\"\",'Age - BPD'!B109)","v":""},{"$f":"IF('Age - BPD'!C109=\"\",\"\",'Age - BPD'!C109)","v":""},{"$f":"IF('Age - BPD'!D109=\"\",\"\",'Age - BPD'!D109)","v":""},{"$f":"IF('Age - BPD'!E109=\"\",\"\",'Age - BPD'!E109)","v":""},{"$f":"IF('Age - BPD'!F109=\"\",\"\",'Age - BPD'!F109)","v":""}]
[104,{"$f":"IF('Age - BPD'!B110=\"\",\"\",'Age - BPD'!B110)","v":""},{"$f":"IF('Age - BPD'!C110=\"\",\"\",'Age - BPD'!C110)","v":""},{"$f":"IF('Age - BPD'!D110=\"\",\"\",'Age - BPD'!D110)","v":""},{"$f":"IF('Age - BPD'!E110=\"\",\"\",'Age - BPD'!E110)","v":""},{"$f":"IF('Age - BPD'!F110=\"\",\"\",'Age - BPD'!F110)","v":""}]
[105,{"$f":"IF('Age - BPD'!B111=\"\",\"\",'Age - BPD'!B111)","v":""},{"$f":"IF('Age - BPD'!C111=\"\",\"\",'Age - BPD'!C111)","v":""},{"$f":"IF('Age - BPD'!D111=\"\",\"\",'Age - BPD'!D111)","v":""},{"$f":"IF('Age - BPD'!E111=\"\",\"\",'Age - BPD'!E111)","v":""},{"$f":"IF('Age - BPD'!F111=\"\",\"\",'Age - BPD'!F111)","v":""}]
[106,{"$f":"IF('Age - BPD'!B112=\"\",\"\",'Age - BPD'!B112)","v":""},{"$f":"IF('Age - BPD'!C112=\"\",\"\",'Age - BPD'!C112)","v":""},{"$f":"IF('Age - BPD'!D112=\"\",\"\",'Age - BPD'!D112)","v":""},{"$f":"IF('Age - BPD'!E112=\"\",\"\",'Age - BPD'!E112)","v":""},{"$f":"IF('Age - BPD'!F112=\"\",\"\",'Age - BPD'!F112)","v":""}]
[107,{"$f":"IF('Age - BPD'!B113=\"\",\"\",'Age - BPD'!B113)","v":""},{"$f":"IF('Age - BPD'!C113=\"\",\"\",'Age - BPD'!C113)","v":""},{"$f":"IF('Age - BPD'!D113=\"\",\"\",'Age - BPD'!D113)","v":""},{"$f":"IF('Age - BPD'!E113=\"\",\"\",'Age - BPD'!E113)","v":""},{"$f":"IF('Age - BPD'!F113=\"\",\"\",'Age - BPD'!F113)","v":""}]
[108,{"$f":"IF('Age - BPD'!B114=\"\",\"\",'Age - BPD'!B114)","v":""},{"$f":"IF('Age - BPD'!C114=\"\",\"\",'Age - BPD'!C114)","v":""},{"$f":"IF('Age - BPD'!D114=\"\",\"\",'Age - BPD'!D114)","v":""},{"$f":"IF('Age - BPD'!E114=\"\",\"\",'Age - BPD'!E114)","v":""},{"$f":"IF('Age - BPD'!F114=\"\",\"\",'Age - BPD'!F114)","v":""}]
[109,{"$f":"IF('Age - BPD'!B115=\"\",\"\",'Age - BPD'!B115)","v":""},{"$f":"IF('Age - BPD'!C115=\"\",\"\",'Age - BPD'!C115)","v":""},{"$f":"IF('Age - BPD'!D115=\"\",\"\",'Age - BPD'!D115)","v":""},{"$f":"IF('Age - BPD'!E115=\"\",\"\",'Age - BPD'!E115)","v":""},{"$f":"IF('Age - BPD'!F115=\"\",\"\",'Age - BPD'!F115)","v":""}]
[110,{"$f":"IF('Age - BPD'!B116=\"\",\"\",'Age - BPD'!B116)","v":""},{"$f":"IF('Age - BPD'!C116=\"\",\"\",'Age - BPD'!C116)","v":""},{"$f":"IF('Age - BPD'!D116=\"\",\"\",'Age - BPD'!D116)","v":""},{"$f":"IF('Age - BPD'!E116=\"\",\"\",'Age - BPD'!E116)","v":""},{"$f":"IF('Age - BPD'!F116=\"\",\"\",'Age - BPD'!F116)","v":""}]
[111,{"$f":"IF('Age - BPD'!B117=\"\",\"\",'Age - BPD'!B117)","v":""},{"$f":"IF('Age - BPD'!C117=\"\",\"\",'Age - BPD'!C117)","v":""},{"$f":"IF('Age - BPD'!D117=\"\",\"\",'Age - BPD'!D117)","v":""},{"$f":"IF('Age - BPD'!E117=\"\",\"\",'Age - BPD'!E117)","v":""},{"$f":"IF('Age - BPD'!F117=\"\",\"\",'Age - BPD'!F117)","v":""}]
[112,{"$f":"IF('Age - BPD'!B118=\"\",\"\",'Age - BPD'!B118)","v":""},{"$f":"IF('Age - BPD'!C118=\"\",\"\",'Age - BPD'!C118)","v":""},{"$f":"IF('Age - BPD'!D118=\"\",\"\",'Age - BPD'!D118)","v":""},{"$f":"IF('Age - BPD'!E118=\"\",\"\",'Age - BPD'!E118)","v":""},{"$f":"IF('Age - BPD'!F118=\"\",\"\",'Age - BPD'!F118)","v":""}]
[113,{"$f":"IF('Age - BPD'!B119=\"\",\"\",'Age - BPD'!B119)","v":""},{"$f":"IF('Age - BPD'!C119=\"\",\"\",'Age - BPD'!C119)","v":""},{"$f":"IF('Age - BPD'!D119=\"\",\"\",'Age - BPD'!D119)","v":""},{"$f":"IF('Age - BPD'!E119=\"\",\"\",'Age - BPD'!E119)","v":""},{"$f":"IF('Age - BPD'!F119=\"\",\"\",'Age - BPD'!F119)","v":""}]
[114,{"$f":"IF('Age - BPD'!B120=\"\",\"\",'Age - BPD'!B120)","v":""},{"$f":"IF('Age - BPD'!C120=\"\",\"\",'Age - BPD'!C120)","v":""},{"$f":"IF('Age - BPD'!D120=\"\",\"\",'Age - BPD'!D120)","v":""},{"$f":"IF('Age - BPD'!E120=\"\",\"\",'Age - BPD'!E120)","v":""},{"$f":"IF('Age - BPD'!F120=\"\",\"\",'Age - BPD'!F120)","v":""}]
[115,{"$f":"IF('Age - BPD'!B121=\"\",\"\",'Age - BPD'!B121)","v":""},{"$f":"IF('Age - BPD'!C121=\"\",\"\",'Age - BPD'!C121)","v":""},{"$f":"IF('Age - BPD'!D121=\"\",\"\",'Age - BPD'!D121)","v":""},{"$f":"IF('Age - BPD'!E121=\"\",\"\",'Age - BPD'!E121)","v":""},{"$f":"IF('Age - BPD'!F121=\"\",\"\",'Age - BPD'!F121)","v":""}]
[116,{"$f":"IF('Age - BPD'!B122=\"\",\"\",'Age - BPD'!B122)","v":""},{"$f":"IF('Age - BPD'!C122=\"\",\"\",'Age - BPD'!C122)","v":""},{"$f":"IF('Age - BPD'!D122=\"\",\"\",'Age - BPD'!D122)","v":""},{"$f":"IF('Age - BPD'!E122=\"\",\"\",'Age - BPD'!E122)","v":""},{"$f":"IF('Age - BPD'!F122=\"\",\"\",'Age - BPD'!F122)","v":""}]
[117,{"$f":"IF('Age - BPD'!B123=\"\",\"\",'Age - BPD'!B123)","v":""},{"$f":"IF('Age - BPD'!C123=\"\",\"\",'Age - BPD'!C123)","v":""},{"$f":"IF('Age - BPD'!D123=\"\",\"\",'Age - BPD'!D123)","v":""},{"$f":"IF('Age - BPD'!E123=\"\",\"\",'Age - BPD'!E123)","v":""},{"$f":"IF('Age - BPD'!F123=\"\",\"\",'Age - BPD'!F123)","v":""}]
[118,{"$f":"IF('Age - BPD'!B124=\"\",\"\",'Age - BPD'!B124)","v":""},{"$f":"IF('Age - BPD'!C124=\"\",\"\",'Age - BPD'!C124)","v":""},{"$f":"IF('Age - BPD'!D124=\"\",\"\",'Age - BPD'!D124)","v":""},{"$f":"IF('Age - BPD'!E124=\"\",\"\",'Age - BPD'!E124)","v":""},{"$f":"IF('Age - BPD'!F124=\"\",\"\",'Age - BPD'!F124)","v":""}]
[119,{"$f":"IF('Age - BPD'!B125=\"\",\"\",'Age - BPD'!B125)","v":""},{"$f":"IF('Age - BPD'!C125=\"\",\"\",'Age - BPD'!C125)","v":""},{"$f":"IF('Age - BPD'!D125=\"\",\"\",'Age - BPD'!D125)","v":""},{"$f":"IF('Age - BPD'!E125=\"\",\"\",'Age - BPD'!E125)","v":""},{"$f":"IF('Age - BPD'!F125=\"\",\"\",'Age - BPD'!F125)","v":""}]
[120,{"$f":"IF('Age - BPD'!B126=\"\",\"\",'Age - BPD'!B126)","v":""},{"$f":"IF('Age - BPD'!C126=\"\",\"\",'Age - BPD'!C126)","v":""},{"$f":"IF('Age - BPD'!D126=\"\",\"\",'Age - BPD'!D126)","v":""},{"$f":"IF('Age - BPD'!E126=\"\",\"\",'Age - BPD'!E126)","v":""},{"$f":"IF('Age - BPD'!F126=\"\",\"\",'Age - BPD'!F126)","v":""}]
[]
["AGE - Occipito-Frontal Diameter",null,null,null,null,{"$f":"IF('Age - OFD'!F1=\"\",\"\",'Age - OFD'!F1)","v":"Age OFD"}]
[null,null,null,null,null,{"$f":"ValidationData!DataVersion","v":"70.80.100.100"}]
["Index","Measurement Name",null,null,"OFD"]
[null,"Measurement Type",null,null,"Distance (cm)"]
[null,"Author",null,null,{"$f":"IF('Age - OFD'!J5=\"\",\"\",'Age - OFD'!J5)","v":""}]
[null,"Value","Age (weeks)","Age (days)","Range (weeks)","Range (days)"]
[1,{"$f":"IF('Age - OFD'!B7=\"\",\"\",'Age - OFD'!B7)","v":""},{"$f":"IF('Age - OFD'!C7=\"\",\"\",'Age - OFD'!C7)","v":""},{"$f":"IF('Age - OFD'!D7=\"\",\"\",'Age - OFD'!D7)","v":""},{"$f":"IF('Age - OFD'!E7=\"\",\"\",'Age - OFD'!E7)","v":""},{"$f":"IF('Age - OFD'!F7=\"\",\"\",'Age - OFD'!F7)","v":""}]
[2,{"$f":"IF('Age - OFD'!B8=\"\",\"\",'Age - OFD'!B8)","v":""},{"$f":"IF('Age - OFD'!C8=\"\",\"\",'Age - OFD'!C8)","v":""},{"$f":"IF('Age - OFD'!D8=\"\",\"\",'Age - OFD'!D8)","v":""},{"$f":"IF('Age - OFD'!E8=\"\",\"\",'Age - OFD'!E8)","v":""},{"$f":"IF('Age - OFD'!F8=\"\",\"\",'Age - OFD'!F8)","v":""}]
[3,{"$f":"IF('Age - OFD'!B9=\"\",\"\",'Age - OFD'!B9)","v":""},{"$f":"IF('Age - OFD'!C9=\"\",\"\",'Age - OFD'!C9)","v":""},{"$f":"IF('Age - OFD'!D9=\"\",\"\",'Age - OFD'!D9)","v":""},{"$f":"IF('Age - OFD'!E9=\"\",\"\",'Age - OFD'!E9)","v":""},{"$f":"IF('Age - OFD'!F9=\"\",\"\",'Age - OFD'!F9)","v":""}]
[4,{"$f":"IF('Age - OFD'!B10=\"\",\"\",'Age - OFD'!B10)","v":""},{"$f":"IF('Age - OFD'!C10=\"\",\"\",'Age - OFD'!C10)","v":""},{"$f":"IF('Age - OFD'!D10=\"\",\"\",'Age - OFD'!D10)","v":""},{"$f":"IF('Age - OFD'!E10=\"\",\"\",'Age - OFD'!E10)","v":""},{"$f":"IF('Age - OFD'!F10=\"\",\"\",'Age - OFD'!F10)","v":""}]
[5,{"$f":"IF('Age - OFD'!B11=\"\",\"\",'Age - OFD'!B11)","v":""},{"$f":"IF('Age - OFD'!C11=\"\",\"\",'Age - OFD'!C11)","v":""},{"$f":"IF('Age - OFD'!D11=\"\",\"\",'Age - OFD'!D11)","v":""},{"$f":"IF('Age - OFD'!E11=\"\",\"\",'Age - OFD'!E11)","v":""},{"$f":"IF('Age - OFD'!F11=\"\",\"\",'Age - OFD'!F11)","v":""}]
[6,{"$f":"IF('Age - OFD'!B12=\"\",\"\",'Age - OFD'!B12)","v":""},{"$f":"IF('Age - OFD'!C12=\"\",\"\",'Age - OFD'!C12)","v":""},{"$f":"IF('Age - OFD'!D12=\"\",\"\",'Age - OFD'!D12)","v":""},{"$f":"IF('Age - OFD'!E12=\"\",\"\",'Age - OFD'!E12)","v":""},{"$f":"IF('Age - OFD'!F12=\"\",\"\",'Age - OFD'!F12)","v":""}]
[7,{"$f":"IF('Age - OFD'!B13=\"\",\"\",'Age - OFD'!B13)","v":""},{"$f":"IF('Age - OFD'!C13=\"\",\"\",'Age - OFD'!C13)","v":""},{"$f":"IF('Age - OFD'!D13=\"\",\"\",'Age - OFD'!D13)","v":""},{"$f":"IF('Age - OFD'!E13=\"\",\"\",'Age - OFD'!E13)","v":""},{"$f":"IF('Age - OFD'!F13=\"\",\"\",'Age - OFD'!F13)","v":""}]
[8,{"$f":"IF('Age - OFD'!B14=\"\",\"\",'Age - OFD'!B14)","v":""},{"$f":"IF('Age - OFD'!C14=\"\",\"\",'Age - OFD'!C14)","v":""},{"$f":"IF('Age - OFD'!D14=\"\",\"\",'Age - OFD'!D14)","v":""},{"$f":"IF('Age - OFD'!E14=\"\",\"\",'Age - OFD'!E14)","v":""},{"$f":"IF('Age - OFD'!F14=\"\",\"\",'Age - OFD'!F14)","v":""}]
[9,{"$f":"IF('Age - OFD'!B15=\"\",\"\",'Age - OFD'!B15)","v":""},{"$f":"IF('Age - OFD'!C15=\"\",\"\",'Age - OFD'!C15)","v":""},{"$f":"IF('Age - OFD'!D15=\"\",\"\",'Age - OFD'!D15)","v":""},{"$f":"IF('Age - OFD'!E15=\"\",\"\",'Age - OFD'!E15)","v":""},{"$f":"IF('Age - OFD'!F15=\"\",\"\",'Age - OFD'!F15)","v":""}]
[10,{"$f":"IF('Age - OFD'!B16=\"\",\"\",'Age - OFD'!B16)","v":""},{"$f":"IF('Age - OFD'!C16=\"\",\"\",'Age - OFD'!C16)","v":""},{"$f":"IF('Age - OFD'!D16=\"\",\"\",'Age - OFD'!D16)","v":""},{"$f":"IF('Age - OFD'!E16=\"\",\"\",'Age - OFD'!E16)","v":""},{"$f":"IF('Age - OFD'!F16=\"\",\"\",'Age - OFD'!F16)","v":""}]
[11,{"$f":"IF('Age - OFD'!B17=\"\",\"\",'Age - OFD'!B17)","v":""},{"$f":"IF('Age - OFD'!C17=\"\",\"\",'Age - OFD'!C17)","v":""},{"$f":"IF('Age - OFD'!D17=\"\",\"\",'Age - OFD'!D17)","v":""},{"$f":"IF('Age - OFD'!E17=\"\",\"\",'Age - OFD'!E17)","v":""},{"$f":"IF('Age - OFD'!F17=\"\",\"\",'Age - OFD'!F17)","v":""}]
[12,{"$f":"IF('Age - OFD'!B18=\"\",\"\",'Age - OFD'!B18)","v":""},{"$f":"IF('Age - OFD'!C18=\"\",\"\",'Age - OFD'!C18)","v":""},{"$f":"IF('Age - OFD'!D18=\"\",\"\",'Age - OFD'!D18)","v":""},{"$f":"IF('Age - OFD'!E18=\"\",\"\",'Age - OFD'!E18)","v":""},{"$f":"IF('Age - OFD'!F18=\"\",\"\",'Age - OFD'!F18)","v":""}]
[13,{"$f":"IF('Age - OFD'!B19=\"\",\"\",'Age - OFD'!B19)","v":""},{"$f":"IF('Age - OFD'!C19=\"\",\"\",'Age - OFD'!C19)","v":""},{"$f":"IF('Age - OFD'!D19=\"\",\"\",'Age - OFD'!D19)","v":""},{"$f":"IF('Age - OFD'!E19=\"\",\"\",'Age - OFD'!E19)","v":""},{"$f":"IF('Age - OFD'!F19=\"\",\"\",'Age - OFD'!F19)","v":""}]
[14,{"$f":"IF('Age - OFD'!B20=\"\",\"\",'Age - OFD'!B20)","v":""},{"$f":"IF('Age - OFD'!C20=\"\",\"\",'Age - OFD'!C20)","v":""},{"$f":"IF('Age - OFD'!D20=\"\",\"\",'Age - OFD'!D20)","v":""},{"$f":"IF('Age - OFD'!E20=\"\",\"\",'Age - OFD'!E20)","v":""},{"$f":"IF('Age - OFD'!F20=\"\",\"\",'Age - OFD'!F20)","v":""}]
[15,{"$f":"IF('Age - OFD'!B21=\"\",\"\",'Age - OFD'!B21)","v":""},{"$f":"IF('Age - OFD'!C21=\"\",\"\",'Age - OFD'!C21)","v":""},{"$f":"IF('Age - OFD'!D21=\"\",\"\",'Age - OFD'!D21)","v":""},{"$f":"IF('Age - OFD'!E21=\"\",\"\",'Age - OFD'!E21)","v":""},{"$f":"IF('Age - OFD'!F21=\"\",\"\",'Age - OFD'!F21)","v":""}]
[16,{"$f":"IF('Age - OFD'!B22=\"\",\"\",'Age - OFD'!B22)","v":""},{"$f":"IF('Age - OFD'!C22=\"\",\"\",'Age - OFD'!C22)","v":""},{"$f":"IF('Age - OFD'!D22=\"\",\"\",'Age - OFD'!D22)","v":""},{"$f":"IF('Age - OFD'!E22=\"\",\"\",'Age - OFD'!E22)","v":""},{"$f":"IF('Age - OFD'!F22=\"\",\"\",'Age - OFD'!F22)","v":""}]
[17,{"$f":"IF('Age - OFD'!B23=\"\",\"\",'Age - OFD'!B23)","v":""},{"$f":"IF('Age - OFD'!C23=\"\",\"\",'Age - OFD'!C23)","v":""},{"$f":"IF('Age - OFD'!D23=\"\",\"\",'Age - OFD'!D23)","v":""},{"$f":"IF('Age - OFD'!E23=\"\",\"\",'Age - OFD'!E23)","v":""},{"$f":"IF('Age - OFD'!F23=\"\",\"\",'Age - OFD'!F23)","v":""}]
[18,{"$f":"IF('Age - OFD'!B24=\"\",\"\",'Age - OFD'!B24)","v":""},{"$f":"IF('Age - OFD'!C24=\"\",\"\",'Age - OFD'!C24)","v":""},{"$f":"IF('Age - OFD'!D24=\"\",\"\",'Age - OFD'!D24)","v":""},{"$f":"IF('Age - OFD'!E24=\"\",\"\",'Age - OFD'!E24)","v":""},{"$f":"IF('Age - OFD'!F24=\"\",\"\",'Age - OFD'!F24)","v":""}]
[19,{"$f":"IF('Age - OFD'!B25=\"\",\"\",'Age - OFD'!B25)","v":""},{"$f":"IF('Age - OFD'!C25=\"\",\"\",'Age - OFD'!C25)","v":""},{"$f":"IF('Age - OFD'!D25=\"\",\"\",'Age - OFD'!D25)","v":""},{"$f":"IF('Age - OFD'!E25=\"\",\"\",'Age - OFD'!E25)","v":""},{"$f":"IF('Age - OFD'!F25=\"\",\"\",'Age - OFD'!F25)","v":""}]
[20,{"$f":"IF('Age - OFD'!B26=\"\",\"\",'Age - OFD'!B26)","v":""},{"$f":"IF('Age - OFD'!C26=\"\",\"\",'Age - OFD'!C26)","v":""},{"$f":"IF('Age - OFD'!D26=\"\",\"\",'Age - OFD'!D26)","v":""},{"$f":"IF('Age - OFD'!E26=\"\",\"\",'Age - OFD'!E26)","v":""},{"$f":"IF('Age - OFD'!F26=\"\",\"\",'Age - OFD'!F26)","v":""}]
[21,{"$f":"IF('Age - OFD'!B27=\"\",\"\",'Age - OFD'!B27)","v":""},{"$f":"IF('Age - OFD'!C27=\"\",\"\",'Age - OFD'!C27)","v":""},{"$f":"IF('Age - OFD'!D27=\"\",\"\",'Age - OFD'!D27)","v":""},{"$f":"IF('Age - OFD'!E27=\"\",\"\",'Age - OFD'!E27)","v":""},{"$f":"IF('Age - OFD'!F27=\"\",\"\",'Age - OFD'!F27)","v":""}]
[22,{"$f":"IF('Age - OFD'!B28=\"\",\"\",'Age - OFD'!B28)","v":""},{"$f":"IF('Age - OFD'!C28=\"\",\"\",'Age - OFD'!C28)","v":""},{"$f":"IF('Age - OFD'!D28=\"\",\"\",'Age - OFD'!D28)","v":""},{"$f":"IF('Age - OFD'!E28=\"\",\"\",'Age - OFD'!E28)","v":""},{"$f":"IF('Age - OFD'!F28=\"\",\"\",'Age - OFD'!F28)","v":""}]
[23,{"$f":"IF('Age - OFD'!B29=\"\",\"\",'Age - OFD'!B29)","v":""},{"$f":"IF('Age - OFD'!C29=\"\",\"\",'Age - OFD'!C29)","v":""},{"$f":"IF('Age - OFD'!D29=\"\",\"\",'Age - OFD'!D29)","v":""},{"$f":"IF('Age - OFD'!E29=\"\",\"\",'Age - OFD'!E29)","v":""},{"$f":"IF('Age - OFD'!F29=\"\",\"\",'Age - OFD'!F29)","v":""}]
[24,{"$f":"IF('Age - OFD'!B30=\"\",\"\",'Age - OFD'!B30)","v":""},{"$f":"IF('Age - OFD'!C30=\"\",\"\",'Age - OFD'!C30)","v":""},{"$f":"IF('Age - OFD'!D30=\"\",\"\",'Age - OFD'!D30)","v":""},{"$f":"IF('Age - OFD'!E30=\"\",\"\",'Age - OFD'!E30)","v":""},{"$f":"IF('Age - OFD'!F30=\"\",\"\",'Age - OFD'!F30)","v":""}]
[25,{"$f":"IF('Age - OFD'!B31=\"\",\"\",'Age - OFD'!B31)","v":""},{"$f":"IF('Age - OFD'!C31=\"\",\"\",'Age - OFD'!C31)","v":""},{"$f":"IF('Age - OFD'!D31=\"\",\"\",'Age - OFD'!D31)","v":""},{"$f":"IF('Age - OFD'!E31=\"\",\"\",'Age - OFD'!E31)","v":""},{"$f":"IF('Age - OFD'!F31=\"\",\"\",'Age - OFD'!F31)","v":""}]
[26,{"$f":"IF('Age - OFD'!B32=\"\",\"\",'Age - OFD'!B32)","v":""},{"$f":"IF('Age - OFD'!C32=\"\",\"\",'Age - OFD'!C32)","v":""},{"$f":"IF('Age - OFD'!D32=\"\",\"\",'Age - OFD'!D32)","v":""},{"$f":"IF('Age - OFD'!E32=\"\",\"\",'Age - OFD'!E32)","v":""},{"$f":"IF('Age - OFD'!F32=\"\",\"\",'Age - OFD'!F32)","v":""}]
[27,{"$f":"IF('Age - OFD'!B33=\"\",\"\",'Age - OFD'!B33)","v":""},{"$f":"IF('Age - OFD'!C33=\"\",\"\",'Age - OFD'!C33)","v":""},{"$f":"IF('Age - OFD'!D33=\"\",\"\",'Age - OFD'!D33)","v":""},{"$f":"IF('Age - OFD'!E33=\"\",\"\",'Age - OFD'!E33)","v":""},{"$f":"IF('Age - OFD'!F33=\"\",\"\",'Age - OFD'!F33)","v":""}]
[28,{"$f":"IF('Age - OFD'!B34=\"\",\"\",'Age - OFD'!B34)","v":""},{"$f":"IF('Age - OFD'!C34=\"\",\"\",'Age - OFD'!C34)","v":""},{"$f":"IF('Age - OFD'!D34=\"\",\"\",'Age - OFD'!D34)","v":""},{"$f":"IF('Age - OFD'!E34=\"\",\"\",'Age - OFD'!E34)","v":""},{"$f":"IF('Age - OFD'!F34=\"\",\"\",'Age - OFD'!F34)","v":""}]
[29,{"$f":"IF('Age - OFD'!B35=\"\",\"\",'Age - OFD'!B35)","v":""},{"$f":"IF('Age - OFD'!C35=\"\",\"\",'Age - OFD'!C35)","v":""},{"$f":"IF('Age - OFD'!D35=\"\",\"\",'Age - OFD'!D35)","v":""},{"$f":"IF('Age - OFD'!E35=\"\",\"\",'Age - OFD'!E35)","v":""},{"$f":"IF('Age - OFD'!F35=\"\",\"\",'Age - OFD'!F35)","v":""}]
[30,{"$f":"IF('Age - OFD'!B36=\"\",\"\",'Age - OFD'!B36)","v":""},{"$f":"IF('Age - OFD'!C36=\"\",\"\",'Age - OFD'!C36)","v":""},{"$f":"IF('Age - OFD'!D36=\"\",\"\",'Age - OFD'!D36)","v":""},{"$f":"IF('Age - OFD'!E36=\"\",\"\",'Age - OFD'!E36)","v":""},{"$f":"IF('Age - OFD'!F36=\"\",\"\",'Age - OFD'!F36)","v":""}]
[31,{"$f":"IF('Age - OFD'!B37=\"\",\"\",'Age - OFD'!B37)","v":""},{"$f":"IF('Age - OFD'!C37=\"\",\"\",'Age - OFD'!C37)","v":""},{"$f":"IF('Age - OFD'!D37=\"\",\"\",'Age - OFD'!D37)","v":""},{"$f":"IF('Age - OFD'!E37=\"\",\"\",'Age - OFD'!E37)","v":""},{"$f":"IF('Age - OFD'!F37=\"\",\"\",'Age - OFD'!F37)","v":""}]
[32,{"$f":"IF('Age - OFD'!B38=\"\",\"\",'Age - OFD'!B38)","v":""},{"$f":"IF('Age - OFD'!C38=\"\",\"\",'Age - OFD'!C38)","v":""},{"$f":"IF('Age - OFD'!D38=\"\",\"\",'Age - OFD'!D38)","v":""},{"$f":"IF('Age - OFD'!E38=\"\",\"\",'Age - OFD'!E38)","v":""},{"$f":"IF('Age - OFD'!F38=\"\",\"\",'Age - OFD'!F38)","v":""}]
[33,{"$f":"IF('Age - OFD'!B39=\"\",\"\",'Age - OFD'!B39)","v":""},{"$f":"IF('Age - OFD'!C39=\"\",\"\",'Age - OFD'!C39)","v":""},{"$f":"IF('Age - OFD'!D39=\"\",\"\",'Age - OFD'!D39)","v":""},{"$f":"IF('Age - OFD'!E39=\"\",\"\",'Age - OFD'!E39)","v":""},{"$f":"IF('Age - OFD'!F39=\"\",\"\",'Age - OFD'!F39)","v":""}]
[34,{"$f":"IF('Age - OFD'!B40=\"\",\"\",'Age - OFD'!B40)","v":""},{"$f":"IF('Age - OFD'!C40=\"\",\"\",'Age - OFD'!C40)","v":""},{"$f":"IF('Age - OFD'!D40=\"\",\"\",'Age - OFD'!D40)","v":""},{"$f":"IF('Age - OFD'!E40=\"\",\"\",'Age - OFD'!E40)","v":""},{"$f":"IF('Age - OFD'!F40=\"\",\"\",'Age - OFD'!F40)","v":""}]
[35,{"$f":"IF('Age - OFD'!B41=\"\",\"\",'Age - OFD'!B41)","v":""},{"$f":"IF('Age - OFD'!C41=\"\",\"\",'Age - OFD'!C41)","v":""},{"$f":"IF('Age - OFD'!D41=\"\",\"\",'Age - OFD'!D41)","v":""},{"$f":"IF('Age - OFD'!E41=\"\",\"\",'Age - OFD'!E41)","v":""},{"$f":"IF('Age - OFD'!F41=\"\",\"\",'Age - OFD'!F41)","v":""}]
[36,{"$f":"IF('Age - OFD'!B42=\"\",\"\",'Age - OFD'!B42)","v":""},{"$f":"IF('Age - OFD'!C42=\"\",\"\",'Age - OFD'!C42)","v":""},{"$f":"IF('Age - OFD'!D42=\"\",\"\",'Age - OFD'!D42)","v":""},{"$f":"IF('Age - OFD'!E42=\"\",\"\",'Age - OFD'!E42)","v":""},{"$f":"IF('Age - OFD'!F42=\"\",\"\",'Age - OFD'!F42)","v":""}]
[37,{"$f":"IF('Age - OFD'!B43=\"\",\"\",'Age - OFD'!B43)","v":""},{"$f":"IF('Age - OFD'!C43=\"\",\"\",'Age - OFD'!C43)","v":""},{"$f":"IF('Age - OFD'!D43=\"\",\"\",'Age - OFD'!D43)","v":""},{"$f":"IF('Age - OFD'!E43=\"\",\"\",'Age - OFD'!E43)","v":""},{"$f":"IF('Age - OFD'!F43=\"\",\"\",'Age - OFD'!F43)","v":""}]
[38,{"$f":"IF('Age - OFD'!B44=\"\",\"\",'Age - OFD'!B44)","v":""},{"$f":"IF('Age - OFD'!C44=\"\",\"\",'Age - OFD'!C44)","v":""},{"$f":"IF('Age - OFD'!D44=\"\",\"\",'Age - OFD'!D44)","v":""},{"$f":"IF('Age - OFD'!E44=\"\",\"\",'Age - OFD'!E44)","v":""},{"$f":"IF('Age - OFD'!F44=\"\",\"\",'Age - OFD'!F44)","v":""}]
[39,{"$f":"IF('Age - OFD'!B45=\"\",\"\",'Age - OFD'!B45)","v":""},{"$f":"IF('Age - OFD'!C45=\"\",\"\",'Age - OFD'!C45)","v":""},{"$f":"IF('Age - OFD'!D45=\"\",\"\",'Age - OFD'!D45)","v":""},{"$f":"IF('Age - OFD'!E45=\"\",\"\",'Age - OFD'!E45)","v":""},{"$f":"IF('Age - OFD'!F45=\"\",\"\",'Age - OFD'!F45)","v":""}]
[40,{"$f":"IF('Age - OFD'!B46=\"\",\"\",'Age - OFD'!B46)","v":""},{"$f":"IF('Age - OFD'!C46=\"\",\"\",'Age - OFD'!C46)","v":""},{"$f":"IF('Age - OFD'!D46=\"\",\"\",'Age - OFD'!D46)","v":""},{"$f":"IF('Age - OFD'!E46=\"\",\"\",'Age - OFD'!E46)","v":""},{"$f":"IF('Age - OFD'!F46=\"\",\"\",'Age - OFD'!F46)","v":""}]
[41,{"$f":"IF('Age - OFD'!B47=\"\",\"\",'Age - OFD'!B47)","v":""},{"$f":"IF('Age - OFD'!C47=\"\",\"\",'Age - OFD'!C47)","v":""},{"$f":"IF('Age - OFD'!D47=\"\",\"\",'Age - OFD'!D47)","v":""},{"$f":"IF('Age - OFD'!E47=\"\",\"\",'Age - OFD'!E47)","v":""},{"$f":"IF('Age - OFD'!F47=\"\",\"\",'Age - OFD'!F47)","v":""}]
[42,{"$f":"IF('Age - OFD'!B48=\"\",\"\",'Age - OFD'!B48)","v":""},{"$f":"IF('Age - OFD'!C48=\"\",\"\",'Age - OFD'!C48)","v":""},{"$f":"IF('Age - OFD'!D48=\"\",\"\",'Age - OFD'!D48)","v":""},{"$f":"IF('Age - OFD'!E48=\"\",\"\",'Age - OFD'!E48)","v":""},{"$f":"IF('Age - OFD'!F48=\"\",\"\",'Age - OFD'!F48)","v":""}]
[43,{"$f":"IF('Age - OFD'!B49=\"\",\"\",'Age - OFD'!B49)","v":""},{"$f":"IF('Age - OFD'!C49=\"\",\"\",'Age - OFD'!C49)","v":""},{"$f":"IF('Age - OFD'!D49=\"\",\"\",'Age - OFD'!D49)","v":""},{"$f":"IF('Age - OFD'!E49=\"\",\"\",'Age - OFD'!E49)","v":""},{"$f":"IF('Age - OFD'!F49=\"\",\"\",'Age - OFD'!F49)","v":""}]
[44,{"$f":"IF('Age - OFD'!B50=\"\",\"\",'Age - OFD'!B50)","v":""},{"$f":"IF('Age - OFD'!C50=\"\",\"\",'Age - OFD'!C50)","v":""},{"$f":"IF('Age - OFD'!D50=\"\",\"\",'Age - OFD'!D50)","v":""},{"$f":"IF('Age - OFD'!E50=\"\",\"\",'Age - OFD'!E50)","v":""},{"$f":"IF('Age - OFD'!F50=\"\",\"\",'Age - OFD'!F50)","v":""}]
[45,{"$f":"IF('Age - OFD'!B51=\"\",\"\",'Age - OFD'!B51)","v":""},{"$f":"IF('Age - OFD'!C51=\"\",\"\",'Age - OFD'!C51)","v":""},{"$f":"IF('Age - OFD'!D51=\"\",\"\",'Age - OFD'!D51)","v":""},{"$f":"IF('Age - OFD'!E51=\"\",\"\",'Age - OFD'!E51)","v":""},{"$f":"IF('Age - OFD'!F51=\"\",\"\",'Age - OFD'!F51)","v":""}]
[46,{"$f":"IF('Age - OFD'!B52=\"\",\"\",'Age - OFD'!B52)","v":""},{"$f":"IF('Age - OFD'!C52=\"\",\"\",'Age - OFD'!C52)","v":""},{"$f":"IF('Age - OFD'!D52=\"\",\"\",'Age - OFD'!D52)","v":""},{"$f":"IF('Age - OFD'!E52=\"\",\"\",'Age - OFD'!E52)","v":""},{"$f":"IF('Age - OFD'!F52=\"\",\"\",'Age - OFD'!F52)","v":""}]
[47,{"$f":"IF('Age - OFD'!B53=\"\",\"\",'Age - OFD'!B53)","v":""},{"$f":"IF('Age - OFD'!C53=\"\",\"\",'Age - OFD'!C53)","v":""},{"$f":"IF('Age - OFD'!D53=\"\",\"\",'Age - OFD'!D53)","v":""},{"$f":"IF('Age - OFD'!E53=\"\",\"\",'Age - OFD'!E53)","v":""},{"$f":"IF('Age - OFD'!F53=\"\",\"\",'Age - OFD'!F53)","v":""}]
[48,{"$f":"IF('Age - OFD'!B54=\"\",\"\",'Age - OFD'!B54)","v":""},{"$f":"IF('Age - OFD'!C54=\"\",\"\",'Age - OFD'!C54)","v":""},{"$f":"IF('Age - OFD'!D54=\"\",\"\",'Age - OFD'!D54)","v":""},{"$f":"IF('Age - OFD'!E54=\"\",\"\",'Age - OFD'!E54)","v":""},{"$f":"IF('Age - OFD'!F54=\"\",\"\",'Age - OFD'!F54)","v":""}]
[49,{"$f":"IF('Age - OFD'!B55=\"\",\"\",'Age - OFD'!B55)","v":""},{"$f":"IF('Age - OFD'!C55=\"\",\"\",'Age - OFD'!C55)","v":""},{"$f":"IF('Age - OFD'!D55=\"\",\"\",'Age - OFD'!D55)","v":""},{"$f":"IF('Age - OFD'!E55=\"\",\"\",'Age - OFD'!E55)","v":""},{"$f":"IF('Age - OFD'!F55=\"\",\"\",'Age - OFD'!F55)","v":""}]
[50,{"$f":"IF('Age - OFD'!B56=\"\",\"\",'Age - OFD'!B56)","v":""},{"$f":"IF('Age - OFD'!C56=\"\",\"\",'Age - OFD'!C56)","v":""},{"$f":"IF('Age - OFD'!D56=\"\",\"\",'Age - OFD'!D56)","v":""},{"$f":"IF('Age - OFD'!E56=\"\",\"\",'Age - OFD'!E56)","v":""},{"$f":"IF('Age - OFD'!F56=\"\",\"\",'Age - OFD'!F56)","v":""}]
[51,{"$f":"IF('Age - OFD'!B57=\"\",\"\",'Age - OFD'!B57)","v":""},{"$f":"IF('Age - OFD'!C57=\"\",\"\",'Age - OFD'!C57)","v":""},{"$f":"IF('Age - OFD'!D57=\"\",\"\",'Age - OFD'!D57)","v":""},{"$f":"IF('Age - OFD'!E57=\"\",\"\",'Age - OFD'!E57)","v":""},{"$f":"IF('Age - OFD'!F57=\"\",\"\",'Age - OFD'!F57)","v":""}]
[52,{"$f":"IF('Age - OFD'!B58=\"\",\"\",'Age - OFD'!B58)","v":""},{"$f":"IF('Age - OFD'!C58=\"\",\"\",'Age - OFD'!C58)","v":""},{"$f":"IF('Age - OFD'!D58=\"\",\"\",'Age - OFD'!D58)","v":""},{"$f":"IF('Age - OFD'!E58=\"\",\"\",'Age - OFD'!E58)","v":""},{"$f":"IF('Age - OFD'!F58=\"\",\"\",'Age - OFD'!F58)","v":""}]
[53,{"$f":"IF('Age - OFD'!B59=\"\",\"\",'Age - OFD'!B59)","v":""},{"$f":"IF('Age - OFD'!C59=\"\",\"\",'Age - OFD'!C59)","v":""},{"$f":"IF('Age - OFD'!D59=\"\",\"\",'Age - OFD'!D59)","v":""},{"$f":"IF('Age - OFD'!E59=\"\",\"\",'Age - OFD'!E59)","v":""},{"$f":"IF('Age - OFD'!F59=\"\",\"\",'Age - OFD'!F59)","v":""}]
[54,{"$f":"IF('Age - OFD'!B60=\"\",\"\",'Age - OFD'!B60)","v":""},{"$f":"IF('Age - OFD'!C60=\"\",\"\",'Age - OFD'!C60)","v":""},{"$f":"IF('Age - OFD'!D60=\"\",\"\",'Age - OFD'!D60)","v":""},{"$f":"IF('Age - OFD'!E60=\"\",\"\",'Age - OFD'!E60)","v":""},{"$f":"IF('Age - OFD'!F60=\"\",\"\",'Age - OFD'!F60)","v":""}]
[55,{"$f":"IF('Age - OFD'!B61=\"\",\"\",'Age - OFD'!B61)","v":""},{"$f":"IF('Age - OFD'!C61=\"\",\"\",'Age - OFD'!C61)","v":""},{"$f":"IF('Age - OFD'!D61=\"\",\"\",'Age - OFD'!D61)","v":""},{"$f":"IF('Age - OFD'!E61=\"\",\"\",'Age - OFD'!E61)","v":""},{"$f":"IF('Age - OFD'!F61=\"\",\"\",'Age - OFD'!F61)","v":""}]
[56,{"$f":"IF('Age - OFD'!B62=\"\",\"\",'Age - OFD'!B62)","v":""},{"$f":"IF('Age - OFD'!C62=\"\",\"\",'Age - OFD'!C62)","v":""},{"$f":"IF('Age - OFD'!D62=\"\",\"\",'Age - OFD'!D62)","v":""},{"$f":"IF('Age - OFD'!E62=\"\",\"\",'Age - OFD'!E62)","v":""},{"$f":"IF('Age - OFD'!F62=\"\",\"\",'Age - OFD'!F62)","v":""}]
[57,{"$f":"IF('Age - OFD'!B63=\"\",\"\",'Age - OFD'!B63)","v":""},{"$f":"IF('Age - OFD'!C63=\"\",\"\",'Age - OFD'!C63)","v":""},{"$f":"IF('Age - OFD'!D63=\"\",\"\",'Age - OFD'!D63)","v":""},{"$f":"IF('Age - OFD'!E63=\"\",\"\",'Age - OFD'!E63)","v":""},{"$f":"IF('Age - OFD'!F63=\"\",\"\",'Age - OFD'!F63)","v":""}]
[58,{"$f":"IF('Age - OFD'!B64=\"\",\"\",'Age - OFD'!B64)","v":""},{"$f":"IF('Age - OFD'!C64=\"\",\"\",'Age - OFD'!C64)","v":""},{"$f":"IF('Age - OFD'!D64=\"\",\"\",'Age - OFD'!D64)","v":""},{"$f":"IF('Age - OFD'!E64=\"\",\"\",'Age - OFD'!E64)","v":""},{"$f":"IF('Age - OFD'!F64=\"\",\"\",'Age - OFD'!F64)","v":""}]
[59,{"$f":"IF('Age - OFD'!B65=\"\",\"\",'Age - OFD'!B65)","v":""},{"$f":"IF('Age - OFD'!C65=\"\",\"\",'Age - OFD'!C65)","v":""},{"$f":"IF('Age - OFD'!D65=\"\",\"\",'Age - OFD'!D65)","v":""},{"$f":"IF('Age - OFD'!E65=\"\",\"\",'Age - OFD'!E65)","v":""},{"$f":"IF('Age - OFD'!F65=\"\",\"\",'Age - OFD'!F65)","v":""}]
[60,{"$f":"IF('Age - OFD'!B66=\"\",\"\",'Age - OFD'!B66)","v":""},{"$f":"IF('Age - OFD'!C66=\"\",\"\",'Age - OFD'!C66)","v":""},{"$f":"IF('Age - OFD'!D66=\"\",\"\",'Age - OFD'!D66)","v":""},{"$f":"IF('Age - OFD'!E66=\"\",\"\",'Age - OFD'!E66)","v":""},{"$f":"IF('Age - OFD'!F66=\"\",\"\",'Age - OFD'!F66)","v":""}]
[61,{"$f":"IF('Age - OFD'!B67=\"\",\"\",'Age - OFD'!B67)","v":""},{"$f":"IF('Age - OFD'!C67=\"\",\"\",'Age - OFD'!C67)","v":""},{"$f":"IF('Age - OFD'!D67=\"\",\"\",'Age - OFD'!D67)","v":""},{"$f":"IF('Age - OFD'!E67=\"\",\"\",'Age - OFD'!E67)","v":""},{"$f":"IF('Age - OFD'!F67=\"\",\"\",'Age - OFD'!F67)","v":""}]
[62,{"$f":"IF('Age - OFD'!B68=\"\",\"\",'Age - OFD'!B68)","v":""},{"$f":"IF('Age - OFD'!C68=\"\",\"\",'Age - OFD'!C68)","v":""},{"$f":"IF('Age - OFD'!D68=\"\",\"\",'Age - OFD'!D68)","v":""},{"$f":"IF('Age - OFD'!E68=\"\",\"\",'Age - OFD'!E68)","v":""},{"$f":"IF('Age - OFD'!F68=\"\",\"\",'Age - OFD'!F68)","v":""}]
[63,{"$f":"IF('Age - OFD'!B69=\"\",\"\",'Age - OFD'!B69)","v":""},{"$f":"IF('Age - OFD'!C69=\"\",\"\",'Age - OFD'!C69)","v":""},{"$f":"IF('Age - OFD'!D69=\"\",\"\",'Age - OFD'!D69)","v":""},{"$f":"IF('Age - OFD'!E69=\"\",\"\",'Age - OFD'!E69)","v":""},{"$f":"IF('Age - OFD'!F69=\"\",\"\",'Age - OFD'!F69)","v":""}]
[64,{"$f":"IF('Age - OFD'!B70=\"\",\"\",'Age - OFD'!B70)","v":""},{"$f":"IF('Age - OFD'!C70=\"\",\"\",'Age - OFD'!C70)","v":""},{"$f":"IF('Age - OFD'!D70=\"\",\"\",'Age - OFD'!D70)","v":""},{"$f":"IF('Age - OFD'!E70=\"\",\"\",'Age - OFD'!E70)","v":""},{"$f":"IF('Age - OFD'!F70=\"\",\"\",'Age - OFD'!F70)","v":""}]
[65,{"$f":"IF('Age - OFD'!B71=\"\",\"\",'Age - OFD'!B71)","v":""},{"$f":"IF('Age - OFD'!C71=\"\",\"\",'Age - OFD'!C71)","v":""},{"$f":"IF('Age - OFD'!D71=\"\",\"\",'Age - OFD'!D71)","v":""},{"$f":"IF('Age - OFD'!E71=\"\",\"\",'Age - OFD'!E71)","v":""},{"$f":"IF('Age - OFD'!F71=\"\",\"\",'Age - OFD'!F71)","v":""}]
[66,{"$f":"IF('Age - OFD'!B72=\"\",\"\",'Age - OFD'!B72)","v":""},{"$f":"IF('Age - OFD'!C72=\"\",\"\",'Age - OFD'!C72)","v":""},{"$f":"IF('Age - OFD'!D72=\"\",\"\",'Age - OFD'!D72)","v":""},{"$f":"IF('Age - OFD'!E72=\"\",\"\",'Age - OFD'!E72)","v":""},{"$f":"IF('Age - OFD'!F72=\"\",\"\",'Age - OFD'!F72)","v":""}]
[67,{"$f":"IF('Age - OFD'!B73=\"\",\"\",'Age - OFD'!B73)","v":""},{"$f":"IF('Age - OFD'!C73=\"\",\"\",'Age - OFD'!C73)","v":""},{"$f":"IF('Age - OFD'!D73=\"\",\"\",'Age - OFD'!D73)","v":""},{"$f":"IF('Age - OFD'!E73=\"\",\"\",'Age - OFD'!E73)","v":""},{"$f":"IF('Age - OFD'!F73=\"\",\"\",'Age - OFD'!F73)","v":""}]
[68,{"$f":"IF('Age - OFD'!B74=\"\",\"\",'Age - OFD'!B74)","v":""},{"$f":"IF('Age - OFD'!C74=\"\",\"\",'Age - OFD'!C74)","v":""},{"$f":"IF('Age - OFD'!D74=\"\",\"\",'Age - OFD'!D74)","v":""},{"$f":"IF('Age - OFD'!E74=\"\",\"\",'Age - OFD'!E74)","v":""},{"$f":"IF('Age - OFD'!F74=\"\",\"\",'Age - OFD'!F74)","v":""}]
[69,{"$f":"IF('Age - OFD'!B75=\"\",\"\",'Age - OFD'!B75)","v":""},{"$f":"IF('Age - OFD'!C75=\"\",\"\",'Age - OFD'!C75)","v":""},{"$f":"IF('Age - OFD'!D75=\"\",\"\",'Age - OFD'!D75)","v":""},{"$f":"IF('Age - OFD'!E75=\"\",\"\",'Age - OFD'!E75)","v":""},{"$f":"IF('Age - OFD'!F75=\"\",\"\",'Age - OFD'!F75)","v":""}]
[70,{"$f":"IF('Age - OFD'!B76=\"\",\"\",'Age - OFD'!B76)","v":""},{"$f":"IF('Age - OFD'!C76=\"\",\"\",'Age - OFD'!C76)","v":""},{"$f":"IF('Age - OFD'!D76=\"\",\"\",'Age - OFD'!D76)","v":""},{"$f":"IF('Age - OFD'!E76=\"\",\"\",'Age - OFD'!E76)","v":""},{"$f":"IF('Age - OFD'!F76=\"\",\"\",'Age - OFD'!F76)","v":""}]
[71,{"$f":"IF('Age - OFD'!B77=\"\",\"\",'Age - OFD'!B77)","v":""},{"$f":"IF('Age - OFD'!C77=\"\",\"\",'Age - OFD'!C77)","v":""},{"$f":"IF('Age - OFD'!D77=\"\",\"\",'Age - OFD'!D77)","v":""},{"$f":"IF('Age - OFD'!E77=\"\",\"\",'Age - OFD'!E77)","v":""},{"$f":"IF('Age - OFD'!F77=\"\",\"\",'Age - OFD'!F77)","v":""}]
[72,{"$f":"IF('Age - OFD'!B78=\"\",\"\",'Age - OFD'!B78)","v":""},{"$f":"IF('Age - OFD'!C78=\"\",\"\",'Age - OFD'!C78)","v":""},{"$f":"IF('Age - OFD'!D78=\"\",\"\",'Age - OFD'!D78)","v":""},{"$f":"IF('Age - OFD'!E78=\"\",\"\",'Age - OFD'!E78)","v":""},{"$f":"IF('Age - OFD'!F78=\"\",\"\",'Age - OFD'!F78)","v":""}]
[73,{"$f":"IF('Age - OFD'!B79=\"\",\"\",'Age - OFD'!B79)","v":""},{"$f":"IF('Age - OFD'!C79=\"\",\"\",'Age - OFD'!C79)","v":""},{"$f":"IF('Age - OFD'!D79=\"\",\"\",'Age - OFD'!D79)","v":""},{"$f":"IF('Age - OFD'!E79=\"\",\"\",'Age - OFD'!E79)","v":""},{"$f":"IF('Age - OFD'!F79=\"\",\"\",'Age - OFD'!F79)","v":""}]
[74,{"$f":"IF('Age - OFD'!B80=\"\",\"\",'Age - OFD'!B80)","v":""},{"$f":"IF('Age - OFD'!C80=\"\",\"\",'Age - OFD'!C80)","v":""},{"$f":"IF('Age - OFD'!D80=\"\",\"\",'Age - OFD'!D80)","v":""},{"$f":"IF('Age - OFD'!E80=\"\",\"\",'Age - OFD'!E80)","v":""},{"$f":"IF('Age - OFD'!F80=\"\",\"\",'Age - OFD'!F80)","v":""}]
[75,{"$f":"IF('Age - OFD'!B81=\"\",\"\",'Age - OFD'!B81)","v":""},{"$f":"IF('Age - OFD'!C81=\"\",\"\",'Age - OFD'!C81)","v":""},{"$f":"IF('Age - OFD'!D81=\"\",\"\",'Age - OFD'!D81)","v":""},{"$f":"IF('Age - OFD'!E81=\"\",\"\",'Age - OFD'!E81)","v":""},{"$f":"IF('Age - OFD'!F81=\"\",\"\",'Age - OFD'!F81)","v":""}]
[76,{"$f":"IF('Age - OFD'!B82=\"\",\"\",'Age - OFD'!B82)","v":""},{"$f":"IF('Age - OFD'!C82=\"\",\"\",'Age - OFD'!C82)","v":""},{"$f":"IF('Age - OFD'!D82=\"\",\"\",'Age - OFD'!D82)","v":""},{"$f":"IF('Age - OFD'!E82=\"\",\"\",'Age - OFD'!E82)","v":""},{"$f":"IF('Age - OFD'!F82=\"\",\"\",'Age - OFD'!F82)","v":""}]
[77,{"$f":"IF('Age - OFD'!B83=\"\",\"\",'Age - OFD'!B83)","v":""},{"$f":"IF('Age - OFD'!C83=\"\",\"\",'Age - OFD'!C83)","v":""},{"$f":"IF('Age - OFD'!D83=\"\",\"\",'Age - OFD'!D83)","v":""},{"$f":"IF('Age - OFD'!E83=\"\",\"\",'Age - OFD'!E83)","v":""},{"$f":"IF('Age - OFD'!F83=\"\",\"\",'Age - OFD'!F83)","v":""}]
[78,{"$f":"IF('Age - OFD'!B84=\"\",\"\",'Age - OFD'!B84)","v":""},{"$f":"IF('Age - OFD'!C84=\"\",\"\",'Age - OFD'!C84)","v":""},{"$f":"IF('Age - OFD'!D84=\"\",\"\",'Age - OFD'!D84)","v":""},{"$f":"IF('Age - OFD'!E84=\"\",\"\",'Age - OFD'!E84)","v":""},{"$f":"IF('Age - OFD'!F84=\"\",\"\",'Age - OFD'!F84)","v":""}]
[79,{"$f":"IF('Age - OFD'!B85=\"\",\"\",'Age - OFD'!B85)","v":""},{"$f":"IF('Age - OFD'!C85=\"\",\"\",'Age - OFD'!C85)","v":""},{"$f":"IF('Age - OFD'!D85=\"\",\"\",'Age - OFD'!D85)","v":""},{"$f":"IF('Age - OFD'!E85=\"\",\"\",'Age - OFD'!E85)","v":""},{"$f":"IF('Age - OFD'!F85=\"\",\"\",'Age - OFD'!F85)","v":""}]
[80,{"$f":"IF('Age - OFD'!B86=\"\",\"\",'Age - OFD'!B86)","v":""},{"$f":"IF('Age - OFD'!C86=\"\",\"\",'Age - OFD'!C86)","v":""},{"$f":"IF('Age - OFD'!D86=\"\",\"\",'Age - OFD'!D86)","v":""},{"$f":"IF('Age - OFD'!E86=\"\",\"\",'Age - OFD'!E86)","v":""},{"$f":"IF('Age - OFD'!F86=\"\",\"\",'Age - OFD'!F86)","v":""}]
[81,{"$f":"IF('Age - OFD'!B87=\"\",\"\",'Age - OFD'!B87)","v":""},{"$f":"IF('Age - OFD'!C87=\"\",\"\",'Age - OFD'!C87)","v":""},{"$f":"IF('Age - OFD'!D87=\"\",\"\",'Age - OFD'!D87)","v":""},{"$f":"IF('Age - OFD'!E87=\"\",\"\",'Age - OFD'!E87)","v":""},{"$f":"IF('Age - OFD'!F87=\"\",\"\",'Age - OFD'!F87)","v":""}]
[82,{"$f":"IF('Age - OFD'!B88=\"\",\"\",'Age - OFD'!B88)","v":""},{"$f":"IF('Age - OFD'!C88=\"\",\"\",'Age - OFD'!C88)","v":""},{"$f":"IF('Age - OFD'!D88=\"\",\"\",'Age - OFD'!D88)","v":""},{"$f":"IF('Age - OFD'!E88=\"\",\"\",'Age - OFD'!E88)","v":""},{"$f":"IF('Age - OFD'!F88=\"\",\"\",'Age - OFD'!F88)","v":""}]
[83,{"$f":"IF('Age - OFD'!B89=\"\",\"\",'Age - OFD'!B89)","v":""},{"$f":"IF('Age - OFD'!C89=\"\",\"\",'Age - OFD'!C89)","v":""},{"$f":"IF('Age - OFD'!D89=\"\",\"\",'Age - OFD'!D89)","v":""},{"$f":"IF('Age - OFD'!E89=\"\",\"\",'Age - OFD'!E89)","v":""},{"$f":"IF('Age - OFD'!F89=\"\",\"\",'Age - OFD'!F89)","v":""}]
[84,{"$f":"IF('Age - OFD'!B90=\"\",\"\",'Age - OFD'!B90)","v":""},{"$f":"IF('Age - OFD'!C90=\"\",\"\",'Age - OFD'!C90)","v":""},{"$f":"IF('Age - OFD'!D90=\"\",\"\",'Age - OFD'!D90)","v":""},{"$f":"IF('Age - OFD'!E90=\"\",\"\",'Age - OFD'!E90)","v":""},{"$f":"IF('Age - OFD'!F90=\"\",\"\",'Age - OFD'!F90)","v":""}]
[85,{"$f":"IF('Age - OFD'!B91=\"\",\"\",'Age - OFD'!B91)","v":""},{"$f":"IF('Age - OFD'!C91=\"\",\"\",'Age - OFD'!C91)","v":""},{"$f":"IF('Age - OFD'!D91=\"\",\"\",'Age - OFD'!D91)","v":""},{"$f":"IF('Age - OFD'!E91=\"\",\"\",'Age - OFD'!E91)","v":""},{"$f":"IF('Age - OFD'!F91=\"\",\"\",'Age - OFD'!F91)","v":""}]
[86,{"$f":"IF('Age - OFD'!B92=\"\",\"\",'Age - OFD'!B92)","v":""},{"$f":"IF('Age - OFD'!C92=\"\",\"\",'Age - OFD'!C92)","v":""},{"$f":"IF('Age - OFD'!D92=\"\",\"\",'Age - OFD'!D92)","v":""},{"$f":"IF('Age - OFD'!E92=\"\",\"\",'Age - OFD'!E92)","v":""},{"$f":"IF('Age - OFD'!F92=\"\",\"\",'Age - OFD'!F92)","v":""}]
[87,{"$f":"IF('Age - OFD'!B93=\"\",\"\",'Age - OFD'!B93)","v":""},{"$f":"IF('Age - OFD'!C93=\"\",\"\",'Age - OFD'!C93)","v":""},{"$f":"IF('Age - OFD'!D93=\"\",\"\",'Age - OFD'!D93)","v":""},{"$f":"IF('Age - OFD'!E93=\"\",\"\",'Age - OFD'!E93)","v":""},{"$f":"IF('Age - OFD'!F93=\"\",\"\",'Age - OFD'!F93)","v":""}]
[88,{"$f":"IF('Age - OFD'!B94=\"\",\"\",'Age - OFD'!B94)","v":""},{"$f":"IF('Age - OFD'!C94=\"\",\"\",'Age - OFD'!C94)","v":""},{"$f":"IF('Age - OFD'!D94=\"\",\"\",'Age - OFD'!D94)","v":""},{"$f":"IF('Age - OFD'!E94=\"\",\"\",'Age - OFD'!E94)","v":""},{"$f":"IF('Age - OFD'!F94=\"\",\"\",'Age - OFD'!F94)","v":""}]
[89,{"$f":"IF('Age - OFD'!B95=\"\",\"\",'Age - OFD'!B95)","v":""},{"$f":"IF('Age - OFD'!C95=\"\",\"\",'Age - OFD'!C95)","v":""},{"$f":"IF('Age - OFD'!D95=\"\",\"\",'Age - OFD'!D95)","v":""},{"$f":"IF('Age - OFD'!E95=\"\",\"\",'Age - OFD'!E95)","v":""},{"$f":"IF('Age - OFD'!F95=\"\",\"\",'Age - OFD'!F95)","v":""}]
[90,{"$f":"IF('Age - OFD'!B96=\"\",\"\",'Age - OFD'!B96)","v":""},{"$f":"IF('Age - OFD'!C96=\"\",\"\",'Age - OFD'!C96)","v":""},{"$f":"IF('Age - OFD'!D96=\"\",\"\",'Age - OFD'!D96)","v":""},{"$f":"IF('Age - OFD'!E96=\"\",\"\",'Age - OFD'!E96)","v":""},{"$f":"IF('Age - OFD'!F96=\"\",\"\",'Age - OFD'!F96)","v":""}]
[91,{"$f":"IF('Age - OFD'!B97=\"\",\"\",'Age - OFD'!B97)","v":""},{"$f":"IF('Age - OFD'!C97=\"\",\"\",'Age - OFD'!C97)","v":""},{"$f":"IF('Age - OFD'!D97=\"\",\"\",'Age - OFD'!D97)","v":""},{"$f":"IF('Age - OFD'!E97=\"\",\"\",'Age - OFD'!E97)","v":""},{"$f":"IF('Age - OFD'!F97=\"\",\"\",'Age - OFD'!F97)","v":""}]
[92,{"$f":"IF('Age - OFD'!B98=\"\",\"\",'Age - OFD'!B98)","v":""},{"$f":"IF('Age - OFD'!C98=\"\",\"\",'Age - OFD'!C98)","v":""},{"$f":"IF('Age - OFD'!D98=\"\",\"\",'Age - OFD'!D98)","v":""},{"$f":"IF('Age - OFD'!E98=\"\",\"\",'Age - OFD'!E98)","v":""},{"$f":"IF('Age - OFD'!F98=\"\",\"\",'Age - OFD'!F98)","v":""}]
[93,{"$f":"IF('Age - OFD'!B99=\"\",\"\",'Age - OFD'!B99)","v":""},{"$f":"IF('Age - OFD'!C99=\"\",\"\",'Age - OFD'!C99)","v":""},{"$f":"IF('Age - OFD'!D99=\"\",\"\",'Age - OFD'!D99)","v":""},{"$f":"IF('Age - OFD'!E99=\"\",\"\",'Age - OFD'!E99)","v":""},{"$f":"IF('Age - OFD'!F99=\"\",\"\",'Age - OFD'!F99)","v":""}]
[94,{"$f":"IF('Age - OFD'!B100=\"\",\"\",'Age - OFD'!B100)","v":""},{"$f":"IF('Age - OFD'!C100=\"\",\"\",'Age - OFD'!C100)","v":""},{"$f":"IF('Age - OFD'!D100=\"\",\"\",'Age - OFD'!D100)","v":""},{"$f":"IF('Age - OFD'!E100=\"\",\"\",'Age - OFD'!E100)","v":""},{"$f":"IF('Age - OFD'!F100=\"\",\"\",'Age - OFD'!F100)","v":""}]
[95,{"$f":"IF('Age - OFD'!B101=\"\",\"\",'Age - OFD'!B101)","v":""},{"$f":"IF('Age - OFD'!C101=\"\",\"\",'Age - OFD'!C101)","v":""},{"$f":"IF('Age - OFD'!D101=\"\",\"\",'Age - OFD'!D101)","v":""},{"$f":"IF('Age - OFD'!E101=\"\",\"\",'Age - OFD'!E101)","v":""},{"$f":"IF('Age - OFD'!F101=\"\",\"\",'Age - OFD'!F101)","v":""}]
[96,{"$f":"IF('Age - OFD'!B102=\"\",\"\",'Age - OFD'!B102)","v":""},{"$f":"IF('Age - OFD'!C102=\"\",\"\",'Age - OFD'!C102)","v":""},{"$f":"IF('Age - OFD'!D102=\"\",\"\",'Age - OFD'!D102)","v":""},{"$f":"IF('Age - OFD'!E102=\"\",\"\",'Age - OFD'!E102)","v":""},{"$f":"IF('Age - OFD'!F102=\"\",\"\",'Age - OFD'!F102)","v":""}]
[97,{"$f":"IF('Age - OFD'!B103=\"\",\"\",'Age - OFD'!B103)","v":""},{"$f":"IF('Age - OFD'!C103=\"\",\"\",'Age - OFD'!C103)","v":""},{"$f":"IF('Age - OFD'!D103=\"\",\"\",'Age - OFD'!D103)","v":""},{"$f":"IF('Age - OFD'!E103=\"\",\"\",'Age - OFD'!E103)","v":""},{"$f":"IF('Age - OFD'!F103=\"\",\"\",'Age - OFD'!F103)","v":""}]
[98,{"$f":"IF('Age - OFD'!B104=\"\",\"\",'Age - OFD'!B104)","v":""},{"$f":"IF('Age - OFD'!C104=\"\",\"\",'Age - OFD'!C104)","v":""},{"$f":"IF('Age - OFD'!D104=\"\",\"\",'Age - OFD'!D104)","v":""},{"$f":"IF('Age - OFD'!E104=\"\",\"\",'Age - OFD'!E104)","v":""},{"$f":"IF('Age - OFD'!F104=\"\",\"\",'Age - OFD'!F104)","v":""}]
[99,{"$f":"IF('Age - OFD'!B105=\"\",\"\",'Age - OFD'!B105)","v":""},{"$f":"IF('Age - OFD'!C105=\"\",\"\",'Age - OFD'!C105)","v":""},{"$f":"IF('Age - OFD'!D105=\"\",\"\",'Age - OFD'!D105)","v":""},{"$f":"IF('Age - OFD'!E105=\"\",\"\",'Age - OFD'!E105)","v":""},{"$f":"IF('Age - OFD'!F105=\"\",\"\",'Age - OFD'!F105)","v":""}]
[100,{"$f":"IF('Age - OFD'!B106=\"\",\"\",'Age - OFD'!B106)","v":""},{"$f":"IF('Age - OFD'!C106=\"\",\"\",'Age - OFD'!C106)","v":""},{"$f":"IF('Age - OFD'!D106=\"\",\"\",'Age - OFD'!D106)","v":""},{"$f":"IF('Age - OFD'!E106=\"\",\"\",'Age - OFD'!E106)","v":""},{"$f":"IF('Age - OFD'!F106=\"\",\"\",'Age - OFD'!F106)","v":""}]
[101,{"$f":"IF('Age - OFD'!B107=\"\",\"\",'Age - OFD'!B107)","v":""},{"$f":"IF('Age - OFD'!C107=\"\",\"\",'Age - OFD'!C107)","v":""},{"$f":"IF('Age - OFD'!D107=\"\",\"\",'Age - OFD'!D107)","v":""},{"$f":"IF('Age - OFD'!E107=\"\",\"\",'Age - OFD'!E107)","v":""},{"$f":"IF('Age - OFD'!F107=\"\",\"\",'Age - OFD'!F107)","v":""}]
[102,{"$f":"IF('Age - OFD'!B108=\"\",\"\",'Age - OFD'!B108)","v":""},{"$f":"IF('Age - OFD'!C108=\"\",\"\",'Age - OFD'!C108)","v":""},{"$f":"IF('Age - OFD'!D108=\"\",\"\",'Age - OFD'!D108)","v":""},{"$f":"IF('Age - OFD'!E108=\"\",\"\",'Age - OFD'!E108)","v":""},{"$f":"IF('Age - OFD'!F108=\"\",\"\",'Age - OFD'!F108)","v":""}]
[103,{"$f":"IF('Age - OFD'!B109=\"\",\"\",'Age - OFD'!B109)","v":""},{"$f":"IF('Age - OFD'!C109=\"\",\"\",'Age - OFD'!C109)","v":""},{"$f":"IF('Age - OFD'!D109=\"\",\"\",'Age - OFD'!D109)","v":""},{"$f":"IF('Age - OFD'!E109=\"\",\"\",'Age - OFD'!E109)","v":""},{"$f":"IF('Age - OFD'!F109=\"\",\"\",'Age - OFD'!F109)","v":""}]
[104,{"$f":"IF('Age - OFD'!B110=\"\",\"\",'Age - OFD'!B110)","v":""},{"$f":"IF('Age - OFD'!C110=\"\",\"\",'Age - OFD'!C110)","v":""},{"$f":"IF('Age - OFD'!D110=\"\",\"\",'Age - OFD'!D110)","v":""},{"$f":"IF('Age - OFD'!E110=\"\",\"\",'Age - OFD'!E110)","v":""},{"$f":"IF('Age - OFD'!F110=\"\",\"\",'Age - OFD'!F110)","v":""}]
[105,{"$f":"IF('Age - OFD'!B111=\"\",\"\",'Age - OFD'!B111)","v":""},{"$f":"IF('Age - OFD'!C111=\"\",\"\",'Age - OFD'!C111)","v":""},{"$f":"IF('Age - OFD'!D111=\"\",\"\",'Age - OFD'!D111)","v":""},{"$f":"IF('Age - OFD'!E111=\"\",\"\",'Age - OFD'!E111)","v":""},{"$f":"IF('Age - OFD'!F111=\"\",\"\",'Age - OFD'!F111)","v":""}]
[106,{"$f":"IF('Age - OFD'!B112=\"\",\"\",'Age - OFD'!B112)","v":""},{"$f":"IF('Age - OFD'!C112=\"\",\"\",'Age - OFD'!C112)","v":""},{"$f":"IF('Age - OFD'!D112=\"\",\"\",'Age - OFD'!D112)","v":""},{"$f":"IF('Age - OFD'!E112=\"\",\"\",'Age - OFD'!E112)","v":""},{"$f":"IF('Age - OFD'!F112=\"\",\"\",'Age - OFD'!F112)","v":""}]
[107,{"$f":"IF('Age - OFD'!B113=\"\",\"\",'Age - OFD'!B113)","v":""},{"$f":"IF('Age - OFD'!C113=\"\",\"\",'Age - OFD'!C113)","v":""},{"$f":"IF('Age - OFD'!D113=\"\",\"\",'Age - OFD'!D113)","v":""},{"$f":"IF('Age - OFD'!E113=\"\",\"\",'Age - OFD'!E113)","v":""},{"$f":"IF('Age - OFD'!F113=\"\",\"\",'Age - OFD'!F113)","v":""}]
[108,{"$f":"IF('Age - OFD'!B114=\"\",\"\",'Age - OFD'!B114)","v":""},{"$f":"IF('Age - OFD'!C114=\"\",\"\",'Age - OFD'!C114)","v":""},{"$f":"IF('Age - OFD'!D114=\"\",\"\",'Age - OFD'!D114)","v":""},{"$f":"IF('Age - OFD'!E114=\"\",\"\",'Age - OFD'!E114)","v":""},{"$f":"IF('Age - OFD'!F114=\"\",\"\",'Age - OFD'!F114)","v":""}]
[109,{"$f":"IF('Age - OFD'!B115=\"\",\"\",'Age - OFD'!B115)","v":""},{"$f":"IF('Age - OFD'!C115=\"\",\"\",'Age - OFD'!C115)","v":""},{"$f":"IF('Age - OFD'!D115=\"\",\"\",'Age - OFD'!D115)","v":""},{"$f":"IF('Age - OFD'!E115=\"\",\"\",'Age - OFD'!E115)","v":""},{"$f":"IF('Age - OFD'!F115=\"\",\"\",'Age - OFD'!F115)","v":""}]
[110,{"$f":"IF('Age - OFD'!B116=\"\",\"\",'Age - OFD'!B116)","v":""},{"$f":"IF('Age - OFD'!C116=\"\",\"\",'Age - OFD'!C116)","v":""},{"$f":"IF('Age - OFD'!D116=\"\",\"\",'Age - OFD'!D116)","v":""},{"$f":"IF('Age - OFD'!E116=\"\",\"\",'Age - OFD'!E116)","v":""},{"$f":"IF('Age - OFD'!F116=\"\",\"\",'Age - OFD'!F116)","v":""}]
[111,{"$f":"IF('Age - OFD'!B117=\"\",\"\",'Age - OFD'!B117)","v":""},{"$f":"IF('Age - OFD'!C117=\"\",\"\",'Age - OFD'!C117)","v":""},{"$f":"IF('Age - OFD'!D117=\"\",\"\",'Age - OFD'!D117)","v":""},{"$f":"IF('Age - OFD'!E117=\"\",\"\",'Age - OFD'!E117)","v":""},{"$f":"IF('Age - OFD'!F117=\"\",\"\",'Age - OFD'!F117)","v":""}]
[112,{"$f":"IF('Age - OFD'!B118=\"\",\"\",'Age - OFD'!B118)","v":""},{"$f":"IF('Age - OFD'!C118=\"\",\"\",'Age - OFD'!C118)","v":""},{"$f":"IF('Age - OFD'!D118=\"\",\"\",'Age - OFD'!D118)","v":""},{"$f":"IF('Age - OFD'!E118=\"\",\"\",'Age - OFD'!E118)","v":""},{"$f":"IF('Age - OFD'!F118=\"\",\"\",'Age - OFD'!F118)","v":""}]
[113,{"$f":"IF('Age - OFD'!B119=\"\",\"\",'Age - OFD'!B119)","v":""},{"$f":"IF('Age - OFD'!C119=\"\",\"\",'Age - OFD'!C119)","v":""},{"$f":"IF('Age - OFD'!D119=\"\",\"\",'Age - OFD'!D119)","v":""},{"$f":"IF('Age - OFD'!E119=\"\",\"\",'Age - OFD'!E119)","v":""},{"$f":"IF('Age - OFD'!F119=\"\",\"\",'Age - OFD'!F119)","v":""}]
[114,{"$f":"IF('Age - OFD'!B120=\"\",\"\",'Age - OFD'!B120)","v":""},{"$f":"IF('Age - OFD'!C120=\"\",\"\",'Age - OFD'!C120)","v":""},{"$f":"IF('Age - OFD'!D120=\"\",\"\",'Age - OFD'!D120)","v":""},{"$f":"IF('Age - OFD'!E120=\"\",\"\",'Age - OFD'!E120)","v":""},{"$f":"IF('Age - OFD'!F120=\"\",\"\",'Age - OFD'!F120)","v":""}]
[115,{"$f":"IF('Age - OFD'!B121=\"\",\"\",'Age - OFD'!B121)","v":""},{"$f":"IF('Age - OFD'!C121=\"\",\"\",'Age - OFD'!C121)","v":""},{"$f":"IF('Age - OFD'!D121=\"\",\"\",'Age - OFD'!D121)","v":""},{"$f":"IF('Age - OFD'!E121=\"\",\"\",'Age - OFD'!E121)","v":""},{"$f":"IF('Age - OFD'!F121=\"\",\"\",'Age - OFD'!F121)","v":""}]
[116,{"$f":"IF('Age - OFD'!B122=\"\",\"\",'Age - OFD'!B122)","v":""},{"$f":"IF('Age - OFD'!C122=\"\",\"\",'Age - OFD'!C122)","v":""},{"$f":"IF('Age - OFD'!D122=\"\",\"\",'Age - OFD'!D122)","v":""},{"$f":"IF('Age - OFD'!E122=\"\",\"\",'Age - OFD'!E122)","v":""},{"$f":"IF('Age - OFD'!F122=\"\",\"\",'Age - OFD'!F122)","v":""}]
[117,{"$f":"IF('Age - OFD'!B123=\"\",\"\",'Age - OFD'!B123)","v":""},{"$f":"IF('Age - OFD'!C123=\"\",\"\",'Age - OFD'!C123)","v":""},{"$f":"IF('Age - OFD'!D123=\"\",\"\",'Age - OFD'!D123)","v":""},{"$f":"IF('Age - OFD'!E123=\"\",\"\",'Age - OFD'!E123)","v":""},{"$f":"IF('Age - OFD'!F123=\"\",\"\",'Age - OFD'!F123)","v":""}]
[118,{"$f":"IF('Age - OFD'!B124=\"\",\"\",'Age - OFD'!B124)","v":""},{"$f":"IF('Age - OFD'!C124=\"\",\"\",'Age - OFD'!C124)","v":""},{"$f":"IF('Age - OFD'!D124=\"\",\"\",'Age - OFD'!D124)","v":""},{"$f":"IF('Age - OFD'!E124=\"\",\"\",'Age - OFD'!E124)","v":""},{"$f":"IF('Age - OFD'!F124=\"\",\"\",'Age - OFD'!F124)","v":""}]
[119,{"$f":"IF('Age - OFD'!B125=\"\",\"\",'Age - OFD'!B125)","v":""},{"$f":"IF('Age - OFD'!C125=\"\",\"\",'Age - OFD'!C125)","v":""},{"$f":"IF('Age - OFD'!D125=\"\",\"\",'Age - OFD'!D125)","v":""},{"$f":"IF('Age - OFD'!E125=\"\",\"\",'Age - OFD'!E125)","v":""},{"$f":"IF('Age - OFD'!F125=\"\",\"\",'Age - OFD'!F125)","v":""}]
[120,{"$f":"IF('Age - OFD'!B126=\"\",\"\",'Age - OFD'!B126)","v":""},{"$f":"IF('Age - OFD'!C126=\"\",\"\",'Age - OFD'!C126)","v":""},{"$f":"IF('Age - OFD'!D126=\"\",\"\",'Age - OFD'!D126)","v":""},{"$f":"IF('Age - OFD'!E126=\"\",\"\",'Age - OFD'!E126)","v":""},{"$f":"IF('Age - OFD'!F126=\"\",\"\",'Age - OFD'!F126)","v":""}]
[]
["AGE - Head Circumference",null,null,null,null,{"$f":"IF('Age - HC'!F1=\"\",\"\",'Age - HC'!F1)","v":"Age HC"}]
[null,null,null,null,null,{"$f":"ValidationData!DataVersion","v":"70.80.100.100"}]
["Index","Measurement Name",null,null,"HC"]
[null,"Measurement Type",null,null,"Circumference (cm)"]
[null,"Author",null,null,{"$f":"IF('Age - HC'!J5=\"\",\"\",'Age - HC'!J5)","v":""}]
[null,"Value","Age (weeks)","Age (days)","Range (weeks)","Range (days)"]
[1,{"$f":"IF('Age - HC'!B7=\"\",\"\",'Age - HC'!B7)","v":""},{"$f":"IF('Age - HC'!C7=\"\",\"\",'Age - HC'!C7)","v":""},{"$f":"IF('Age - HC'!D7=\"\",\"\",'Age - HC'!D7)","v":""},{"$f":"IF('Age - HC'!E7=\"\",\"\",'Age - HC'!E7)","v":""},{"$f":"IF('Age - HC'!F7=\"\",\"\",'Age - HC'!F7)","v":""}]
[2,{"$f":"IF('Age - HC'!B8=\"\",\"\",'Age - HC'!B8)","v":""},{"$f":"IF('Age - HC'!C8=\"\",\"\",'Age - HC'!C8)","v":""},{"$f":"IF('Age - HC'!D8=\"\",\"\",'Age - HC'!D8)","v":""},{"$f":"IF('Age - HC'!E8=\"\",\"\",'Age - HC'!E8)","v":""},{"$f":"IF('Age - HC'!F8=\"\",\"\",'Age - HC'!F8)","v":""}]
[3,{"$f":"IF('Age - HC'!B9=\"\",\"\",'Age - HC'!B9)","v":""},{"$f":"IF('Age - HC'!C9=\"\",\"\",'Age - HC'!C9)","v":""},{"$f":"IF('Age - HC'!D9=\"\",\"\",'Age - HC'!D9)","v":""},{"$f":"IF('Age - HC'!E9=\"\",\"\",'Age - HC'!E9)","v":""},{"$f":"IF('Age - HC'!F9=\"\",\"\",'Age - HC'!F9)","v":""}]
[4,{"$f":"IF('Age - HC'!B10=\"\",\"\",'Age - HC'!B10)","v":""},{"$f":"IF('Age - HC'!C10=\"\",\"\",'Age - HC'!C10)","v":""},{"$f":"IF('Age - HC'!D10=\"\",\"\",'Age - HC'!D10)","v":""},{"$f":"IF('Age - HC'!E10=\"\",\"\",'Age - HC'!E10)","v":""},{"$f":"IF('Age - HC'!F10=\"\",\"\",'Age - HC'!F10)","v":""}]
[5,{"$f":"IF('Age - HC'!B11=\"\",\"\",'Age - HC'!B11)","v":""},{"$f":"IF('Age - HC'!C11=\"\",\"\",'Age - HC'!C11)","v":""},{"$f":"IF('Age - HC'!D11=\"\",\"\",'Age - HC'!D11)","v":""},{"$f":"IF('Age - HC'!E11=\"\",\"\",'Age - HC'!E11)","v":""},{"$f":"IF('Age - HC'!F11=\"\",\"\",'Age - HC'!F11)","v":""}]
[6,{"$f":"IF('Age - HC'!B12=\"\",\"\",'Age - HC'!B12)","v":""},{"$f":"IF('Age - HC'!C12=\"\",\"\",'Age - HC'!C12)","v":""},{"$f":"IF('Age - HC'!D12=\"\",\"\",'Age - HC'!D12)","v":""},{"$f":"IF('Age - HC'!E12=\"\",\"\",'Age - HC'!E12)","v":""},{"$f":"IF('Age - HC'!F12=\"\",\"\",'Age - HC'!F12)","v":""}]
[7,{"$f":"IF('Age - HC'!B13=\"\",\"\",'Age - HC'!B13)","v":""},{"$f":"IF('Age - HC'!C13=\"\",\"\",'Age - HC'!C13)","v":""},{"$f":"IF('Age - HC'!D13=\"\",\"\",'Age - HC'!D13)","v":""},{"$f":"IF('Age - HC'!E13=\"\",\"\",'Age - HC'!E13)","v":""},{"$f":"IF('Age - HC'!F13=\"\",\"\",'Age - HC'!F13)","v":""}]
[8,{"$f":"IF('Age - HC'!B14=\"\",\"\",'Age - HC'!B14)","v":""},{"$f":"IF('Age - HC'!C14=\"\",\"\",'Age - HC'!C14)","v":""},{"$f":"IF('Age - HC'!D14=\"\",\"\",'Age - HC'!D14)","v":""},{"$f":"IF('Age - HC'!E14=\"\",\"\",'Age - HC'!E14)","v":""},{"$f":"IF('Age - HC'!F14=\"\",\"\",'Age - HC'!F14)","v":""}]
[9,{"$f":"IF('Age - HC'!B15=\"\",\"\",'Age - HC'!B15)","v":""},{"$f":"IF('Age - HC'!C15=\"\",\"\",'Age - HC'!C15)","v":""},{"$f":"IF('Age - HC'!D15=\"\",\"\",'Age - HC'!D15)","v":""},{"$f":"IF('Age - HC'!E15=\"\",\"\",'Age - HC'!E15)","v":""},{"$f":"IF('Age - HC'!F15=\"\",\"\",'Age - HC'!F15)","v":""}]
[10,{"$f":"IF('Age - HC'!B16=\"\",\"\",'Age - HC'!B16)","v":""},{"$f":"IF('Age - HC'!C16=\"\",\"\",'Age - HC'!C16)","v":""},{"$f":"IF('Age - HC'!D16=\"\",\"\",'Age - HC'!D16)","v":""},{"$f":"IF('Age - HC'!E16=\"\",\"\",'Age - HC'!E16)","v":""},{"$f":"IF('Age - HC'!F16=\"\",\"\",'Age - HC'!F16)","v":""}]
[11,{"$f":"IF('Age - HC'!B17=\"\",\"\",'Age - HC'!B17)","v":""},{"$f":"IF('Age - HC'!C17=\"\",\"\",'Age - HC'!C17)","v":""},{"$f":"IF('Age - HC'!D17=\"\",\"\",'Age - HC'!D17)","v":""},{"$f":"IF('Age - HC'!E17=\"\",\"\",'Age - HC'!E17)","v":""},{"$f":"IF('Age - HC'!F17=\"\",\"\",'Age - HC'!F17)","v":""}]
[12,{"$f":"IF('Age - HC'!B18=\"\",\"\",'Age - HC'!B18)","v":""},{"$f":"IF('Age - HC'!C18=\"\",\"\",'Age - HC'!C18)","v":""},{"$f":"IF('Age - HC'!D18=\"\",\"\",'Age - HC'!D18)","v":""},{"$f":"IF('Age - HC'!E18=\"\",\"\",'Age - HC'!E18)","v":""},{"$f":"IF('Age - HC'!F18=\"\",\"\",'Age - HC'!F18)","v":""}]
[13,{"$f":"IF('Age - HC'!B19=\"\",\"\",'Age - HC'!B19)","v":""},{"$f":"IF('Age - HC'!C19=\"\",\"\",'Age - HC'!C19)","v":""},{"$f":"IF('Age - HC'!D19=\"\",\"\",'Age - HC'!D19)","v":""},{"$f":"IF('Age - HC'!E19=\"\",\"\",'Age - HC'!E19)","v":""},{"$f":"IF('Age - HC'!F19=\"\",\"\",'Age - HC'!F19)","v":""}]
[14,{"$f":"IF('Age - HC'!B20=\"\",\"\",'Age - HC'!B20)","v":""},{"$f":"IF('Age - HC'!C20=\"\",\"\",'Age - HC'!C20)","v":""},{"$f":"IF('Age - HC'!D20=\"\",\"\",'Age - HC'!D20)","v":""},{"$f":"IF('Age - HC'!E20=\"\",\"\",'Age - HC'!E20)","v":""},{"$f":"IF('Age - HC'!F20=\"\",\"\",'Age - HC'!F20)","v":""}]
[15,{"$f":"IF('Age - HC'!B21=\"\",\"\",'Age - HC'!B21)","v":""},{"$f":"IF('Age - HC'!C21=\"\",\"\",'Age - HC'!C21)","v":""},{"$f":"IF('Age - HC'!D21=\"\",\"\",'Age - HC'!D21)","v":""},{"$f":"IF('Age - HC'!E21=\"\",\"\",'Age - HC'!E21)","v":""},{"$f":"IF('Age - HC'!F21=\"\",\"\",'Age - HC'!F21)","v":""}]
[16,{"$f":"IF('Age - HC'!B22=\"\",\"\",'Age - HC'!B22)","v":""},{"$f":"IF('Age - HC'!C22=\"\",\"\",'Age - HC'!C22)","v":""},{"$f":"IF('Age - HC'!D22=\"\",\"\",'Age - HC'!D22)","v":""},{"$f":"IF('Age - HC'!E22=\"\",\"\",'Age - HC'!E22)","v":""},{"$f":"IF('Age - HC'!F22=\"\",\"\",'Age - HC'!F22)","v":""}]
[17,{"$f":"IF('Age - HC'!B23=\"\",\"\",'Age - HC'!B23)","v":""},{"$f":"IF('Age - HC'!C23=\"\",\"\",'Age - HC'!C23)","v":""},{"$f":"IF('Age - HC'!D23=\"\",\"\",'Age - HC'!D23)","v":""},{"$f":"IF('Age - HC'!E23=\"\",\"\",'Age - HC'!E23)","v":""},{"$f":"IF('Age - HC'!F23=\"\",\"\",'Age - HC'!F23)","v":""}]
[18,{"$f":"IF('Age - HC'!B24=\"\",\"\",'Age - HC'!B24)","v":""},{"$f":"IF('Age - HC'!C24=\"\",\"\",'Age - HC'!C24)","v":""},{"$f":"IF('Age - HC'!D24=\"\",\"\",'Age - HC'!D24)","v":""},{"$f":"IF('Age - HC'!E24=\"\",\"\",'Age - HC'!E24)","v":""},{"$f":"IF('Age - HC'!F24=\"\",\"\",'Age - HC'!F24)","v":""}]
[19,{"$f":"IF('Age - HC'!B25=\"\",\"\",'Age - HC'!B25)","v":""},{"$f":"IF('Age - HC'!C25=\"\",\"\",'Age - HC'!C25)","v":""},{"$f":"IF('Age - HC'!D25=\"\",\"\",'Age - HC'!D25)","v":""},{"$f":"IF('Age - HC'!E25=\"\",\"\",'Age - HC'!E25)","v":""},{"$f":"IF('Age - HC'!F25=\"\",\"\",'Age - HC'!F25)","v":""}]
[20,{"$f":"IF('Age - HC'!B26=\"\",\"\",'Age - HC'!B26)","v":""},{"$f":"IF('Age - HC'!C26=\"\",\"\",'Age - HC'!C26)","v":""},{"$f":"IF('Age - HC'!D26=\"\",\"\",'Age - HC'!D26)","v":""},{"$f":"IF('Age - HC'!E26=\"\",\"\",'Age - HC'!E26)","v":""},{"$f":"IF('Age - HC'!F26=\"\",\"\",'Age - HC'!F26)","v":""}]
[21,{"$f":"IF('Age - HC'!B27=\"\",\"\",'Age - HC'!B27)","v":""},{"$f":"IF('Age - HC'!C27=\"\",\"\",'Age - HC'!C27)","v":""},{"$f":"IF('Age - HC'!D27=\"\",\"\",'Age - HC'!D27)","v":""},{"$f":"IF('Age - HC'!E27=\"\",\"\",'Age - HC'!E27)","v":""},{"$f":"IF('Age - HC'!F27=\"\",\"\",'Age - HC'!F27)","v":""}]
[22,{"$f":"IF('Age - HC'!B28=\"\",\"\",'Age - HC'!B28)","v":""},{"$f":"IF('Age - HC'!C28=\"\",\"\",'Age - HC'!C28)","v":""},{"$f":"IF('Age - HC'!D28=\"\",\"\",'Age - HC'!D28)","v":""},{"$f":"IF('Age - HC'!E28=\"\",\"\",'Age - HC'!E28)","v":""},{"$f":"IF('Age - HC'!F28=\"\",\"\",'Age - HC'!F28)","v":""}]
[23,{"$f":"IF('Age - HC'!B29=\"\",\"\",'Age - HC'!B29)","v":""},{"$f":"IF('Age - HC'!C29=\"\",\"\",'Age - HC'!C29)","v":""},{"$f":"IF('Age - HC'!D29=\"\",\"\",'Age - HC'!D29)","v":""},{"$f":"IF('Age - HC'!E29=\"\",\"\",'Age - HC'!E29)","v":""},{"$f":"IF('Age - HC'!F29=\"\",\"\",'Age - HC'!F29)","v":""}]
[24,{"$f":"IF('Age - HC'!B30=\"\",\"\",'Age - HC'!B30)","v":""},{"$f":"IF('Age - HC'!C30=\"\",\"\",'Age - HC'!C30)","v":""},{"$f":"IF('Age - HC'!D30=\"\",\"\",'Age - HC'!D30)","v":""},{"$f":"IF('Age - HC'!E30=\"\",\"\",'Age - HC'!E30)","v":""},{"$f":"IF('Age - HC'!F30=\"\",\"\",'Age - HC'!F30)","v":""}]
[25,{"$f":"IF('Age - HC'!B31=\"\",\"\",'Age - HC'!B31)","v":""},{"$f":"IF('Age - HC'!C31=\"\",\"\",'Age - HC'!C31)","v":""},{"$f":"IF('Age - HC'!D31=\"\",\"\",'Age - HC'!D31)","v":""},{"$f":"IF('Age - HC'!E31=\"\",\"\",'Age - HC'!E31)","v":""},{"$f":"IF('Age - HC'!F31=\"\",\"\",'Age - HC'!F31)","v":""}]
[26,{"$f":"IF('Age - HC'!B32=\"\",\"\",'Age - HC'!B32)","v":""},{"$f":"IF('Age - HC'!C32=\"\",\"\",'Age - HC'!C32)","v":""},{"$f":"IF('Age - HC'!D32=\"\",\"\",'Age - HC'!D32)","v":""},{"$f":"IF('Age - HC'!E32=\"\",\"\",'Age - HC'!E32)","v":""},{"$f":"IF('Age - HC'!F32=\"\",\"\",'Age - HC'!F32)","v":""}]
[27,{"$f":"IF('Age - HC'!B33=\"\",\"\",'Age - HC'!B33)","v":""},{"$f":"IF('Age - HC'!C33=\"\",\"\",'Age - HC'!C33)","v":""},{"$f":"IF('Age - HC'!D33=\"\",\"\",'Age - HC'!D33)","v":""},{"$f":"IF('Age - HC'!E33=\"\",\"\",'Age - HC'!E33)","v":""},{"$f":"IF('Age - HC'!F33=\"\",\"\",'Age - HC'!F33)","v":""}]
[28,{"$f":"IF('Age - HC'!B34=\"\",\"\",'Age - HC'!B34)","v":""},{"$f":"IF('Age - HC'!C34=\"\",\"\",'Age - HC'!C34)","v":""},{"$f":"IF('Age - HC'!D34=\"\",\"\",'Age - HC'!D34)","v":""},{"$f":"IF('Age - HC'!E34=\"\",\"\",'Age - HC'!E34)","v":""},{"$f":"IF('Age - HC'!F34=\"\",\"\",'Age - HC'!F34)","v":""}]
[29,{"$f":"IF('Age - HC'!B35=\"\",\"\",'Age - HC'!B35)","v":""},{"$f":"IF('Age - HC'!C35=\"\",\"\",'Age - HC'!C35)","v":""},{"$f":"IF('Age - HC'!D35=\"\",\"\",'Age - HC'!D35)","v":""},{"$f":"IF('Age - HC'!E35=\"\",\"\",'Age - HC'!E35)","v":""},{"$f":"IF('Age - HC'!F35=\"\",\"\",'Age - HC'!F35)","v":""}]
[30,{"$f":"IF('Age - HC'!B36=\"\",\"\",'Age - HC'!B36)","v":""},{"$f":"IF('Age - HC'!C36=\"\",\"\",'Age - HC'!C36)","v":""},{"$f":"IF('Age - HC'!D36=\"\",\"\",'Age - HC'!D36)","v":""},{"$f":"IF('Age - HC'!E36=\"\",\"\",'Age - HC'!E36)","v":""},{"$f":"IF('Age - HC'!F36=\"\",\"\",'Age - HC'!F36)","v":""}]
[31,{"$f":"IF('Age - HC'!B37=\"\",\"\",'Age - HC'!B37)","v":""},{"$f":"IF('Age - HC'!C37=\"\",\"\",'Age - HC'!C37)","v":""},{"$f":"IF('Age - HC'!D37=\"\",\"\",'Age - HC'!D37)","v":""},{"$f":"IF('Age - HC'!E37=\"\",\"\",'Age - HC'!E37)","v":""},{"$f":"IF('Age - HC'!F37=\"\",\"\",'Age - HC'!F37)","v":""}]
[32,{"$f":"IF('Age - HC'!B38=\"\",\"\",'Age - HC'!B38)","v":""},{"$f":"IF('Age - HC'!C38=\"\",\"\",'Age - HC'!C38)","v":""},{"$f":"IF('Age - HC'!D38=\"\",\"\",'Age - HC'!D38)","v":""},{"$f":"IF('Age - HC'!E38=\"\",\"\",'Age - HC'!E38)","v":""},{"$f":"IF('Age - HC'!F38=\"\",\"\",'Age - HC'!F38)","v":""}]
[33,{"$f":"IF('Age - HC'!B39=\"\",\"\",'Age - HC'!B39)","v":""},{"$f":"IF('Age - HC'!C39=\"\",\"\",'Age - HC'!C39)","v":""},{"$f":"IF('Age - HC'!D39=\"\",\"\",'Age - HC'!D39)","v":""},{"$f":"IF('Age - HC'!E39=\"\",\"\",'Age - HC'!E39)","v":""},{"$f":"IF('Age - HC'!F39=\"\",\"\",'Age - HC'!F39)","v":""}]
[34,{"$f":"IF('Age - HC'!B40=\"\",\"\",'Age - HC'!B40)","v":""},{"$f":"IF('Age - HC'!C40=\"\",\"\",'Age - HC'!C40)","v":""},{"$f":"IF('Age - HC'!D40=\"\",\"\",'Age - HC'!D40)","v":""},{"$f":"IF('Age - HC'!E40=\"\",\"\",'Age - HC'!E40)","v":""},{"$f":"IF('Age - HC'!F40=\"\",\"\",'Age - HC'!F40)","v":""}]
[35,{"$f":"IF('Age - HC'!B41=\"\",\"\",'Age - HC'!B41)","v":""},{"$f":"IF('Age - HC'!C41=\"\",\"\",'Age - HC'!C41)","v":""},{"$f":"IF('Age - HC'!D41=\"\",\"\",'Age - HC'!D41)","v":""},{"$f":"IF('Age - HC'!E41=\"\",\"\",'Age - HC'!E41)","v":""},{"$f":"IF('Age - HC'!F41=\"\",\"\",'Age - HC'!F41)","v":""}]
[36,{"$f":"IF('Age - HC'!B42=\"\",\"\",'Age - HC'!B42)","v":""},{"$f":"IF('Age - HC'!C42=\"\",\"\",'Age - HC'!C42)","v":""},{"$f":"IF('Age - HC'!D42=\"\",\"\",'Age - HC'!D42)","v":""},{"$f":"IF('Age - HC'!E42=\"\",\"\",'Age - HC'!E42)","v":""},{"$f":"IF('Age - HC'!F42=\"\",\"\",'Age - HC'!F42)","v":""}]
[37,{"$f":"IF('Age - HC'!B43=\"\",\"\",'Age - HC'!B43)","v":""},{"$f":"IF('Age - HC'!C43=\"\",\"\",'Age - HC'!C43)","v":""},{"$f":"IF('Age - HC'!D43=\"\",\"\",'Age - HC'!D43)","v":""},{"$f":"IF('Age - HC'!E43=\"\",\"\",'Age - HC'!E43)","v":""},{"$f":"IF('Age - HC'!F43=\"\",\"\",'Age - HC'!F43)","v":""}]
[38,{"$f":"IF('Age - HC'!B44=\"\",\"\",'Age - HC'!B44)","v":""},{"$f":"IF('Age - HC'!C44=\"\",\"\",'Age - HC'!C44)","v":""},{"$f":"IF('Age - HC'!D44=\"\",\"\",'Age - HC'!D44)","v":""},{"$f":"IF('Age - HC'!E44=\"\",\"\",'Age - HC'!E44)","v":""},{"$f":"IF('Age - HC'!F44=\"\",\"\",'Age - HC'!F44)","v":""}]
[39,{"$f":"IF('Age - HC'!B45=\"\",\"\",'Age - HC'!B45)","v":""},{"$f":"IF('Age - HC'!C45=\"\",\"\",'Age - HC'!C45)","v":""},{"$f":"IF('Age - HC'!D45=\"\",\"\",'Age - HC'!D45)","v":""},{"$f":"IF('Age - HC'!E45=\"\",\"\",'Age - HC'!E45)","v":""},{"$f":"IF('Age - HC'!F45=\"\",\"\",'Age - HC'!F45)","v":""}]
[40,{"$f":"IF('Age - HC'!B46=\"\",\"\",'Age - HC'!B46)","v":""},{"$f":"IF('Age - HC'!C46=\"\",\"\",'Age - HC'!C46)","v":""},{"$f":"IF('Age - HC'!D46=\"\",\"\",'Age - HC'!D46)","v":""},{"$f":"IF('Age - HC'!E46=\"\",\"\",'Age - HC'!E46)","v":""},{"$f":"IF('Age - HC'!F46=\"\",\"\",'Age - HC'!F46)","v":""}]
[41,{"$f":"IF('Age - HC'!B47=\"\",\"\",'Age - HC'!B47)","v":""},{"$f":"IF('Age - HC'!C47=\"\",\"\",'Age - HC'!C47)","v":""},{"$f":"IF('Age - HC'!D47=\"\",\"\",'Age - HC'!D47)","v":""},{"$f":"IF('Age - HC'!E47=\"\",\"\",'Age - HC'!E47)","v":""},{"$f":"IF('Age - HC'!F47=\"\",\"\",'Age - HC'!F47)","v":""}]
[42,{"$f":"IF('Age - HC'!B48=\"\",\"\",'Age - HC'!B48)","v":""},{"$f":"IF('Age - HC'!C48=\"\",\"\",'Age - HC'!C48)","v":""},{"$f":"IF('Age - HC'!D48=\"\",\"\",'Age - HC'!D48)","v":""},{"$f":"IF('Age - HC'!E48=\"\",\"\",'Age - HC'!E48)","v":""},{"$f":"IF('Age - HC'!F48=\"\",\"\",'Age - HC'!F48)","v":""}]
[43,{"$f":"IF('Age - HC'!B49=\"\",\"\",'Age - HC'!B49)","v":""},{"$f":"IF('Age - HC'!C49=\"\",\"\",'Age - HC'!C49)","v":""},{"$f":"IF('Age - HC'!D49=\"\",\"\",'Age - HC'!D49)","v":""},{"$f":"IF('Age - HC'!E49=\"\",\"\",'Age - HC'!E49)","v":""},{"$f":"IF('Age - HC'!F49=\"\",\"\",'Age - HC'!F49)","v":""}]
[44,{"$f":"IF('Age - HC'!B50=\"\",\"\",'Age - HC'!B50)","v":""},{"$f":"IF('Age - HC'!C50=\"\",\"\",'Age - HC'!C50)","v":""},{"$f":"IF('Age - HC'!D50=\"\",\"\",'Age - HC'!D50)","v":""},{"$f":"IF('Age - HC'!E50=\"\",\"\",'Age - HC'!E50)","v":""},{"$f":"IF('Age - HC'!F50=\"\",\"\",'Age - HC'!F50)","v":""}]
[45,{"$f":"IF('Age - HC'!B51=\"\",\"\",'Age - HC'!B51)","v":""},{"$f":"IF('Age - HC'!C51=\"\",\"\",'Age - HC'!C51)","v":""},{"$f":"IF('Age - HC'!D51=\"\",\"\",'Age - HC'!D51)","v":""},{"$f":"IF('Age - HC'!E51=\"\",\"\",'Age - HC'!E51)","v":""},{"$f":"IF('Age - HC'!F51=\"\",\"\",'Age - HC'!F51)","v":""}]
[46,{"$f":"IF('Age - HC'!B52=\"\",\"\",'Age - HC'!B52)","v":""},{"$f":"IF('Age - HC'!C52=\"\",\"\",'Age - HC'!C52)","v":""},{"$f":"IF('Age - HC'!D52=\"\",\"\",'Age - HC'!D52)","v":""},{"$f":"IF('Age - HC'!E52=\"\",\"\",'Age - HC'!E52)","v":""},{"$f":"IF('Age - HC'!F52=\"\",\"\",'Age - HC'!F52)","v":""}]
[47,{"$f":"IF('Age - HC'!B53=\"\",\"\",'Age - HC'!B53)","v":""},{"$f":"IF('Age - HC'!C53=\"\",\"\",'Age - HC'!C53)","v":""},{"$f":"IF('Age - HC'!D53=\"\",\"\",'Age - HC'!D53)","v":""},{"$f":"IF('Age - HC'!E53=\"\",\"\",'Age - HC'!E53)","v":""},{"$f":"IF('Age - HC'!F53=\"\",\"\",'Age - HC'!F53)","v":""}]
[48,{"$f":"IF('Age - HC'!B54=\"\",\"\",'Age - HC'!B54)","v":""},{"$f":"IF('Age - HC'!C54=\"\",\"\",'Age - HC'!C54)","v":""},{"$f":"IF('Age - HC'!D54=\"\",\"\",'Age - HC'!D54)","v":""},{"$f":"IF('Age - HC'!E54=\"\",\"\",'Age - HC'!E54)","v":""},{"$f":"IF('Age - HC'!F54=\"\",\"\",'Age - HC'!F54)","v":""}]
[49,{"$f":"IF('Age - HC'!B55=\"\",\"\",'Age - HC'!B55)","v":""},{"$f":"IF('Age - HC'!C55=\"\",\"\",'Age - HC'!C55)","v":""},{"$f":"IF('Age - HC'!D55=\"\",\"\",'Age - HC'!D55)","v":""},{"$f":"IF('Age - HC'!E55=\"\",\"\",'Age - HC'!E55)","v":""},{"$f":"IF('Age - HC'!F55=\"\",\"\",'Age - HC'!F55)","v":""}]
[50,{"$f":"IF('Age - HC'!B56=\"\",\"\",'Age - HC'!B56)","v":""},{"$f":"IF('Age - HC'!C56=\"\",\"\",'Age - HC'!C56)","v":""},{"$f":"IF('Age - HC'!D56=\"\",\"\",'Age - HC'!D56)","v":""},{"$f":"IF('Age - HC'!E56=\"\",\"\",'Age - HC'!E56)","v":""},{"$f":"IF('Age - HC'!F56=\"\",\"\",'Age - HC'!F56)","v":""}]
[51,{"$f":"IF('Age - HC'!B57=\"\",\"\",'Age - HC'!B57)","v":""},{"$f":"IF('Age - HC'!C57=\"\",\"\",'Age - HC'!C57)","v":""},{"$f":"IF('Age - HC'!D57=\"\",\"\",'Age - HC'!D57)","v":""},{"$f":"IF('Age - HC'!E57=\"\",\"\",'Age - HC'!E57)","v":""},{"$f":"IF('Age - HC'!F57=\"\",\"\",'Age - HC'!F57)","v":""}]
[52,{"$f":"IF('Age - HC'!B58=\"\",\"\",'Age - HC'!B58)","v":""},{"$f":"IF('Age - HC'!C58=\"\",\"\",'Age - HC'!C58)","v":""},{"$f":"IF('Age - HC'!D58=\"\",\"\",'Age - HC'!D58)","v":""},{"$f":"IF('Age - HC'!E58=\"\",\"\",'Age - HC'!E58)","v":""},{"$f":"IF('Age - HC'!F58=\"\",\"\",'Age - HC'!F58)","v":""}]
[53,{"$f":"IF('Age - HC'!B59=\"\",\"\",'Age - HC'!B59)","v":""},{"$f":"IF('Age - HC'!C59=\"\",\"\",'Age - HC'!C59)","v":""},{"$f":"IF('Age - HC'!D59=\"\",\"\",'Age - HC'!D59)","v":""},{"$f":"IF('Age - HC'!E59=\"\",\"\",'Age - HC'!E59)","v":""},{"$f":"IF('Age - HC'!F59=\"\",\"\",'Age - HC'!F59)","v":""}]
[54,{"$f":"IF('Age - HC'!B60=\"\",\"\",'Age - HC'!B60)","v":""},{"$f":"IF('Age - HC'!C60=\"\",\"\",'Age - HC'!C60)","v":""},{"$f":"IF('Age - HC'!D60=\"\",\"\",'Age - HC'!D60)","v":""},{"$f":"IF('Age - HC'!E60=\"\",\"\",'Age - HC'!E60)","v":""},{"$f":"IF('Age - HC'!F60=\"\",\"\",'Age - HC'!F60)","v":""}]
[55,{"$f":"IF('Age - HC'!B61=\"\",\"\",'Age - HC'!B61)","v":""},{"$f":"IF('Age - HC'!C61=\"\",\"\",'Age - HC'!C61)","v":""},{"$f":"IF('Age - HC'!D61=\"\",\"\",'Age - HC'!D61)","v":""},{"$f":"IF('Age - HC'!E61=\"\",\"\",'Age - HC'!E61)","v":""},{"$f":"IF('Age - HC'!F61=\"\",\"\",'Age - HC'!F61)","v":""}]
[56,{"$f":"IF('Age - HC'!B62=\"\",\"\",'Age - HC'!B62)","v":""},{"$f":"IF('Age - HC'!C62=\"\",\"\",'Age - HC'!C62)","v":""},{"$f":"IF('Age - HC'!D62=\"\",\"\",'Age - HC'!D62)","v":""},{"$f":"IF('Age - HC'!E62=\"\",\"\",'Age - HC'!E62)","v":""},{"$f":"IF('Age - HC'!F62=\"\",\"\",'Age - HC'!F62)","v":""}]
[57,{"$f":"IF('Age - HC'!B63=\"\",\"\",'Age - HC'!B63)","v":""},{"$f":"IF('Age - HC'!C63=\"\",\"\",'Age - HC'!C63)","v":""},{"$f":"IF('Age - HC'!D63=\"\",\"\",'Age - HC'!D63)","v":""},{"$f":"IF('Age - HC'!E63=\"\",\"\",'Age - HC'!E63)","v":""},{"$f":"IF('Age - HC'!F63=\"\",\"\",'Age - HC'!F63)","v":""}]
[58,{"$f":"IF('Age - HC'!B64=\"\",\"\",'Age - HC'!B64)","v":""},{"$f":"IF('Age - HC'!C64=\"\",\"\",'Age - HC'!C64)","v":""},{"$f":"IF('Age - HC'!D64=\"\",\"\",'Age - HC'!D64)","v":""},{"$f":"IF('Age - HC'!E64=\"\",\"\",'Age - HC'!E64)","v":""},{"$f":"IF('Age - HC'!F64=\"\",\"\",'Age - HC'!F64)","v":""}]
[59,{"$f":"IF('Age - HC'!B65=\"\",\"\",'Age - HC'!B65)","v":""},{"$f":"IF('Age - HC'!C65=\"\",\"\",'Age - HC'!C65)","v":""},{"$f":"IF('Age - HC'!D65=\"\",\"\",'Age - HC'!D65)","v":""},{"$f":"IF('Age - HC'!E65=\"\",\"\",'Age - HC'!E65)","v":""},{"$f":"IF('Age - HC'!F65=\"\",\"\",'Age - HC'!F65)","v":""}]
[60,{"$f":"IF('Age - HC'!B66=\"\",\"\",'Age - HC'!B66)","v":""},{"$f":"IF('Age - HC'!C66=\"\",\"\",'Age - HC'!C66)","v":""},{"$f":"IF('Age - HC'!D66=\"\",\"\",'Age - HC'!D66)","v":""},{"$f":"IF('Age - HC'!E66=\"\",\"\",'Age - HC'!E66)","v":""},{"$f":"IF('Age - HC'!F66=\"\",\"\",'Age - HC'!F66)","v":""}]
[61,{"$f":"IF('Age - HC'!B67=\"\",\"\",'Age - HC'!B67)","v":""},{"$f":"IF('Age - HC'!C67=\"\",\"\",'Age - HC'!C67)","v":""},{"$f":"IF('Age - HC'!D67=\"\",\"\",'Age - HC'!D67)","v":""},{"$f":"IF('Age - HC'!E67=\"\",\"\",'Age - HC'!E67)","v":""},{"$f":"IF('Age - HC'!F67=\"\",\"\",'Age - HC'!F67)","v":""}]
[62,{"$f":"IF('Age - HC'!B68=\"\",\"\",'Age - HC'!B68)","v":""},{"$f":"IF('Age - HC'!C68=\"\",\"\",'Age - HC'!C68)","v":""},{"$f":"IF('Age - HC'!D68=\"\",\"\",'Age - HC'!D68)","v":""},{"$f":"IF('Age - HC'!E68=\"\",\"\",'Age - HC'!E68)","v":""},{"$f":"IF('Age - HC'!F68=\"\",\"\",'Age - HC'!F68)","v":""}]
[63,{"$f":"IF('Age - HC'!B69=\"\",\"\",'Age - HC'!B69)","v":""},{"$f":"IF('Age - HC'!C69=\"\",\"\",'Age - HC'!C69)","v":""},{"$f":"IF('Age - HC'!D69=\"\",\"\",'Age - HC'!D69)","v":""},{"$f":"IF('Age - HC'!E69=\"\",\"\",'Age - HC'!E69)","v":""},{"$f":"IF('Age - HC'!F69=\"\",\"\",'Age - HC'!F69)","v":""}]
[64,{"$f":"IF('Age - HC'!B70=\"\",\"\",'Age - HC'!B70)","v":""},{"$f":"IF('Age - HC'!C70=\"\",\"\",'Age - HC'!C70)","v":""},{"$f":"IF('Age - HC'!D70=\"\",\"\",'Age - HC'!D70)","v":""},{"$f":"IF('Age - HC'!E70=\"\",\"\",'Age - HC'!E70)","v":""},{"$f":"IF('Age - HC'!F70=\"\",\"\",'Age - HC'!F70)","v":""}]
[65,{"$f":"IF('Age - HC'!B71=\"\",\"\",'Age - HC'!B71)","v":""},{"$f":"IF('Age - HC'!C71=\"\",\"\",'Age - HC'!C71)","v":""},{"$f":"IF('Age - HC'!D71=\"\",\"\",'Age - HC'!D71)","v":""},{"$f":"IF('Age - HC'!E71=\"\",\"\",'Age - HC'!E71)","v":""},{"$f":"IF('Age - HC'!F71=\"\",\"\",'Age - HC'!F71)","v":""}]
[66,{"$f":"IF('Age - HC'!B72=\"\",\"\",'Age - HC'!B72)","v":""},{"$f":"IF('Age - HC'!C72=\"\",\"\",'Age - HC'!C72)","v":""},{"$f":"IF('Age - HC'!D72=\"\",\"\",'Age - HC'!D72)","v":""},{"$f":"IF('Age - HC'!E72=\"\",\"\",'Age - HC'!E72)","v":""},{"$f":"IF('Age - HC'!F72=\"\",\"\",'Age - HC'!F72)","v":""}]
[67,{"$f":"IF('Age - HC'!B73=\"\",\"\",'Age - HC'!B73)","v":""},{"$f":"IF('Age - HC'!C73=\"\",\"\",'Age - HC'!C73)","v":""},{"$f":"IF('Age - HC'!D73=\"\",\"\",'Age - HC'!D73)","v":""},{"$f":"IF('Age - HC'!E73=\"\",\"\",'Age - HC'!E73)","v":""},{"$f":"IF('Age - HC'!F73=\"\",\"\",'Age - HC'!F73)","v":""}]
[68,{"$f":"IF('Age - HC'!B74=\"\",\"\",'Age - HC'!B74)","v":""},{"$f":"IF('Age - HC'!C74=\"\",\"\",'Age - HC'!C74)","v":""},{"$f":"IF('Age - HC'!D74=\"\",\"\",'Age - HC'!D74)","v":""},{"$f":"IF('Age - HC'!E74=\"\",\"\",'Age - HC'!E74)","v":""},{"$f":"IF('Age - HC'!F74=\"\",\"\",'Age - HC'!F74)","v":""}]
[69,{"$f":"IF('Age - HC'!B75=\"\",\"\",'Age - HC'!B75)","v":""},{"$f":"IF('Age - HC'!C75=\"\",\"\",'Age - HC'!C75)","v":""},{"$f":"IF('Age - HC'!D75=\"\",\"\",'Age - HC'!D75)","v":""},{"$f":"IF('Age - HC'!E75=\"\",\"\",'Age - HC'!E75)","v":""},{"$f":"IF('Age - HC'!F75=\"\",\"\",'Age - HC'!F75)","v":""}]
[70,{"$f":"IF('Age - HC'!B76=\"\",\"\",'Age - HC'!B76)","v":""},{"$f":"IF('Age - HC'!C76=\"\",\"\",'Age - HC'!C76)","v":""},{"$f":"IF('Age - HC'!D76=\"\",\"\",'Age - HC'!D76)","v":""},{"$f":"IF('Age - HC'!E76=\"\",\"\",'Age - HC'!E76)","v":""},{"$f":"IF('Age - HC'!F76=\"\",\"\",'Age - HC'!F76)","v":""}]
[71,{"$f":"IF('Age - HC'!B77=\"\",\"\",'Age - HC'!B77)","v":""},{"$f":"IF('Age - HC'!C77=\"\",\"\",'Age - HC'!C77)","v":""},{"$f":"IF('Age - HC'!D77=\"\",\"\",'Age - HC'!D77)","v":""},{"$f":"IF('Age - HC'!E77=\"\",\"\",'Age - HC'!E77)","v":""},{"$f":"IF('Age - HC'!F77=\"\",\"\",'Age - HC'!F77)","v":""}]
[72,{"$f":"IF('Age - HC'!B78=\"\",\"\",'Age - HC'!B78)","v":""},{"$f":"IF('Age - HC'!C78=\"\",\"\",'Age - HC'!C78)","v":""},{"$f":"IF('Age - HC'!D78=\"\",\"\",'Age - HC'!D78)","v":""},{"$f":"IF('Age - HC'!E78=\"\",\"\",'Age - HC'!E78)","v":""},{"$f":"IF('Age - HC'!F78=\"\",\"\",'Age - HC'!F78)","v":""}]
[73,{"$f":"IF('Age - HC'!B79=\"\",\"\",'Age - HC'!B79)","v":""},{"$f":"IF('Age - HC'!C79=\"\",\"\",'Age - HC'!C79)","v":""},{"$f":"IF('Age - HC'!D79=\"\",\"\",'Age - HC'!D79)","v":""},{"$f":"IF('Age - HC'!E79=\"\",\"\",'Age - HC'!E79)","v":""},{"$f":"IF('Age - HC'!F79=\"\",\"\",'Age - HC'!F79)","v":""}]
[74,{"$f":"IF('Age - HC'!B80=\"\",\"\",'Age - HC'!B80)","v":""},{"$f":"IF('Age - HC'!C80=\"\",\"\",'Age - HC'!C80)","v":""},{"$f":"IF('Age - HC'!D80=\"\",\"\",'Age - HC'!D80)","v":""},{"$f":"IF('Age - HC'!E80=\"\",\"\",'Age - HC'!E80)","v":""},{"$f":"IF('Age - HC'!F80=\"\",\"\",'Age - HC'!F80)","v":""}]
[75,{"$f":"IF('Age - HC'!B81=\"\",\"\",'Age - HC'!B81)","v":""},{"$f":"IF('Age - HC'!C81=\"\",\"\",'Age - HC'!C81)","v":""},{"$f":"IF('Age - HC'!D81=\"\",\"\",'Age - HC'!D81)","v":""},{"$f":"IF('Age - HC'!E81=\"\",\"\",'Age - HC'!E81)","v":""},{"$f":"IF('Age - HC'!F81=\"\",\"\",'Age - HC'!F81)","v":""}]
[76,{"$f":"IF('Age - HC'!B82=\"\",\"\",'Age - HC'!B82)","v":""},{"$f":"IF('Age - HC'!C82=\"\",\"\",'Age - HC'!C82)","v":""},{"$f":"IF('Age - HC'!D82=\"\",\"\",'Age - HC'!D82)","v":""},{"$f":"IF('Age - HC'!E82=\"\",\"\",'Age - HC'!E82)","v":""},{"$f":"IF('Age - HC'!F82=\"\",\"\",'Age - HC'!F82)","v":""}]
[77,{"$f":"IF('Age - HC'!B83=\"\",\"\",'Age - HC'!B83)","v":""},{"$f":"IF('Age - HC'!C83=\"\",\"\",'Age - HC'!C83)","v":""},{"$f":"IF('Age - HC'!D83=\"\",\"\",'Age - HC'!D83)","v":""},{"$f":"IF('Age - HC'!E83=\"\",\"\",'Age - HC'!E83)","v":""},{"$f":"IF('Age - HC'!F83=\"\",\"\",'Age - HC'!F83)","v":""}]
[78,{"$f":"IF('Age - HC'!B84=\"\",\"\",'Age - HC'!B84)","v":""},{"$f":"IF('Age - HC'!C84=\"\",\"\",'Age - HC'!C84)","v":""},{"$f":"IF('Age - HC'!D84=\"\",\"\",'Age - HC'!D84)","v":""},{"$f":"IF('Age - HC'!E84=\"\",\"\",'Age - HC'!E84)","v":""},{"$f":"IF('Age - HC'!F84=\"\",\"\",'Age - HC'!F84)","v":""}]
[79,{"$f":"IF('Age - HC'!B85=\"\",\"\",'Age - HC'!B85)","v":""},{"$f":"IF('Age - HC'!C85=\"\",\"\",'Age - HC'!C85)","v":""},{"$f":"IF('Age - HC'!D85=\"\",\"\",'Age - HC'!D85)","v":""},{"$f":"IF('Age - HC'!E85=\"\",\"\",'Age - HC'!E85)","v":""},{"$f":"IF('Age - HC'!F85=\"\",\"\",'Age - HC'!F85)","v":""}]
[80,{"$f":"IF('Age - HC'!B86=\"\",\"\",'Age - HC'!B86)","v":""},{"$f":"IF('Age - HC'!C86=\"\",\"\",'Age - HC'!C86)","v":""},{"$f":"IF('Age - HC'!D86=\"\",\"\",'Age - HC'!D86)","v":""},{"$f":"IF('Age - HC'!E86=\"\",\"\",'Age - HC'!E86)","v":""},{"$f":"IF('Age - HC'!F86=\"\",\"\",'Age - HC'!F86)","v":""}]
[81,{"$f":"IF('Age - HC'!B87=\"\",\"\",'Age - HC'!B87)","v":""},{"$f":"IF('Age - HC'!C87=\"\",\"\",'Age - HC'!C87)","v":""},{"$f":"IF('Age - HC'!D87=\"\",\"\",'Age - HC'!D87)","v":""},{"$f":"IF('Age - HC'!E87=\"\",\"\",'Age - HC'!E87)","v":""},{"$f":"IF('Age - HC'!F87=\"\",\"\",'Age - HC'!F87)","v":""}]
[82,{"$f":"IF('Age - HC'!B88=\"\",\"\",'Age - HC'!B88)","v":""},{"$f":"IF('Age - HC'!C88=\"\",\"\",'Age - HC'!C88)","v":""},{"$f":"IF('Age - HC'!D88=\"\",\"\",'Age - HC'!D88)","v":""},{"$f":"IF('Age - HC'!E88=\"\",\"\",'Age - HC'!E88)","v":""},{"$f":"IF('Age - HC'!F88=\"\",\"\",'Age - HC'!F88)","v":""}]
[83,{"$f":"IF('Age - HC'!B89=\"\",\"\",'Age - HC'!B89)","v":""},{"$f":"IF('Age - HC'!C89=\"\",\"\",'Age - HC'!C89)","v":""},{"$f":"IF('Age - HC'!D89=\"\",\"\",'Age - HC'!D89)","v":""},{"$f":"IF('Age - HC'!E89=\"\",\"\",'Age - HC'!E89)","v":""},{"$f":"IF('Age - HC'!F89=\"\",\"\",'Age - HC'!F89)","v":""}]
[84,{"$f":"IF('Age - HC'!B90=\"\",\"\",'Age - HC'!B90)","v":""},{"$f":"IF('Age - HC'!C90=\"\",\"\",'Age - HC'!C90)","v":""},{"$f":"IF('Age - HC'!D90=\"\",\"\",'Age - HC'!D90)","v":""},{"$f":"IF('Age - HC'!E90=\"\",\"\",'Age - HC'!E90)","v":""},{"$f":"IF('Age - HC'!F90=\"\",\"\",'Age - HC'!F90)","v":""}]
[85,{"$f":"IF('Age - HC'!B91=\"\",\"\",'Age - HC'!B91)","v":""},{"$f":"IF('Age - HC'!C91=\"\",\"\",'Age - HC'!C91)","v":""},{"$f":"IF('Age - HC'!D91=\"\",\"\",'Age - HC'!D91)","v":""},{"$f":"IF('Age - HC'!E91=\"\",\"\",'Age - HC'!E91)","v":""},{"$f":"IF('Age - HC'!F91=\"\",\"\",'Age - HC'!F91)","v":""}]
[86,{"$f":"IF('Age - HC'!B92=\"\",\"\",'Age - HC'!B92)","v":""},{"$f":"IF('Age - HC'!C92=\"\",\"\",'Age - HC'!C92)","v":""},{"$f":"IF('Age - HC'!D92=\"\",\"\",'Age - HC'!D92)","v":""},{"$f":"IF('Age - HC'!E92=\"\",\"\",'Age - HC'!E92)","v":""},{"$f":"IF('Age - HC'!F92=\"\",\"\",'Age - HC'!F92)","v":""}]
[87,{"$f":"IF('Age - HC'!B93=\"\",\"\",'Age - HC'!B93)","v":""},{"$f":"IF('Age - HC'!C93=\"\",\"\",'Age - HC'!C93)","v":""},{"$f":"IF('Age - HC'!D93=\"\",\"\",'Age - HC'!D93)","v":""},{"$f":"IF('Age - HC'!E93=\"\",\"\",'Age - HC'!E93)","v":""},{"$f":"IF('Age - HC'!F93=\"\",\"\",'Age - HC'!F93)","v":""}]
[88,{"$f":"IF('Age - HC'!B94=\"\",\"\",'Age - HC'!B94)","v":""},{"$f":"IF('Age - HC'!C94=\"\",\"\",'Age - HC'!C94)","v":""},{"$f":"IF('Age - HC'!D94=\"\",\"\",'Age - HC'!D94)","v":""},{"$f":"IF('Age - HC'!E94=\"\",\"\",'Age - HC'!E94)","v":""},{"$f":"IF('Age - HC'!F94=\"\",\"\",'Age - HC'!F94)","v":""}]
[89,{"$f":"IF('Age - HC'!B95=\"\",\"\",'Age - HC'!B95)","v":""},{"$f":"IF('Age - HC'!C95=\"\",\"\",'Age - HC'!C95)","v":""},{"$f":"IF('Age - HC'!D95=\"\",\"\",'Age - HC'!D95)","v":""},{"$f":"IF('Age - HC'!E95=\"\",\"\",'Age - HC'!E95)","v":""},{"$f":"IF('Age - HC'!F95=\"\",\"\",'Age - HC'!F95)","v":""}]
[90,{"$f":"IF('Age - HC'!B96=\"\",\"\",'Age - HC'!B96)","v":""},{"$f":"IF('Age - HC'!C96=\"\",\"\",'Age - HC'!C96)","v":""},{"$f":"IF('Age - HC'!D96=\"\",\"\",'Age - HC'!D96)","v":""},{"$f":"IF('Age - HC'!E96=\"\",\"\",'Age - HC'!E96)","v":""},{"$f":"IF('Age - HC'!F96=\"\",\"\",'Age - HC'!F96)","v":""}]
[91,{"$f":"IF('Age - HC'!B97=\"\",\"\",'Age - HC'!B97)","v":""},{"$f":"IF('Age - HC'!C97=\"\",\"\",'Age - HC'!C97)","v":""},{"$f":"IF('Age - HC'!D97=\"\",\"\",'Age - HC'!D97)","v":""},{"$f":"IF('Age - HC'!E97=\"\",\"\",'Age - HC'!E97)","v":""},{"$f":"IF('Age - HC'!F97=\"\",\"\",'Age - HC'!F97)","v":""}]
[92,{"$f":"IF('Age - HC'!B98=\"\",\"\",'Age - HC'!B98)","v":""},{"$f":"IF('Age - HC'!C98=\"\",\"\",'Age - HC'!C98)","v":""},{"$f":"IF('Age - HC'!D98=\"\",\"\",'Age - HC'!D98)","v":""},{"$f":"IF('Age - HC'!E98=\"\",\"\",'Age - HC'!E98)","v":""},{"$f":"IF('Age - HC'!F98=\"\",\"\",'Age - HC'!F98)","v":""}]
[93,{"$f":"IF('Age - HC'!B99=\"\",\"\",'Age - HC'!B99)","v":""},{"$f":"IF('Age - HC'!C99=\"\",\"\",'Age - HC'!C99)","v":""},{"$f":"IF('Age - HC'!D99=\"\",\"\",'Age - HC'!D99)","v":""},{"$f":"IF('Age - HC'!E99=\"\",\"\",'Age - HC'!E99)","v":""},{"$f":"IF('Age - HC'!F99=\"\",\"\",'Age - HC'!F99)","v":""}]
[94,{"$f":"IF('Age - HC'!B100=\"\",\"\",'Age - HC'!B100)","v":""},{"$f":"IF('Age - HC'!C100=\"\",\"\",'Age - HC'!C100)","v":""},{"$f":"IF('Age - HC'!D100=\"\",\"\",'Age - HC'!D100)","v":""},{"$f":"IF('Age - HC'!E100=\"\",\"\",'Age - HC'!E100)","v":""},{"$f":"IF('Age - HC'!F100=\"\",\"\",'Age - HC'!F100)","v":""}]
[95,{"$f":"IF('Age - HC'!B101=\"\",\"\",'Age - HC'!B101)","v":""},{"$f":"IF('Age - HC'!C101=\"\",\"\",'Age - HC'!C101)","v":""},{"$f":"IF('Age - HC'!D101=\"\",\"\",'Age - HC'!D101)","v":""},{"$f":"IF('Age - HC'!E101=\"\",\"\",'Age - HC'!E101)","v":""},{"$f":"IF('Age - HC'!F101=\"\",\"\",'Age - HC'!F101)","v":""}]
[96,{"$f":"IF('Age - HC'!B102=\"\",\"\",'Age - HC'!B102)","v":""},{"$f":"IF('Age - HC'!C102=\"\",\"\",'Age - HC'!C102)","v":""},{"$f":"IF('Age - HC'!D102=\"\",\"\",'Age - HC'!D102)","v":""},{"$f":"IF('Age - HC'!E102=\"\",\"\",'Age - HC'!E102)","v":""},{"$f":"IF('Age - HC'!F102=\"\",\"\",'Age - HC'!F102)","v":""}]
[97,{"$f":"IF('Age - HC'!B103=\"\",\"\",'Age - HC'!B103)","v":""},{"$f":"IF('Age - HC'!C103=\"\",\"\",'Age - HC'!C103)","v":""},{"$f":"IF('Age - HC'!D103=\"\",\"\",'Age - HC'!D103)","v":""},{"$f":"IF('Age - HC'!E103=\"\",\"\",'Age - HC'!E103)","v":""},{"$f":"IF('Age - HC'!F103=\"\",\"\",'Age - HC'!F103)","v":""}]
[98,{"$f":"IF('Age - HC'!B104=\"\",\"\",'Age - HC'!B104)","v":""},{"$f":"IF('Age - HC'!C104=\"\",\"\",'Age - HC'!C104)","v":""},{"$f":"IF('Age - HC'!D104=\"\",\"\",'Age - HC'!D104)","v":""},{"$f":"IF('Age - HC'!E104=\"\",\"\",'Age - HC'!E104)","v":""},{"$f":"IF('Age - HC'!F104=\"\",\"\",'Age - HC'!F104)","v":""}]
[99,{"$f":"IF('Age - HC'!B105=\"\",\"\",'Age - HC'!B105)","v":""},{"$f":"IF('Age - HC'!C105=\"\",\"\",'Age - HC'!C105)","v":""},{"$f":"IF('Age - HC'!D105=\"\",\"\",'Age - HC'!D105)","v":""},{"$f":"IF('Age - HC'!E105=\"\",\"\",'Age - HC'!E105)","v":""},{"$f":"IF('Age - HC'!F105=\"\",\"\",'Age - HC'!F105)","v":""}]
[100,{"$f":"IF('Age - HC'!B106=\"\",\"\",'Age - HC'!B106)","v":""},{"$f":"IF('Age - HC'!C106=\"\",\"\",'Age - HC'!C106)","v":""},{"$f":"IF('Age - HC'!D106=\"\",\"\",'Age - HC'!D106)","v":""},{"$f":"IF('Age - HC'!E106=\"\",\"\",'Age - HC'!E106)","v":""},{"$f":"IF('Age - HC'!F106=\"\",\"\",'Age - HC'!F106)","v":""}]
[101,{"$f":"IF('Age - HC'!B107=\"\",\"\",'Age - HC'!B107)","v":""},{"$f":"IF('Age - HC'!C107=\"\",\"\",'Age - HC'!C107)","v":""},{"$f":"IF('Age - HC'!D107=\"\",\"\",'Age - HC'!D107)","v":""},{"$f":"IF('Age - HC'!E107=\"\",\"\",'Age - HC'!E107)","v":""},{"$f":"IF('Age - HC'!F107=\"\",\"\",'Age - HC'!F107)","v":""}]
[102,{"$f":"IF('Age - HC'!B108=\"\",\"\",'Age - HC'!B108)","v":""},{"$f":"IF('Age - HC'!C108=\"\",\"\",'Age - HC'!C108)","v":""},{"$f":"IF('Age - HC'!D108=\"\",\"\",'Age - HC'!D108)","v":""},{"$f":"IF('Age - HC'!E108=\"\",\"\",'Age - HC'!E108)","v":""},{"$f":"IF('Age - HC'!F108=\"\",\"\",'Age - HC'!F108)","v":""}]
[103,{"$f":"IF('Age - HC'!B109=\"\",\"\",'Age - HC'!B109)","v":""},{"$f":"IF('Age - HC'!C109=\"\",\"\",'Age - HC'!C109)","v":""},{"$f":"IF('Age - HC'!D109=\"\",\"\",'Age - HC'!D109)","v":""},{"$f":"IF('Age - HC'!E109=\"\",\"\",'Age - HC'!E109)","v":""},{"$f":"IF('Age - HC'!F109=\"\",\"\",'Age - HC'!F109)","v":""}]
[104,{"$f":"IF('Age - HC'!B110=\"\",\"\",'Age - HC'!B110)","v":""},{"$f":"IF('Age - HC'!C110=\"\",\"\",'Age - HC'!C110)","v":""},{"$f":"IF('Age - HC'!D110=\"\",\"\",'Age - HC'!D110)","v":""},{"$f":"IF('Age - HC'!E110=\"\",\"\",'Age - HC'!E110)","v":""},{"$f":"IF('Age - HC'!F110=\"\",\"\",'Age - HC'!F110)","v":""}]
[105,{"$f":"IF('Age - HC'!B111=\"\",\"\",'Age - HC'!B111)","v":""},{"$f":"IF('Age - HC'!C111=\"\",\"\",'Age - HC'!C111)","v":""},{"$f":"IF('Age - HC'!D111=\"\",\"\",'Age - HC'!D111)","v":""},{"$f":"IF('Age - HC'!E111=\"\",\"\",'Age - HC'!E111)","v":""},{"$f":"IF('Age - HC'!F111=\"\",\"\",'Age - HC'!F111)","v":""}]
[106,{"$f":"IF('Age - HC'!B112=\"\",\"\",'Age - HC'!B112)","v":""},{"$f":"IF('Age - HC'!C112=\"\",\"\",'Age - HC'!C112)","v":""},{"$f":"IF('Age - HC'!D112=\"\",\"\",'Age - HC'!D112)","v":""},{"$f":"IF('Age - HC'!E112=\"\",\"\",'Age - HC'!E112)","v":""},{"$f":"IF('Age - HC'!F112=\"\",\"\",'Age - HC'!F112)","v":""}]
[107,{"$f":"IF('Age - HC'!B113=\"\",\"\",'Age - HC'!B113)","v":""},{"$f":"IF('Age - HC'!C113=\"\",\"\",'Age - HC'!C113)","v":""},{"$f":"IF('Age - HC'!D113=\"\",\"\",'Age - HC'!D113)","v":""},{"$f":"IF('Age - HC'!E113=\"\",\"\",'Age - HC'!E113)","v":""},{"$f":"IF('Age - HC'!F113=\"\",\"\",'Age - HC'!F113)","v":""}]
[108,{"$f":"IF('Age - HC'!B114=\"\",\"\",'Age - HC'!B114)","v":""},{"$f":"IF('Age - HC'!C114=\"\",\"\",'Age - HC'!C114)","v":""},{"$f":"IF('Age - HC'!D114=\"\",\"\",'Age - HC'!D114)","v":""},{"$f":"IF('Age - HC'!E114=\"\",\"\",'Age - HC'!E114)","v":""},{"$f":"IF('Age - HC'!F114=\"\",\"\",'Age - HC'!F114)","v":""}]
[109,{"$f":"IF('Age - HC'!B115=\"\",\"\",'Age - HC'!B115)","v":""},{"$f":"IF('Age - HC'!C115=\"\",\"\",'Age - HC'!C115)","v":""},{"$f":"IF('Age - HC'!D115=\"\",\"\",'Age - HC'!D115)","v":""},{"$f":"IF('Age - HC'!E115=\"\",\"\",'Age - HC'!E115)","v":""},{"$f":"IF('Age - HC'!F115=\"\",\"\",'Age - HC'!F115)","v":""}]
[110,{"$f":"IF('Age - HC'!B116=\"\",\"\",'Age - HC'!B116)","v":""},{"$f":"IF('Age - HC'!C116=\"\",\"\",'Age - HC'!C116)","v":""},{"$f":"IF('Age - HC'!D116=\"\",\"\",'Age - HC'!D116)","v":""},{"$f":"IF('Age - HC'!E116=\"\",\"\",'Age - HC'!E116)","v":""},{"$f":"IF('Age - HC'!F116=\"\",\"\",'Age - HC'!F116)","v":""}]
[111,{"$f":"IF('Age - HC'!B117=\"\",\"\",'Age - HC'!B117)","v":""},{"$f":"IF('Age - HC'!C117=\"\",\"\",'Age - HC'!C117)","v":""},{"$f":"IF('Age - HC'!D117=\"\",\"\",'Age - HC'!D117)","v":""},{"$f":"IF('Age - HC'!E117=\"\",\"\",'Age - HC'!E117)","v":""},{"$f":"IF('Age - HC'!F117=\"\",\"\",'Age - HC'!F117)","v":""}]
[112,{"$f":"IF('Age - HC'!B118=\"\",\"\",'Age - HC'!B118)","v":""},{"$f":"IF('Age - HC'!C118=\"\",\"\",'Age - HC'!C118)","v":""},{"$f":"IF('Age - HC'!D118=\"\",\"\",'Age - HC'!D118)","v":""},{"$f":"IF('Age - HC'!E118=\"\",\"\",'Age - HC'!E118)","v":""},{"$f":"IF('Age - HC'!F118=\"\",\"\",'Age - HC'!F118)","v":""}]
[113,{"$f":"IF('Age - HC'!B119=\"\",\"\",'Age - HC'!B119)","v":""},{"$f":"IF('Age - HC'!C119=\"\",\"\",'Age - HC'!C119)","v":""},{"$f":"IF('Age - HC'!D119=\"\",\"\",'Age - HC'!D119)","v":""},{"$f":"IF('Age - HC'!E119=\"\",\"\",'Age - HC'!E119)","v":""},{"$f":"IF('Age - HC'!F119=\"\",\"\",'Age - HC'!F119)","v":""}]
[114,{"$f":"IF('Age - HC'!B120=\"\",\"\",'Age - HC'!B120)","v":""},{"$f":"IF('Age - HC'!C120=\"\",\"\",'Age - HC'!C120)","v":""},{"$f":"IF('Age - HC'!D120=\"\",\"\",'Age - HC'!D120)","v":""},{"$f":"IF('Age - HC'!E120=\"\",\"\",'Age - HC'!E120)","v":""},{"$f":"IF('Age - HC'!F120=\"\",\"\",'Age - HC'!F120)","v":""}]
[115,{"$f":"IF('Age - HC'!B121=\"\",\"\",'Age - HC'!B121)","v":""},{"$f":"IF('Age - HC'!C121=\"\",\"\",'Age - HC'!C121)","v":""},{"$f":"IF('Age - HC'!D121=\"\",\"\",'Age - HC'!D121)","v":""},{"$f":"IF('Age - HC'!E121=\"\",\"\",'Age - HC'!E121)","v":""},{"$f":"IF('Age - HC'!F121=\"\",\"\",'Age - HC'!F121)","v":""}]
[116,{"$f":"IF('Age - HC'!B122=\"\",\"\",'Age - HC'!B122)","v":""},{"$f":"IF('Age - HC'!C122=\"\",\"\",'Age - HC'!C122)","v":""},{"$f":"IF('Age - HC'!D122=\"\",\"\",'Age - HC'!D122)","v":""},{"$f":"IF('Age - HC'!E122=\"\",\"\",'Age - HC'!E122)","v":""},{"$f":"IF('Age - HC'!F122=\"\",\"\",'Age - HC'!F122)","v":""}]
[117,{"$f":"IF('Age - HC'!B123=\"\",\"\",'Age - HC'!B123)","v":""},{"$f":"IF('Age - HC'!C123=\"\",\"\",'Age - HC'!C123)","v":""},{"$f":"IF('Age - HC'!D123=\"\",\"\",'Age - HC'!D123)","v":""},{"$f":"IF('Age - HC'!E123=\"\",\"\",'Age - HC'!E123)","v":""},{"$f":"IF('Age - HC'!F123=\"\",\"\",'Age - HC'!F123)","v":""}]
[118,{"$f":"IF('Age - HC'!B124=\"\",\"\",'Age - HC'!B124)","v":""},{"$f":"IF('Age - HC'!C124=\"\",\"\",'Age - HC'!C124)","v":""},{"$f":"IF('Age - HC'!D124=\"\",\"\",'Age - HC'!D124)","v":""},{"$f":"IF('Age - HC'!E124=\"\",\"\",'Age - HC'!E124)","v":""},{"$f":"IF('Age - HC'!F124=\"\",\"\",'Age - HC'!F124)","v":""}]
[119,{"$f":"IF('Age - HC'!B125=\"\",\"\",'Age - HC'!B125)","v":""},{"$f":"IF('Age - HC'!C125=\"\",\"\",'Age - HC'!C125)","v":""},{"$f":"IF('Age - HC'!D125=\"\",\"\",'Age - HC'!D125)","v":""},{"$f":"IF('Age - HC'!E125=\"\",\"\",'Age - HC'!E125)","v":""},{"$f":"IF('Age - HC'!F125=\"\",\"\",'Age - HC'!F125)","v":""}]
[120,{"$f":"IF('Age - HC'!B126=\"\",\"\",'Age - HC'!B126)","v":""},{"$f":"IF('Age - HC'!C126=\"\",\"\",'Age - HC'!C126)","v":""},{"$f":"IF('Age - HC'!D126=\"\",\"\",'Age - HC'!D126)","v":""},{"$f":"IF('Age - HC'!E126=\"\",\"\",'Age - HC'!E126)","v":""},{"$f":"IF('Age - HC'!F126=\"\",\"\",'Age - HC'!F126)","v":""}]
[]
["AGE - Abdominal Circumference",null,null,null,null,{"$f":"IF('Age - AC'!F1=\"\",\"\",'Age - AC'!F1)","v":"Age AC"}]
[null,null,null,null,null,{"$f":"ValidationData!DataVersion","v":"70.80.100.100"}]
["Index","Measurement Name",null,null,"AC"]
[null,"Measurement Type",null,null,"Circumference (cm)"]
[null,"Author",null,null,{"$f":"IF('Age - AC'!J5=\"\",\"\",'Age - AC'!J5)","v":""}]
[null,"Value","Age (weeks)","Age (days)","Range (weeks)","Range (days)"]
[1,{"$f":"IF('Age - AC'!B7=\"\",\"\",'Age - AC'!B7)","v":""},{"$f":"IF('Age - AC'!C7=\"\",\"\",'Age - AC'!C7)","v":""},{"$f":"IF('Age - AC'!D7=\"\",\"\",'Age - AC'!D7)","v":""},{"$f":"IF('Age - AC'!E7=\"\",\"\",'Age - AC'!E7)","v":""},{"$f":"IF('Age - AC'!F7=\"\",\"\",'Age - AC'!F7)","v":""}]
[2,{"$f":"IF('Age - AC'!B8=\"\",\"\",'Age - AC'!B8)","v":""},{"$f":"IF('Age - AC'!C8=\"\",\"\",'Age - AC'!C8)","v":""},{"$f":"IF('Age - AC'!D8=\"\",\"\",'Age - AC'!D8)","v":""},{"$f":"IF('Age - AC'!E8=\"\",\"\",'Age - AC'!E8)","v":""},{"$f":"IF('Age - AC'!F8=\"\",\"\",'Age - AC'!F8)","v":""}]
[3,{"$f":"IF('Age - AC'!B9=\"\",\"\",'Age - AC'!B9)","v":""},{"$f":"IF('Age - AC'!C9=\"\",\"\",'Age - AC'!C9)","v":""},{"$f":"IF('Age - AC'!D9=\"\",\"\",'Age - AC'!D9)","v":""},{"$f":"IF('Age - AC'!E9=\"\",\"\",'Age - AC'!E9)","v":""},{"$f":"IF('Age - AC'!F9=\"\",\"\",'Age - AC'!F9)","v":""}]
[4,{"$f":"IF('Age - AC'!B10=\"\",\"\",'Age - AC'!B10)","v":""},{"$f":"IF('Age - AC'!C10=\"\",\"\",'Age - AC'!C10)","v":""},{"$f":"IF('Age - AC'!D10=\"\",\"\",'Age - AC'!D10)","v":""},{"$f":"IF('Age - AC'!E10=\"\",\"\",'Age - AC'!E10)","v":""},{"$f":"IF('Age - AC'!F10=\"\",\"\",'Age - AC'!F10)","v":""}]
[5,{"$f":"IF('Age - AC'!B11=\"\",\"\",'Age - AC'!B11)","v":""},{"$f":"IF('Age - AC'!C11=\"\",\"\",'Age - AC'!C11)","v":""},{"$f":"IF('Age - AC'!D11=\"\",\"\",'Age - AC'!D11)","v":""},{"$f":"IF('Age - AC'!E11=\"\",\"\",'Age - AC'!E11)","v":""},{"$f":"IF('Age - AC'!F11=\"\",\"\",'Age - AC'!F11)","v":""}]
[6,{"$f":"IF('Age - AC'!B12=\"\",\"\",'Age - AC'!B12)","v":""},{"$f":"IF('Age - AC'!C12=\"\",\"\",'Age - AC'!C12)","v":""},{"$f":"IF('Age - AC'!D12=\"\",\"\",'Age - AC'!D12)","v":""},{"$f":"IF('Age - AC'!E12=\"\",\"\",'Age - AC'!E12)","v":""},{"$f":"IF('Age - AC'!F12=\"\",\"\",'Age - AC'!F12)","v":""}]
[7,{"$f":"IF('Age - AC'!B13=\"\",\"\",'Age - AC'!B13)","v":""},{"$f":"IF('Age - AC'!C13=\"\",\"\",'Age - AC'!C13)","v":""},{"$f":"IF('Age - AC'!D13=\"\",\"\",'Age - AC'!D13)","v":""},{"$f":"IF('Age - AC'!E13=\"\",\"\",'Age - AC'!E13)","v":""},{"$f":"IF('Age - AC'!F13=\"\",\"\",'Age - AC'!F13)","v":""}]
[8,{"$f":"IF('Age - AC'!B14=\"\",\"\",'Age - AC'!B14)","v":""},{"$f":"IF('Age - AC'!C14=\"\",\"\",'Age - AC'!C14)","v":""},{"$f":"IF('Age - AC'!D14=\"\",\"\",'Age - AC'!D14)","v":""},{"$f":"IF('Age - AC'!E14=\"\",\"\",'Age - AC'!E14)","v":""},{"$f":"IF('Age - AC'!F14=\"\",\"\",'Age - AC'!F14)","v":""}]
[9,{"$f":"IF('Age - AC'!B15=\"\",\"\",'Age - AC'!B15)","v":""},{"$f":"IF('Age - AC'!C15=\"\",\"\",'Age - AC'!C15)","v":""},{"$f":"IF('Age - AC'!D15=\"\",\"\",'Age - AC'!D15)","v":""},{"$f":"IF('Age - AC'!E15=\"\",\"\",'Age - AC'!E15)","v":""},{"$f":"IF('Age - AC'!F15=\"\",\"\",'Age - AC'!F15)","v":""}]
[10,{"$f":"IF('Age - AC'!B16=\"\",\"\",'Age - AC'!B16)","v":""},{"$f":"IF('Age - AC'!C16=\"\",\"\",'Age - AC'!C16)","v":""},{"$f":"IF('Age - AC'!D16=\"\",\"\",'Age - AC'!D16)","v":""},{"$f":"IF('Age - AC'!E16=\"\",\"\",'Age - AC'!E16)","v":""},{"$f":"IF('Age - AC'!F16=\"\",\"\",'Age - AC'!F16)","v":""}]
[11,{"$f":"IF('Age - AC'!B17=\"\",\"\",'Age - AC'!B17)","v":""},{"$f":"IF('Age - AC'!C17=\"\",\"\",'Age - AC'!C17)","v":""},{"$f":"IF('Age - AC'!D17=\"\",\"\",'Age - AC'!D17)","v":""},{"$f":"IF('Age - AC'!E17=\"\",\"\",'Age - AC'!E17)","v":""},{"$f":"IF('Age - AC'!F17=\"\",\"\",'Age - AC'!F17)","v":""}]
[12,{"$f":"IF('Age - AC'!B18=\"\",\"\",'Age - AC'!B18)","v":""},{"$f":"IF('Age - AC'!C18=\"\",\"\",'Age - AC'!C18)","v":""},{"$f":"IF('Age - AC'!D18=\"\",\"\",'Age - AC'!D18)","v":""},{"$f":"IF('Age - AC'!E18=\"\",\"\",'Age - AC'!E18)","v":""},{"$f":"IF('Age - AC'!F18=\"\",\"\",'Age - AC'!F18)","v":""}]
[13,{"$f":"IF('Age - AC'!B19=\"\",\"\",'Age - AC'!B19)","v":""},{"$f":"IF('Age - AC'!C19=\"\",\"\",'Age - AC'!C19)","v":""},{"$f":"IF('Age - AC'!D19=\"\",\"\",'Age - AC'!D19)","v":""},{"$f":"IF('Age - AC'!E19=\"\",\"\",'Age - AC'!E19)","v":""},{"$f":"IF('Age - AC'!F19=\"\",\"\",'Age - AC'!F19)","v":""}]
[14,{"$f":"IF('Age - AC'!B20=\"\",\"\",'Age - AC'!B20)","v":""},{"$f":"IF('Age - AC'!C20=\"\",\"\",'Age - AC'!C20)","v":""},{"$f":"IF('Age - AC'!D20=\"\",\"\",'Age - AC'!D20)","v":""},{"$f":"IF('Age - AC'!E20=\"\",\"\",'Age - AC'!E20)","v":""},{"$f":"IF('Age - AC'!F20=\"\",\"\",'Age - AC'!F20)","v":""}]
[15,{"$f":"IF('Age - AC'!B21=\"\",\"\",'Age - AC'!B21)","v":""},{"$f":"IF('Age - AC'!C21=\"\",\"\",'Age - AC'!C21)","v":""},{"$f":"IF('Age - AC'!D21=\"\",\"\",'Age - AC'!D21)","v":""},{"$f":"IF('Age - AC'!E21=\"\",\"\",'Age - AC'!E21)","v":""},{"$f":"IF('Age - AC'!F21=\"\",\"\",'Age - AC'!F21)","v":""}]
[16,{"$f":"IF('Age - AC'!B22=\"\",\"\",'Age - AC'!B22)","v":""},{"$f":"IF('Age - AC'!C22=\"\",\"\",'Age - AC'!C22)","v":""},{"$f":"IF('Age - AC'!D22=\"\",\"\",'Age - AC'!D22)","v":""},{"$f":"IF('Age - AC'!E22=\"\",\"\",'Age - AC'!E22)","v":""},{"$f":"IF('Age - AC'!F22=\"\",\"\",'Age - AC'!F22)","v":""}]
[17,{"$f":"IF('Age - AC'!B23=\"\",\"\",'Age - AC'!B23)","v":""},{"$f":"IF('Age - AC'!C23=\"\",\"\",'Age - AC'!C23)","v":""},{"$f":"IF('Age - AC'!D23=\"\",\"\",'Age - AC'!D23)","v":""},{"$f":"IF('Age - AC'!E23=\"\",\"\",'Age - AC'!E23)","v":""},{"$f":"IF('Age - AC'!F23=\"\",\"\",'Age - AC'!F23)","v":""}]
[18,{"$f":"IF('Age - AC'!B24=\"\",\"\",'Age - AC'!B24)","v":""},{"$f":"IF('Age - AC'!C24=\"\",\"\",'Age - AC'!C24)","v":""},{"$f":"IF('Age - AC'!D24=\"\",\"\",'Age - AC'!D24)","v":""},{"$f":"IF('Age - AC'!E24=\"\",\"\",'Age - AC'!E24)","v":""},{"$f":"IF('Age - AC'!F24=\"\",\"\",'Age - AC'!F24)","v":""}]
[19,{"$f":"IF('Age - AC'!B25=\"\",\"\",'Age - AC'!B25)","v":""},{"$f":"IF('Age - AC'!C25=\"\",\"\",'Age - AC'!C25)","v":""},{"$f":"IF('Age - AC'!D25=\"\",\"\",'Age - AC'!D25)","v":""},{"$f":"IF('Age - AC'!E25=\"\",\"\",'Age - AC'!E25)","v":""},{"$f":"IF('Age - AC'!F25=\"\",\"\",'Age - AC'!F25)","v":""}]
[20,{"$f":"IF('Age - AC'!B26=\"\",\"\",'Age - AC'!B26)","v":""},{"$f":"IF('Age - AC'!C26=\"\",\"\",'Age - AC'!C26)","v":""},{"$f":"IF('Age - AC'!D26=\"\",\"\",'Age - AC'!D26)","v":""},{"$f":"IF('Age - AC'!E26=\"\",\"\",'Age - AC'!E26)","v":""},{"$f":"IF('Age - AC'!F26=\"\",\"\",'Age - AC'!F26)","v":""}]
[21,{"$f":"IF('Age - AC'!B27=\"\",\"\",'Age - AC'!B27)","v":""},{"$f":"IF('Age - AC'!C27=\"\",\"\",'Age - AC'!C27)","v":""},{"$f":"IF('Age - AC'!D27=\"\",\"\",'Age - AC'!D27)","v":""},{"$f":"IF('Age - AC'!E27=\"\",\"\",'Age - AC'!E27)","v":""},{"$f":"IF('Age - AC'!F27=\"\",\"\",'Age - AC'!F27)","v":""}]
[22,{"$f":"IF('Age - AC'!B28=\"\",\"\",'Age - AC'!B28)","v":""},{"$f":"IF('Age - AC'!C28=\"\",\"\",'Age - AC'!C28)","v":""},{"$f":"IF('Age - AC'!D28=\"\",\"\",'Age - AC'!D28)","v":""},{"$f":"IF('Age - AC'!E28=\"\",\"\",'Age - AC'!E28)","v":""},{"$f":"IF('Age - AC'!F28=\"\",\"\",'Age - AC'!F28)","v":""}]
[23,{"$f":"IF('Age - AC'!B29=\"\",\"\",'Age - AC'!B29)","v":""},{"$f":"IF('Age - AC'!C29=\"\",\"\",'Age - AC'!C29)","v":""},{"$f":"IF('Age - AC'!D29=\"\",\"\",'Age - AC'!D29)","v":""},{"$f":"IF('Age - AC'!E29=\"\",\"\",'Age - AC'!E29)","v":""},{"$f":"IF('Age - AC'!F29=\"\",\"\",'Age - AC'!F29)","v":""}]
[24,{"$f":"IF('Age - AC'!B30=\"\",\"\",'Age - AC'!B30)","v":""},{"$f":"IF('Age - AC'!C30=\"\",\"\",'Age - AC'!C30)","v":""},{"$f":"IF('Age - AC'!D30=\"\",\"\",'Age - AC'!D30)","v":""},{"$f":"IF('Age - AC'!E30=\"\",\"\",'Age - AC'!E30)","v":""},{"$f":"IF('Age - AC'!F30=\"\",\"\",'Age - AC'!F30)","v":""}]
[25,{"$f":"IF('Age - AC'!B31=\"\",\"\",'Age - AC'!B31)","v":""},{"$f":"IF('Age - AC'!C31=\"\",\"\",'Age - AC'!C31)","v":""},{"$f":"IF('Age - AC'!D31=\"\",\"\",'Age - AC'!D31)","v":""},{"$f":"IF('Age - AC'!E31=\"\",\"\",'Age - AC'!E31)","v":""},{"$f":"IF('Age - AC'!F31=\"\",\"\",'Age - AC'!F31)","v":""}]
[26,{"$f":"IF('Age - AC'!B32=\"\",\"\",'Age - AC'!B32)","v":""},{"$f":"IF('Age - AC'!C32=\"\",\"\",'Age - AC'!C32)","v":""},{"$f":"IF('Age - AC'!D32=\"\",\"\",'Age - AC'!D32)","v":""},{"$f":"IF('Age - AC'!E32=\"\",\"\",'Age - AC'!E32)","v":""},{"$f":"IF('Age - AC'!F32=\"\",\"\",'Age - AC'!F32)","v":""}]
[27,{"$f":"IF('Age - AC'!B33=\"\",\"\",'Age - AC'!B33)","v":""},{"$f":"IF('Age - AC'!C33=\"\",\"\",'Age - AC'!C33)","v":""},{"$f":"IF('Age - AC'!D33=\"\",\"\",'Age - AC'!D33)","v":""},{"$f":"IF('Age - AC'!E33=\"\",\"\",'Age - AC'!E33)","v":""},{"$f":"IF('Age - AC'!F33=\"\",\"\",'Age - AC'!F33)","v":""}]
[28,{"$f":"IF('Age - AC'!B34=\"\",\"\",'Age - AC'!B34)","v":""},{"$f":"IF('Age - AC'!C34=\"\",\"\",'Age - AC'!C34)","v":""},{"$f":"IF('Age - AC'!D34=\"\",\"\",'Age - AC'!D34)","v":""},{"$f":"IF('Age - AC'!E34=\"\",\"\",'Age - AC'!E34)","v":""},{"$f":"IF('Age - AC'!F34=\"\",\"\",'Age - AC'!F34)","v":""}]
[29,{"$f":"IF('Age - AC'!B35=\"\",\"\",'Age - AC'!B35)","v":""},{"$f":"IF('Age - AC'!C35=\"\",\"\",'Age - AC'!C35)","v":""},{"$f":"IF('Age - AC'!D35=\"\",\"\",'Age - AC'!D35)","v":""},{"$f":"IF('Age - AC'!E35=\"\",\"\",'Age - AC'!E35)","v":""},{"$f":"IF('Age - AC'!F35=\"\",\"\",'Age - AC'!F35)","v":""}]
[30,{"$f":"IF('Age - AC'!B36=\"\",\"\",'Age - AC'!B36)","v":""},{"$f":"IF('Age - AC'!C36=\"\",\"\",'Age - AC'!C36)","v":""},{"$f":"IF('Age - AC'!D36=\"\",\"\",'Age - AC'!D36)","v":""},{"$f":"IF('Age - AC'!E36=\"\",\"\",'Age - AC'!E36)","v":""},{"$f":"IF('Age - AC'!F36=\"\",\"\",'Age - AC'!F36)","v":""}]
[31,{"$f":"IF('Age - AC'!B37=\"\",\"\",'Age - AC'!B37)","v":""},{"$f":"IF('Age - AC'!C37=\"\",\"\",'Age - AC'!C37)","v":""},{"$f":"IF('Age - AC'!D37=\"\",\"\",'Age - AC'!D37)","v":""},{"$f":"IF('Age - AC'!E37=\"\",\"\",'Age - AC'!E37)","v":""},{"$f":"IF('Age - AC'!F37=\"\",\"\",'Age - AC'!F37)","v":""}]
[32,{"$f":"IF('Age - AC'!B38=\"\",\"\",'Age - AC'!B38)","v":""},{"$f":"IF('Age - AC'!C38=\"\",\"\",'Age - AC'!C38)","v":""},{"$f":"IF('Age - AC'!D38=\"\",\"\",'Age - AC'!D38)","v":""},{"$f":"IF('Age - AC'!E38=\"\",\"\",'Age - AC'!E38)","v":""},{"$f":"IF('Age - AC'!F38=\"\",\"\",'Age - AC'!F38)","v":""}]
[33,{"$f":"IF('Age - AC'!B39=\"\",\"\",'Age - AC'!B39)","v":""},{"$f":"IF('Age - AC'!C39=\"\",\"\",'Age - AC'!C39)","v":""},{"$f":"IF('Age - AC'!D39=\"\",\"\",'Age - AC'!D39)","v":""},{"$f":"IF('Age - AC'!E39=\"\",\"\",'Age - AC'!E39)","v":""},{"$f":"IF('Age - AC'!F39=\"\",\"\",'Age - AC'!F39)","v":""}]
[34,{"$f":"IF('Age - AC'!B40=\"\",\"\",'Age - AC'!B40)","v":""},{"$f":"IF('Age - AC'!C40=\"\",\"\",'Age - AC'!C40)","v":""},{"$f":"IF('Age - AC'!D40=\"\",\"\",'Age - AC'!D40)","v":""},{"$f":"IF('Age - AC'!E40=\"\",\"\",'Age - AC'!E40)","v":""},{"$f":"IF('Age - AC'!F40=\"\",\"\",'Age - AC'!F40)","v":""}]
[35,{"$f":"IF('Age - AC'!B41=\"\",\"\",'Age - AC'!B41)","v":""},{"$f":"IF('Age - AC'!C41=\"\",\"\",'Age - AC'!C41)","v":""},{"$f":"IF('Age - AC'!D41=\"\",\"\",'Age - AC'!D41)","v":""},{"$f":"IF('Age - AC'!E41=\"\",\"\",'Age - AC'!E41)","v":""},{"$f":"IF('Age - AC'!F41=\"\",\"\",'Age - AC'!F41)","v":""}]
[36,{"$f":"IF('Age - AC'!B42=\"\",\"\",'Age - AC'!B42)","v":""},{"$f":"IF('Age - AC'!C42=\"\",\"\",'Age - AC'!C42)","v":""},{"$f":"IF('Age - AC'!D42=\"\",\"\",'Age - AC'!D42)","v":""},{"$f":"IF('Age - AC'!E42=\"\",\"\",'Age - AC'!E42)","v":""},{"$f":"IF('Age - AC'!F42=\"\",\"\",'Age - AC'!F42)","v":""}]
[37,{"$f":"IF('Age - AC'!B43=\"\",\"\",'Age - AC'!B43)","v":""},{"$f":"IF('Age - AC'!C43=\"\",\"\",'Age - AC'!C43)","v":""},{"$f":"IF('Age - AC'!D43=\"\",\"\",'Age - AC'!D43)","v":""},{"$f":"IF('Age - AC'!E43=\"\",\"\",'Age - AC'!E43)","v":""},{"$f":"IF('Age - AC'!F43=\"\",\"\",'Age - AC'!F43)","v":""}]
[38,{"$f":"IF('Age - AC'!B44=\"\",\"\",'Age - AC'!B44)","v":""},{"$f":"IF('Age - AC'!C44=\"\",\"\",'Age - AC'!C44)","v":""},{"$f":"IF('Age - AC'!D44=\"\",\"\",'Age - AC'!D44)","v":""},{"$f":"IF('Age - AC'!E44=\"\",\"\",'Age - AC'!E44)","v":""},{"$f":"IF('Age - AC'!F44=\"\",\"\",'Age - AC'!F44)","v":""}]
[39,{"$f":"IF('Age - AC'!B45=\"\",\"\",'Age - AC'!B45)","v":""},{"$f":"IF('Age - AC'!C45=\"\",\"\",'Age - AC'!C45)","v":""},{"$f":"IF('Age - AC'!D45=\"\",\"\",'Age - AC'!D45)","v":""},{"$f":"IF('Age - AC'!E45=\"\",\"\",'Age - AC'!E45)","v":""},{"$f":"IF('Age - AC'!F45=\"\",\"\",'Age - AC'!F45)","v":""}]
[40,{"$f":"IF('Age - AC'!B46=\"\",\"\",'Age - AC'!B46)","v":""},{"$f":"IF('Age - AC'!C46=\"\",\"\",'Age - AC'!C46)","v":""},{"$f":"IF('Age - AC'!D46=\"\",\"\",'Age - AC'!D46)","v":""},{"$f":"IF('Age - AC'!E46=\"\",\"\",'Age - AC'!E46)","v":""},{"$f":"IF('Age - AC'!F46=\"\",\"\",'Age - AC'!F46)","v":""}]
[41,{"$f":"IF('Age - AC'!B47=\"\",\"\",'Age - AC'!B47)","v":""},{"$f":"IF('Age - AC'!C47=\"\",\"\",'Age - AC'!C47)","v":""},{"$f":"IF('Age - AC'!D47=\"\",\"\",'Age - AC'!D47)","v":""},{"$f":"IF('Age - AC'!E47=\"\",\"\",'Age - AC'!E47)","v":""},{"$f":"IF('Age - AC'!F47=\"\",\"\",'Age - AC'!F47)","v":""}]
[42,{"$f":"IF('Age - AC'!B48=\"\",\"\",'Age - AC'!B48)","v":""},{"$f":"IF('Age - AC'!C48=\"\",\"\",'Age - AC'!C48)","v":""},{"$f":"IF('Age - AC'!D48=\"\",\"\",'Age - AC'!D48)","v":""},{"$f":"IF('Age - AC'!E48=\"\",\"\",'Age - AC'!E48)","v":""},{"$f":"IF('Age - AC'!F48=\"\",\"\",'Age - AC'!F48)","v":""}]
[43,{"$f":"IF('Age - AC'!B49=\"\",\"\",'Age - AC'!B49)","v":""},{"$f":"IF('Age - AC'!C49=\"\",\"\",'Age - AC'!C49)","v":""},{"$f":"IF('Age - AC'!D49=\"\",\"\",'Age - AC'!D49)","v":""},{"$f":"IF('Age - AC'!E49=\"\",\"\",'Age - AC'!E49)","v":""},{"$f":"IF('Age - AC'!F49=\"\",\"\",'Age - AC'!F49)","v":""}]
[44,{"$f":"IF('Age - AC'!B50=\"\",\"\",'Age - AC'!B50)","v":""},{"$f":"IF('Age - AC'!C50=\"\",\"\",'Age - AC'!C50)","v":""},{"$f":"IF('Age - AC'!D50=\"\",\"\",'Age - AC'!D50)","v":""},{"$f":"IF('Age - AC'!E50=\"\",\"\",'Age - AC'!E50)","v":""},{"$f":"IF('Age - AC'!F50=\"\",\"\",'Age - AC'!F50)","v":""}]
[45,{"$f":"IF('Age - AC'!B51=\"\",\"\",'Age - AC'!B51)","v":""},{"$f":"IF('Age - AC'!C51=\"\",\"\",'Age - AC'!C51)","v":""},{"$f":"IF('Age - AC'!D51=\"\",\"\",'Age - AC'!D51)","v":""},{"$f":"IF('Age - AC'!E51=\"\",\"\",'Age - AC'!E51)","v":""},{"$f":"IF('Age - AC'!F51=\"\",\"\",'Age - AC'!F51)","v":""}]
[46,{"$f":"IF('Age - AC'!B52=\"\",\"\",'Age - AC'!B52)","v":""},{"$f":"IF('Age - AC'!C52=\"\",\"\",'Age - AC'!C52)","v":""},{"$f":"IF('Age - AC'!D52=\"\",\"\",'Age - AC'!D52)","v":""},{"$f":"IF('Age - AC'!E52=\"\",\"\",'Age - AC'!E52)","v":""},{"$f":"IF('Age - AC'!F52=\"\",\"\",'Age - AC'!F52)","v":""}]
[47,{"$f":"IF('Age - AC'!B53=\"\",\"\",'Age - AC'!B53)","v":""},{"$f":"IF('Age - AC'!C53=\"\",\"\",'Age - AC'!C53)","v":""},{"$f":"IF('Age - AC'!D53=\"\",\"\",'Age - AC'!D53)","v":""},{"$f":"IF('Age - AC'!E53=\"\",\"\",'Age - AC'!E53)","v":""},{"$f":"IF('Age - AC'!F53=\"\",\"\",'Age - AC'!F53)","v":""}]
[48,{"$f":"IF('Age - AC'!B54=\"\",\"\",'Age - AC'!B54)","v":""},{"$f":"IF('Age - AC'!C54=\"\",\"\",'Age - AC'!C54)","v":""},{"$f":"IF('Age - AC'!D54=\"\",\"\",'Age - AC'!D54)","v":""},{"$f":"IF('Age - AC'!E54=\"\",\"\",'Age - AC'!E54)","v":""},{"$f":"IF('Age - AC'!F54=\"\",\"\",'Age - AC'!F54)","v":""}]
[49,{"$f":"IF('Age - AC'!B55=\"\",\"\",'Age - AC'!B55)","v":""},{"$f":"IF('Age - AC'!C55=\"\",\"\",'Age - AC'!C55)","v":""},{"$f":"IF('Age - AC'!D55=\"\",\"\",'Age - AC'!D55)","v":""},{"$f":"IF('Age - AC'!E55=\"\",\"\",'Age - AC'!E55)","v":""},{"$f":"IF('Age - AC'!F55=\"\",\"\",'Age - AC'!F55)","v":""}]
[50,{"$f":"IF('Age - AC'!B56=\"\",\"\",'Age - AC'!B56)","v":""},{"$f":"IF('Age - AC'!C56=\"\",\"\",'Age - AC'!C56)","v":""},{"$f":"IF('Age - AC'!D56=\"\",\"\",'Age - AC'!D56)","v":""},{"$f":"IF('Age - AC'!E56=\"\",\"\",'Age - AC'!E56)","v":""},{"$f":"IF('Age - AC'!F56=\"\",\"\",'Age - AC'!F56)","v":""}]
[51,{"$f":"IF('Age - AC'!B57=\"\",\"\",'Age - AC'!B57)","v":""},{"$f":"IF('Age - AC'!C57=\"\",\"\",'Age - AC'!C57)","v":""},{"$f":"IF('Age - AC'!D57=\"\",\"\",'Age - AC'!D57)","v":""},{"$f":"IF('Age - AC'!E57=\"\",\"\",'Age - AC'!E57)","v":""},{"$f":"IF('Age - AC'!F57=\"\",\"\",'Age - AC'!F57)","v":""}]
[52,{"$f":"IF('Age - AC'!B58=\"\",\"\",'Age - AC'!B58)","v":""},{"$f":"IF('Age - AC'!C58=\"\",\"\",'Age - AC'!C58)","v":""},{"$f":"IF('Age - AC'!D58=\"\",\"\",'Age - AC'!D58)","v":""},{"$f":"IF('Age - AC'!E58=\"\",\"\",'Age - AC'!E58)","v":""},{"$f":"IF('Age - AC'!F58=\"\",\"\",'Age - AC'!F58)","v":""}]
[53,{"$f":"IF('Age - AC'!B59=\"\",\"\",'Age - AC'!B59)","v":""},{"$f":"IF('Age - AC'!C59=\"\",\"\",'Age - AC'!C59)","v":""},{"$f":"IF('Age - AC'!D59=\"\",\"\",'Age - AC'!D59)","v":""},{"$f":"IF('Age - AC'!E59=\"\",\"\",'Age - AC'!E59)","v":""},{"$f":"IF('Age - AC'!F59=\"\",\"\",'Age - AC'!F59)","v":""}]
[54,{"$f":"IF('Age - AC'!B60=\"\",\"\",'Age - AC'!B60)","v":""},{"$f":"IF('Age - AC'!C60=\"\",\"\",'Age - AC'!C60)","v":""},{"$f":"IF('Age - AC'!D60=\"\",\"\",'Age - AC'!D60)","v":""},{"$f":"IF('Age - AC'!E60=\"\",\"\",'Age - AC'!E60)","v":""},{"$f":"IF('Age - AC'!F60=\"\",\"\",'Age - AC'!F60)","v":""}]
[55,{"$f":"IF('Age - AC'!B61=\"\",\"\",'Age - AC'!B61)","v":""},{"$f":"IF('Age - AC'!C61=\"\",\"\",'Age - AC'!C61)","v":""},{"$f":"IF('Age - AC'!D61=\"\",\"\",'Age - AC'!D61)","v":""},{"$f":"IF('Age - AC'!E61=\"\",\"\",'Age - AC'!E61)","v":""},{"$f":"IF('Age - AC'!F61=\"\",\"\",'Age - AC'!F61)","v":""}]
[56,{"$f":"IF('Age - AC'!B62=\"\",\"\",'Age - AC'!B62)","v":""},{"$f":"IF('Age - AC'!C62=\"\",\"\",'Age - AC'!C62)","v":""},{"$f":"IF('Age - AC'!D62=\"\",\"\",'Age - AC'!D62)","v":""},{"$f":"IF('Age - AC'!E62=\"\",\"\",'Age - AC'!E62)","v":""},{"$f":"IF('Age - AC'!F62=\"\",\"\",'Age - AC'!F62)","v":""}]
[57,{"$f":"IF('Age - AC'!B63=\"\",\"\",'Age - AC'!B63)","v":""},{"$f":"IF('Age - AC'!C63=\"\",\"\",'Age - AC'!C63)","v":""},{"$f":"IF('Age - AC'!D63=\"\",\"\",'Age - AC'!D63)","v":""},{"$f":"IF('Age - AC'!E63=\"\",\"\",'Age - AC'!E63)","v":""},{"$f":"IF('Age - AC'!F63=\"\",\"\",'Age - AC'!F63)","v":""}]
[58,{"$f":"IF('Age - AC'!B64=\"\",\"\",'Age - AC'!B64)","v":""},{"$f":"IF('Age - AC'!C64=\"\",\"\",'Age - AC'!C64)","v":""},{"$f":"IF('Age - AC'!D64=\"\",\"\",'Age - AC'!D64)","v":""},{"$f":"IF('Age - AC'!E64=\"\",\"\",'Age - AC'!E64)","v":""},{"$f":"IF('Age - AC'!F64=\"\",\"\",'Age - AC'!F64)","v":""}]
[59,{"$f":"IF('Age - AC'!B65=\"\",\"\",'Age - AC'!B65)","v":""},{"$f":"IF('Age - AC'!C65=\"\",\"\",'Age - AC'!C65)","v":""},{"$f":"IF('Age - AC'!D65=\"\",\"\",'Age - AC'!D65)","v":""},{"$f":"IF('Age - AC'!E65=\"\",\"\",'Age - AC'!E65)","v":""},{"$f":"IF('Age - AC'!F65=\"\",\"\",'Age - AC'!F65)","v":""}]
[60,{"$f":"IF('Age - AC'!B66=\"\",\"\",'Age - AC'!B66)","v":""},{"$f":"IF('Age - AC'!C66=\"\",\"\",'Age - AC'!C66)","v":""},{"$f":"IF('Age - AC'!D66=\"\",\"\",'Age - AC'!D66)","v":""},{"$f":"IF('Age - AC'!E66=\"\",\"\",'Age - AC'!E66)","v":""},{"$f":"IF('Age - AC'!F66=\"\",\"\",'Age - AC'!F66)","v":""}]
[61,{"$f":"IF('Age - AC'!B67=\"\",\"\",'Age - AC'!B67)","v":""},{"$f":"IF('Age - AC'!C67=\"\",\"\",'Age - AC'!C67)","v":""},{"$f":"IF('Age - AC'!D67=\"\",\"\",'Age - AC'!D67)","v":""},{"$f":"IF('Age - AC'!E67=\"\",\"\",'Age - AC'!E67)","v":""},{"$f":"IF('Age - AC'!F67=\"\",\"\",'Age - AC'!F67)","v":""}]
[62,{"$f":"IF('Age - AC'!B68=\"\",\"\",'Age - AC'!B68)","v":""},{"$f":"IF('Age - AC'!C68=\"\",\"\",'Age - AC'!C68)","v":""},{"$f":"IF('Age - AC'!D68=\"\",\"\",'Age - AC'!D68)","v":""},{"$f":"IF('Age - AC'!E68=\"\",\"\",'Age - AC'!E68)","v":""},{"$f":"IF('Age - AC'!F68=\"\",\"\",'Age - AC'!F68)","v":""}]
[63,{"$f":"IF('Age - AC'!B69=\"\",\"\",'Age - AC'!B69)","v":""},{"$f":"IF('Age - AC'!C69=\"\",\"\",'Age - AC'!C69)","v":""},{"$f":"IF('Age - AC'!D69=\"\",\"\",'Age - AC'!D69)","v":""},{"$f":"IF('Age - AC'!E69=\"\",\"\",'Age - AC'!E69)","v":""},{"$f":"IF('Age - AC'!F69=\"\",\"\",'Age - AC'!F69)","v":""}]
[64,{"$f":"IF('Age - AC'!B70=\"\",\"\",'Age - AC'!B70)","v":""},{"$f":"IF('Age - AC'!C70=\"\",\"\",'Age - AC'!C70)","v":""},{"$f":"IF('Age - AC'!D70=\"\",\"\",'Age - AC'!D70)","v":""},{"$f":"IF('Age - AC'!E70=\"\",\"\",'Age - AC'!E70)","v":""},{"$f":"IF('Age - AC'!F70=\"\",\"\",'Age - AC'!F70)","v":""}]
[65,{"$f":"IF('Age - AC'!B71=\"\",\"\",'Age - AC'!B71)","v":""},{"$f":"IF('Age - AC'!C71=\"\",\"\",'Age - AC'!C71)","v":""},{"$f":"IF('Age - AC'!D71=\"\",\"\",'Age - AC'!D71)","v":""},{"$f":"IF('Age - AC'!E71=\"\",\"\",'Age - AC'!E71)","v":""},{"$f":"IF('Age - AC'!F71=\"\",\"\",'Age - AC'!F71)","v":""}]
[66,{"$f":"IF('Age - AC'!B72=\"\",\"\",'Age - AC'!B72)","v":""},{"$f":"IF('Age - AC'!C72=\"\",\"\",'Age - AC'!C72)","v":""},{"$f":"IF('Age - AC'!D72=\"\",\"\",'Age - AC'!D72)","v":""},{"$f":"IF('Age - AC'!E72=\"\",\"\",'Age - AC'!E72)","v":""},{"$f":"IF('Age - AC'!F72=\"\",\"\",'Age - AC'!F72)","v":""}]
[67,{"$f":"IF('Age - AC'!B73=\"\",\"\",'Age - AC'!B73)","v":""},{"$f":"IF('Age - AC'!C73=\"\",\"\",'Age - AC'!C73)","v":""},{"$f":"IF('Age - AC'!D73=\"\",\"\",'Age - AC'!D73)","v":""},{"$f":"IF('Age - AC'!E73=\"\",\"\",'Age - AC'!E73)","v":""},{"$f":"IF('Age - AC'!F73=\"\",\"\",'Age - AC'!F73)","v":""}]
[68,{"$f":"IF('Age - AC'!B74=\"\",\"\",'Age - AC'!B74)","v":""},{"$f":"IF('Age - AC'!C74=\"\",\"\",'Age - AC'!C74)","v":""},{"$f":"IF('Age - AC'!D74=\"\",\"\",'Age - AC'!D74)","v":""},{"$f":"IF('Age - AC'!E74=\"\",\"\",'Age - AC'!E74)","v":""},{"$f":"IF('Age - AC'!F74=\"\",\"\",'Age - AC'!F74)","v":""}]
[69,{"$f":"IF('Age - AC'!B75=\"\",\"\",'Age - AC'!B75)","v":""},{"$f":"IF('Age - AC'!C75=\"\",\"\",'Age - AC'!C75)","v":""},{"$f":"IF('Age - AC'!D75=\"\",\"\",'Age - AC'!D75)","v":""},{"$f":"IF('Age - AC'!E75=\"\",\"\",'Age - AC'!E75)","v":""},{"$f":"IF('Age - AC'!F75=\"\",\"\",'Age - AC'!F75)","v":""}]
[70,{"$f":"IF('Age - AC'!B76=\"\",\"\",'Age - AC'!B76)","v":""},{"$f":"IF('Age - AC'!C76=\"\",\"\",'Age - AC'!C76)","v":""},{"$f":"IF('Age - AC'!D76=\"\",\"\",'Age - AC'!D76)","v":""},{"$f":"IF('Age - AC'!E76=\"\",\"\",'Age - AC'!E76)","v":""},{"$f":"IF('Age - AC'!F76=\"\",\"\",'Age - AC'!F76)","v":""}]
[71,{"$f":"IF('Age - AC'!B77=\"\",\"\",'Age - AC'!B77)","v":""},{"$f":"IF('Age - AC'!C77=\"\",\"\",'Age - AC'!C77)","v":""},{"$f":"IF('Age - AC'!D77=\"\",\"\",'Age - AC'!D77)","v":""},{"$f":"IF('Age - AC'!E77=\"\",\"\",'Age - AC'!E77)","v":""},{"$f":"IF('Age - AC'!F77=\"\",\"\",'Age - AC'!F77)","v":""}]
[72,{"$f":"IF('Age - AC'!B78=\"\",\"\",'Age - AC'!B78)","v":""},{"$f":"IF('Age - AC'!C78=\"\",\"\",'Age - AC'!C78)","v":""},{"$f":"IF('Age - AC'!D78=\"\",\"\",'Age - AC'!D78)","v":""},{"$f":"IF('Age - AC'!E78=\"\",\"\",'Age - AC'!E78)","v":""},{"$f":"IF('Age - AC'!F78=\"\",\"\",'Age - AC'!F78)","v":""}]
[73,{"$f":"IF('Age - AC'!B79=\"\",\"\",'Age - AC'!B79)","v":""},{"$f":"IF('Age - AC'!C79=\"\",\"\",'Age - AC'!C79)","v":""},{"$f":"IF('Age - AC'!D79=\"\",\"\",'Age - AC'!D79)","v":""},{"$f":"IF('Age - AC'!E79=\"\",\"\",'Age - AC'!E79)","v":""},{"$f":"IF('Age - AC'!F79=\"\",\"\",'Age - AC'!F79)","v":""}]
[74,{"$f":"IF('Age - AC'!B80=\"\",\"\",'Age - AC'!B80)","v":""},{"$f":"IF('Age - AC'!C80=\"\",\"\",'Age - AC'!C80)","v":""},{"$f":"IF('Age - AC'!D80=\"\",\"\",'Age - AC'!D80)","v":""},{"$f":"IF('Age - AC'!E80=\"\",\"\",'Age - AC'!E80)","v":""},{"$f":"IF('Age - AC'!F80=\"\",\"\",'Age - AC'!F80)","v":""}]
[75,{"$f":"IF('Age - AC'!B81=\"\",\"\",'Age - AC'!B81)","v":""},{"$f":"IF('Age - AC'!C81=\"\",\"\",'Age - AC'!C81)","v":""},{"$f":"IF('Age - AC'!D81=\"\",\"\",'Age - AC'!D81)","v":""},{"$f":"IF('Age - AC'!E81=\"\",\"\",'Age - AC'!E81)","v":""},{"$f":"IF('Age - AC'!F81=\"\",\"\",'Age - AC'!F81)","v":""}]
[76,{"$f":"IF('Age - AC'!B82=\"\",\"\",'Age - AC'!B82)","v":""},{"$f":"IF('Age - AC'!C82=\"\",\"\",'Age - AC'!C82)","v":""},{"$f":"IF('Age - AC'!D82=\"\",\"\",'Age - AC'!D82)","v":""},{"$f":"IF('Age - AC'!E82=\"\",\"\",'Age - AC'!E82)","v":""},{"$f":"IF('Age - AC'!F82=\"\",\"\",'Age - AC'!F82)","v":""}]
[77,{"$f":"IF('Age - AC'!B83=\"\",\"\",'Age - AC'!B83)","v":""},{"$f":"IF('Age - AC'!C83=\"\",\"\",'Age - AC'!C83)","v":""},{"$f":"IF('Age - AC'!D83=\"\",\"\",'Age - AC'!D83)","v":""},{"$f":"IF('Age - AC'!E83=\"\",\"\",'Age - AC'!E83)","v":""},{"$f":"IF('Age - AC'!F83=\"\",\"\",'Age - AC'!F83)","v":""}]
[78,{"$f":"IF('Age - AC'!B84=\"\",\"\",'Age - AC'!B84)","v":""},{"$f":"IF('Age - AC'!C84=\"\",\"\",'Age - AC'!C84)","v":""},{"$f":"IF('Age - AC'!D84=\"\",\"\",'Age - AC'!D84)","v":""},{"$f":"IF('Age - AC'!E84=\"\",\"\",'Age - AC'!E84)","v":""},{"$f":"IF('Age - AC'!F84=\"\",\"\",'Age - AC'!F84)","v":""}]
[79,{"$f":"IF('Age - AC'!B85=\"\",\"\",'Age - AC'!B85)","v":""},{"$f":"IF('Age - AC'!C85=\"\",\"\",'Age - AC'!C85)","v":""},{"$f":"IF('Age - AC'!D85=\"\",\"\",'Age - AC'!D85)","v":""},{"$f":"IF('Age - AC'!E85=\"\",\"\",'Age - AC'!E85)","v":""},{"$f":"IF('Age - AC'!F85=\"\",\"\",'Age - AC'!F85)","v":""}]
[80,{"$f":"IF('Age - AC'!B86=\"\",\"\",'Age - AC'!B86)","v":""},{"$f":"IF('Age - AC'!C86=\"\",\"\",'Age - AC'!C86)","v":""},{"$f":"IF('Age - AC'!D86=\"\",\"\",'Age - AC'!D86)","v":""},{"$f":"IF('Age - AC'!E86=\"\",\"\",'Age - AC'!E86)","v":""},{"$f":"IF('Age - AC'!F86=\"\",\"\",'Age - AC'!F86)","v":""}]
[81,{"$f":"IF('Age - AC'!B87=\"\",\"\",'Age - AC'!B87)","v":""},{"$f":"IF('Age - AC'!C87=\"\",\"\",'Age - AC'!C87)","v":""},{"$f":"IF('Age - AC'!D87=\"\",\"\",'Age - AC'!D87)","v":""},{"$f":"IF('Age - AC'!E87=\"\",\"\",'Age - AC'!E87)","v":""},{"$f":"IF('Age - AC'!F87=\"\",\"\",'Age - AC'!F87)","v":""}]
[82,{"$f":"IF('Age - AC'!B88=\"\",\"\",'Age - AC'!B88)","v":""},{"$f":"IF('Age - AC'!C88=\"\",\"\",'Age - AC'!C88)","v":""},{"$f":"IF('Age - AC'!D88=\"\",\"\",'Age - AC'!D88)","v":""},{"$f":"IF('Age - AC'!E88=\"\",\"\",'Age - AC'!E88)","v":""},{"$f":"IF('Age - AC'!F88=\"\",\"\",'Age - AC'!F88)","v":""}]
[83,{"$f":"IF('Age - AC'!B89=\"\",\"\",'Age - AC'!B89)","v":""},{"$f":"IF('Age - AC'!C89=\"\",\"\",'Age - AC'!C89)","v":""},{"$f":"IF('Age - AC'!D89=\"\",\"\",'Age - AC'!D89)","v":""},{"$f":"IF('Age - AC'!E89=\"\",\"\",'Age - AC'!E89)","v":""},{"$f":"IF('Age - AC'!F89=\"\",\"\",'Age - AC'!F89)","v":""}]
[84,{"$f":"IF('Age - AC'!B90=\"\",\"\",'Age - AC'!B90)","v":""},{"$f":"IF('Age - AC'!C90=\"\",\"\",'Age - AC'!C90)","v":""},{"$f":"IF('Age - AC'!D90=\"\",\"\",'Age - AC'!D90)","v":""},{"$f":"IF('Age - AC'!E90=\"\",\"\",'Age - AC'!E90)","v":""},{"$f":"IF('Age - AC'!F90=\"\",\"\",'Age - AC'!F90)","v":""}]
[85,{"$f":"IF('Age - AC'!B91=\"\",\"\",'Age - AC'!B91)","v":""},{"$f":"IF('Age - AC'!C91=\"\",\"\",'Age - AC'!C91)","v":""},{"$f":"IF('Age - AC'!D91=\"\",\"\",'Age - AC'!D91)","v":""},{"$f":"IF('Age - AC'!E91=\"\",\"\",'Age - AC'!E91)","v":""},{"$f":"IF('Age - AC'!F91=\"\",\"\",'Age - AC'!F91)","v":""}]
[86,{"$f":"IF('Age - AC'!B92=\"\",\"\",'Age - AC'!B92)","v":""},{"$f":"IF('Age - AC'!C92=\"\",\"\",'Age - AC'!C92)","v":""},{"$f":"IF('Age - AC'!D92=\"\",\"\",'Age - AC'!D92)","v":""},{"$f":"IF('Age - AC'!E92=\"\",\"\",'Age - AC'!E92)","v":""},{"$f":"IF('Age - AC'!F92=\"\",\"\",'Age - AC'!F92)","v":""}]
[87,{"$f":"IF('Age - AC'!B93=\"\",\"\",'Age - AC'!B93)","v":""},{"$f":"IF('Age - AC'!C93=\"\",\"\",'Age - AC'!C93)","v":""},{"$f":"IF('Age - AC'!D93=\"\",\"\",'Age - AC'!D93)","v":""},{"$f":"IF('Age - AC'!E93=\"\",\"\",'Age - AC'!E93)","v":""},{"$f":"IF('Age - AC'!F93=\"\",\"\",'Age - AC'!F93)","v":""}]
[88,{"$f":"IF('Age - AC'!B94=\"\",\"\",'Age - AC'!B94)","v":""},{"$f":"IF('Age - AC'!C94=\"\",\"\",'Age - AC'!C94)","v":""},{"$f":"IF('Age - AC'!D94=\"\",\"\",'Age - AC'!D94)","v":""},{"$f":"IF('Age - AC'!E94=\"\",\"\",'Age - AC'!E94)","v":""},{"$f":"IF('Age - AC'!F94=\"\",\"\",'Age - AC'!F94)","v":""}]
[89,{"$f":"IF('Age - AC'!B95=\"\",\"\",'Age - AC'!B95)","v":""},{"$f":"IF('Age - AC'!C95=\"\",\"\",'Age - AC'!C95)","v":""},{"$f":"IF('Age - AC'!D95=\"\",\"\",'Age - AC'!D95)","v":""},{"$f":"IF('Age - AC'!E95=\"\",\"\",'Age - AC'!E95)","v":""},{"$f":"IF('Age - AC'!F95=\"\",\"\",'Age - AC'!F95)","v":""}]
[90,{"$f":"IF('Age - AC'!B96=\"\",\"\",'Age - AC'!B96)","v":""},{"$f":"IF('Age - AC'!C96=\"\",\"\",'Age - AC'!C96)","v":""},{"$f":"IF('Age - AC'!D96=\"\",\"\",'Age - AC'!D96)","v":""},{"$f":"IF('Age - AC'!E96=\"\",\"\",'Age - AC'!E96)","v":""},{"$f":"IF('Age - AC'!F96=\"\",\"\",'Age - AC'!F96)","v":""}]
[91,{"$f":"IF('Age - AC'!B97=\"\",\"\",'Age - AC'!B97)","v":""},{"$f":"IF('Age - AC'!C97=\"\",\"\",'Age - AC'!C97)","v":""},{"$f":"IF('Age - AC'!D97=\"\",\"\",'Age - AC'!D97)","v":""},{"$f":"IF('Age - AC'!E97=\"\",\"\",'Age - AC'!E97)","v":""},{"$f":"IF('Age - AC'!F97=\"\",\"\",'Age - AC'!F97)","v":""}]
[92,{"$f":"IF('Age - AC'!B98=\"\",\"\",'Age - AC'!B98)","v":""},{"$f":"IF('Age - AC'!C98=\"\",\"\",'Age - AC'!C98)","v":""},{"$f":"IF('Age - AC'!D98=\"\",\"\",'Age - AC'!D98)","v":""},{"$f":"IF('Age - AC'!E98=\"\",\"\",'Age - AC'!E98)","v":""},{"$f":"IF('Age - AC'!F98=\"\",\"\",'Age - AC'!F98)","v":""}]
[93,{"$f":"IF('Age - AC'!B99=\"\",\"\",'Age - AC'!B99)","v":""},{"$f":"IF('Age - AC'!C99=\"\",\"\",'Age - AC'!C99)","v":""},{"$f":"IF('Age - AC'!D99=\"\",\"\",'Age - AC'!D99)","v":""},{"$f":"IF('Age - AC'!E99=\"\",\"\",'Age - AC'!E99)","v":""},{"$f":"IF('Age - AC'!F99=\"\",\"\",'Age - AC'!F99)","v":""}]
[94,{"$f":"IF('Age - AC'!B100=\"\",\"\",'Age - AC'!B100)","v":""},{"$f":"IF('Age - AC'!C100=\"\",\"\",'Age - AC'!C100)","v":""},{"$f":"IF('Age - AC'!D100=\"\",\"\",'Age - AC'!D100)","v":""},{"$f":"IF('Age - AC'!E100=\"\",\"\",'Age - AC'!E100)","v":""},{"$f":"IF('Age - AC'!F100=\"\",\"\",'Age - AC'!F100)","v":""}]
[95,{"$f":"IF('Age - AC'!B101=\"\",\"\",'Age - AC'!B101)","v":""},{"$f":"IF('Age - AC'!C101=\"\",\"\",'Age - AC'!C101)","v":""},{"$f":"IF('Age - AC'!D101=\"\",\"\",'Age - AC'!D101)","v":""},{"$f":"IF('Age - AC'!E101=\"\",\"\",'Age - AC'!E101)","v":""},{"$f":"IF('Age - AC'!F101=\"\",\"\",'Age - AC'!F101)","v":""}]
[96,{"$f":"IF('Age - AC'!B102=\"\",\"\",'Age - AC'!B102)","v":""},{"$f":"IF('Age - AC'!C102=\"\",\"\",'Age - AC'!C102)","v":""},{"$f":"IF('Age - AC'!D102=\"\",\"\",'Age - AC'!D102)","v":""},{"$f":"IF('Age - AC'!E102=\"\",\"\",'Age - AC'!E102)","v":""},{"$f":"IF('Age - AC'!F102=\"\",\"\",'Age - AC'!F102)","v":""}]
[97,{"$f":"IF('Age - AC'!B103=\"\",\"\",'Age - AC'!B103)","v":""},{"$f":"IF('Age - AC'!C103=\"\",\"\",'Age - AC'!C103)","v":""},{"$f":"IF('Age - AC'!D103=\"\",\"\",'Age - AC'!D103)","v":""},{"$f":"IF('Age - AC'!E103=\"\",\"\",'Age - AC'!E103)","v":""},{"$f":"IF('Age - AC'!F103=\"\",\"\",'Age - AC'!F103)","v":""}]
[98,{"$f":"IF('Age - AC'!B104=\"\",\"\",'Age - AC'!B104)","v":""},{"$f":"IF('Age - AC'!C104=\"\",\"\",'Age - AC'!C104)","v":""},{"$f":"IF('Age - AC'!D104=\"\",\"\",'Age - AC'!D104)","v":""},{"$f":"IF('Age - AC'!E104=\"\",\"\",'Age - AC'!E104)","v":""},{"$f":"IF('Age - AC'!F104=\"\",\"\",'Age - AC'!F104)","v":""}]
[99,{"$f":"IF('Age - AC'!B105=\"\",\"\",'Age - AC'!B105)","v":""},{"$f":"IF('Age - AC'!C105=\"\",\"\",'Age - AC'!C105)","v":""},{"$f":"IF('Age - AC'!D105=\"\",\"\",'Age - AC'!D105)","v":""},{"$f":"IF('Age - AC'!E105=\"\",\"\",'Age - AC'!E105)","v":""},{"$f":"IF('Age - AC'!F105=\"\",\"\",'Age - AC'!F105)","v":""}]
[100,{"$f":"IF('Age - AC'!B106=\"\",\"\",'Age - AC'!B106)","v":""},{"$f":"IF('Age - AC'!C106=\"\",\"\",'Age - AC'!C106)","v":""},{"$f":"IF('Age - AC'!D106=\"\",\"\",'Age - AC'!D106)","v":""},{"$f":"IF('Age - AC'!E106=\"\",\"\",'Age - AC'!E106)","v":""},{"$f":"IF('Age - AC'!F106=\"\",\"\",'Age - AC'!F106)","v":""}]
[101,{"$f":"IF('Age - AC'!B107=\"\",\"\",'Age - AC'!B107)","v":""},{"$f":"IF('Age - AC'!C107=\"\",\"\",'Age - AC'!C107)","v":""},{"$f":"IF('Age - AC'!D107=\"\",\"\",'Age - AC'!D107)","v":""},{"$f":"IF('Age - AC'!E107=\"\",\"\",'Age - AC'!E107)","v":""},{"$f":"IF('Age - AC'!F107=\"\",\"\",'Age - AC'!F107)","v":""}]
[102,{"$f":"IF('Age - AC'!B108=\"\",\"\",'Age - AC'!B108)","v":""},{"$f":"IF('Age - AC'!C108=\"\",\"\",'Age - AC'!C108)","v":""},{"$f":"IF('Age - AC'!D108=\"\",\"\",'Age - AC'!D108)","v":""},{"$f":"IF('Age - AC'!E108=\"\",\"\",'Age - AC'!E108)","v":""},{"$f":"IF('Age - AC'!F108=\"\",\"\",'Age - AC'!F108)","v":""}]
[103,{"$f":"IF('Age - AC'!B109=\"\",\"\",'Age - AC'!B109)","v":""},{"$f":"IF('Age - AC'!C109=\"\",\"\",'Age - AC'!C109)","v":""},{"$f":"IF('Age - AC'!D109=\"\",\"\",'Age - AC'!D109)","v":""},{"$f":"IF('Age - AC'!E109=\"\",\"\",'Age - AC'!E109)","v":""},{"$f":"IF('Age - AC'!F109=\"\",\"\",'Age - AC'!F109)","v":""}]
[104,{"$f":"IF('Age - AC'!B110=\"\",\"\",'Age - AC'!B110)","v":""},{"$f":"IF('Age - AC'!C110=\"\",\"\",'Age - AC'!C110)","v":""},{"$f":"IF('Age - AC'!D110=\"\",\"\",'Age - AC'!D110)","v":""},{"$f":"IF('Age - AC'!E110=\"\",\"\",'Age - AC'!E110)","v":""},{"$f":"IF('Age - AC'!F110=\"\",\"\",'Age - AC'!F110)","v":""}]
[105,{"$f":"IF('Age - AC'!B111=\"\",\"\",'Age - AC'!B111)","v":""},{"$f":"IF('Age - AC'!C111=\"\",\"\",'Age - AC'!C111)","v":""},{"$f":"IF('Age - AC'!D111=\"\",\"\",'Age - AC'!D111)","v":""},{"$f":"IF('Age - AC'!E111=\"\",\"\",'Age - AC'!E111)","v":""},{"$f":"IF('Age - AC'!F111=\"\",\"\",'Age - AC'!F111)","v":""}]
[106,{"$f":"IF('Age - AC'!B112=\"\",\"\",'Age - AC'!B112)","v":""},{"$f":"IF('Age - AC'!C112=\"\",\"\",'Age - AC'!C112)","v":""},{"$f":"IF('Age - AC'!D112=\"\",\"\",'Age - AC'!D112)","v":""},{"$f":"IF('Age - AC'!E112=\"\",\"\",'Age - AC'!E112)","v":""},{"$f":"IF('Age - AC'!F112=\"\",\"\",'Age - AC'!F112)","v":""}]
[107,{"$f":"IF('Age - AC'!B113=\"\",\"\",'Age - AC'!B113)","v":""},{"$f":"IF('Age - AC'!C113=\"\",\"\",'Age - AC'!C113)","v":""},{"$f":"IF('Age - AC'!D113=\"\",\"\",'Age - AC'!D113)","v":""},{"$f":"IF('Age - AC'!E113=\"\",\"\",'Age - AC'!E113)","v":""},{"$f":"IF('Age - AC'!F113=\"\",\"\",'Age - AC'!F113)","v":""}]
[108,{"$f":"IF('Age - AC'!B114=\"\",\"\",'Age - AC'!B114)","v":""},{"$f":"IF('Age - AC'!C114=\"\",\"\",'Age - AC'!C114)","v":""},{"$f":"IF('Age - AC'!D114=\"\",\"\",'Age - AC'!D114)","v":""},{"$f":"IF('Age - AC'!E114=\"\",\"\",'Age - AC'!E114)","v":""},{"$f":"IF('Age - AC'!F114=\"\",\"\",'Age - AC'!F114)","v":""}]
[109,{"$f":"IF('Age - AC'!B115=\"\",\"\",'Age - AC'!B115)","v":""},{"$f":"IF('Age - AC'!C115=\"\",\"\",'Age - AC'!C115)","v":""},{"$f":"IF('Age - AC'!D115=\"\",\"\",'Age - AC'!D115)","v":""},{"$f":"IF('Age - AC'!E115=\"\",\"\",'Age - AC'!E115)","v":""},{"$f":"IF('Age - AC'!F115=\"\",\"\",'Age - AC'!F115)","v":""}]
[110,{"$f":"IF('Age - AC'!B116=\"\",\"\",'Age - AC'!B116)","v":""},{"$f":"IF('Age - AC'!C116=\"\",\"\",'Age - AC'!C116)","v":""},{"$f":"IF('Age - AC'!D116=\"\",\"\",'Age - AC'!D116)","v":""},{"$f":"IF('Age - AC'!E116=\"\",\"\",'Age - AC'!E116)","v":""},{"$f":"IF('Age - AC'!F116=\"\",\"\",'Age - AC'!F116)","v":""}]
[111,{"$f":"IF('Age - AC'!B117=\"\",\"\",'Age - AC'!B117)","v":""},{"$f":"IF('Age - AC'!C117=\"\",\"\",'Age - AC'!C117)","v":""},{"$f":"IF('Age - AC'!D117=\"\",\"\",'Age - AC'!D117)","v":""},{"$f":"IF('Age - AC'!E117=\"\",\"\",'Age - AC'!E117)","v":""},{"$f":"IF('Age - AC'!F117=\"\",\"\",'Age - AC'!F117)","v":""}]
[112,{"$f":"IF('Age - AC'!B118=\"\",\"\",'Age - AC'!B118)","v":""},{"$f":"IF('Age - AC'!C118=\"\",\"\",'Age - AC'!C118)","v":""},{"$f":"IF('Age - AC'!D118=\"\",\"\",'Age - AC'!D118)","v":""},{"$f":"IF('Age - AC'!E118=\"\",\"\",'Age - AC'!E118)","v":""},{"$f":"IF('Age - AC'!F118=\"\",\"\",'Age - AC'!F118)","v":""}]
[113,{"$f":"IF('Age - AC'!B119=\"\",\"\",'Age - AC'!B119)","v":""},{"$f":"IF('Age - AC'!C119=\"\",\"\",'Age - AC'!C119)","v":""},{"$f":"IF('Age - AC'!D119=\"\",\"\",'Age - AC'!D119)","v":""},{"$f":"IF('Age - AC'!E119=\"\",\"\",'Age - AC'!E119)","v":""},{"$f":"IF('Age - AC'!F119=\"\",\"\",'Age - AC'!F119)","v":""}]
[114,{"$f":"IF('Age - AC'!B120=\"\",\"\",'Age - AC'!B120)","v":""},{"$f":"IF('Age - AC'!C120=\"\",\"\",'Age - AC'!C120)","v":""},{"$f":"IF('Age - AC'!D120=\"\",\"\",'Age - AC'!D120)","v":""},{"$f":"IF('Age - AC'!E120=\"\",\"\",'Age - AC'!E120)","v":""},{"$f":"IF('Age - AC'!F120=\"\",\"\",'Age - AC'!F120)","v":""}]
[115,{"$f":"IF('Age - AC'!B121=\"\",\"\",'Age - AC'!B121)","v":""},{"$f":"IF('Age - AC'!C121=\"\",\"\",'Age - AC'!C121)","v":""},{"$f":"IF('Age - AC'!D121=\"\",\"\",'Age - AC'!D121)","v":""},{"$f":"IF('Age - AC'!E121=\"\",\"\",'Age - AC'!E121)","v":""},{"$f":"IF('Age - AC'!F121=\"\",\"\",'Age - AC'!F121)","v":""}]
[116,{"$f":"IF('Age - AC'!B122=\"\",\"\",'Age - AC'!B122)","v":""},{"$f":"IF('Age - AC'!C122=\"\",\"\",'Age - AC'!C122)","v":""},{"$f":"IF('Age - AC'!D122=\"\",\"\",'Age - AC'!D122)","v":""},{"$f":"IF('Age - AC'!E122=\"\",\"\",'Age - AC'!E122)","v":""},{"$f":"IF('Age - AC'!F122=\"\",\"\",'Age - AC'!F122)","v":""}]
[117,{"$f":"IF('Age - AC'!B123=\"\",\"\",'Age - AC'!B123)","v":""},{"$f":"IF('Age - AC'!C123=\"\",\"\",'Age - AC'!C123)","v":""},{"$f":"IF('Age - AC'!D123=\"\",\"\",'Age - AC'!D123)","v":""},{"$f":"IF('Age - AC'!E123=\"\",\"\",'Age - AC'!E123)","v":""},{"$f":"IF('Age - AC'!F123=\"\",\"\",'Age - AC'!F123)","v":""}]
[118,{"$f":"IF('Age - AC'!B124=\"\",\"\",'Age - AC'!B124)","v":""},{"$f":"IF('Age - AC'!C124=\"\",\"\",'Age - AC'!C124)","v":""},{"$f":"IF('Age - AC'!D124=\"\",\"\",'Age - AC'!D124)","v":""},{"$f":"IF('Age - AC'!E124=\"\",\"\",'Age - AC'!E124)","v":""},{"$f":"IF('Age - AC'!F124=\"\",\"\",'Age - AC'!F124)","v":""}]
[119,{"$f":"IF('Age - AC'!B125=\"\",\"\",'Age - AC'!B125)","v":""},{"$f":"IF('Age - AC'!C125=\"\",\"\",'Age - AC'!C125)","v":""},{"$f":"IF('Age - AC'!D125=\"\",\"\",'Age - AC'!D125)","v":""},{"$f":"IF('Age - AC'!E125=\"\",\"\",'Age - AC'!E125)","v":""},{"$f":"IF('Age - AC'!F125=\"\",\"\",'Age - AC'!F125)","v":""}]
[120,{"$f":"IF('Age - AC'!B126=\"\",\"\",'Age - AC'!B126)","v":""},{"$f":"IF('Age - AC'!C126=\"\",\"\",'Age - AC'!C126)","v":""},{"$f":"IF('Age - AC'!D126=\"\",\"\",'Age - AC'!D126)","v":""},{"$f":"IF('Age - AC'!E126=\"\",\"\",'Age - AC'!E126)","v":""},{"$f":"IF('Age - AC'!F126=\"\",\"\",'Age - AC'!F126)","v":""}]
[]
["AGE - Femur Length",null,null,null,null,{"$f":"IF('Age - FL'!F1=\"\",\"\",'Age - FL'!F1)","v":"Age FL"}]
[null,null,null,null,null,{"$f":"ValidationData!DataVersion","v":"70.80.100.100"}]
["Index","Measurement Name",null,null,"FL"]
[null,"Measurement Type",null,null,"Distance (cm)"]
[null,"Author",null,null,{"$f":"IF('Age - FL'!J5=\"\",\"\",'Age - FL'!J5)","v":""}]
[null,"Value","Age (weeks)","Age (days)","Range (weeks)","Range (days)"]
[1,{"$f":"IF('Age - FL'!B7=\"\",\"\",'Age - FL'!B7)","v":""},{"$f":"IF('Age - FL'!C7=\"\",\"\",'Age - FL'!C7)","v":""},{"$f":"IF('Age - FL'!D7=\"\",\"\",'Age - FL'!D7)","v":""},{"$f":"IF('Age - FL'!E7=\"\",\"\",'Age - FL'!E7)","v":""},{"$f":"IF('Age - FL'!F7=\"\",\"\",'Age - FL'!F7)","v":""}]
[2,{"$f":"IF('Age - FL'!B8=\"\",\"\",'Age - FL'!B8)","v":""},{"$f":"IF('Age - FL'!C8=\"\",\"\",'Age - FL'!C8)","v":""},{"$f":"IF('Age - FL'!D8=\"\",\"\",'Age - FL'!D8)","v":""},{"$f":"IF('Age - FL'!E8=\"\",\"\",'Age - FL'!E8)","v":""},{"$f":"IF('Age - FL'!F8=\"\",\"\",'Age - FL'!F8)","v":""}]
[3,{"$f":"IF('Age - FL'!B9=\"\",\"\",'Age - FL'!B9)","v":""},{"$f":"IF('Age - FL'!C9=\"\",\"\",'Age - FL'!C9)","v":""},{"$f":"IF('Age - FL'!D9=\"\",\"\",'Age - FL'!D9)","v":""},{"$f":"IF('Age - FL'!E9=\"\",\"\",'Age - FL'!E9)","v":""},{"$f":"IF('Age - FL'!F9=\"\",\"\",'Age - FL'!F9)","v":""}]
[4,{"$f":"IF('Age - FL'!B10=\"\",\"\",'Age - FL'!B10)","v":""},{"$f":"IF('Age - FL'!C10=\"\",\"\",'Age - FL'!C10)","v":""},{"$f":"IF('Age - FL'!D10=\"\",\"\",'Age - FL'!D10)","v":""},{"$f":"IF('Age - FL'!E10=\"\",\"\",'Age - FL'!E10)","v":""},{"$f":"IF('Age - FL'!F10=\"\",\"\",'Age - FL'!F10)","v":""}]
[5,{"$f":"IF('Age - FL'!B11=\"\",\"\",'Age - FL'!B11)","v":""},{"$f":"IF('Age - FL'!C11=\"\",\"\",'Age - FL'!C11)","v":""},{"$f":"IF('Age - FL'!D11=\"\",\"\",'Age - FL'!D11)","v":""},{"$f":"IF('Age - FL'!E11=\"\",\"\",'Age - FL'!E11)","v":""},{"$f":"IF('Age - FL'!F11=\"\",\"\",'Age - FL'!F11)","v":""}]
[6,{"$f":"IF('Age - FL'!B12=\"\",\"\",'Age - FL'!B12)","v":""},{"$f":"IF('Age - FL'!C12=\"\",\"\",'Age - FL'!C12)","v":""},{"$f":"IF('Age - FL'!D12=\"\",\"\",'Age - FL'!D12)","v":""},{"$f":"IF('Age - FL'!E12=\"\",\"\",'Age - FL'!E12)","v":""},{"$f":"IF('Age - FL'!F12=\"\",\"\",'Age - FL'!F12)","v":""}]
[7,{"$f":"IF('Age - FL'!B13=\"\",\"\",'Age - FL'!B13)","v":""},{"$f":"IF('Age - FL'!C13=\"\",\"\",'Age - FL'!C13)","v":""},{"$f":"IF('Age - FL'!D13=\"\",\"\",'Age - FL'!D13)","v":""},{"$f":"IF('Age - FL'!E13=\"\",\"\",'Age - FL'!E13)","v":""},{"$f":"IF('Age - FL'!F13=\"\",\"\",'Age - FL'!F13)","v":""}]
[8,{"$f":"IF('Age - FL'!B14=\"\",\"\",'Age - FL'!B14)","v":""},{"$f":"IF('Age - FL'!C14=\"\",\"\",'Age - FL'!C14)","v":""},{"$f":"IF('Age - FL'!D14=\"\",\"\",'Age - FL'!D14)","v":""},{"$f":"IF('Age - FL'!E14=\"\",\"\",'Age - FL'!E14)","v":""},{"$f":"IF('Age - FL'!F14=\"\",\"\",'Age - FL'!F14)","v":""}]
[9,{"$f":"IF('Age - FL'!B15=\"\",\"\",'Age - FL'!B15)","v":""},{"$f":"IF('Age - FL'!C15=\"\",\"\",'Age - FL'!C15)","v":""},{"$f":"IF('Age - FL'!D15=\"\",\"\",'Age - FL'!D15)","v":""},{"$f":"IF('Age - FL'!E15=\"\",\"\",'Age - FL'!E15)","v":""},{"$f":"IF('Age - FL'!F15=\"\",\"\",'Age - FL'!F15)","v":""}]
[10,{"$f":"IF('Age - FL'!B16=\"\",\"\",'Age - FL'!B16)","v":""},{"$f":"IF('Age - FL'!C16=\"\",\"\",'Age - FL'!C16)","v":""},{"$f":"IF('Age - FL'!D16=\"\",\"\",'Age - FL'!D16)","v":""},{"$f":"IF('Age - FL'!E16=\"\",\"\",'Age - FL'!E16)","v":""},{"$f":"IF('Age - FL'!F16=\"\",\"\",'Age - FL'!F16)","v":""}]
[11,{"$f":"IF('Age - FL'!B17=\"\",\"\",'Age - FL'!B17)","v":""},{"$f":"IF('Age - FL'!C17=\"\",\"\",'Age - FL'!C17)","v":""},{"$f":"IF('Age - FL'!D17=\"\",\"\",'Age - FL'!D17)","v":""},{"$f":"IF('Age - FL'!E17=\"\",\"\",'Age - FL'!E17)","v":""},{"$f":"IF('Age - FL'!F17=\"\",\"\",'Age - FL'!F17)","v":""}]
[12,{"$f":"IF('Age - FL'!B18=\"\",\"\",'Age - FL'!B18)","v":""},{"$f":"IF('Age - FL'!C18=\"\",\"\",'Age - FL'!C18)","v":""},{"$f":"IF('Age - FL'!D18=\"\",\"\",'Age - FL'!D18)","v":""},{"$f":"IF('Age - FL'!E18=\"\",\"\",'Age - FL'!E18)","v":""},{"$f":"IF('Age - FL'!F18=\"\",\"\",'Age - FL'!F18)","v":""}]
[13,{"$f":"IF('Age - FL'!B19=\"\",\"\",'Age - FL'!B19)","v":""},{"$f":"IF('Age - FL'!C19=\"\",\"\",'Age - FL'!C19)","v":""},{"$f":"IF('Age - FL'!D19=\"\",\"\",'Age - FL'!D19)","v":""},{"$f":"IF('Age - FL'!E19=\"\",\"\",'Age - FL'!E19)","v":""},{"$f":"IF('Age - FL'!F19=\"\",\"\",'Age - FL'!F19)","v":""}]
[14,{"$f":"IF('Age - FL'!B20=\"\",\"\",'Age - FL'!B20)","v":""},{"$f":"IF('Age - FL'!C20=\"\",\"\",'Age - FL'!C20)","v":""},{"$f":"IF('Age - FL'!D20=\"\",\"\",'Age - FL'!D20)","v":""},{"$f":"IF('Age - FL'!E20=\"\",\"\",'Age - FL'!E20)","v":""},{"$f":"IF('Age - FL'!F20=\"\",\"\",'Age - FL'!F20)","v":""}]
[15,{"$f":"IF('Age - FL'!B21=\"\",\"\",'Age - FL'!B21)","v":""},{"$f":"IF('Age - FL'!C21=\"\",\"\",'Age - FL'!C21)","v":""},{"$f":"IF('Age - FL'!D21=\"\",\"\",'Age - FL'!D21)","v":""},{"$f":"IF('Age - FL'!E21=\"\",\"\",'Age - FL'!E21)","v":""},{"$f":"IF('Age - FL'!F21=\"\",\"\",'Age - FL'!F21)","v":""}]
[16,{"$f":"IF('Age - FL'!B22=\"\",\"\",'Age - FL'!B22)","v":""},{"$f":"IF('Age - FL'!C22=\"\",\"\",'Age - FL'!C22)","v":""},{"$f":"IF('Age - FL'!D22=\"\",\"\",'Age - FL'!D22)","v":""},{"$f":"IF('Age - FL'!E22=\"\",\"\",'Age - FL'!E22)","v":""},{"$f":"IF('Age - FL'!F22=\"\",\"\",'Age - FL'!F22)","v":""}]
[17,{"$f":"IF('Age - FL'!B23=\"\",\"\",'Age - FL'!B23)","v":""},{"$f":"IF('Age - FL'!C23=\"\",\"\",'Age - FL'!C23)","v":""},{"$f":"IF('Age - FL'!D23=\"\",\"\",'Age - FL'!D23)","v":""},{"$f":"IF('Age - FL'!E23=\"\",\"\",'Age - FL'!E23)","v":""},{"$f":"IF('Age - FL'!F23=\"\",\"\",'Age - FL'!F23)","v":""}]
[18,{"$f":"IF('Age - FL'!B24=\"\",\"\",'Age - FL'!B24)","v":""},{"$f":"IF('Age - FL'!C24=\"\",\"\",'Age - FL'!C24)","v":""},{"$f":"IF('Age - FL'!D24=\"\",\"\",'Age - FL'!D24)","v":""},{"$f":"IF('Age - FL'!E24=\"\",\"\",'Age - FL'!E24)","v":""},{"$f":"IF('Age - FL'!F24=\"\",\"\",'Age - FL'!F24)","v":""}]
[19,{"$f":"IF('Age - FL'!B25=\"\",\"\",'Age - FL'!B25)","v":""},{"$f":"IF('Age - FL'!C25=\"\",\"\",'Age - FL'!C25)","v":""},{"$f":"IF('Age - FL'!D25=\"\",\"\",'Age - FL'!D25)","v":""},{"$f":"IF('Age - FL'!E25=\"\",\"\",'Age - FL'!E25)","v":""},{"$f":"IF('Age - FL'!F25=\"\",\"\",'Age - FL'!F25)","v":""}]
[20,{"$f":"IF('Age - FL'!B26=\"\",\"\",'Age - FL'!B26)","v":""},{"$f":"IF('Age - FL'!C26=\"\",\"\",'Age - FL'!C26)","v":""},{"$f":"IF('Age - FL'!D26=\"\",\"\",'Age - FL'!D26)","v":""},{"$f":"IF('Age - FL'!E26=\"\",\"\",'Age - FL'!E26)","v":""},{"$f":"IF('Age - FL'!F26=\"\",\"\",'Age - FL'!F26)","v":""}]
[21,{"$f":"IF('Age - FL'!B27=\"\",\"\",'Age - FL'!B27)","v":""},{"$f":"IF('Age - FL'!C27=\"\",\"\",'Age - FL'!C27)","v":""},{"$f":"IF('Age - FL'!D27=\"\",\"\",'Age - FL'!D27)","v":""},{"$f":"IF('Age - FL'!E27=\"\",\"\",'Age - FL'!E27)","v":""},{"$f":"IF('Age - FL'!F27=\"\",\"\",'Age - FL'!F27)","v":""}]
[22,{"$f":"IF('Age - FL'!B28=\"\",\"\",'Age - FL'!B28)","v":""},{"$f":"IF('Age - FL'!C28=\"\",\"\",'Age - FL'!C28)","v":""},{"$f":"IF('Age - FL'!D28=\"\",\"\",'Age - FL'!D28)","v":""},{"$f":"IF('Age - FL'!E28=\"\",\"\",'Age - FL'!E28)","v":""},{"$f":"IF('Age - FL'!F28=\"\",\"\",'Age - FL'!F28)","v":""}]
[23,{"$f":"IF('Age - FL'!B29=\"\",\"\",'Age - FL'!B29)","v":""},{"$f":"IF('Age - FL'!C29=\"\",\"\",'Age - FL'!C29)","v":""},{"$f":"IF('Age - FL'!D29=\"\",\"\",'Age - FL'!D29)","v":""},{"$f":"IF('Age - FL'!E29=\"\",\"\",'Age - FL'!E29)","v":""},{"$f":"IF('Age - FL'!F29=\"\",\"\",'Age - FL'!F29)","v":""}]
[24,{"$f":"IF('Age - FL'!B30=\"\",\"\",'Age - FL'!B30)","v":""},{"$f":"IF('Age - FL'!C30=\"\",\"\",'Age - FL'!C30)","v":""},{"$f":"IF('Age - FL'!D30=\"\",\"\",'Age - FL'!D30)","v":""},{"$f":"IF('Age - FL'!E30=\"\",\"\",'Age - FL'!E30)","v":""},{"$f":"IF('Age - FL'!F30=\"\",\"\",'Age - FL'!F30)","v":""}]
[25,{"$f":"IF('Age - FL'!B31=\"\",\"\",'Age - FL'!B31)","v":""},{"$f":"IF('Age - FL'!C31=\"\",\"\",'Age - FL'!C31)","v":""},{"$f":"IF('Age - FL'!D31=\"\",\"\",'Age - FL'!D31)","v":""},{"$f":"IF('Age - FL'!E31=\"\",\"\",'Age - FL'!E31)","v":""},{"$f":"IF('Age - FL'!F31=\"\",\"\",'Age - FL'!F31)","v":""}]
[26,{"$f":"IF('Age - FL'!B32=\"\",\"\",'Age - FL'!B32)","v":""},{"$f":"IF('Age - FL'!C32=\"\",\"\",'Age - FL'!C32)","v":""},{"$f":"IF('Age - FL'!D32=\"\",\"\",'Age - FL'!D32)","v":""},{"$f":"IF('Age - FL'!E32=\"\",\"\",'Age - FL'!E32)","v":""},{"$f":"IF('Age - FL'!F32=\"\",\"\",'Age - FL'!F32)","v":""}]
[27,{"$f":"IF('Age - FL'!B33=\"\",\"\",'Age - FL'!B33)","v":""},{"$f":"IF('Age - FL'!C33=\"\",\"\",'Age - FL'!C33)","v":""},{"$f":"IF('Age - FL'!D33=\"\",\"\",'Age - FL'!D33)","v":""},{"$f":"IF('Age - FL'!E33=\"\",\"\",'Age - FL'!E33)","v":""},{"$f":"IF('Age - FL'!F33=\"\",\"\",'Age - FL'!F33)","v":""}]
[28,{"$f":"IF('Age - FL'!B34=\"\",\"\",'Age - FL'!B34)","v":""},{"$f":"IF('Age - FL'!C34=\"\",\"\",'Age - FL'!C34)","v":""},{"$f":"IF('Age - FL'!D34=\"\",\"\",'Age - FL'!D34)","v":""},{"$f":"IF('Age - FL'!E34=\"\",\"\",'Age - FL'!E34)","v":""},{"$f":"IF('Age - FL'!F34=\"\",\"\",'Age - FL'!F34)","v":""}]
[29,{"$f":"IF('Age - FL'!B35=\"\",\"\",'Age - FL'!B35)","v":""},{"$f":"IF('Age - FL'!C35=\"\",\"\",'Age - FL'!C35)","v":""},{"$f":"IF('Age - FL'!D35=\"\",\"\",'Age - FL'!D35)","v":""},{"$f":"IF('Age - FL'!E35=\"\",\"\",'Age - FL'!E35)","v":""},{"$f":"IF('Age - FL'!F35=\"\",\"\",'Age - FL'!F35)","v":""}]
[30,{"$f":"IF('Age - FL'!B36=\"\",\"\",'Age - FL'!B36)","v":""},{"$f":"IF('Age - FL'!C36=\"\",\"\",'Age - FL'!C36)","v":""},{"$f":"IF('Age - FL'!D36=\"\",\"\",'Age - FL'!D36)","v":""},{"$f":"IF('Age - FL'!E36=\"\",\"\",'Age - FL'!E36)","v":""},{"$f":"IF('Age - FL'!F36=\"\",\"\",'Age - FL'!F36)","v":""}]
[31,{"$f":"IF('Age - FL'!B37=\"\",\"\",'Age - FL'!B37)","v":""},{"$f":"IF('Age - FL'!C37=\"\",\"\",'Age - FL'!C37)","v":""},{"$f":"IF('Age - FL'!D37=\"\",\"\",'Age - FL'!D37)","v":""},{"$f":"IF('Age - FL'!E37=\"\",\"\",'Age - FL'!E37)","v":""},{"$f":"IF('Age - FL'!F37=\"\",\"\",'Age - FL'!F37)","v":""}]
[32,{"$f":"IF('Age - FL'!B38=\"\",\"\",'Age - FL'!B38)","v":""},{"$f":"IF('Age - FL'!C38=\"\",\"\",'Age - FL'!C38)","v":""},{"$f":"IF('Age - FL'!D38=\"\",\"\",'Age - FL'!D38)","v":""},{"$f":"IF('Age - FL'!E38=\"\",\"\",'Age - FL'!E38)","v":""},{"$f":"IF('Age - FL'!F38=\"\",\"\",'Age - FL'!F38)","v":""}]
[33,{"$f":"IF('Age - FL'!B39=\"\",\"\",'Age - FL'!B39)","v":""},{"$f":"IF('Age - FL'!C39=\"\",\"\",'Age - FL'!C39)","v":""},{"$f":"IF('Age - FL'!D39=\"\",\"\",'Age - FL'!D39)","v":""},{"$f":"IF('Age - FL'!E39=\"\",\"\",'Age - FL'!E39)","v":""},{"$f":"IF('Age - FL'!F39=\"\",\"\",'Age - FL'!F39)","v":""}]
[34,{"$f":"IF('Age - FL'!B40=\"\",\"\",'Age - FL'!B40)","v":""},{"$f":"IF('Age - FL'!C40=\"\",\"\",'Age - FL'!C40)","v":""},{"$f":"IF('Age - FL'!D40=\"\",\"\",'Age - FL'!D40)","v":""},{"$f":"IF('Age - FL'!E40=\"\",\"\",'Age - FL'!E40)","v":""},{"$f":"IF('Age - FL'!F40=\"\",\"\",'Age - FL'!F40)","v":""}]
[35,{"$f":"IF('Age - FL'!B41=\"\",\"\",'Age - FL'!B41)","v":""},{"$f":"IF('Age - FL'!C41=\"\",\"\",'Age - FL'!C41)","v":""},{"$f":"IF('Age - FL'!D41=\"\",\"\",'Age - FL'!D41)","v":""},{"$f":"IF('Age - FL'!E41=\"\",\"\",'Age - FL'!E41)","v":""},{"$f":"IF('Age - FL'!F41=\"\",\"\",'Age - FL'!F41)","v":""}]
[36,{"$f":"IF('Age - FL'!B42=\"\",\"\",'Age - FL'!B42)","v":""},{"$f":"IF('Age - FL'!C42=\"\",\"\",'Age - FL'!C42)","v":""},{"$f":"IF('Age - FL'!D42=\"\",\"\",'Age - FL'!D42)","v":""},{"$f":"IF('Age - FL'!E42=\"\",\"\",'Age - FL'!E42)","v":""},{"$f":"IF('Age - FL'!F42=\"\",\"\",'Age - FL'!F42)","v":""}]
[37,{"$f":"IF('Age - FL'!B43=\"\",\"\",'Age - FL'!B43)","v":""},{"$f":"IF('Age - FL'!C43=\"\",\"\",'Age - FL'!C43)","v":""},{"$f":"IF('Age - FL'!D43=\"\",\"\",'Age - FL'!D43)","v":""},{"$f":"IF('Age - FL'!E43=\"\",\"\",'Age - FL'!E43)","v":""},{"$f":"IF('Age - FL'!F43=\"\",\"\",'Age - FL'!F43)","v":""}]
[38,{"$f":"IF('Age - FL'!B44=\"\",\"\",'Age - FL'!B44)","v":""},{"$f":"IF('Age - FL'!C44=\"\",\"\",'Age - FL'!C44)","v":""},{"$f":"IF('Age - FL'!D44=\"\",\"\",'Age - FL'!D44)","v":""},{"$f":"IF('Age - FL'!E44=\"\",\"\",'Age - FL'!E44)","v":""},{"$f":"IF('Age - FL'!F44=\"\",\"\",'Age - FL'!F44)","v":""}]
[39,{"$f":"IF('Age - FL'!B45=\"\",\"\",'Age - FL'!B45)","v":""},{"$f":"IF('Age - FL'!C45=\"\",\"\",'Age - FL'!C45)","v":""},{"$f":"IF('Age - FL'!D45=\"\",\"\",'Age - FL'!D45)","v":""},{"$f":"IF('Age - FL'!E45=\"\",\"\",'Age - FL'!E45)","v":""},{"$f":"IF('Age - FL'!F45=\"\",\"\",'Age - FL'!F45)","v":""}]
[40,{"$f":"IF('Age - FL'!B46=\"\",\"\",'Age - FL'!B46)","v":""},{"$f":"IF('Age - FL'!C46=\"\",\"\",'Age - FL'!C46)","v":""},{"$f":"IF('Age - FL'!D46=\"\",\"\",'Age - FL'!D46)","v":""},{"$f":"IF('Age - FL'!E46=\"\",\"\",'Age - FL'!E46)","v":""},{"$f":"IF('Age - FL'!F46=\"\",\"\",'Age - FL'!F46)","v":""}]
[41,{"$f":"IF('Age - FL'!B47=\"\",\"\",'Age - FL'!B47)","v":""},{"$f":"IF('Age - FL'!C47=\"\",\"\",'Age - FL'!C47)","v":""},{"$f":"IF('Age - FL'!D47=\"\",\"\",'Age - FL'!D47)","v":""},{"$f":"IF('Age - FL'!E47=\"\",\"\",'Age - FL'!E47)","v":""},{"$f":"IF('Age - FL'!F47=\"\",\"\",'Age - FL'!F47)","v":""}]
[42,{"$f":"IF('Age - FL'!B48=\"\",\"\",'Age - FL'!B48)","v":""},{"$f":"IF('Age - FL'!C48=\"\",\"\",'Age - FL'!C48)","v":""},{"$f":"IF('Age - FL'!D48=\"\",\"\",'Age - FL'!D48)","v":""},{"$f":"IF('Age - FL'!E48=\"\",\"\",'Age - FL'!E48)","v":""},{"$f":"IF('Age - FL'!F48=\"\",\"\",'Age - FL'!F48)","v":""}]
[43,{"$f":"IF('Age - FL'!B49=\"\",\"\",'Age - FL'!B49)","v":""},{"$f":"IF('Age - FL'!C49=\"\",\"\",'Age - FL'!C49)","v":""},{"$f":"IF('Age - FL'!D49=\"\",\"\",'Age - FL'!D49)","v":""},{"$f":"IF('Age - FL'!E49=\"\",\"\",'Age - FL'!E49)","v":""},{"$f":"IF('Age - FL'!F49=\"\",\"\",'Age - FL'!F49)","v":""}]
[44,{"$f":"IF('Age - FL'!B50=\"\",\"\",'Age - FL'!B50)","v":""},{"$f":"IF('Age - FL'!C50=\"\",\"\",'Age - FL'!C50)","v":""},{"$f":"IF('Age - FL'!D50=\"\",\"\",'Age - FL'!D50)","v":""},{"$f":"IF('Age - FL'!E50=\"\",\"\",'Age - FL'!E50)","v":""},{"$f":"IF('Age - FL'!F50=\"\",\"\",'Age - FL'!F50)","v":""}]
[45,{"$f":"IF('Age - FL'!B51=\"\",\"\",'Age - FL'!B51)","v":""},{"$f":"IF('Age - FL'!C51=\"\",\"\",'Age - FL'!C51)","v":""},{"$f":"IF('Age - FL'!D51=\"\",\"\",'Age - FL'!D51)","v":""},{"$f":"IF('Age - FL'!E51=\"\",\"\",'Age - FL'!E51)","v":""},{"$f":"IF('Age - FL'!F51=\"\",\"\",'Age - FL'!F51)","v":""}]
[46,{"$f":"IF('Age - FL'!B52=\"\",\"\",'Age - FL'!B52)","v":""},{"$f":"IF('Age - FL'!C52=\"\",\"\",'Age - FL'!C52)","v":""},{"$f":"IF('Age - FL'!D52=\"\",\"\",'Age - FL'!D52)","v":""},{"$f":"IF('Age - FL'!E52=\"\",\"\",'Age - FL'!E52)","v":""},{"$f":"IF('Age - FL'!F52=\"\",\"\",'Age - FL'!F52)","v":""}]
[47,{"$f":"IF('Age - FL'!B53=\"\",\"\",'Age - FL'!B53)","v":""},{"$f":"IF('Age - FL'!C53=\"\",\"\",'Age - FL'!C53)","v":""},{"$f":"IF('Age - FL'!D53=\"\",\"\",'Age - FL'!D53)","v":""},{"$f":"IF('Age - FL'!E53=\"\",\"\",'Age - FL'!E53)","v":""},{"$f":"IF('Age - FL'!F53=\"\",\"\",'Age - FL'!F53)","v":""}]
[48,{"$f":"IF('Age - FL'!B54=\"\",\"\",'Age - FL'!B54)","v":""},{"$f":"IF('Age - FL'!C54=\"\",\"\",'Age - FL'!C54)","v":""},{"$f":"IF('Age - FL'!D54=\"\",\"\",'Age - FL'!D54)","v":""},{"$f":"IF('Age - FL'!E54=\"\",\"\",'Age - FL'!E54)","v":""},{"$f":"IF('Age - FL'!F54=\"\",\"\",'Age - FL'!F54)","v":""}]
[49,{"$f":"IF('Age - FL'!B55=\"\",\"\",'Age - FL'!B55)","v":""},{"$f":"IF('Age - FL'!C55=\"\",\"\",'Age - FL'!C55)","v":""},{"$f":"IF('Age - FL'!D55=\"\",\"\",'Age - FL'!D55)","v":""},{"$f":"IF('Age - FL'!E55=\"\",\"\",'Age - FL'!E55)","v":""},{"$f":"IF('Age - FL'!F55=\"\",\"\",'Age - FL'!F55)","v":""}]
[50,{"$f":"IF('Age - FL'!B56=\"\",\"\",'Age - FL'!B56)","v":""},{"$f":"IF('Age - FL'!C56=\"\",\"\",'Age - FL'!C56)","v":""},{"$f":"IF('Age - FL'!D56=\"\",\"\",'Age - FL'!D56)","v":""},{"$f":"IF('Age - FL'!E56=\"\",\"\",'Age - FL'!E56)","v":""},{"$f":"IF('Age - FL'!F56=\"\",\"\",'Age - FL'!F56)","v":""}]
[51,{"$f":"IF('Age - FL'!B57=\"\",\"\",'Age - FL'!B57)","v":""},{"$f":"IF('Age - FL'!C57=\"\",\"\",'Age - FL'!C57)","v":""},{"$f":"IF('Age - FL'!D57=\"\",\"\",'Age - FL'!D57)","v":""},{"$f":"IF('Age - FL'!E57=\"\",\"\",'Age - FL'!E57)","v":""},{"$f":"IF('Age - FL'!F57=\"\",\"\",'Age - FL'!F57)","v":""}]
[52,{"$f":"IF('Age - FL'!B58=\"\",\"\",'Age - FL'!B58)","v":""},{"$f":"IF('Age - FL'!C58=\"\",\"\",'Age - FL'!C58)","v":""},{"$f":"IF('Age - FL'!D58=\"\",\"\",'Age - FL'!D58)","v":""},{"$f":"IF('Age - FL'!E58=\"\",\"\",'Age - FL'!E58)","v":""},{"$f":"IF('Age - FL'!F58=\"\",\"\",'Age - FL'!F58)","v":""}]
[53,{"$f":"IF('Age - FL'!B59=\"\",\"\",'Age - FL'!B59)","v":""},{"$f":"IF('Age - FL'!C59=\"\",\"\",'Age - FL'!C59)","v":""},{"$f":"IF('Age - FL'!D59=\"\",\"\",'Age - FL'!D59)","v":""},{"$f":"IF('Age - FL'!E59=\"\",\"\",'Age - FL'!E59)","v":""},{"$f":"IF('Age - FL'!F59=\"\",\"\",'Age - FL'!F59)","v":""}]
[54,{"$f":"IF('Age - FL'!B60=\"\",\"\",'Age - FL'!B60)","v":""},{"$f":"IF('Age - FL'!C60=\"\",\"\",'Age - FL'!C60)","v":""},{"$f":"IF('Age - FL'!D60=\"\",\"\",'Age - FL'!D60)","v":""},{"$f":"IF('Age - FL'!E60=\"\",\"\",'Age - FL'!E60)","v":""},{"$f":"IF('Age - FL'!F60=\"\",\"\",'Age - FL'!F60)","v":""}]
[55,{"$f":"IF('Age - FL'!B61=\"\",\"\",'Age - FL'!B61)","v":""},{"$f":"IF('Age - FL'!C61=\"\",\"\",'Age - FL'!C61)","v":""},{"$f":"IF('Age - FL'!D61=\"\",\"\",'Age - FL'!D61)","v":""},{"$f":"IF('Age - FL'!E61=\"\",\"\",'Age - FL'!E61)","v":""},{"$f":"IF('Age - FL'!F61=\"\",\"\",'Age - FL'!F61)","v":""}]
[56,{"$f":"IF('Age - FL'!B62=\"\",\"\",'Age - FL'!B62)","v":""},{"$f":"IF('Age - FL'!C62=\"\",\"\",'Age - FL'!C62)","v":""},{"$f":"IF('Age - FL'!D62=\"\",\"\",'Age - FL'!D62)","v":""},{"$f":"IF('Age - FL'!E62=\"\",\"\",'Age - FL'!E62)","v":""},{"$f":"IF('Age - FL'!F62=\"\",\"\",'Age - FL'!F62)","v":""}]
[57,{"$f":"IF('Age - FL'!B63=\"\",\"\",'Age - FL'!B63)","v":""},{"$f":"IF('Age - FL'!C63=\"\",\"\",'Age - FL'!C63)","v":""},{"$f":"IF('Age - FL'!D63=\"\",\"\",'Age - FL'!D63)","v":""},{"$f":"IF('Age - FL'!E63=\"\",\"\",'Age - FL'!E63)","v":""},{"$f":"IF('Age - FL'!F63=\"\",\"\",'Age - FL'!F63)","v":""}]
[58,{"$f":"IF('Age - FL'!B64=\"\",\"\",'Age - FL'!B64)","v":""},{"$f":"IF('Age - FL'!C64=\"\",\"\",'Age - FL'!C64)","v":""},{"$f":"IF('Age - FL'!D64=\"\",\"\",'Age - FL'!D64)","v":""},{"$f":"IF('Age - FL'!E64=\"\",\"\",'Age - FL'!E64)","v":""},{"$f":"IF('Age - FL'!F64=\"\",\"\",'Age - FL'!F64)","v":""}]
[59,{"$f":"IF('Age - FL'!B65=\"\",\"\",'Age - FL'!B65)","v":""},{"$f":"IF('Age - FL'!C65=\"\",\"\",'Age - FL'!C65)","v":""},{"$f":"IF('Age - FL'!D65=\"\",\"\",'Age - FL'!D65)","v":""},{"$f":"IF('Age - FL'!E65=\"\",\"\",'Age - FL'!E65)","v":""},{"$f":"IF('Age - FL'!F65=\"\",\"\",'Age - FL'!F65)","v":""}]
[60,{"$f":"IF('Age - FL'!B66=\"\",\"\",'Age - FL'!B66)","v":""},{"$f":"IF('Age - FL'!C66=\"\",\"\",'Age - FL'!C66)","v":""},{"$f":"IF('Age - FL'!D66=\"\",\"\",'Age - FL'!D66)","v":""},{"$f":"IF('Age - FL'!E66=\"\",\"\",'Age - FL'!E66)","v":""},{"$f":"IF('Age - FL'!F66=\"\",\"\",'Age - FL'!F66)","v":""}]
[61,{"$f":"IF('Age - FL'!B67=\"\",\"\",'Age - FL'!B67)","v":""},{"$f":"IF('Age - FL'!C67=\"\",\"\",'Age - FL'!C67)","v":""},{"$f":"IF('Age - FL'!D67=\"\",\"\",'Age - FL'!D67)","v":""},{"$f":"IF('Age - FL'!E67=\"\",\"\",'Age - FL'!E67)","v":""},{"$f":"IF('Age - FL'!F67=\"\",\"\",'Age - FL'!F67)","v":""}]
[62,{"$f":"IF('Age - FL'!B68=\"\",\"\",'Age - FL'!B68)","v":""},{"$f":"IF('Age - FL'!C68=\"\",\"\",'Age - FL'!C68)","v":""},{"$f":"IF('Age - FL'!D68=\"\",\"\",'Age - FL'!D68)","v":""},{"$f":"IF('Age - FL'!E68=\"\",\"\",'Age - FL'!E68)","v":""},{"$f":"IF('Age - FL'!F68=\"\",\"\",'Age - FL'!F68)","v":""}]
[63,{"$f":"IF('Age - FL'!B69=\"\",\"\",'Age - FL'!B69)","v":""},{"$f":"IF('Age - FL'!C69=\"\",\"\",'Age - FL'!C69)","v":""},{"$f":"IF('Age - FL'!D69=\"\",\"\",'Age - FL'!D69)","v":""},{"$f":"IF('Age - FL'!E69=\"\",\"\",'Age - FL'!E69)","v":""},{"$f":"IF('Age - FL'!F69=\"\",\"\",'Age - FL'!F69)","v":""}]
[64,{"$f":"IF('Age - FL'!B70=\"\",\"\",'Age - FL'!B70)","v":""},{"$f":"IF('Age - FL'!C70=\"\",\"\",'Age - FL'!C70)","v":""},{"$f":"IF('Age - FL'!D70=\"\",\"\",'Age - FL'!D70)","v":""},{"$f":"IF('Age - FL'!E70=\"\",\"\",'Age - FL'!E70)","v":""},{"$f":"IF('Age - FL'!F70=\"\",\"\",'Age - FL'!F70)","v":""}]
[65,{"$f":"IF('Age - FL'!B71=\"\",\"\",'Age - FL'!B71)","v":""},{"$f":"IF('Age - FL'!C71=\"\",\"\",'Age - FL'!C71)","v":""},{"$f":"IF('Age - FL'!D71=\"\",\"\",'Age - FL'!D71)","v":""},{"$f":"IF('Age - FL'!E71=\"\",\"\",'Age - FL'!E71)","v":""},{"$f":"IF('Age - FL'!F71=\"\",\"\",'Age - FL'!F71)","v":""}]
[66,{"$f":"IF('Age - FL'!B72=\"\",\"\",'Age - FL'!B72)","v":""},{"$f":"IF('Age - FL'!C72=\"\",\"\",'Age - FL'!C72)","v":""},{"$f":"IF('Age - FL'!D72=\"\",\"\",'Age - FL'!D72)","v":""},{"$f":"IF('Age - FL'!E72=\"\",\"\",'Age - FL'!E72)","v":""},{"$f":"IF('Age - FL'!F72=\"\",\"\",'Age - FL'!F72)","v":""}]
[67,{"$f":"IF('Age - FL'!B73=\"\",\"\",'Age - FL'!B73)","v":""},{"$f":"IF('Age - FL'!C73=\"\",\"\",'Age - FL'!C73)","v":""},{"$f":"IF('Age - FL'!D73=\"\",\"\",'Age - FL'!D73)","v":""},{"$f":"IF('Age - FL'!E73=\"\",\"\",'Age - FL'!E73)","v":""},{"$f":"IF('Age - FL'!F73=\"\",\"\",'Age - FL'!F73)","v":""}]
[68,{"$f":"IF('Age - FL'!B74=\"\",\"\",'Age - FL'!B74)","v":""},{"$f":"IF('Age - FL'!C74=\"\",\"\",'Age - FL'!C74)","v":""},{"$f":"IF('Age - FL'!D74=\"\",\"\",'Age - FL'!D74)","v":""},{"$f":"IF('Age - FL'!E74=\"\",\"\",'Age - FL'!E74)","v":""},{"$f":"IF('Age - FL'!F74=\"\",\"\",'Age - FL'!F74)","v":""}]
[69,{"$f":"IF('Age - FL'!B75=\"\",\"\",'Age - FL'!B75)","v":""},{"$f":"IF('Age - FL'!C75=\"\",\"\",'Age - FL'!C75)","v":""},{"$f":"IF('Age - FL'!D75=\"\",\"\",'Age - FL'!D75)","v":""},{"$f":"IF('Age - FL'!E75=\"\",\"\",'Age - FL'!E75)","v":""},{"$f":"IF('Age - FL'!F75=\"\",\"\",'Age - FL'!F75)","v":""}]
[70,{"$f":"IF('Age - FL'!B76=\"\",\"\",'Age - FL'!B76)","v":""},{"$f":"IF('Age - FL'!C76=\"\",\"\",'Age - FL'!C76)","v":""},{"$f":"IF('Age - FL'!D76=\"\",\"\",'Age - FL'!D76)","v":""},{"$f":"IF('Age - FL'!E76=\"\",\"\",'Age - FL'!E76)","v":""},{"$f":"IF('Age - FL'!F76=\"\",\"\",'Age - FL'!F76)","v":""}]
[71,{"$f":"IF('Age - FL'!B77=\"\",\"\",'Age - FL'!B77)","v":""},{"$f":"IF('Age - FL'!C77=\"\",\"\",'Age - FL'!C77)","v":""},{"$f":"IF('Age - FL'!D77=\"\",\"\",'Age - FL'!D77)","v":""},{"$f":"IF('Age - FL'!E77=\"\",\"\",'Age - FL'!E77)","v":""},{"$f":"IF('Age - FL'!F77=\"\",\"\",'Age - FL'!F77)","v":""}]
[72,{"$f":"IF('Age - FL'!B78=\"\",\"\",'Age - FL'!B78)","v":""},{"$f":"IF('Age - FL'!C78=\"\",\"\",'Age - FL'!C78)","v":""},{"$f":"IF('Age - FL'!D78=\"\",\"\",'Age - FL'!D78)","v":""},{"$f":"IF('Age - FL'!E78=\"\",\"\",'Age - FL'!E78)","v":""},{"$f":"IF('Age - FL'!F78=\"\",\"\",'Age - FL'!F78)","v":""}]
[73,{"$f":"IF('Age - FL'!B79=\"\",\"\",'Age - FL'!B79)","v":""},{"$f":"IF('Age - FL'!C79=\"\",\"\",'Age - FL'!C79)","v":""},{"$f":"IF('Age - FL'!D79=\"\",\"\",'Age - FL'!D79)","v":""},{"$f":"IF('Age - FL'!E79=\"\",\"\",'Age - FL'!E79)","v":""},{"$f":"IF('Age - FL'!F79=\"\",\"\",'Age - FL'!F79)","v":""}]
[74,{"$f":"IF('Age - FL'!B80=\"\",\"\",'Age - FL'!B80)","v":""},{"$f":"IF('Age - FL'!C80=\"\",\"\",'Age - FL'!C80)","v":""},{"$f":"IF('Age - FL'!D80=\"\",\"\",'Age - FL'!D80)","v":""},{"$f":"IF('Age - FL'!E80=\"\",\"\",'Age - FL'!E80)","v":""},{"$f":"IF('Age - FL'!F80=\"\",\"\",'Age - FL'!F80)","v":""}]
[75,{"$f":"IF('Age - FL'!B81=\"\",\"\",'Age - FL'!B81)","v":""},{"$f":"IF('Age - FL'!C81=\"\",\"\",'Age - FL'!C81)","v":""},{"$f":"IF('Age - FL'!D81=\"\",\"\",'Age - FL'!D81)","v":""},{"$f":"IF('Age - FL'!E81=\"\",\"\",'Age - FL'!E81)","v":""},{"$f":"IF('Age - FL'!F81=\"\",\"\",'Age - FL'!F81)","v":""}]
[76,{"$f":"IF('Age - FL'!B82=\"\",\"\",'Age - FL'!B82)","v":""},{"$f":"IF('Age - FL'!C82=\"\",\"\",'Age - FL'!C82)","v":""},{"$f":"IF('Age - FL'!D82=\"\",\"\",'Age - FL'!D82)","v":""},{"$f":"IF('Age - FL'!E82=\"\",\"\",'Age - FL'!E82)","v":""},{"$f":"IF('Age - FL'!F82=\"\",\"\",'Age - FL'!F82)","v":""}]
[77,{"$f":"IF('Age - FL'!B83=\"\",\"\",'Age - FL'!B83)","v":""},{"$f":"IF('Age - FL'!C83=\"\",\"\",'Age - FL'!C83)","v":""},{"$f":"IF('Age - FL'!D83=\"\",\"\",'Age - FL'!D83)","v":""},{"$f":"IF('Age - FL'!E83=\"\",\"\",'Age - FL'!E83)","v":""},{"$f":"IF('Age - FL'!F83=\"\",\"\",'Age - FL'!F83)","v":""}]
[78,{"$f":"IF('Age - FL'!B84=\"\",\"\",'Age - FL'!B84)","v":""},{"$f":"IF('Age - FL'!C84=\"\",\"\",'Age - FL'!C84)","v":""},{"$f":"IF('Age - FL'!D84=\"\",\"\",'Age - FL'!D84)","v":""},{"$f":"IF('Age - FL'!E84=\"\",\"\",'Age - FL'!E84)","v":""},{"$f":"IF('Age - FL'!F84=\"\",\"\",'Age - FL'!F84)","v":""}]
[79,{"$f":"IF('Age - FL'!B85=\"\",\"\",'Age - FL'!B85)","v":""},{"$f":"IF('Age - FL'!C85=\"\",\"\",'Age - FL'!C85)","v":""},{"$f":"IF('Age - FL'!D85=\"\",\"\",'Age - FL'!D85)","v":""},{"$f":"IF('Age - FL'!E85=\"\",\"\",'Age - FL'!E85)","v":""},{"$f":"IF('Age - FL'!F85=\"\",\"\",'Age - FL'!F85)","v":""}]
[80,{"$f":"IF('Age - FL'!B86=\"\",\"\",'Age - FL'!B86)","v":""},{"$f":"IF('Age - FL'!C86=\"\",\"\",'Age - FL'!C86)","v":""},{"$f":"IF('Age - FL'!D86=\"\",\"\",'Age - FL'!D86)","v":""},{"$f":"IF('Age - FL'!E86=\"\",\"\",'Age - FL'!E86)","v":""},{"$f":"IF('Age - FL'!F86=\"\",\"\",'Age - FL'!F86)","v":""}]
[81,{"$f":"IF('Age - FL'!B87=\"\",\"\",'Age - FL'!B87)","v":""},{"$f":"IF('Age - FL'!C87=\"\",\"\",'Age - FL'!C87)","v":""},{"$f":"IF('Age - FL'!D87=\"\",\"\",'Age - FL'!D87)","v":""},{"$f":"IF('Age - FL'!E87=\"\",\"\",'Age - FL'!E87)","v":""},{"$f":"IF('Age - FL'!F87=\"\",\"\",'Age - FL'!F87)","v":""}]
[82,{"$f":"IF('Age - FL'!B88=\"\",\"\",'Age - FL'!B88)","v":""},{"$f":"IF('Age - FL'!C88=\"\",\"\",'Age - FL'!C88)","v":""},{"$f":"IF('Age - FL'!D88=\"\",\"\",'Age - FL'!D88)","v":""},{"$f":"IF('Age - FL'!E88=\"\",\"\",'Age - FL'!E88)","v":""},{"$f":"IF('Age - FL'!F88=\"\",\"\",'Age - FL'!F88)","v":""}]
[83,{"$f":"IF('Age - FL'!B89=\"\",\"\",'Age - FL'!B89)","v":""},{"$f":"IF('Age - FL'!C89=\"\",\"\",'Age - FL'!C89)","v":""},{"$f":"IF('Age - FL'!D89=\"\",\"\",'Age - FL'!D89)","v":""},{"$f":"IF('Age - FL'!E89=\"\",\"\",'Age - FL'!E89)","v":""},{"$f":"IF('Age - FL'!F89=\"\",\"\",'Age - FL'!F89)","v":""}]
[84,{"$f":"IF('Age - FL'!B90=\"\",\"\",'Age - FL'!B90)","v":""},{"$f":"IF('Age - FL'!C90=\"\",\"\",'Age - FL'!C90)","v":""},{"$f":"IF('Age - FL'!D90=\"\",\"\",'Age - FL'!D90)","v":""},{"$f":"IF('Age - FL'!E90=\"\",\"\",'Age - FL'!E90)","v":""},{"$f":"IF('Age - FL'!F90=\"\",\"\",'Age - FL'!F90)","v":""}]
[85,{"$f":"IF('Age - FL'!B91=\"\",\"\",'Age - FL'!B91)","v":""},{"$f":"IF('Age - FL'!C91=\"\",\"\",'Age - FL'!C91)","v":""},{"$f":"IF('Age - FL'!D91=\"\",\"\",'Age - FL'!D91)","v":""},{"$f":"IF('Age - FL'!E91=\"\",\"\",'Age - FL'!E91)","v":""},{"$f":"IF('Age - FL'!F91=\"\",\"\",'Age - FL'!F91)","v":""}]
[86,{"$f":"IF('Age - FL'!B92=\"\",\"\",'Age - FL'!B92)","v":""},{"$f":"IF('Age - FL'!C92=\"\",\"\",'Age - FL'!C92)","v":""},{"$f":"IF('Age - FL'!D92=\"\",\"\",'Age - FL'!D92)","v":""},{"$f":"IF('Age - FL'!E92=\"\",\"\",'Age - FL'!E92)","v":""},{"$f":"IF('Age - FL'!F92=\"\",\"\",'Age - FL'!F92)","v":""}]
[87,{"$f":"IF('Age - FL'!B93=\"\",\"\",'Age - FL'!B93)","v":""},{"$f":"IF('Age - FL'!C93=\"\",\"\",'Age - FL'!C93)","v":""},{"$f":"IF('Age - FL'!D93=\"\",\"\",'Age - FL'!D93)","v":""},{"$f":"IF('Age - FL'!E93=\"\",\"\",'Age - FL'!E93)","v":""},{"$f":"IF('Age - FL'!F93=\"\",\"\",'Age - FL'!F93)","v":""}]
[88,{"$f":"IF('Age - FL'!B94=\"\",\"\",'Age - FL'!B94)","v":""},{"$f":"IF('Age - FL'!C94=\"\",\"\",'Age - FL'!C94)","v":""},{"$f":"IF('Age - FL'!D94=\"\",\"\",'Age - FL'!D94)","v":""},{"$f":"IF('Age - FL'!E94=\"\",\"\",'Age - FL'!E94)","v":""},{"$f":"IF('Age - FL'!F94=\"\",\"\",'Age - FL'!F94)","v":""}]
[89,{"$f":"IF('Age - FL'!B95=\"\",\"\",'Age - FL'!B95)","v":""},{"$f":"IF('Age - FL'!C95=\"\",\"\",'Age - FL'!C95)","v":""},{"$f":"IF('Age - FL'!D95=\"\",\"\",'Age - FL'!D95)","v":""},{"$f":"IF('Age - FL'!E95=\"\",\"\",'Age - FL'!E95)","v":""},{"$f":"IF('Age - FL'!F95=\"\",\"\",'Age - FL'!F95)","v":""}]
[90,{"$f":"IF('Age - FL'!B96=\"\",\"\",'Age - FL'!B96)","v":""},{"$f":"IF('Age - FL'!C96=\"\",\"\",'Age - FL'!C96)","v":""},{"$f":"IF('Age - FL'!D96=\"\",\"\",'Age - FL'!D96)","v":""},{"$f":"IF('Age - FL'!E96=\"\",\"\",'Age - FL'!E96)","v":""},{"$f":"IF('Age - FL'!F96=\"\",\"\",'Age - FL'!F96)","v":""}]
[91,{"$f":"IF('Age - FL'!B97=\"\",\"\",'Age - FL'!B97)","v":""},{"$f":"IF('Age - FL'!C97=\"\",\"\",'Age - FL'!C97)","v":""},{"$f":"IF('Age - FL'!D97=\"\",\"\",'Age - FL'!D97)","v":""},{"$f":"IF('Age - FL'!E97=\"\",\"\",'Age - FL'!E97)","v":""},{"$f":"IF('Age - FL'!F97=\"\",\"\",'Age - FL'!F97)","v":""}]
[92,{"$f":"IF('Age - FL'!B98=\"\",\"\",'Age - FL'!B98)","v":""},{"$f":"IF('Age - FL'!C98=\"\",\"\",'Age - FL'!C98)","v":""},{"$f":"IF('Age - FL'!D98=\"\",\"\",'Age - FL'!D98)","v":""},{"$f":"IF('Age - FL'!E98=\"\",\"\",'Age - FL'!E98)","v":""},{"$f":"IF('Age - FL'!F98=\"\",\"\",'Age - FL'!F98)","v":""}]
[93,{"$f":"IF('Age - FL'!B99=\"\",\"\",'Age - FL'!B99)","v":""},{"$f":"IF('Age - FL'!C99=\"\",\"\",'Age - FL'!C99)","v":""},{"$f":"IF('Age - FL'!D99=\"\",\"\",'Age - FL'!D99)","v":""},{"$f":"IF('Age - FL'!E99=\"\",\"\",'Age - FL'!E99)","v":""},{"$f":"IF('Age - FL'!F99=\"\",\"\",'Age - FL'!F99)","v":""}]
[94,{"$f":"IF('Age - FL'!B100=\"\",\"\",'Age - FL'!B100)","v":""},{"$f":"IF('Age - FL'!C100=\"\",\"\",'Age - FL'!C100)","v":""},{"$f":"IF('Age - FL'!D100=\"\",\"\",'Age - FL'!D100)","v":""},{"$f":"IF('Age - FL'!E100=\"\",\"\",'Age - FL'!E100)","v":""},{"$f":"IF('Age - FL'!F100=\"\",\"\",'Age - FL'!F100)","v":""}]
[95,{"$f":"IF('Age - FL'!B101=\"\",\"\",'Age - FL'!B101)","v":""},{"$f":"IF('Age - FL'!C101=\"\",\"\",'Age - FL'!C101)","v":""},{"$f":"IF('Age - FL'!D101=\"\",\"\",'Age - FL'!D101)","v":""},{"$f":"IF('Age - FL'!E101=\"\",\"\",'Age - FL'!E101)","v":""},{"$f":"IF('Age - FL'!F101=\"\",\"\",'Age - FL'!F101)","v":""}]
[96,{"$f":"IF('Age - FL'!B102=\"\",\"\",'Age - FL'!B102)","v":""},{"$f":"IF('Age - FL'!C102=\"\",\"\",'Age - FL'!C102)","v":""},{"$f":"IF('Age - FL'!D102=\"\",\"\",'Age - FL'!D102)","v":""},{"$f":"IF('Age - FL'!E102=\"\",\"\",'Age - FL'!E102)","v":""},{"$f":"IF('Age - FL'!F102=\"\",\"\",'Age - FL'!F102)","v":""}]
[97,{"$f":"IF('Age - FL'!B103=\"\",\"\",'Age - FL'!B103)","v":""},{"$f":"IF('Age - FL'!C103=\"\",\"\",'Age - FL'!C103)","v":""},{"$f":"IF('Age - FL'!D103=\"\",\"\",'Age - FL'!D103)","v":""},{"$f":"IF('Age - FL'!E103=\"\",\"\",'Age - FL'!E103)","v":""},{"$f":"IF('Age - FL'!F103=\"\",\"\",'Age - FL'!F103)","v":""}]
[98,{"$f":"IF('Age - FL'!B104=\"\",\"\",'Age - FL'!B104)","v":""},{"$f":"IF('Age - FL'!C104=\"\",\"\",'Age - FL'!C104)","v":""},{"$f":"IF('Age - FL'!D104=\"\",\"\",'Age - FL'!D104)","v":""},{"$f":"IF('Age - FL'!E104=\"\",\"\",'Age - FL'!E104)","v":""},{"$f":"IF('Age - FL'!F104=\"\",\"\",'Age - FL'!F104)","v":""}]
[99,{"$f":"IF('Age - FL'!B105=\"\",\"\",'Age - FL'!B105)","v":""},{"$f":"IF('Age - FL'!C105=\"\",\"\",'Age - FL'!C105)","v":""},{"$f":"IF('Age - FL'!D105=\"\",\"\",'Age - FL'!D105)","v":""},{"$f":"IF('Age - FL'!E105=\"\",\"\",'Age - FL'!E105)","v":""},{"$f":"IF('Age - FL'!F105=\"\",\"\",'Age - FL'!F105)","v":""}]
[100,{"$f":"IF('Age - FL'!B106=\"\",\"\",'Age - FL'!B106)","v":""},{"$f":"IF('Age - FL'!C106=\"\",\"\",'Age - FL'!C106)","v":""},{"$f":"IF('Age - FL'!D106=\"\",\"\",'Age - FL'!D106)","v":""},{"$f":"IF('Age - FL'!E106=\"\",\"\",'Age - FL'!E106)","v":""},{"$f":"IF('Age - FL'!F106=\"\",\"\",'Age - FL'!F106)","v":""}]
[101,{"$f":"IF('Age - FL'!B107=\"\",\"\",'Age - FL'!B107)","v":""},{"$f":"IF('Age - FL'!C107=\"\",\"\",'Age - FL'!C107)","v":""},{"$f":"IF('Age - FL'!D107=\"\",\"\",'Age - FL'!D107)","v":""},{"$f":"IF('Age - FL'!E107=\"\",\"\",'Age - FL'!E107)","v":""},{"$f":"IF('Age - FL'!F107=\"\",\"\",'Age - FL'!F107)","v":""}]
[102,{"$f":"IF('Age - FL'!B108=\"\",\"\",'Age - FL'!B108)","v":""},{"$f":"IF('Age - FL'!C108=\"\",\"\",'Age - FL'!C108)","v":""},{"$f":"IF('Age - FL'!D108=\"\",\"\",'Age - FL'!D108)","v":""},{"$f":"IF('Age - FL'!E108=\"\",\"\",'Age - FL'!E108)","v":""},{"$f":"IF('Age - FL'!F108=\"\",\"\",'Age - FL'!F108)","v":""}]
[103,{"$f":"IF('Age - FL'!B109=\"\",\"\",'Age - FL'!B109)","v":""},{"$f":"IF('Age - FL'!C109=\"\",\"\",'Age - FL'!C109)","v":""},{"$f":"IF('Age - FL'!D109=\"\",\"\",'Age - FL'!D109)","v":""},{"$f":"IF('Age - FL'!E109=\"\",\"\",'Age - FL'!E109)","v":""},{"$f":"IF('Age - FL'!F109=\"\",\"\",'Age - FL'!F109)","v":""}]
[104,{"$f":"IF('Age - FL'!B110=\"\",\"\",'Age - FL'!B110)","v":""},{"$f":"IF('Age - FL'!C110=\"\",\"\",'Age - FL'!C110)","v":""},{"$f":"IF('Age - FL'!D110=\"\",\"\",'Age - FL'!D110)","v":""},{"$f":"IF('Age - FL'!E110=\"\",\"\",'Age - FL'!E110)","v":""},{"$f":"IF('Age - FL'!F110=\"\",\"\",'Age - FL'!F110)","v":""}]
[105,{"$f":"IF('Age - FL'!B111=\"\",\"\",'Age - FL'!B111)","v":""},{"$f":"IF('Age - FL'!C111=\"\",\"\",'Age - FL'!C111)","v":""},{"$f":"IF('Age - FL'!D111=\"\",\"\",'Age - FL'!D111)","v":""},{"$f":"IF('Age - FL'!E111=\"\",\"\",'Age - FL'!E111)","v":""},{"$f":"IF('Age - FL'!F111=\"\",\"\",'Age - FL'!F111)","v":""}]
[106,{"$f":"IF('Age - FL'!B112=\"\",\"\",'Age - FL'!B112)","v":""},{"$f":"IF('Age - FL'!C112=\"\",\"\",'Age - FL'!C112)","v":""},{"$f":"IF('Age - FL'!D112=\"\",\"\",'Age - FL'!D112)","v":""},{"$f":"IF('Age - FL'!E112=\"\",\"\",'Age - FL'!E112)","v":""},{"$f":"IF('Age - FL'!F112=\"\",\"\",'Age - FL'!F112)","v":""}]
[107,{"$f":"IF('Age - FL'!B113=\"\",\"\",'Age - FL'!B113)","v":""},{"$f":"IF('Age - FL'!C113=\"\",\"\",'Age - FL'!C113)","v":""},{"$f":"IF('Age - FL'!D113=\"\",\"\",'Age - FL'!D113)","v":""},{"$f":"IF('Age - FL'!E113=\"\",\"\",'Age - FL'!E113)","v":""},{"$f":"IF('Age - FL'!F113=\"\",\"\",'Age - FL'!F113)","v":""}]
[108,{"$f":"IF('Age - FL'!B114=\"\",\"\",'Age - FL'!B114)","v":""},{"$f":"IF('Age - FL'!C114=\"\",\"\",'Age - FL'!C114)","v":""},{"$f":"IF('Age - FL'!D114=\"\",\"\",'Age - FL'!D114)","v":""},{"$f":"IF('Age - FL'!E114=\"\",\"\",'Age - FL'!E114)","v":""},{"$f":"IF('Age - FL'!F114=\"\",\"\",'Age - FL'!F114)","v":""}]
[109,{"$f":"IF('Age - FL'!B115=\"\",\"\",'Age - FL'!B115)","v":""},{"$f":"IF('Age - FL'!C115=\"\",\"\",'Age - FL'!C115)","v":""},{"$f":"IF('Age - FL'!D115=\"\",\"\",'Age - FL'!D115)","v":""},{"$f":"IF('Age - FL'!E115=\"\",\"\",'Age - FL'!E115)","v":""},{"$f":"IF('Age - FL'!F115=\"\",\"\",'Age - FL'!F115)","v":""}]
[110,{"$f":"IF('Age - FL'!B116=\"\",\"\",'Age - FL'!B116)","v":""},{"$f":"IF('Age - FL'!C116=\"\",\"\",'Age - FL'!C116)","v":""},{"$f":"IF('Age - FL'!D116=\"\",\"\",'Age - FL'!D116)","v":""},{"$f":"IF('Age - FL'!E116=\"\",\"\",'Age - FL'!E116)","v":""},{"$f":"IF('Age - FL'!F116=\"\",\"\",'Age - FL'!F116)","v":""}]
[111,{"$f":"IF('Age - FL'!B117=\"\",\"\",'Age - FL'!B117)","v":""},{"$f":"IF('Age - FL'!C117=\"\",\"\",'Age - FL'!C117)","v":""},{"$f":"IF('Age - FL'!D117=\"\",\"\",'Age - FL'!D117)","v":""},{"$f":"IF('Age - FL'!E117=\"\",\"\",'Age - FL'!E117)","v":""},{"$f":"IF('Age - FL'!F117=\"\",\"\",'Age - FL'!F117)","v":""}]
[112,{"$f":"IF('Age - FL'!B118=\"\",\"\",'Age - FL'!B118)","v":""},{"$f":"IF('Age - FL'!C118=\"\",\"\",'Age - FL'!C118)","v":""},{"$f":"IF('Age - FL'!D118=\"\",\"\",'Age - FL'!D118)","v":""},{"$f":"IF('Age - FL'!E118=\"\",\"\",'Age - FL'!E118)","v":""},{"$f":"IF('Age - FL'!F118=\"\",\"\",'Age - FL'!F118)","v":""}]
[113,{"$f":"IF('Age - FL'!B119=\"\",\"\",'Age - FL'!B119)","v":""},{"$f":"IF('Age - FL'!C119=\"\",\"\",'Age - FL'!C119)","v":""},{"$f":"IF('Age - FL'!D119=\"\",\"\",'Age - FL'!D119)","v":""},{"$f":"IF('Age - FL'!E119=\"\",\"\",'Age - FL'!E119)","v":""},{"$f":"IF('Age - FL'!F119=\"\",\"\",'Age - FL'!F119)","v":""}]
[114,{"$f":"IF('Age - FL'!B120=\"\",\"\",'Age - FL'!B120)","v":""},{"$f":"IF('Age - FL'!C120=\"\",\"\",'Age - FL'!C120)","v":""},{"$f":"IF('Age - FL'!D120=\"\",\"\",'Age - FL'!D120)","v":""},{"$f":"IF('Age - FL'!E120=\"\",\"\",'Age - FL'!E120)","v":""},{"$f":"IF('Age - FL'!F120=\"\",\"\",'Age - FL'!F120)","v":""}]
[115,{"$f":"IF('Age - FL'!B121=\"\",\"\",'Age - FL'!B121)","v":""},{"$f":"IF('Age - FL'!C121=\"\",\"\",'Age - FL'!C121)","v":""},{"$f":"IF('Age - FL'!D121=\"\",\"\",'Age - FL'!D121)","v":""},{"$f":"IF('Age - FL'!E121=\"\",\"\",'Age - FL'!E121)","v":""},{"$f":"IF('Age - FL'!F121=\"\",\"\",'Age - FL'!F121)","v":""}]
[116,{"$f":"IF('Age - FL'!B122=\"\",\"\",'Age - FL'!B122)","v":""},{"$f":"IF('Age - FL'!C122=\"\",\"\",'Age - FL'!C122)","v":""},{"$f":"IF('Age - FL'!D122=\"\",\"\",'Age - FL'!D122)","v":""},{"$f":"IF('Age - FL'!E122=\"\",\"\",'Age - FL'!E122)","v":""},{"$f":"IF('Age - FL'!F122=\"\",\"\",'Age - FL'!F122)","v":""}]
[117,{"$f":"IF('Age - FL'!B123=\"\",\"\",'Age - FL'!B123)","v":""},{"$f":"IF('Age - FL'!C123=\"\",\"\",'Age - FL'!C123)","v":""},{"$f":"IF('Age - FL'!D123=\"\",\"\",'Age - FL'!D123)","v":""},{"$f":"IF('Age - FL'!E123=\"\",\"\",'Age - FL'!E123)","v":""},{"$f":"IF('Age - FL'!F123=\"\",\"\",'Age - FL'!F123)","v":""}]
[118,{"$f":"IF('Age - FL'!B124=\"\",\"\",'Age - FL'!B124)","v":""},{"$f":"IF('Age - FL'!C124=\"\",\"\",'Age - FL'!C124)","v":""},{"$f":"IF('Age - FL'!D124=\"\",\"\",'Age - FL'!D124)","v":""},{"$f":"IF('Age - FL'!E124=\"\",\"\",'Age - FL'!E124)","v":""},{"$f":"IF('Age - FL'!F124=\"\",\"\",'Age - FL'!F124)","v":""}]
[119,{"$f":"IF('Age - FL'!B125=\"\",\"\",'Age - FL'!B125)","v":""},{"$f":"IF('Age - FL'!C125=\"\",\"\",'Age - FL'!C125)","v":""},{"$f":"IF('Age - FL'!D125=\"\",\"\",'Age - FL'!D125)","v":""},{"$f":"IF('Age - FL'!E125=\"\",\"\",'Age - FL'!E125)","v":""},{"$f":"IF('Age - FL'!F125=\"\",\"\",'Age - FL'!F125)","v":""}]
[120,{"$f":"IF('Age - FL'!B126=\"\",\"\",'Age - FL'!B126)","v":""},{"$f":"IF('Age - FL'!C126=\"\",\"\",'Age - FL'!C126)","v":""},{"$f":"IF('Age - FL'!D126=\"\",\"\",'Age - FL'!D126)","v":""},{"$f":"IF('Age - FL'!E126=\"\",\"\",'Age - FL'!E126)","v":""},{"$f":"IF('Age - FL'!F126=\"\",\"\",'Age - FL'!F126)","v":""}]
[]
["AGE - Anterior-Posterior Thigh Diameter",null,null,null,null,{"$f":"IF('Age - APTD'!F1=\"\",\"\",'Age - APTD'!F1)","v":"Age APTD"}]
[null,null,null,null,null,{"$f":"ValidationData!DataVersion","v":"70.80.100.100"}]
["Index","Measurement Name",null,null,"APTD"]
[null,"Measurement Type",null,null,"Distance (cm)"]
[null,"Author",null,null,{"$f":"IF('Age - APTD'!J5=\"\",\"\",'Age - APTD'!J5)","v":""}]
[null,"Value","Age (weeks)","Age (days)","Range (weeks)","Range (days)"]
[1,{"$f":"IF('Age - APTD'!B7=\"\",\"\",'Age - APTD'!B7)","v":""},{"$f":"IF('Age - APTD'!C7=\"\",\"\",'Age - APTD'!C7)","v":""},{"$f":"IF('Age - APTD'!D7=\"\",\"\",'Age - APTD'!D7)","v":""},{"$f":"IF('Age - APTD'!E7=\"\",\"\",'Age - APTD'!E7)","v":""},{"$f":"IF('Age - APTD'!F7=\"\",\"\",'Age - APTD'!F7)","v":""}]
[2,{"$f":"IF('Age - APTD'!B8=\"\",\"\",'Age - APTD'!B8)","v":""},{"$f":"IF('Age - APTD'!C8=\"\",\"\",'Age - APTD'!C8)","v":""},{"$f":"IF('Age - APTD'!D8=\"\",\"\",'Age - APTD'!D8)","v":""},{"$f":"IF('Age - APTD'!E8=\"\",\"\",'Age - APTD'!E8)","v":""},{"$f":"IF('Age - APTD'!F8=\"\",\"\",'Age - APTD'!F8)","v":""}]
[3,{"$f":"IF('Age - APTD'!B9=\"\",\"\",'Age - APTD'!B9)","v":""},{"$f":"IF('Age - APTD'!C9=\"\",\"\",'Age - APTD'!C9)","v":""},{"$f":"IF('Age - APTD'!D9=\"\",\"\",'Age - APTD'!D9)","v":""},{"$f":"IF('Age - APTD'!E9=\"\",\"\",'Age - APTD'!E9)","v":""},{"$f":"IF('Age - APTD'!F9=\"\",\"\",'Age - APTD'!F9)","v":""}]
[4,{"$f":"IF('Age - APTD'!B10=\"\",\"\",'Age - APTD'!B10)","v":""},{"$f":"IF('Age - APTD'!C10=\"\",\"\",'Age - APTD'!C10)","v":""},{"$f":"IF('Age - APTD'!D10=\"\",\"\",'Age - APTD'!D10)","v":""},{"$f":"IF('Age - APTD'!E10=\"\",\"\",'Age - APTD'!E10)","v":""},{"$f":"IF('Age - APTD'!F10=\"\",\"\",'Age - APTD'!F10)","v":""}]
[5,{"$f":"IF('Age - APTD'!B11=\"\",\"\",'Age - APTD'!B11)","v":""},{"$f":"IF('Age - APTD'!C11=\"\",\"\",'Age - APTD'!C11)","v":""},{"$f":"IF('Age - APTD'!D11=\"\",\"\",'Age - APTD'!D11)","v":""},{"$f":"IF('Age - APTD'!E11=\"\",\"\",'Age - APTD'!E11)","v":""},{"$f":"IF('Age - APTD'!F11=\"\",\"\",'Age - APTD'!F11)","v":""}]
[6,{"$f":"IF('Age - APTD'!B12=\"\",\"\",'Age - APTD'!B12)","v":""},{"$f":"IF('Age - APTD'!C12=\"\",\"\",'Age - APTD'!C12)","v":""},{"$f":"IF('Age - APTD'!D12=\"\",\"\",'Age - APTD'!D12)","v":""},{"$f":"IF('Age - APTD'!E12=\"\",\"\",'Age - APTD'!E12)","v":""},{"$f":"IF('Age - APTD'!F12=\"\",\"\",'Age - APTD'!F12)","v":""}]
[7,{"$f":"IF('Age - APTD'!B13=\"\",\"\",'Age - APTD'!B13)","v":""},{"$f":"IF('Age - APTD'!C13=\"\",\"\",'Age - APTD'!C13)","v":""},{"$f":"IF('Age - APTD'!D13=\"\",\"\",'Age - APTD'!D13)","v":""},{"$f":"IF('Age - APTD'!E13=\"\",\"\",'Age - APTD'!E13)","v":""},{"$f":"IF('Age - APTD'!F13=\"\",\"\",'Age - APTD'!F13)","v":""}]
[8,{"$f":"IF('Age - APTD'!B14=\"\",\"\",'Age - APTD'!B14)","v":""},{"$f":"IF('Age - APTD'!C14=\"\",\"\",'Age - APTD'!C14)","v":""},{"$f":"IF('Age - APTD'!D14=\"\",\"\",'Age - APTD'!D14)","v":""},{"$f":"IF('Age - APTD'!E14=\"\",\"\",'Age - APTD'!E14)","v":""},{"$f":"IF('Age - APTD'!F14=\"\",\"\",'Age - APTD'!F14)","v":""}]
[9,{"$f":"IF('Age - APTD'!B15=\"\",\"\",'Age - APTD'!B15)","v":""},{"$f":"IF('Age - APTD'!C15=\"\",\"\",'Age - APTD'!C15)","v":""},{"$f":"IF('Age - APTD'!D15=\"\",\"\",'Age - APTD'!D15)","v":""},{"$f":"IF('Age - APTD'!E15=\"\",\"\",'Age - APTD'!E15)","v":""},{"$f":"IF('Age - APTD'!F15=\"\",\"\",'Age - APTD'!F15)","v":""}]
[10,{"$f":"IF('Age - APTD'!B16=\"\",\"\",'Age - APTD'!B16)","v":""},{"$f":"IF('Age - APTD'!C16=\"\",\"\",'Age - APTD'!C16)","v":""},{"$f":"IF('Age - APTD'!D16=\"\",\"\",'Age - APTD'!D16)","v":""},{"$f":"IF('Age - APTD'!E16=\"\",\"\",'Age - APTD'!E16)","v":""},{"$f":"IF('Age - APTD'!F16=\"\",\"\",'Age - APTD'!F16)","v":""}]
[11,{"$f":"IF('Age - APTD'!B17=\"\",\"\",'Age - APTD'!B17)","v":""},{"$f":"IF('Age - APTD'!C17=\"\",\"\",'Age - APTD'!C17)","v":""},{"$f":"IF('Age - APTD'!D17=\"\",\"\",'Age - APTD'!D17)","v":""},{"$f":"IF('Age - APTD'!E17=\"\",\"\",'Age - APTD'!E17)","v":""},{"$f":"IF('Age - APTD'!F17=\"\",\"\",'Age - APTD'!F17)","v":""}]
[12,{"$f":"IF('Age - APTD'!B18=\"\",\"\",'Age - APTD'!B18)","v":""},{"$f":"IF('Age - APTD'!C18=\"\",\"\",'Age - APTD'!C18)","v":""},{"$f":"IF('Age - APTD'!D18=\"\",\"\",'Age - APTD'!D18)","v":""},{"$f":"IF('Age - APTD'!E18=\"\",\"\",'Age - APTD'!E18)","v":""},{"$f":"IF('Age - APTD'!F18=\"\",\"\",'Age - APTD'!F18)","v":""}]
[13,{"$f":"IF('Age - APTD'!B19=\"\",\"\",'Age - APTD'!B19)","v":""},{"$f":"IF('Age - APTD'!C19=\"\",\"\",'Age - APTD'!C19)","v":""},{"$f":"IF('Age - APTD'!D19=\"\",\"\",'Age - APTD'!D19)","v":""},{"$f":"IF('Age - APTD'!E19=\"\",\"\",'Age - APTD'!E19)","v":""},{"$f":"IF('Age - APTD'!F19=\"\",\"\",'Age - APTD'!F19)","v":""}]
[14,{"$f":"IF('Age - APTD'!B20=\"\",\"\",'Age - APTD'!B20)","v":""},{"$f":"IF('Age - APTD'!C20=\"\",\"\",'Age - APTD'!C20)","v":""},{"$f":"IF('Age - APTD'!D20=\"\",\"\",'Age - APTD'!D20)","v":""},{"$f":"IF('Age - APTD'!E20=\"\",\"\",'Age - APTD'!E20)","v":""},{"$f":"IF('Age - APTD'!F20=\"\",\"\",'Age - APTD'!F20)","v":""}]
[15,{"$f":"IF('Age - APTD'!B21=\"\",\"\",'Age - APTD'!B21)","v":""},{"$f":"IF('Age - APTD'!C21=\"\",\"\",'Age - APTD'!C21)","v":""},{"$f":"IF('Age - APTD'!D21=\"\",\"\",'Age - APTD'!D21)","v":""},{"$f":"IF('Age - APTD'!E21=\"\",\"\",'Age - APTD'!E21)","v":""},{"$f":"IF('Age - APTD'!F21=\"\",\"\",'Age - APTD'!F21)","v":""}]
[16,{"$f":"IF('Age - APTD'!B22=\"\",\"\",'Age - APTD'!B22)","v":""},{"$f":"IF('Age - APTD'!C22=\"\",\"\",'Age - APTD'!C22)","v":""},{"$f":"IF('Age - APTD'!D22=\"\",\"\",'Age - APTD'!D22)","v":""},{"$f":"IF('Age - APTD'!E22=\"\",\"\",'Age - APTD'!E22)","v":""},{"$f":"IF('Age - APTD'!F22=\"\",\"\",'Age - APTD'!F22)","v":""}]
[17,{"$f":"IF('Age - APTD'!B23=\"\",\"\",'Age - APTD'!B23)","v":""},{"$f":"IF('Age - APTD'!C23=\"\",\"\",'Age - APTD'!C23)","v":""},{"$f":"IF('Age - APTD'!D23=\"\",\"\",'Age - APTD'!D23)","v":""},{"$f":"IF('Age - APTD'!E23=\"\",\"\",'Age - APTD'!E23)","v":""},{"$f":"IF('Age - APTD'!F23=\"\",\"\",'Age - APTD'!F23)","v":""}]
[18,{"$f":"IF('Age - APTD'!B24=\"\",\"\",'Age - APTD'!B24)","v":""},{"$f":"IF('Age - APTD'!C24=\"\",\"\",'Age - APTD'!C24)","v":""},{"$f":"IF('Age - APTD'!D24=\"\",\"\",'Age - APTD'!D24)","v":""},{"$f":"IF('Age - APTD'!E24=\"\",\"\",'Age - APTD'!E24)","v":""},{"$f":"IF('Age - APTD'!F24=\"\",\"\",'Age - APTD'!F24)","v":""}]
[19,{"$f":"IF('Age - APTD'!B25=\"\",\"\",'Age - APTD'!B25)","v":""},{"$f":"IF('Age - APTD'!C25=\"\",\"\",'Age - APTD'!C25)","v":""},{"$f":"IF('Age - APTD'!D25=\"\",\"\",'Age - APTD'!D25)","v":""},{"$f":"IF('Age - APTD'!E25=\"\",\"\",'Age - APTD'!E25)","v":""},{"$f":"IF('Age - APTD'!F25=\"\",\"\",'Age - APTD'!F25)","v":""}]
[20,{"$f":"IF('Age - APTD'!B26=\"\",\"\",'Age - APTD'!B26)","v":""},{"$f":"IF('Age - APTD'!C26=\"\",\"\",'Age - APTD'!C26)","v":""},{"$f":"IF('Age - APTD'!D26=\"\",\"\",'Age - APTD'!D26)","v":""},{"$f":"IF('Age - APTD'!E26=\"\",\"\",'Age - APTD'!E26)","v":""},{"$f":"IF('Age - APTD'!F26=\"\",\"\",'Age - APTD'!F26)","v":""}]
[21,{"$f":"IF('Age - APTD'!B27=\"\",\"\",'Age - APTD'!B27)","v":""},{"$f":"IF('Age - APTD'!C27=\"\",\"\",'Age - APTD'!C27)","v":""},{"$f":"IF('Age - APTD'!D27=\"\",\"\",'Age - APTD'!D27)","v":""},{"$f":"IF('Age - APTD'!E27=\"\",\"\",'Age - APTD'!E27)","v":""},{"$f":"IF('Age - APTD'!F27=\"\",\"\",'Age - APTD'!F27)","v":""}]
[22,{"$f":"IF('Age - APTD'!B28=\"\",\"\",'Age - APTD'!B28)","v":""},{"$f":"IF('Age - APTD'!C28=\"\",\"\",'Age - APTD'!C28)","v":""},{"$f":"IF('Age - APTD'!D28=\"\",\"\",'Age - APTD'!D28)","v":""},{"$f":"IF('Age - APTD'!E28=\"\",\"\",'Age - APTD'!E28)","v":""},{"$f":"IF('Age - APTD'!F28=\"\",\"\",'Age - APTD'!F28)","v":""}]
[23,{"$f":"IF('Age - APTD'!B29=\"\",\"\",'Age - APTD'!B29)","v":""},{"$f":"IF('Age - APTD'!C29=\"\",\"\",'Age - APTD'!C29)","v":""},{"$f":"IF('Age - APTD'!D29=\"\",\"\",'Age - APTD'!D29)","v":""},{"$f":"IF('Age - APTD'!E29=\"\",\"\",'Age - APTD'!E29)","v":""},{"$f":"IF('Age - APTD'!F29=\"\",\"\",'Age - APTD'!F29)","v":""}]
[24,{"$f":"IF('Age - APTD'!B30=\"\",\"\",'Age - APTD'!B30)","v":""},{"$f":"IF('Age - APTD'!C30=\"\",\"\",'Age - APTD'!C30)","v":""},{"$f":"IF('Age - APTD'!D30=\"\",\"\",'Age - APTD'!D30)","v":""},{"$f":"IF('Age - APTD'!E30=\"\",\"\",'Age - APTD'!E30)","v":""},{"$f":"IF('Age - APTD'!F30=\"\",\"\",'Age - APTD'!F30)","v":""}]
[25,{"$f":"IF('Age - APTD'!B31=\"\",\"\",'Age - APTD'!B31)","v":""},{"$f":"IF('Age - APTD'!C31=\"\",\"\",'Age - APTD'!C31)","v":""},{"$f":"IF('Age - APTD'!D31=\"\",\"\",'Age - APTD'!D31)","v":""},{"$f":"IF('Age - APTD'!E31=\"\",\"\",'Age - APTD'!E31)","v":""},{"$f":"IF('Age - APTD'!F31=\"\",\"\",'Age - APTD'!F31)","v":""}]
[26,{"$f":"IF('Age - APTD'!B32=\"\",\"\",'Age - APTD'!B32)","v":""},{"$f":"IF('Age - APTD'!C32=\"\",\"\",'Age - APTD'!C32)","v":""},{"$f":"IF('Age - APTD'!D32=\"\",\"\",'Age - APTD'!D32)","v":""},{"$f":"IF('Age - APTD'!E32=\"\",\"\",'Age - APTD'!E32)","v":""},{"$f":"IF('Age - APTD'!F32=\"\",\"\",'Age - APTD'!F32)","v":""}]
[27,{"$f":"IF('Age - APTD'!B33=\"\",\"\",'Age - APTD'!B33)","v":""},{"$f":"IF('Age - APTD'!C33=\"\",\"\",'Age - APTD'!C33)","v":""},{"$f":"IF('Age - APTD'!D33=\"\",\"\",'Age - APTD'!D33)","v":""},{"$f":"IF('Age - APTD'!E33=\"\",\"\",'Age - APTD'!E33)","v":""},{"$f":"IF('Age - APTD'!F33=\"\",\"\",'Age - APTD'!F33)","v":""}]
[28,{"$f":"IF('Age - APTD'!B34=\"\",\"\",'Age - APTD'!B34)","v":""},{"$f":"IF('Age - APTD'!C34=\"\",\"\",'Age - APTD'!C34)","v":""},{"$f":"IF('Age - APTD'!D34=\"\",\"\",'Age - APTD'!D34)","v":""},{"$f":"IF('Age - APTD'!E34=\"\",\"\",'Age - APTD'!E34)","v":""},{"$f":"IF('Age - APTD'!F34=\"\",\"\",'Age - APTD'!F34)","v":""}]
[29,{"$f":"IF('Age - APTD'!B35=\"\",\"\",'Age - APTD'!B35)","v":""},{"$f":"IF('Age - APTD'!C35=\"\",\"\",'Age - APTD'!C35)","v":""},{"$f":"IF('Age - APTD'!D35=\"\",\"\",'Age - APTD'!D35)","v":""},{"$f":"IF('Age - APTD'!E35=\"\",\"\",'Age - APTD'!E35)","v":""},{"$f":"IF('Age - APTD'!F35=\"\",\"\",'Age - APTD'!F35)","v":""}]
[30,{"$f":"IF('Age - APTD'!B36=\"\",\"\",'Age - APTD'!B36)","v":""},{"$f":"IF('Age - APTD'!C36=\"\",\"\",'Age - APTD'!C36)","v":""},{"$f":"IF('Age - APTD'!D36=\"\",\"\",'Age - APTD'!D36)","v":""},{"$f":"IF('Age - APTD'!E36=\"\",\"\",'Age - APTD'!E36)","v":""},{"$f":"IF('Age - APTD'!F36=\"\",\"\",'Age - APTD'!F36)","v":""}]
[31,{"$f":"IF('Age - APTD'!B37=\"\",\"\",'Age - APTD'!B37)","v":""},{"$f":"IF('Age - APTD'!C37=\"\",\"\",'Age - APTD'!C37)","v":""},{"$f":"IF('Age - APTD'!D37=\"\",\"\",'Age - APTD'!D37)","v":""},{"$f":"IF('Age - APTD'!E37=\"\",\"\",'Age - APTD'!E37)","v":""},{"$f":"IF('Age - APTD'!F37=\"\",\"\",'Age - APTD'!F37)","v":""}]
[32,{"$f":"IF('Age - APTD'!B38=\"\",\"\",'Age - APTD'!B38)","v":""},{"$f":"IF('Age - APTD'!C38=\"\",\"\",'Age - APTD'!C38)","v":""},{"$f":"IF('Age - APTD'!D38=\"\",\"\",'Age - APTD'!D38)","v":""},{"$f":"IF('Age - APTD'!E38=\"\",\"\",'Age - APTD'!E38)","v":""},{"$f":"IF('Age - APTD'!F38=\"\",\"\",'Age - APTD'!F38)","v":""}]
[33,{"$f":"IF('Age - APTD'!B39=\"\",\"\",'Age - APTD'!B39)","v":""},{"$f":"IF('Age - APTD'!C39=\"\",\"\",'Age - APTD'!C39)","v":""},{"$f":"IF('Age - APTD'!D39=\"\",\"\",'Age - APTD'!D39)","v":""},{"$f":"IF('Age - APTD'!E39=\"\",\"\",'Age - APTD'!E39)","v":""},{"$f":"IF('Age - APTD'!F39=\"\",\"\",'Age - APTD'!F39)","v":""}]
[34,{"$f":"IF('Age - APTD'!B40=\"\",\"\",'Age - APTD'!B40)","v":""},{"$f":"IF('Age - APTD'!C40=\"\",\"\",'Age - APTD'!C40)","v":""},{"$f":"IF('Age - APTD'!D40=\"\",\"\",'Age - APTD'!D40)","v":""},{"$f":"IF('Age - APTD'!E40=\"\",\"\",'Age - APTD'!E40)","v":""},{"$f":"IF('Age - APTD'!F40=\"\",\"\",'Age - APTD'!F40)","v":""}]
[35,{"$f":"IF('Age - APTD'!B41=\"\",\"\",'Age - APTD'!B41)","v":""},{"$f":"IF('Age - APTD'!C41=\"\",\"\",'Age - APTD'!C41)","v":""},{"$f":"IF('Age - APTD'!D41=\"\",\"\",'Age - APTD'!D41)","v":""},{"$f":"IF('Age - APTD'!E41=\"\",\"\",'Age - APTD'!E41)","v":""},{"$f":"IF('Age - APTD'!F41=\"\",\"\",'Age - APTD'!F41)","v":""}]
[36,{"$f":"IF('Age - APTD'!B42=\"\",\"\",'Age - APTD'!B42)","v":""},{"$f":"IF('Age - APTD'!C42=\"\",\"\",'Age - APTD'!C42)","v":""},{"$f":"IF('Age - APTD'!D42=\"\",\"\",'Age - APTD'!D42)","v":""},{"$f":"IF('Age - APTD'!E42=\"\",\"\",'Age - APTD'!E42)","v":""},{"$f":"IF('Age - APTD'!F42=\"\",\"\",'Age - APTD'!F42)","v":""}]
[37,{"$f":"IF('Age - APTD'!B43=\"\",\"\",'Age - APTD'!B43)","v":""},{"$f":"IF('Age - APTD'!C43=\"\",\"\",'Age - APTD'!C43)","v":""},{"$f":"IF('Age - APTD'!D43=\"\",\"\",'Age - APTD'!D43)","v":""},{"$f":"IF('Age - APTD'!E43=\"\",\"\",'Age - APTD'!E43)","v":""},{"$f":"IF('Age - APTD'!F43=\"\",\"\",'Age - APTD'!F43)","v":""}]
[38,{"$f":"IF('Age - APTD'!B44=\"\",\"\",'Age - APTD'!B44)","v":""},{"$f":"IF('Age - APTD'!C44=\"\",\"\",'Age - APTD'!C44)","v":""},{"$f":"IF('Age - APTD'!D44=\"\",\"\",'Age - APTD'!D44)","v":""},{"$f":"IF('Age - APTD'!E44=\"\",\"\",'Age - APTD'!E44)","v":""},{"$f":"IF('Age - APTD'!F44=\"\",\"\",'Age - APTD'!F44)","v":""}]
[39,{"$f":"IF('Age - APTD'!B45=\"\",\"\",'Age - APTD'!B45)","v":""},{"$f":"IF('Age - APTD'!C45=\"\",\"\",'Age - APTD'!C45)","v":""},{"$f":"IF('Age - APTD'!D45=\"\",\"\",'Age - APTD'!D45)","v":""},{"$f":"IF('Age - APTD'!E45=\"\",\"\",'Age - APTD'!E45)","v":""},{"$f":"IF('Age - APTD'!F45=\"\",\"\",'Age - APTD'!F45)","v":""}]
[40,{"$f":"IF('Age - APTD'!B46=\"\",\"\",'Age - APTD'!B46)","v":""},{"$f":"IF('Age - APTD'!C46=\"\",\"\",'Age - APTD'!C46)","v":""},{"$f":"IF('Age - APTD'!D46=\"\",\"\",'Age - APTD'!D46)","v":""},{"$f":"IF('Age - APTD'!E46=\"\",\"\",'Age - APTD'!E46)","v":""},{"$f":"IF('Age - APTD'!F46=\"\",\"\",'Age - APTD'!F46)","v":""}]
[41,{"$f":"IF('Age - APTD'!B47=\"\",\"\",'Age - APTD'!B47)","v":""},{"$f":"IF('Age - APTD'!C47=\"\",\"\",'Age - APTD'!C47)","v":""},{"$f":"IF('Age - APTD'!D47=\"\",\"\",'Age - APTD'!D47)","v":""},{"$f":"IF('Age - APTD'!E47=\"\",\"\",'Age - APTD'!E47)","v":""},{"$f":"IF('Age - APTD'!F47=\"\",\"\",'Age - APTD'!F47)","v":""}]
[42,{"$f":"IF('Age - APTD'!B48=\"\",\"\",'Age - APTD'!B48)","v":""},{"$f":"IF('Age - APTD'!C48=\"\",\"\",'Age - APTD'!C48)","v":""},{"$f":"IF('Age - APTD'!D48=\"\",\"\",'Age - APTD'!D48)","v":""},{"$f":"IF('Age - APTD'!E48=\"\",\"\",'Age - APTD'!E48)","v":""},{"$f":"IF('Age - APTD'!F48=\"\",\"\",'Age - APTD'!F48)","v":""}]
[43,{"$f":"IF('Age - APTD'!B49=\"\",\"\",'Age - APTD'!B49)","v":""},{"$f":"IF('Age - APTD'!C49=\"\",\"\",'Age - APTD'!C49)","v":""},{"$f":"IF('Age - APTD'!D49=\"\",\"\",'Age - APTD'!D49)","v":""},{"$f":"IF('Age - APTD'!E49=\"\",\"\",'Age - APTD'!E49)","v":""},{"$f":"IF('Age - APTD'!F49=\"\",\"\",'Age - APTD'!F49)","v":""}]
[44,{"$f":"IF('Age - APTD'!B50=\"\",\"\",'Age - APTD'!B50)","v":""},{"$f":"IF('Age - APTD'!C50=\"\",\"\",'Age - APTD'!C50)","v":""},{"$f":"IF('Age - APTD'!D50=\"\",\"\",'Age - APTD'!D50)","v":""},{"$f":"IF('Age - APTD'!E50=\"\",\"\",'Age - APTD'!E50)","v":""},{"$f":"IF('Age - APTD'!F50=\"\",\"\",'Age - APTD'!F50)","v":""}]
[45,{"$f":"IF('Age - APTD'!B51=\"\",\"\",'Age - APTD'!B51)","v":""},{"$f":"IF('Age - APTD'!C51=\"\",\"\",'Age - APTD'!C51)","v":""},{"$f":"IF('Age - APTD'!D51=\"\",\"\",'Age - APTD'!D51)","v":""},{"$f":"IF('Age - APTD'!E51=\"\",\"\",'Age - APTD'!E51)","v":""},{"$f":"IF('Age - APTD'!F51=\"\",\"\",'Age - APTD'!F51)","v":""}]
[46,{"$f":"IF('Age - APTD'!B52=\"\",\"\",'Age - APTD'!B52)","v":""},{"$f":"IF('Age - APTD'!C52=\"\",\"\",'Age - APTD'!C52)","v":""},{"$f":"IF('Age - APTD'!D52=\"\",\"\",'Age - APTD'!D52)","v":""},{"$f":"IF('Age - APTD'!E52=\"\",\"\",'Age - APTD'!E52)","v":""},{"$f":"IF('Age - APTD'!F52=\"\",\"\",'Age - APTD'!F52)","v":""}]
[47,{"$f":"IF('Age - APTD'!B53=\"\",\"\",'Age - APTD'!B53)","v":""},{"$f":"IF('Age - APTD'!C53=\"\",\"\",'Age - APTD'!C53)","v":""},{"$f":"IF('Age - APTD'!D53=\"\",\"\",'Age - APTD'!D53)","v":""},{"$f":"IF('Age - APTD'!E53=\"\",\"\",'Age - APTD'!E53)","v":""},{"$f":"IF('Age - APTD'!F53=\"\",\"\",'Age - APTD'!F53)","v":""}]
[48,{"$f":"IF('Age - APTD'!B54=\"\",\"\",'Age - APTD'!B54)","v":""},{"$f":"IF('Age - APTD'!C54=\"\",\"\",'Age - APTD'!C54)","v":""},{"$f":"IF('Age - APTD'!D54=\"\",\"\",'Age - APTD'!D54)","v":""},{"$f":"IF('Age - APTD'!E54=\"\",\"\",'Age - APTD'!E54)","v":""},{"$f":"IF('Age - APTD'!F54=\"\",\"\",'Age - APTD'!F54)","v":""}]
[49,{"$f":"IF('Age - APTD'!B55=\"\",\"\",'Age - APTD'!B55)","v":""},{"$f":"IF('Age - APTD'!C55=\"\",\"\",'Age - APTD'!C55)","v":""},{"$f":"IF('Age - APTD'!D55=\"\",\"\",'Age - APTD'!D55)","v":""},{"$f":"IF('Age - APTD'!E55=\"\",\"\",'Age - APTD'!E55)","v":""},{"$f":"IF('Age - APTD'!F55=\"\",\"\",'Age - APTD'!F55)","v":""}]
[50,{"$f":"IF('Age - APTD'!B56=\"\",\"\",'Age - APTD'!B56)","v":""},{"$f":"IF('Age - APTD'!C56=\"\",\"\",'Age - APTD'!C56)","v":""},{"$f":"IF('Age - APTD'!D56=\"\",\"\",'Age - APTD'!D56)","v":""},{"$f":"IF('Age - APTD'!E56=\"\",\"\",'Age - APTD'!E56)","v":""},{"$f":"IF('Age - APTD'!F56=\"\",\"\",'Age - APTD'!F56)","v":""}]
[51,{"$f":"IF('Age - APTD'!B57=\"\",\"\",'Age - APTD'!B57)","v":""},{"$f":"IF('Age - APTD'!C57=\"\",\"\",'Age - APTD'!C57)","v":""},{"$f":"IF('Age - APTD'!D57=\"\",\"\",'Age - APTD'!D57)","v":""},{"$f":"IF('Age - APTD'!E57=\"\",\"\",'Age - APTD'!E57)","v":""},{"$f":"IF('Age - APTD'!F57=\"\",\"\",'Age - APTD'!F57)","v":""}]
[52,{"$f":"IF('Age - APTD'!B58=\"\",\"\",'Age - APTD'!B58)","v":""},{"$f":"IF('Age - APTD'!C58=\"\",\"\",'Age - APTD'!C58)","v":""},{"$f":"IF('Age - APTD'!D58=\"\",\"\",'Age - APTD'!D58)","v":""},{"$f":"IF('Age - APTD'!E58=\"\",\"\",'Age - APTD'!E58)","v":""},{"$f":"IF('Age - APTD'!F58=\"\",\"\",'Age - APTD'!F58)","v":""}]
[53,{"$f":"IF('Age - APTD'!B59=\"\",\"\",'Age - APTD'!B59)","v":""},{"$f":"IF('Age - APTD'!C59=\"\",\"\",'Age - APTD'!C59)","v":""},{"$f":"IF('Age - APTD'!D59=\"\",\"\",'Age - APTD'!D59)","v":""},{"$f":"IF('Age - APTD'!E59=\"\",\"\",'Age - APTD'!E59)","v":""},{"$f":"IF('Age - APTD'!F59=\"\",\"\",'Age - APTD'!F59)","v":""}]
[54,{"$f":"IF('Age - APTD'!B60=\"\",\"\",'Age - APTD'!B60)","v":""},{"$f":"IF('Age - APTD'!C60=\"\",\"\",'Age - APTD'!C60)","v":""},{"$f":"IF('Age - APTD'!D60=\"\",\"\",'Age - APTD'!D60)","v":""},{"$f":"IF('Age - APTD'!E60=\"\",\"\",'Age - APTD'!E60)","v":""},{"$f":"IF('Age - APTD'!F60=\"\",\"\",'Age - APTD'!F60)","v":""}]
[55,{"$f":"IF('Age - APTD'!B61=\"\",\"\",'Age - APTD'!B61)","v":""},{"$f":"IF('Age - APTD'!C61=\"\",\"\",'Age - APTD'!C61)","v":""},{"$f":"IF('Age - APTD'!D61=\"\",\"\",'Age - APTD'!D61)","v":""},{"$f":"IF('Age - APTD'!E61=\"\",\"\",'Age - APTD'!E61)","v":""},{"$f":"IF('Age - APTD'!F61=\"\",\"\",'Age - APTD'!F61)","v":""}]
[56,{"$f":"IF('Age - APTD'!B62=\"\",\"\",'Age - APTD'!B62)","v":""},{"$f":"IF('Age - APTD'!C62=\"\",\"\",'Age - APTD'!C62)","v":""},{"$f":"IF('Age - APTD'!D62=\"\",\"\",'Age - APTD'!D62)","v":""},{"$f":"IF('Age - APTD'!E62=\"\",\"\",'Age - APTD'!E62)","v":""},{"$f":"IF('Age - APTD'!F62=\"\",\"\",'Age - APTD'!F62)","v":""}]
[57,{"$f":"IF('Age - APTD'!B63=\"\",\"\",'Age - APTD'!B63)","v":""},{"$f":"IF('Age - APTD'!C63=\"\",\"\",'Age - APTD'!C63)","v":""},{"$f":"IF('Age - APTD'!D63=\"\",\"\",'Age - APTD'!D63)","v":""},{"$f":"IF('Age - APTD'!E63=\"\",\"\",'Age - APTD'!E63)","v":""},{"$f":"IF('Age - APTD'!F63=\"\",\"\",'Age - APTD'!F63)","v":""}]
[58,{"$f":"IF('Age - APTD'!B64=\"\",\"\",'Age - APTD'!B64)","v":""},{"$f":"IF('Age - APTD'!C64=\"\",\"\",'Age - APTD'!C64)","v":""},{"$f":"IF('Age - APTD'!D64=\"\",\"\",'Age - APTD'!D64)","v":""},{"$f":"IF('Age - APTD'!E64=\"\",\"\",'Age - APTD'!E64)","v":""},{"$f":"IF('Age - APTD'!F64=\"\",\"\",'Age - APTD'!F64)","v":""}]
[59,{"$f":"IF('Age - APTD'!B65=\"\",\"\",'Age - APTD'!B65)","v":""},{"$f":"IF('Age - APTD'!C65=\"\",\"\",'Age - APTD'!C65)","v":""},{"$f":"IF('Age - APTD'!D65=\"\",\"\",'Age - APTD'!D65)","v":""},{"$f":"IF('Age - APTD'!E65=\"\",\"\",'Age - APTD'!E65)","v":""},{"$f":"IF('Age - APTD'!F65=\"\",\"\",'Age - APTD'!F65)","v":""}]
[60,{"$f":"IF('Age - APTD'!B66=\"\",\"\",'Age - APTD'!B66)","v":""},{"$f":"IF('Age - APTD'!C66=\"\",\"\",'Age - APTD'!C66)","v":""},{"$f":"IF('Age - APTD'!D66=\"\",\"\",'Age - APTD'!D66)","v":""},{"$f":"IF('Age - APTD'!E66=\"\",\"\",'Age - APTD'!E66)","v":""},{"$f":"IF('Age - APTD'!F66=\"\",\"\",'Age - APTD'!F66)","v":""}]
[61,{"$f":"IF('Age - APTD'!B67=\"\",\"\",'Age - APTD'!B67)","v":""},{"$f":"IF('Age - APTD'!C67=\"\",\"\",'Age - APTD'!C67)","v":""},{"$f":"IF('Age - APTD'!D67=\"\",\"\",'Age - APTD'!D67)","v":""},{"$f":"IF('Age - APTD'!E67=\"\",\"\",'Age - APTD'!E67)","v":""},{"$f":"IF('Age - APTD'!F67=\"\",\"\",'Age - APTD'!F67)","v":""}]
[62,{"$f":"IF('Age - APTD'!B68=\"\",\"\",'Age - APTD'!B68)","v":""},{"$f":"IF('Age - APTD'!C68=\"\",\"\",'Age - APTD'!C68)","v":""},{"$f":"IF('Age - APTD'!D68=\"\",\"\",'Age - APTD'!D68)","v":""},{"$f":"IF('Age - APTD'!E68=\"\",\"\",'Age - APTD'!E68)","v":""},{"$f":"IF('Age - APTD'!F68=\"\",\"\",'Age - APTD'!F68)","v":""}]
[63,{"$f":"IF('Age - APTD'!B69=\"\",\"\",'Age - APTD'!B69)","v":""},{"$f":"IF('Age - APTD'!C69=\"\",\"\",'Age - APTD'!C69)","v":""},{"$f":"IF('Age - APTD'!D69=\"\",\"\",'Age - APTD'!D69)","v":""},{"$f":"IF('Age - APTD'!E69=\"\",\"\",'Age - APTD'!E69)","v":""},{"$f":"IF('Age - APTD'!F69=\"\",\"\",'Age - APTD'!F69)","v":""}]
[64,{"$f":"IF('Age - APTD'!B70=\"\",\"\",'Age - APTD'!B70)","v":""},{"$f":"IF('Age - APTD'!C70=\"\",\"\",'Age - APTD'!C70)","v":""},{"$f":"IF('Age - APTD'!D70=\"\",\"\",'Age - APTD'!D70)","v":""},{"$f":"IF('Age - APTD'!E70=\"\",\"\",'Age - APTD'!E70)","v":""},{"$f":"IF('Age - APTD'!F70=\"\",\"\",'Age - APTD'!F70)","v":""}]
[65,{"$f":"IF('Age - APTD'!B71=\"\",\"\",'Age - APTD'!B71)","v":""},{"$f":"IF('Age - APTD'!C71=\"\",\"\",'Age - APTD'!C71)","v":""},{"$f":"IF('Age - APTD'!D71=\"\",\"\",'Age - APTD'!D71)","v":""},{"$f":"IF('Age - APTD'!E71=\"\",\"\",'Age - APTD'!E71)","v":""},{"$f":"IF('Age - APTD'!F71=\"\",\"\",'Age - APTD'!F71)","v":""}]
[66,{"$f":"IF('Age - APTD'!B72=\"\",\"\",'Age - APTD'!B72)","v":""},{"$f":"IF('Age - APTD'!C72=\"\",\"\",'Age - APTD'!C72)","v":""},{"$f":"IF('Age - APTD'!D72=\"\",\"\",'Age - APTD'!D72)","v":""},{"$f":"IF('Age - APTD'!E72=\"\",\"\",'Age - APTD'!E72)","v":""},{"$f":"IF('Age - APTD'!F72=\"\",\"\",'Age - APTD'!F72)","v":""}]
[67,{"$f":"IF('Age - APTD'!B73=\"\",\"\",'Age - APTD'!B73)","v":""},{"$f":"IF('Age - APTD'!C73=\"\",\"\",'Age - APTD'!C73)","v":""},{"$f":"IF('Age - APTD'!D73=\"\",\"\",'Age - APTD'!D73)","v":""},{"$f":"IF('Age - APTD'!E73=\"\",\"\",'Age - APTD'!E73)","v":""},{"$f":"IF('Age - APTD'!F73=\"\",\"\",'Age - APTD'!F73)","v":""}]
[68,{"$f":"IF('Age - APTD'!B74=\"\",\"\",'Age - APTD'!B74)","v":""},{"$f":"IF('Age - APTD'!C74=\"\",\"\",'Age - APTD'!C74)","v":""},{"$f":"IF('Age - APTD'!D74=\"\",\"\",'Age - APTD'!D74)","v":""},{"$f":"IF('Age - APTD'!E74=\"\",\"\",'Age - APTD'!E74)","v":""},{"$f":"IF('Age - APTD'!F74=\"\",\"\",'Age - APTD'!F74)","v":""}]
[69,{"$f":"IF('Age - APTD'!B75=\"\",\"\",'Age - APTD'!B75)","v":""},{"$f":"IF('Age - APTD'!C75=\"\",\"\",'Age - APTD'!C75)","v":""},{"$f":"IF('Age - APTD'!D75=\"\",\"\",'Age - APTD'!D75)","v":""},{"$f":"IF('Age - APTD'!E75=\"\",\"\",'Age - APTD'!E75)","v":""},{"$f":"IF('Age - APTD'!F75=\"\",\"\",'Age - APTD'!F75)","v":""}]
[70,{"$f":"IF('Age - APTD'!B76=\"\",\"\",'Age - APTD'!B76)","v":""},{"$f":"IF('Age - APTD'!C76=\"\",\"\",'Age - APTD'!C76)","v":""},{"$f":"IF('Age - APTD'!D76=\"\",\"\",'Age - APTD'!D76)","v":""},{"$f":"IF('Age - APTD'!E76=\"\",\"\",'Age - APTD'!E76)","v":""},{"$f":"IF('Age - APTD'!F76=\"\",\"\",'Age - APTD'!F76)","v":""}]
[71,{"$f":"IF('Age - APTD'!B77=\"\",\"\",'Age - APTD'!B77)","v":""},{"$f":"IF('Age - APTD'!C77=\"\",\"\",'Age - APTD'!C77)","v":""},{"$f":"IF('Age - APTD'!D77=\"\",\"\",'Age - APTD'!D77)","v":""},{"$f":"IF('Age - APTD'!E77=\"\",\"\",'Age - APTD'!E77)","v":""},{"$f":"IF('Age - APTD'!F77=\"\",\"\",'Age - APTD'!F77)","v":""}]
[72,{"$f":"IF('Age - APTD'!B78=\"\",\"\",'Age - APTD'!B78)","v":""},{"$f":"IF('Age - APTD'!C78=\"\",\"\",'Age - APTD'!C78)","v":""},{"$f":"IF('Age - APTD'!D78=\"\",\"\",'Age - APTD'!D78)","v":""},{"$f":"IF('Age - APTD'!E78=\"\",\"\",'Age - APTD'!E78)","v":""},{"$f":"IF('Age - APTD'!F78=\"\",\"\",'Age - APTD'!F78)","v":""}]
[73,{"$f":"IF('Age - APTD'!B79=\"\",\"\",'Age - APTD'!B79)","v":""},{"$f":"IF('Age - APTD'!C79=\"\",\"\",'Age - APTD'!C79)","v":""},{"$f":"IF('Age - APTD'!D79=\"\",\"\",'Age - APTD'!D79)","v":""},{"$f":"IF('Age - APTD'!E79=\"\",\"\",'Age - APTD'!E79)","v":""},{"$f":"IF('Age - APTD'!F79=\"\",\"\",'Age - APTD'!F79)","v":""}]
[74,{"$f":"IF('Age - APTD'!B80=\"\",\"\",'Age - APTD'!B80)","v":""},{"$f":"IF('Age - APTD'!C80=\"\",\"\",'Age - APTD'!C80)","v":""},{"$f":"IF('Age - APTD'!D80=\"\",\"\",'Age - APTD'!D80)","v":""},{"$f":"IF('Age - APTD'!E80=\"\",\"\",'Age - APTD'!E80)","v":""},{"$f":"IF('Age - APTD'!F80=\"\",\"\",'Age - APTD'!F80)","v":""}]
[75,{"$f":"IF('Age - APTD'!B81=\"\",\"\",'Age - APTD'!B81)","v":""},{"$f":"IF('Age - APTD'!C81=\"\",\"\",'Age - APTD'!C81)","v":""},{"$f":"IF('Age - APTD'!D81=\"\",\"\",'Age - APTD'!D81)","v":""},{"$f":"IF('Age - APTD'!E81=\"\",\"\",'Age - APTD'!E81)","v":""},{"$f":"IF('Age - APTD'!F81=\"\",\"\",'Age - APTD'!F81)","v":""}]
[76,{"$f":"IF('Age - APTD'!B82=\"\",\"\",'Age - APTD'!B82)","v":""},{"$f":"IF('Age - APTD'!C82=\"\",\"\",'Age - APTD'!C82)","v":""},{"$f":"IF('Age - APTD'!D82=\"\",\"\",'Age - APTD'!D82)","v":""},{"$f":"IF('Age - APTD'!E82=\"\",\"\",'Age - APTD'!E82)","v":""},{"$f":"IF('Age - APTD'!F82=\"\",\"\",'Age - APTD'!F82)","v":""}]
[77,{"$f":"IF('Age - APTD'!B83=\"\",\"\",'Age - APTD'!B83)","v":""},{"$f":"IF('Age - APTD'!C83=\"\",\"\",'Age - APTD'!C83)","v":""},{"$f":"IF('Age - APTD'!D83=\"\",\"\",'Age - APTD'!D83)","v":""},{"$f":"IF('Age - APTD'!E83=\"\",\"\",'Age - APTD'!E83)","v":""},{"$f":"IF('Age - APTD'!F83=\"\",\"\",'Age - APTD'!F83)","v":""}]
[78,{"$f":"IF('Age - APTD'!B84=\"\",\"\",'Age - APTD'!B84)","v":""},{"$f":"IF('Age - APTD'!C84=\"\",\"\",'Age - APTD'!C84)","v":""},{"$f":"IF('Age - APTD'!D84=\"\",\"\",'Age - APTD'!D84)","v":""},{"$f":"IF('Age - APTD'!E84=\"\",\"\",'Age - APTD'!E84)","v":""},{"$f":"IF('Age - APTD'!F84=\"\",\"\",'Age - APTD'!F84)","v":""}]
[79,{"$f":"IF('Age - APTD'!B85=\"\",\"\",'Age - APTD'!B85)","v":""},{"$f":"IF('Age - APTD'!C85=\"\",\"\",'Age - APTD'!C85)","v":""},{"$f":"IF('Age - APTD'!D85=\"\",\"\",'Age - APTD'!D85)","v":""},{"$f":"IF('Age - APTD'!E85=\"\",\"\",'Age - APTD'!E85)","v":""},{"$f":"IF('Age - APTD'!F85=\"\",\"\",'Age - APTD'!F85)","v":""}]
[80,{"$f":"IF('Age - APTD'!B86=\"\",\"\",'Age - APTD'!B86)","v":""},{"$f":"IF('Age - APTD'!C86=\"\",\"\",'Age - APTD'!C86)","v":""},{"$f":"IF('Age - APTD'!D86=\"\",\"\",'Age - APTD'!D86)","v":""},{"$f":"IF('Age - APTD'!E86=\"\",\"\",'Age - APTD'!E86)","v":""},{"$f":"IF('Age - APTD'!F86=\"\",\"\",'Age - APTD'!F86)","v":""}]
[81,{"$f":"IF('Age - APTD'!B87=\"\",\"\",'Age - APTD'!B87)","v":""},{"$f":"IF('Age - APTD'!C87=\"\",\"\",'Age - APTD'!C87)","v":""},{"$f":"IF('Age - APTD'!D87=\"\",\"\",'Age - APTD'!D87)","v":""},{"$f":"IF('Age - APTD'!E87=\"\",\"\",'Age - APTD'!E87)","v":""},{"$f":"IF('Age - APTD'!F87=\"\",\"\",'Age - APTD'!F87)","v":""}]
[82,{"$f":"IF('Age - APTD'!B88=\"\",\"\",'Age - APTD'!B88)","v":""},{"$f":"IF('Age - APTD'!C88=\"\",\"\",'Age - APTD'!C88)","v":""},{"$f":"IF('Age - APTD'!D88=\"\",\"\",'Age - APTD'!D88)","v":""},{"$f":"IF('Age - APTD'!E88=\"\",\"\",'Age - APTD'!E88)","v":""},{"$f":"IF('Age - APTD'!F88=\"\",\"\",'Age - APTD'!F88)","v":""}]
[83,{"$f":"IF('Age - APTD'!B89=\"\",\"\",'Age - APTD'!B89)","v":""},{"$f":"IF('Age - APTD'!C89=\"\",\"\",'Age - APTD'!C89)","v":""},{"$f":"IF('Age - APTD'!D89=\"\",\"\",'Age - APTD'!D89)","v":""},{"$f":"IF('Age - APTD'!E89=\"\",\"\",'Age - APTD'!E89)","v":""},{"$f":"IF('Age - APTD'!F89=\"\",\"\",'Age - APTD'!F89)","v":""}]
[84,{"$f":"IF('Age - APTD'!B90=\"\",\"\",'Age - APTD'!B90)","v":""},{"$f":"IF('Age - APTD'!C90=\"\",\"\",'Age - APTD'!C90)","v":""},{"$f":"IF('Age - APTD'!D90=\"\",\"\",'Age - APTD'!D90)","v":""},{"$f":"IF('Age - APTD'!E90=\"\",\"\",'Age - APTD'!E90)","v":""},{"$f":"IF('Age - APTD'!F90=\"\",\"\",'Age - APTD'!F90)","v":""}]
[85,{"$f":"IF('Age - APTD'!B91=\"\",\"\",'Age - APTD'!B91)","v":""},{"$f":"IF('Age - APTD'!C91=\"\",\"\",'Age - APTD'!C91)","v":""},{"$f":"IF('Age - APTD'!D91=\"\",\"\",'Age - APTD'!D91)","v":""},{"$f":"IF('Age - APTD'!E91=\"\",\"\",'Age - APTD'!E91)","v":""},{"$f":"IF('Age - APTD'!F91=\"\",\"\",'Age - APTD'!F91)","v":""}]
[86,{"$f":"IF('Age - APTD'!B92=\"\",\"\",'Age - APTD'!B92)","v":""},{"$f":"IF('Age - APTD'!C92=\"\",\"\",'Age - APTD'!C92)","v":""},{"$f":"IF('Age - APTD'!D92=\"\",\"\",'Age - APTD'!D92)","v":""},{"$f":"IF('Age - APTD'!E92=\"\",\"\",'Age - APTD'!E92)","v":""},{"$f":"IF('Age - APTD'!F92=\"\",\"\",'Age - APTD'!F92)","v":""}]
[87,{"$f":"IF('Age - APTD'!B93=\"\",\"\",'Age - APTD'!B93)","v":""},{"$f":"IF('Age - APTD'!C93=\"\",\"\",'Age - APTD'!C93)","v":""},{"$f":"IF('Age - APTD'!D93=\"\",\"\",'Age - APTD'!D93)","v":""},{"$f":"IF('Age - APTD'!E93=\"\",\"\",'Age - APTD'!E93)","v":""},{"$f":"IF('Age - APTD'!F93=\"\",\"\",'Age - APTD'!F93)","v":""}]
[88,{"$f":"IF('Age - APTD'!B94=\"\",\"\",'Age - APTD'!B94)","v":""},{"$f":"IF('Age - APTD'!C94=\"\",\"\",'Age - APTD'!C94)","v":""},{"$f":"IF('Age - APTD'!D94=\"\",\"\",'Age - APTD'!D94)","v":""},{"$f":"IF('Age - APTD'!E94=\"\",\"\",'Age - APTD'!E94)","v":""},{"$f":"IF('Age - APTD'!F94=\"\",\"\",'Age - APTD'!F94)","v":""}]
[89,{"$f":"IF('Age - APTD'!B95=\"\",\"\",'Age - APTD'!B95)","v":""},{"$f":"IF('Age - APTD'!C95=\"\",\"\",'Age - APTD'!C95)","v":""},{"$f":"IF('Age - APTD'!D95=\"\",\"\",'Age - APTD'!D95)","v":""},{"$f":"IF('Age - APTD'!E95=\"\",\"\",'Age - APTD'!E95)","v":""},{"$f":"IF('Age - APTD'!F95=\"\",\"\",'Age - APTD'!F95)","v":""}]
[90,{"$f":"IF('Age - APTD'!B96=\"\",\"\",'Age - APTD'!B96)","v":""},{"$f":"IF('Age - APTD'!C96=\"\",\"\",'Age - APTD'!C96)","v":""},{"$f":"IF('Age - APTD'!D96=\"\",\"\",'Age - APTD'!D96)","v":""},{"$f":"IF('Age - APTD'!E96=\"\",\"\",'Age - APTD'!E96)","v":""},{"$f":"IF('Age - APTD'!F96=\"\",\"\",'Age - APTD'!F96)","v":""}]
[91,{"$f":"IF('Age - APTD'!B97=\"\",\"\",'Age - APTD'!B97)","v":""},{"$f":"IF('Age - APTD'!C97=\"\",\"\",'Age - APTD'!C97)","v":""},{"$f":"IF('Age - APTD'!D97=\"\",\"\",'Age - APTD'!D97)","v":""},{"$f":"IF('Age - APTD'!E97=\"\",\"\",'Age - APTD'!E97)","v":""},{"$f":"IF('Age - APTD'!F97=\"\",\"\",'Age - APTD'!F97)","v":""}]
[92,{"$f":"IF('Age - APTD'!B98=\"\",\"\",'Age - APTD'!B98)","v":""},{"$f":"IF('Age - APTD'!C98=\"\",\"\",'Age - APTD'!C98)","v":""},{"$f":"IF('Age - APTD'!D98=\"\",\"\",'Age - APTD'!D98)","v":""},{"$f":"IF('Age - APTD'!E98=\"\",\"\",'Age - APTD'!E98)","v":""},{"$f":"IF('Age - APTD'!F98=\"\",\"\",'Age - APTD'!F98)","v":""}]
[93,{"$f":"IF('Age - APTD'!B99=\"\",\"\",'Age - APTD'!B99)","v":""},{"$f":"IF('Age - APTD'!C99=\"\",\"\",'Age - APTD'!C99)","v":""},{"$f":"IF('Age - APTD'!D99=\"\",\"\",'Age - APTD'!D99)","v":""},{"$f":"IF('Age - APTD'!E99=\"\",\"\",'Age - APTD'!E99)","v":""},{"$f":"IF('Age - APTD'!F99=\"\",\"\",'Age - APTD'!F99)","v":""}]
[94,{"$f":"IF('Age - APTD'!B100=\"\",\"\",'Age - APTD'!B100)","v":""},{"$f":"IF('Age - APTD'!C100=\"\",\"\",'Age - APTD'!C100)","v":""},{"$f":"IF('Age - APTD'!D100=\"\",\"\",'Age - APTD'!D100)","v":""},{"$f":"IF('Age - APTD'!E100=\"\",\"\",'Age - APTD'!E100)","v":""},{"$f":"IF('Age - APTD'!F100=\"\",\"\",'Age - APTD'!F100)","v":""}]
[95,{"$f":"IF('Age - APTD'!B101=\"\",\"\",'Age - APTD'!B101)","v":""},{"$f":"IF('Age - APTD'!C101=\"\",\"\",'Age - APTD'!C101)","v":""},{"$f":"IF('Age - APTD'!D101=\"\",\"\",'Age - APTD'!D101)","v":""},{"$f":"IF('Age - APTD'!E101=\"\",\"\",'Age - APTD'!E101)","v":""},{"$f":"IF('Age - APTD'!F101=\"\",\"\",'Age - APTD'!F101)","v":""}]
[96,{"$f":"IF('Age - APTD'!B102=\"\",\"\",'Age - APTD'!B102)","v":""},{"$f":"IF('Age - APTD'!C102=\"\",\"\",'Age - APTD'!C102)","v":""},{"$f":"IF('Age - APTD'!D102=\"\",\"\",'Age - APTD'!D102)","v":""},{"$f":"IF('Age - APTD'!E102=\"\",\"\",'Age - APTD'!E102)","v":""},{"$f":"IF('Age - APTD'!F102=\"\",\"\",'Age - APTD'!F102)","v":""}]
[97,{"$f":"IF('Age - APTD'!B103=\"\",\"\",'Age - APTD'!B103)","v":""},{"$f":"IF('Age - APTD'!C103=\"\",\"\",'Age - APTD'!C103)","v":""},{"$f":"IF('Age - APTD'!D103=\"\",\"\",'Age - APTD'!D103)","v":""},{"$f":"IF('Age - APTD'!E103=\"\",\"\",'Age - APTD'!E103)","v":""},{"$f":"IF('Age - APTD'!F103=\"\",\"\",'Age - APTD'!F103)","v":""}]
[98,{"$f":"IF('Age - APTD'!B104=\"\",\"\",'Age - APTD'!B104)","v":""},{"$f":"IF('Age - APTD'!C104=\"\",\"\",'Age - APTD'!C104)","v":""},{"$f":"IF('Age - APTD'!D104=\"\",\"\",'Age - APTD'!D104)","v":""},{"$f":"IF('Age - APTD'!E104=\"\",\"\",'Age - APTD'!E104)","v":""},{"$f":"IF('Age - APTD'!F104=\"\",\"\",'Age - APTD'!F104)","v":""}]
[99,{"$f":"IF('Age - APTD'!B105=\"\",\"\",'Age - APTD'!B105)","v":""},{"$f":"IF('Age - APTD'!C105=\"\",\"\",'Age - APTD'!C105)","v":""},{"$f":"IF('Age - APTD'!D105=\"\",\"\",'Age - APTD'!D105)","v":""},{"$f":"IF('Age - APTD'!E105=\"\",\"\",'Age - APTD'!E105)","v":""},{"$f":"IF('Age - APTD'!F105=\"\",\"\",'Age - APTD'!F105)","v":""}]
[100,{"$f":"IF('Age - APTD'!B106=\"\",\"\",'Age - APTD'!B106)","v":""},{"$f":"IF('Age - APTD'!C106=\"\",\"\",'Age - APTD'!C106)","v":""},{"$f":"IF('Age - APTD'!D106=\"\",\"\",'Age - APTD'!D106)","v":""},{"$f":"IF('Age - APTD'!E106=\"\",\"\",'Age - APTD'!E106)","v":""},{"$f":"IF('Age - APTD'!F106=\"\",\"\",'Age - APTD'!F106)","v":""}]
[101,{"$f":"IF('Age - APTD'!B107=\"\",\"\",'Age - APTD'!B107)","v":""},{"$f":"IF('Age - APTD'!C107=\"\",\"\",'Age - APTD'!C107)","v":""},{"$f":"IF('Age - APTD'!D107=\"\",\"\",'Age - APTD'!D107)","v":""},{"$f":"IF('Age - APTD'!E107=\"\",\"\",'Age - APTD'!E107)","v":""},{"$f":"IF('Age - APTD'!F107=\"\",\"\",'Age - APTD'!F107)","v":""}]
[102,{"$f":"IF('Age - APTD'!B108=\"\",\"\",'Age - APTD'!B108)","v":""},{"$f":"IF('Age - APTD'!C108=\"\",\"\",'Age - APTD'!C108)","v":""},{"$f":"IF('Age - APTD'!D108=\"\",\"\",'Age - APTD'!D108)","v":""},{"$f":"IF('Age - APTD'!E108=\"\",\"\",'Age - APTD'!E108)","v":""},{"$f":"IF('Age - APTD'!F108=\"\",\"\",'Age - APTD'!F108)","v":""}]
[103,{"$f":"IF('Age - APTD'!B109=\"\",\"\",'Age - APTD'!B109)","v":""},{"$f":"IF('Age - APTD'!C109=\"\",\"\",'Age - APTD'!C109)","v":""},{"$f":"IF('Age - APTD'!D109=\"\",\"\",'Age - APTD'!D109)","v":""},{"$f":"IF('Age - APTD'!E109=\"\",\"\",'Age - APTD'!E109)","v":""},{"$f":"IF('Age - APTD'!F109=\"\",\"\",'Age - APTD'!F109)","v":""}]
[104,{"$f":"IF('Age - APTD'!B110=\"\",\"\",'Age - APTD'!B110)","v":""},{"$f":"IF('Age - APTD'!C110=\"\",\"\",'Age - APTD'!C110)","v":""},{"$f":"IF('Age - APTD'!D110=\"\",\"\",'Age - APTD'!D110)","v":""},{"$f":"IF('Age - APTD'!E110=\"\",\"\",'Age - APTD'!E110)","v":""},{"$f":"IF('Age - APTD'!F110=\"\",\"\",'Age - APTD'!F110)","v":""}]
[105,{"$f":"IF('Age - APTD'!B111=\"\",\"\",'Age - APTD'!B111)","v":""},{"$f":"IF('Age - APTD'!C111=\"\",\"\",'Age - APTD'!C111)","v":""},{"$f":"IF('Age - APTD'!D111=\"\",\"\",'Age - APTD'!D111)","v":""},{"$f":"IF('Age - APTD'!E111=\"\",\"\",'Age - APTD'!E111)","v":""},{"$f":"IF('Age - APTD'!F111=\"\",\"\",'Age - APTD'!F111)","v":""}]
[106,{"$f":"IF('Age - APTD'!B112=\"\",\"\",'Age - APTD'!B112)","v":""},{"$f":"IF('Age - APTD'!C112=\"\",\"\",'Age - APTD'!C112)","v":""},{"$f":"IF('Age - APTD'!D112=\"\",\"\",'Age - APTD'!D112)","v":""},{"$f":"IF('Age - APTD'!E112=\"\",\"\",'Age - APTD'!E112)","v":""},{"$f":"IF('Age - APTD'!F112=\"\",\"\",'Age - APTD'!F112)","v":""}]
[107,{"$f":"IF('Age - APTD'!B113=\"\",\"\",'Age - APTD'!B113)","v":""},{"$f":"IF('Age - APTD'!C113=\"\",\"\",'Age - APTD'!C113)","v":""},{"$f":"IF('Age - APTD'!D113=\"\",\"\",'Age - APTD'!D113)","v":""},{"$f":"IF('Age - APTD'!E113=\"\",\"\",'Age - APTD'!E113)","v":""},{"$f":"IF('Age - APTD'!F113=\"\",\"\",'Age - APTD'!F113)","v":""}]
[108,{"$f":"IF('Age - APTD'!B114=\"\",\"\",'Age - APTD'!B114)","v":""},{"$f":"IF('Age - APTD'!C114=\"\",\"\",'Age - APTD'!C114)","v":""},{"$f":"IF('Age - APTD'!D114=\"\",\"\",'Age - APTD'!D114)","v":""},{"$f":"IF('Age - APTD'!E114=\"\",\"\",'Age - APTD'!E114)","v":""},{"$f":"IF('Age - APTD'!F114=\"\",\"\",'Age - APTD'!F114)","v":""}]
[109,{"$f":"IF('Age - APTD'!B115=\"\",\"\",'Age - APTD'!B115)","v":""},{"$f":"IF('Age - APTD'!C115=\"\",\"\",'Age - APTD'!C115)","v":""},{"$f":"IF('Age - APTD'!D115=\"\",\"\",'Age - APTD'!D115)","v":""},{"$f":"IF('Age - APTD'!E115=\"\",\"\",'Age - APTD'!E115)","v":""},{"$f":"IF('Age - APTD'!F115=\"\",\"\",'Age - APTD'!F115)","v":""}]
[110,{"$f":"IF('Age - APTD'!B116=\"\",\"\",'Age - APTD'!B116)","v":""},{"$f":"IF('Age - APTD'!C116=\"\",\"\",'Age - APTD'!C116)","v":""},{"$f":"IF('Age - APTD'!D116=\"\",\"\",'Age - APTD'!D116)","v":""},{"$f":"IF('Age - APTD'!E116=\"\",\"\",'Age - APTD'!E116)","v":""},{"$f":"IF('Age - APTD'!F116=\"\",\"\",'Age - APTD'!F116)","v":""}]
[111,{"$f":"IF('Age - APTD'!B117=\"\",\"\",'Age - APTD'!B117)","v":""},{"$f":"IF('Age - APTD'!C117=\"\",\"\",'Age - APTD'!C117)","v":""},{"$f":"IF('Age - APTD'!D117=\"\",\"\",'Age - APTD'!D117)","v":""},{"$f":"IF('Age - APTD'!E117=\"\",\"\",'Age - APTD'!E117)","v":""},{"$f":"IF('Age - APTD'!F117=\"\",\"\",'Age - APTD'!F117)","v":""}]
[112,{"$f":"IF('Age - APTD'!B118=\"\",\"\",'Age - APTD'!B118)","v":""},{"$f":"IF('Age - APTD'!C118=\"\",\"\",'Age - APTD'!C118)","v":""},{"$f":"IF('Age - APTD'!D118=\"\",\"\",'Age - APTD'!D118)","v":""},{"$f":"IF('Age - APTD'!E118=\"\",\"\",'Age - APTD'!E118)","v":""},{"$f":"IF('Age - APTD'!F118=\"\",\"\",'Age - APTD'!F118)","v":""}]
[113,{"$f":"IF('Age - APTD'!B119=\"\",\"\",'Age - APTD'!B119)","v":""},{"$f":"IF('Age - APTD'!C119=\"\",\"\",'Age - APTD'!C119)","v":""},{"$f":"IF('Age - APTD'!D119=\"\",\"\",'Age - APTD'!D119)","v":""},{"$f":"IF('Age - APTD'!E119=\"\",\"\",'Age - APTD'!E119)","v":""},{"$f":"IF('Age - APTD'!F119=\"\",\"\",'Age - APTD'!F119)","v":""}]
[114,{"$f":"IF('Age - APTD'!B120=\"\",\"\",'Age - APTD'!B120)","v":""},{"$f":"IF('Age - APTD'!C120=\"\",\"\",'Age - APTD'!C120)","v":""},{"$f":"IF('Age - APTD'!D120=\"\",\"\",'Age - APTD'!D120)","v":""},{"$f":"IF('Age - APTD'!E120=\"\",\"\",'Age - APTD'!E120)","v":""},{"$f":"IF('Age - APTD'!F120=\"\",\"\",'Age - APTD'!F120)","v":""}]
[115,{"$f":"IF('Age - APTD'!B121=\"\",\"\",'Age - APTD'!B121)","v":""},{"$f":"IF('Age - APTD'!C121=\"\",\"\",'Age - APTD'!C121)","v":""},{"$f":"IF('Age - APTD'!D121=\"\",\"\",'Age - APTD'!D121)","v":""},{"$f":"IF('Age - APTD'!E121=\"\",\"\",'Age - APTD'!E121)","v":""},{"$f":"IF('Age - APTD'!F121=\"\",\"\",'Age - APTD'!F121)","v":""}]
[116,{"$f":"IF('Age - APTD'!B122=\"\",\"\",'Age - APTD'!B122)","v":""},{"$f":"IF('Age - APTD'!C122=\"\",\"\",'Age - APTD'!C122)","v":""},{"$f":"IF('Age - APTD'!D122=\"\",\"\",'Age - APTD'!D122)","v":""},{"$f":"IF('Age - APTD'!E122=\"\",\"\",'Age - APTD'!E122)","v":""},{"$f":"IF('Age - APTD'!F122=\"\",\"\",'Age - APTD'!F122)","v":""}]
[117,{"$f":"IF('Age - APTD'!B123=\"\",\"\",'Age - APTD'!B123)","v":""},{"$f":"IF('Age - APTD'!C123=\"\",\"\",'Age - APTD'!C123)","v":""},{"$f":"IF('Age - APTD'!D123=\"\",\"\",'Age - APTD'!D123)","v":""},{"$f":"IF('Age - APTD'!E123=\"\",\"\",'Age - APTD'!E123)","v":""},{"$f":"IF('Age - APTD'!F123=\"\",\"\",'Age - APTD'!F123)","v":""}]
[118,{"$f":"IF('Age - APTD'!B124=\"\",\"\",'Age - APTD'!B124)","v":""},{"$f":"IF('Age - APTD'!C124=\"\",\"\",'Age - APTD'!C124)","v":""},{"$f":"IF('Age - APTD'!D124=\"\",\"\",'Age - APTD'!D124)","v":""},{"$f":"IF('Age - APTD'!E124=\"\",\"\",'Age - APTD'!E124)","v":""},{"$f":"IF('Age - APTD'!F124=\"\",\"\",'Age - APTD'!F124)","v":""}]
[119,{"$f":"IF('Age - APTD'!B125=\"\",\"\",'Age - APTD'!B125)","v":""},{"$f":"IF('Age - APTD'!C125=\"\",\"\",'Age - APTD'!C125)","v":""},{"$f":"IF('Age - APTD'!D125=\"\",\"\",'Age - APTD'!D125)","v":""},{"$f":"IF('Age - APTD'!E125=\"\",\"\",'Age - APTD'!E125)","v":""},{"$f":"IF('Age - APTD'!F125=\"\",\"\",'Age - APTD'!F125)","v":""}]
[120,{"$f":"IF('Age - APTD'!B126=\"\",\"\",'Age - APTD'!B126)","v":""},{"$f":"IF('Age - APTD'!C126=\"\",\"\",'Age - APTD'!C126)","v":""},{"$f":"IF('Age - APTD'!D126=\"\",\"\",'Age - APTD'!D126)","v":""},{"$f":"IF('Age - APTD'!E126=\"\",\"\",'Age - APTD'!E126)","v":""},{"$f":"IF('Age - APTD'!F126=\"\",\"\",'Age - APTD'!F126)","v":""}]
[]
["AGE - Transverse Trunk Diameter",null,null,null,null,{"$f":"IF('Age - TTD'!F1=\"\",\"\",'Age - TTD'!F1)","v":"Age TTD"}]
[null,null,null,null,null,{"$f":"ValidationData!DataVersion","v":"70.80.100.100"}]
["Index","Measurement Name",null,null,"TTD"]
[null,"Measurement Type",null,null,"Distance (cm)"]
[null,"Author",null,null,{"$f":"IF('Age - TTD'!J5=\"\",\"\",'Age - TTD'!J5)","v":""}]
[null,"Value","Age (weeks)","Age (days)","Range (weeks)","Range (days)"]
[1,{"$f":"IF('Age - TTD'!B7=\"\",\"\",'Age - TTD'!B7)","v":""},{"$f":"IF('Age - TTD'!C7=\"\",\"\",'Age - TTD'!C7)","v":""},{"$f":"IF('Age - TTD'!D7=\"\",\"\",'Age - TTD'!D7)","v":""},{"$f":"IF('Age - TTD'!E7=\"\",\"\",'Age - TTD'!E7)","v":""},{"$f":"IF('Age - TTD'!F7=\"\",\"\",'Age - TTD'!F7)","v":""}]
[2,{"$f":"IF('Age - TTD'!B8=\"\",\"\",'Age - TTD'!B8)","v":""},{"$f":"IF('Age - TTD'!C8=\"\",\"\",'Age - TTD'!C8)","v":""},{"$f":"IF('Age - TTD'!D8=\"\",\"\",'Age - TTD'!D8)","v":""},{"$f":"IF('Age - TTD'!E8=\"\",\"\",'Age - TTD'!E8)","v":""},{"$f":"IF('Age - TTD'!F8=\"\",\"\",'Age - TTD'!F8)","v":""}]
[3,{"$f":"IF('Age - TTD'!B9=\"\",\"\",'Age - TTD'!B9)","v":""},{"$f":"IF('Age - TTD'!C9=\"\",\"\",'Age - TTD'!C9)","v":""},{"$f":"IF('Age - TTD'!D9=\"\",\"\",'Age - TTD'!D9)","v":""},{"$f":"IF('Age - TTD'!E9=\"\",\"\",'Age - TTD'!E9)","v":""},{"$f":"IF('Age - TTD'!F9=\"\",\"\",'Age - TTD'!F9)","v":""}]
[4,{"$f":"IF('Age - TTD'!B10=\"\",\"\",'Age - TTD'!B10)","v":""},{"$f":"IF('Age - TTD'!C10=\"\",\"\",'Age - TTD'!C10)","v":""},{"$f":"IF('Age - TTD'!D10=\"\",\"\",'Age - TTD'!D10)","v":""},{"$f":"IF('Age - TTD'!E10=\"\",\"\",'Age - TTD'!E10)","v":""},{"$f":"IF('Age - TTD'!F10=\"\",\"\",'Age - TTD'!F10)","v":""}]
[5,{"$f":"IF('Age - TTD'!B11=\"\",\"\",'Age - TTD'!B11)","v":""},{"$f":"IF('Age - TTD'!C11=\"\",\"\",'Age - TTD'!C11)","v":""},{"$f":"IF('Age - TTD'!D11=\"\",\"\",'Age - TTD'!D11)","v":""},{"$f":"IF('Age - TTD'!E11=\"\",\"\",'Age - TTD'!E11)","v":""},{"$f":"IF('Age - TTD'!F11=\"\",\"\",'Age - TTD'!F11)","v":""}]
[6,{"$f":"IF('Age - TTD'!B12=\"\",\"\",'Age - TTD'!B12)","v":""},{"$f":"IF('Age - TTD'!C12=\"\",\"\",'Age - TTD'!C12)","v":""},{"$f":"IF('Age - TTD'!D12=\"\",\"\",'Age - TTD'!D12)","v":""},{"$f":"IF('Age - TTD'!E12=\"\",\"\",'Age - TTD'!E12)","v":""},{"$f":"IF('Age - TTD'!F12=\"\",\"\",'Age - TTD'!F12)","v":""}]
[7,{"$f":"IF('Age - TTD'!B13=\"\",\"\",'Age - TTD'!B13)","v":""},{"$f":"IF('Age - TTD'!C13=\"\",\"\",'Age - TTD'!C13)","v":""},{"$f":"IF('Age - TTD'!D13=\"\",\"\",'Age - TTD'!D13)","v":""},{"$f":"IF('Age - TTD'!E13=\"\",\"\",'Age - TTD'!E13)","v":""},{"$f":"IF('Age - TTD'!F13=\"\",\"\",'Age - TTD'!F13)","v":""}]
[8,{"$f":"IF('Age - TTD'!B14=\"\",\"\",'Age - TTD'!B14)","v":""},{"$f":"IF('Age - TTD'!C14=\"\",\"\",'Age - TTD'!C14)","v":""},{"$f":"IF('Age - TTD'!D14=\"\",\"\",'Age - TTD'!D14)","v":""},{"$f":"IF('Age - TTD'!E14=\"\",\"\",'Age - TTD'!E14)","v":""},{"$f":"IF('Age - TTD'!F14=\"\",\"\",'Age - TTD'!F14)","v":""}]
[9,{"$f":"IF('Age - TTD'!B15=\"\",\"\",'Age - TTD'!B15)","v":""},{"$f":"IF('Age - TTD'!C15=\"\",\"\",'Age - TTD'!C15)","v":""},{"$f":"IF('Age - TTD'!D15=\"\",\"\",'Age - TTD'!D15)","v":""},{"$f":"IF('Age - TTD'!E15=\"\",\"\",'Age - TTD'!E15)","v":""},{"$f":"IF('Age - TTD'!F15=\"\",\"\",'Age - TTD'!F15)","v":""}]
[10,{"$f":"IF('Age - TTD'!B16=\"\",\"\",'Age - TTD'!B16)","v":""},{"$f":"IF('Age - TTD'!C16=\"\",\"\",'Age - TTD'!C16)","v":""},{"$f":"IF('Age - TTD'!D16=\"\",\"\",'Age - TTD'!D16)","v":""},{"$f":"IF('Age - TTD'!E16=\"\",\"\",'Age - TTD'!E16)","v":""},{"$f":"IF('Age - TTD'!F16=\"\",\"\",'Age - TTD'!F16)","v":""}]
[11,{"$f":"IF('Age - TTD'!B17=\"\",\"\",'Age - TTD'!B17)","v":""},{"$f":"IF('Age - TTD'!C17=\"\",\"\",'Age - TTD'!C17)","v":""},{"$f":"IF('Age - TTD'!D17=\"\",\"\",'Age - TTD'!D17)","v":""},{"$f":"IF('Age - TTD'!E17=\"\",\"\",'Age - TTD'!E17)","v":""},{"$f":"IF('Age - TTD'!F17=\"\",\"\",'Age - TTD'!F17)","v":""}]
[12,{"$f":"IF('Age - TTD'!B18=\"\",\"\",'Age - TTD'!B18)","v":""},{"$f":"IF('Age - TTD'!C18=\"\",\"\",'Age - TTD'!C18)","v":""},{"$f":"IF('Age - TTD'!D18=\"\",\"\",'Age - TTD'!D18)","v":""},{"$f":"IF('Age - TTD'!E18=\"\",\"\",'Age - TTD'!E18)","v":""},{"$f":"IF('Age - TTD'!F18=\"\",\"\",'Age - TTD'!F18)","v":""}]
[13,{"$f":"IF('Age - TTD'!B19=\"\",\"\",'Age - TTD'!B19)","v":""},{"$f":"IF('Age - TTD'!C19=\"\",\"\",'Age - TTD'!C19)","v":""},{"$f":"IF('Age - TTD'!D19=\"\",\"\",'Age - TTD'!D19)","v":""},{"$f":"IF('Age - TTD'!E19=\"\",\"\",'Age - TTD'!E19)","v":""},{"$f":"IF('Age - TTD'!F19=\"\",\"\",'Age - TTD'!F19)","v":""}]
[14,{"$f":"IF('Age - TTD'!B20=\"\",\"\",'Age - TTD'!B20)","v":""},{"$f":"IF('Age - TTD'!C20=\"\",\"\",'Age - TTD'!C20)","v":""},{"$f":"IF('Age - TTD'!D20=\"\",\"\",'Age - TTD'!D20)","v":""},{"$f":"IF('Age - TTD'!E20=\"\",\"\",'Age - TTD'!E20)","v":""},{"$f":"IF('Age - TTD'!F20=\"\",\"\",'Age - TTD'!F20)","v":""}]
[15,{"$f":"IF('Age - TTD'!B21=\"\",\"\",'Age - TTD'!B21)","v":""},{"$f":"IF('Age - TTD'!C21=\"\",\"\",'Age - TTD'!C21)","v":""},{"$f":"IF('Age - TTD'!D21=\"\",\"\",'Age - TTD'!D21)","v":""},{"$f":"IF('Age - TTD'!E21=\"\",\"\",'Age - TTD'!E21)","v":""},{"$f":"IF('Age - TTD'!F21=\"\",\"\",'Age - TTD'!F21)","v":""}]
[16,{"$f":"IF('Age - TTD'!B22=\"\",\"\",'Age - TTD'!B22)","v":""},{"$f":"IF('Age - TTD'!C22=\"\",\"\",'Age - TTD'!C22)","v":""},{"$f":"IF('Age - TTD'!D22=\"\",\"\",'Age - TTD'!D22)","v":""},{"$f":"IF('Age - TTD'!E22=\"\",\"\",'Age - TTD'!E22)","v":""},{"$f":"IF('Age - TTD'!F22=\"\",\"\",'Age - TTD'!F22)","v":""}]
[17,{"$f":"IF('Age - TTD'!B23=\"\",\"\",'Age - TTD'!B23)","v":""},{"$f":"IF('Age - TTD'!C23=\"\",\"\",'Age - TTD'!C23)","v":""},{"$f":"IF('Age - TTD'!D23=\"\",\"\",'Age - TTD'!D23)","v":""},{"$f":"IF('Age - TTD'!E23=\"\",\"\",'Age - TTD'!E23)","v":""},{"$f":"IF('Age - TTD'!F23=\"\",\"\",'Age - TTD'!F23)","v":""}]
[18,{"$f":"IF('Age - TTD'!B24=\"\",\"\",'Age - TTD'!B24)","v":""},{"$f":"IF('Age - TTD'!C24=\"\",\"\",'Age - TTD'!C24)","v":""},{"$f":"IF('Age - TTD'!D24=\"\",\"\",'Age - TTD'!D24)","v":""},{"$f":"IF('Age - TTD'!E24=\"\",\"\",'Age - TTD'!E24)","v":""},{"$f":"IF('Age - TTD'!F24=\"\",\"\",'Age - TTD'!F24)","v":""}]
[19,{"$f":"IF('Age - TTD'!B25=\"\",\"\",'Age - TTD'!B25)","v":""},{"$f":"IF('Age - TTD'!C25=\"\",\"\",'Age - TTD'!C25)","v":""},{"$f":"IF('Age - TTD'!D25=\"\",\"\",'Age - TTD'!D25)","v":""},{"$f":"IF('Age - TTD'!E25=\"\",\"\",'Age - TTD'!E25)","v":""},{"$f":"IF('Age - TTD'!F25=\"\",\"\",'Age - TTD'!F25)","v":""}]
[20,{"$f":"IF('Age - TTD'!B26=\"\",\"\",'Age - TTD'!B26)","v":""},{"$f":"IF('Age - TTD'!C26=\"\",\"\",'Age - TTD'!C26)","v":""},{"$f":"IF('Age - TTD'!D26=\"\",\"\",'Age - TTD'!D26)","v":""},{"$f":"IF('Age - TTD'!E26=\"\",\"\",'Age - TTD'!E26)","v":""},{"$f":"IF('Age - TTD'!F26=\"\",\"\",'Age - TTD'!F26)","v":""}]
[21,{"$f":"IF('Age - TTD'!B27=\"\",\"\",'Age - TTD'!B27)","v":""},{"$f":"IF('Age - TTD'!C27=\"\",\"\",'Age - TTD'!C27)","v":""},{"$f":"IF('Age - TTD'!D27=\"\",\"\",'Age - TTD'!D27)","v":""},{"$f":"IF('Age - TTD'!E27=\"\",\"\",'Age - TTD'!E27)","v":""},{"$f":"IF('Age - TTD'!F27=\"\",\"\",'Age - TTD'!F27)","v":""}]
[22,{"$f":"IF('Age - TTD'!B28=\"\",\"\",'Age - TTD'!B28)","v":""},{"$f":"IF('Age - TTD'!C28=\"\",\"\",'Age - TTD'!C28)","v":""},{"$f":"IF('Age - TTD'!D28=\"\",\"\",'Age - TTD'!D28)","v":""},{"$f":"IF('Age - TTD'!E28=\"\",\"\",'Age - TTD'!E28)","v":""},{"$f":"IF('Age - TTD'!F28=\"\",\"\",'Age - TTD'!F28)","v":""}]
[23,{"$f":"IF('Age - TTD'!B29=\"\",\"\",'Age - TTD'!B29)","v":""},{"$f":"IF('Age - TTD'!C29=\"\",\"\",'Age - TTD'!C29)","v":""},{"$f":"IF('Age - TTD'!D29=\"\",\"\",'Age - TTD'!D29)","v":""},{"$f":"IF('Age - TTD'!E29=\"\",\"\",'Age - TTD'!E29)","v":""},{"$f":"IF('Age - TTD'!F29=\"\",\"\",'Age - TTD'!F29)","v":""}]
[24,{"$f":"IF('Age - TTD'!B30=\"\",\"\",'Age - TTD'!B30)","v":""},{"$f":"IF('Age - TTD'!C30=\"\",\"\",'Age - TTD'!C30)","v":""},{"$f":"IF('Age - TTD'!D30=\"\",\"\",'Age - TTD'!D30)","v":""},{"$f":"IF('Age - TTD'!E30=\"\",\"\",'Age - TTD'!E30)","v":""},{"$f":"IF('Age - TTD'!F30=\"\",\"\",'Age - TTD'!F30)","v":""}]
[25,{"$f":"IF('Age - TTD'!B31=\"\",\"\",'Age - TTD'!B31)","v":""},{"$f":"IF('Age - TTD'!C31=\"\",\"\",'Age - TTD'!C31)","v":""},{"$f":"IF('Age - TTD'!D31=\"\",\"\",'Age - TTD'!D31)","v":""},{"$f":"IF('Age - TTD'!E31=\"\",\"\",'Age - TTD'!E31)","v":""},{"$f":"IF('Age - TTD'!F31=\"\",\"\",'Age - TTD'!F31)","v":""}]
[26,{"$f":"IF('Age - TTD'!B32=\"\",\"\",'Age - TTD'!B32)","v":""},{"$f":"IF('Age - TTD'!C32=\"\",\"\",'Age - TTD'!C32)","v":""},{"$f":"IF('Age - TTD'!D32=\"\",\"\",'Age - TTD'!D32)","v":""},{"$f":"IF('Age - TTD'!E32=\"\",\"\",'Age - TTD'!E32)","v":""},{"$f":"IF('Age - TTD'!F32=\"\",\"\",'Age - TTD'!F32)","v":""}]
[27,{"$f":"IF('Age - TTD'!B33=\"\",\"\",'Age - TTD'!B33)","v":""},{"$f":"IF('Age - TTD'!C33=\"\",\"\",'Age - TTD'!C33)","v":""},{"$f":"IF('Age - TTD'!D33=\"\",\"\",'Age - TTD'!D33)","v":""},{"$f":"IF('Age - TTD'!E33=\"\",\"\",'Age - TTD'!E33)","v":""},{"$f":"IF('Age - TTD'!F33=\"\",\"\",'Age - TTD'!F33)","v":""}]
[28,{"$f":"IF('Age - TTD'!B34=\"\",\"\",'Age - TTD'!B34)","v":""},{"$f":"IF('Age - TTD'!C34=\"\",\"\",'Age - TTD'!C34)","v":""},{"$f":"IF('Age - TTD'!D34=\"\",\"\",'Age - TTD'!D34)","v":""},{"$f":"IF('Age - TTD'!E34=\"\",\"\",'Age - TTD'!E34)","v":""},{"$f":"IF('Age - TTD'!F34=\"\",\"\",'Age - TTD'!F34)","v":""}]
[29,{"$f":"IF('Age - TTD'!B35=\"\",\"\",'Age - TTD'!B35)","v":""},{"$f":"IF('Age - TTD'!C35=\"\",\"\",'Age - TTD'!C35)","v":""},{"$f":"IF('Age - TTD'!D35=\"\",\"\",'Age - TTD'!D35)","v":""},{"$f":"IF('Age - TTD'!E35=\"\",\"\",'Age - TTD'!E35)","v":""},{"$f":"IF('Age - TTD'!F35=\"\",\"\",'Age - TTD'!F35)","v":""}]
[30,{"$f":"IF('Age - TTD'!B36=\"\",\"\",'Age - TTD'!B36)","v":""},{"$f":"IF('Age - TTD'!C36=\"\",\"\",'Age - TTD'!C36)","v":""},{"$f":"IF('Age - TTD'!D36=\"\",\"\",'Age - TTD'!D36)","v":""},{"$f":"IF('Age - TTD'!E36=\"\",\"\",'Age - TTD'!E36)","v":""},{"$f":"IF('Age - TTD'!F36=\"\",\"\",'Age - TTD'!F36)","v":""}]
[31,{"$f":"IF('Age - TTD'!B37=\"\",\"\",'Age - TTD'!B37)","v":""},{"$f":"IF('Age - TTD'!C37=\"\",\"\",'Age - TTD'!C37)","v":""},{"$f":"IF('Age - TTD'!D37=\"\",\"\",'Age - TTD'!D37)","v":""},{"$f":"IF('Age - TTD'!E37=\"\",\"\",'Age - TTD'!E37)","v":""},{"$f":"IF('Age - TTD'!F37=\"\",\"\",'Age - TTD'!F37)","v":""}]
[32,{"$f":"IF('Age - TTD'!B38=\"\",\"\",'Age - TTD'!B38)","v":""},{"$f":"IF('Age - TTD'!C38=\"\",\"\",'Age - TTD'!C38)","v":""},{"$f":"IF('Age - TTD'!D38=\"\",\"\",'Age - TTD'!D38)","v":""},{"$f":"IF('Age - TTD'!E38=\"\",\"\",'Age - TTD'!E38)","v":""},{"$f":"IF('Age - TTD'!F38=\"\",\"\",'Age - TTD'!F38)","v":""}]
[33,{"$f":"IF('Age - TTD'!B39=\"\",\"\",'Age - TTD'!B39)","v":""},{"$f":"IF('Age - TTD'!C39=\"\",\"\",'Age - TTD'!C39)","v":""},{"$f":"IF('Age - TTD'!D39=\"\",\"\",'Age - TTD'!D39)","v":""},{"$f":"IF('Age - TTD'!E39=\"\",\"\",'Age - TTD'!E39)","v":""},{"$f":"IF('Age - TTD'!F39=\"\",\"\",'Age - TTD'!F39)","v":""}]
[34,{"$f":"IF('Age - TTD'!B40=\"\",\"\",'Age - TTD'!B40)","v":""},{"$f":"IF('Age - TTD'!C40=\"\",\"\",'Age - TTD'!C40)","v":""},{"$f":"IF('Age - TTD'!D40=\"\",\"\",'Age - TTD'!D40)","v":""},{"$f":"IF('Age - TTD'!E40=\"\",\"\",'Age - TTD'!E40)","v":""},{"$f":"IF('Age - TTD'!F40=\"\",\"\",'Age - TTD'!F40)","v":""}]
[35,{"$f":"IF('Age - TTD'!B41=\"\",\"\",'Age - TTD'!B41)","v":""},{"$f":"IF('Age - TTD'!C41=\"\",\"\",'Age - TTD'!C41)","v":""},{"$f":"IF('Age - TTD'!D41=\"\",\"\",'Age - TTD'!D41)","v":""},{"$f":"IF('Age - TTD'!E41=\"\",\"\",'Age - TTD'!E41)","v":""},{"$f":"IF('Age - TTD'!F41=\"\",\"\",'Age - TTD'!F41)","v":""}]
[36,{"$f":"IF('Age - TTD'!B42=\"\",\"\",'Age - TTD'!B42)","v":""},{"$f":"IF('Age - TTD'!C42=\"\",\"\",'Age - TTD'!C42)","v":""},{"$f":"IF('Age - TTD'!D42=\"\",\"\",'Age - TTD'!D42)","v":""},{"$f":"IF('Age - TTD'!E42=\"\",\"\",'Age - TTD'!E42)","v":""},{"$f":"IF('Age - TTD'!F42=\"\",\"\",'Age - TTD'!F42)","v":""}]
[37,{"$f":"IF('Age - TTD'!B43=\"\",\"\",'Age - TTD'!B43)","v":""},{"$f":"IF('Age - TTD'!C43=\"\",\"\",'Age - TTD'!C43)","v":""},{"$f":"IF('Age - TTD'!D43=\"\",\"\",'Age - TTD'!D43)","v":""},{"$f":"IF('Age - TTD'!E43=\"\",\"\",'Age - TTD'!E43)","v":""},{"$f":"IF('Age - TTD'!F43=\"\",\"\",'Age - TTD'!F43)","v":""}]
[38,{"$f":"IF('Age - TTD'!B44=\"\",\"\",'Age - TTD'!B44)","v":""},{"$f":"IF('Age - TTD'!C44=\"\",\"\",'Age - TTD'!C44)","v":""},{"$f":"IF('Age - TTD'!D44=\"\",\"\",'Age - TTD'!D44)","v":""},{"$f":"IF('Age - TTD'!E44=\"\",\"\",'Age - TTD'!E44)","v":""},{"$f":"IF('Age - TTD'!F44=\"\",\"\",'Age - TTD'!F44)","v":""}]
[39,{"$f":"IF('Age - TTD'!B45=\"\",\"\",'Age - TTD'!B45)","v":""},{"$f":"IF('Age - TTD'!C45=\"\",\"\",'Age - TTD'!C45)","v":""},{"$f":"IF('Age - TTD'!D45=\"\",\"\",'Age - TTD'!D45)","v":""},{"$f":"IF('Age - TTD'!E45=\"\",\"\",'Age - TTD'!E45)","v":""},{"$f":"IF('Age - TTD'!F45=\"\",\"\",'Age - TTD'!F45)","v":""}]
[40,{"$f":"IF('Age - TTD'!B46=\"\",\"\",'Age - TTD'!B46)","v":""},{"$f":"IF('Age - TTD'!C46=\"\",\"\",'Age - TTD'!C46)","v":""},{"$f":"IF('Age - TTD'!D46=\"\",\"\",'Age - TTD'!D46)","v":""},{"$f":"IF('Age - TTD'!E46=\"\",\"\",'Age - TTD'!E46)","v":""},{"$f":"IF('Age - TTD'!F46=\"\",\"\",'Age - TTD'!F46)","v":""}]
[41,{"$f":"IF('Age - TTD'!B47=\"\",\"\",'Age - TTD'!B47)","v":""},{"$f":"IF('Age - TTD'!C47=\"\",\"\",'Age - TTD'!C47)","v":""},{"$f":"IF('Age - TTD'!D47=\"\",\"\",'Age - TTD'!D47)","v":""},{"$f":"IF('Age - TTD'!E47=\"\",\"\",'Age - TTD'!E47)","v":""},{"$f":"IF('Age - TTD'!F47=\"\",\"\",'Age - TTD'!F47)","v":""}]
[42,{"$f":"IF('Age - TTD'!B48=\"\",\"\",'Age - TTD'!B48)","v":""},{"$f":"IF('Age - TTD'!C48=\"\",\"\",'Age - TTD'!C48)","v":""},{"$f":"IF('Age - TTD'!D48=\"\",\"\",'Age - TTD'!D48)","v":""},{"$f":"IF('Age - TTD'!E48=\"\",\"\",'Age - TTD'!E48)","v":""},{"$f":"IF('Age - TTD'!F48=\"\",\"\",'Age - TTD'!F48)","v":""}]
[43,{"$f":"IF('Age - TTD'!B49=\"\",\"\",'Age - TTD'!B49)","v":""},{"$f":"IF('Age - TTD'!C49=\"\",\"\",'Age - TTD'!C49)","v":""},{"$f":"IF('Age - TTD'!D49=\"\",\"\",'Age - TTD'!D49)","v":""},{"$f":"IF('Age - TTD'!E49=\"\",\"\",'Age - TTD'!E49)","v":""},{"$f":"IF('Age - TTD'!F49=\"\",\"\",'Age - TTD'!F49)","v":""}]
[44,{"$f":"IF('Age - TTD'!B50=\"\",\"\",'Age - TTD'!B50)","v":""},{"$f":"IF('Age - TTD'!C50=\"\",\"\",'Age - TTD'!C50)","v":""},{"$f":"IF('Age - TTD'!D50=\"\",\"\",'Age - TTD'!D50)","v":""},{"$f":"IF('Age - TTD'!E50=\"\",\"\",'Age - TTD'!E50)","v":""},{"$f":"IF('Age - TTD'!F50=\"\",\"\",'Age - TTD'!F50)","v":""}]
[45,{"$f":"IF('Age - TTD'!B51=\"\",\"\",'Age - TTD'!B51)","v":""},{"$f":"IF('Age - TTD'!C51=\"\",\"\",'Age - TTD'!C51)","v":""},{"$f":"IF('Age - TTD'!D51=\"\",\"\",'Age - TTD'!D51)","v":""},{"$f":"IF('Age - TTD'!E51=\"\",\"\",'Age - TTD'!E51)","v":""},{"$f":"IF('Age - TTD'!F51=\"\",\"\",'Age - TTD'!F51)","v":""}]
[46,{"$f":"IF('Age - TTD'!B52=\"\",\"\",'Age - TTD'!B52)","v":""},{"$f":"IF('Age - TTD'!C52=\"\",\"\",'Age - TTD'!C52)","v":""},{"$f":"IF('Age - TTD'!D52=\"\",\"\",'Age - TTD'!D52)","v":""},{"$f":"IF('Age - TTD'!E52=\"\",\"\",'Age - TTD'!E52)","v":""},{"$f":"IF('Age - TTD'!F52=\"\",\"\",'Age - TTD'!F52)","v":""}]
[47,{"$f":"IF('Age - TTD'!B53=\"\",\"\",'Age - TTD'!B53)","v":""},{"$f":"IF('Age - TTD'!C53=\"\",\"\",'Age - TTD'!C53)","v":""},{"$f":"IF('Age - TTD'!D53=\"\",\"\",'Age - TTD'!D53)","v":""},{"$f":"IF('Age - TTD'!E53=\"\",\"\",'Age - TTD'!E53)","v":""},{"$f":"IF('Age - TTD'!F53=\"\",\"\",'Age - TTD'!F53)","v":""}]
[48,{"$f":"IF('Age - TTD'!B54=\"\",\"\",'Age - TTD'!B54)","v":""},{"$f":"IF('Age - TTD'!C54=\"\",\"\",'Age - TTD'!C54)","v":""},{"$f":"IF('Age - TTD'!D54=\"\",\"\",'Age - TTD'!D54)","v":""},{"$f":"IF('Age - TTD'!E54=\"\",\"\",'Age - TTD'!E54)","v":""},{"$f":"IF('Age - TTD'!F54=\"\",\"\",'Age - TTD'!F54)","v":""}]
[49,{"$f":"IF('Age - TTD'!B55=\"\",\"\",'Age - TTD'!B55)","v":""},{"$f":"IF('Age - TTD'!C55=\"\",\"\",'Age - TTD'!C55)","v":""},{"$f":"IF('Age - TTD'!D55=\"\",\"\",'Age - TTD'!D55)","v":""},{"$f":"IF('Age - TTD'!E55=\"\",\"\",'Age - TTD'!E55)","v":""},{"$f":"IF('Age - TTD'!F55=\"\",\"\",'Age - TTD'!F55)","v":""}]
[50,{"$f":"IF('Age - TTD'!B56=\"\",\"\",'Age - TTD'!B56)","v":""},{"$f":"IF('Age - TTD'!C56=\"\",\"\",'Age - TTD'!C56)","v":""},{"$f":"IF('Age - TTD'!D56=\"\",\"\",'Age - TTD'!D56)","v":""},{"$f":"IF('Age - TTD'!E56=\"\",\"\",'Age - TTD'!E56)","v":""},{"$f":"IF('Age - TTD'!F56=\"\",\"\",'Age - TTD'!F56)","v":""}]
[51,{"$f":"IF('Age - TTD'!B57=\"\",\"\",'Age - TTD'!B57)","v":""},{"$f":"IF('Age - TTD'!C57=\"\",\"\",'Age - TTD'!C57)","v":""},{"$f":"IF('Age - TTD'!D57=\"\",\"\",'Age - TTD'!D57)","v":""},{"$f":"IF('Age - TTD'!E57=\"\",\"\",'Age - TTD'!E57)","v":""},{"$f":"IF('Age - TTD'!F57=\"\",\"\",'Age - TTD'!F57)","v":""}]
[52,{"$f":"IF('Age - TTD'!B58=\"\",\"\",'Age - TTD'!B58)","v":""},{"$f":"IF('Age - TTD'!C58=\"\",\"\",'Age - TTD'!C58)","v":""},{"$f":"IF('Age - TTD'!D58=\"\",\"\",'Age - TTD'!D58)","v":""},{"$f":"IF('Age - TTD'!E58=\"\",\"\",'Age - TTD'!E58)","v":""},{"$f":"IF('Age - TTD'!F58=\"\",\"\",'Age - TTD'!F58)","v":""}]
[53,{"$f":"IF('Age - TTD'!B59=\"\",\"\",'Age - TTD'!B59)","v":""},{"$f":"IF('Age - TTD'!C59=\"\",\"\",'Age - TTD'!C59)","v":""},{"$f":"IF('Age - TTD'!D59=\"\",\"\",'Age - TTD'!D59)","v":""},{"$f":"IF('Age - TTD'!E59=\"\",\"\",'Age - TTD'!E59)","v":""},{"$f":"IF('Age - TTD'!F59=\"\",\"\",'Age - TTD'!F59)","v":""}]
[54,{"$f":"IF('Age - TTD'!B60=\"\",\"\",'Age - TTD'!B60)","v":""},{"$f":"IF('Age - TTD'!C60=\"\",\"\",'Age - TTD'!C60)","v":""},{"$f":"IF('Age - TTD'!D60=\"\",\"\",'Age - TTD'!D60)","v":""},{"$f":"IF('Age - TTD'!E60=\"\",\"\",'Age - TTD'!E60)","v":""},{"$f":"IF('Age - TTD'!F60=\"\",\"\",'Age - TTD'!F60)","v":""}]
[55,{"$f":"IF('Age - TTD'!B61=\"\",\"\",'Age - TTD'!B61)","v":""},{"$f":"IF('Age - TTD'!C61=\"\",\"\",'Age - TTD'!C61)","v":""},{"$f":"IF('Age - TTD'!D61=\"\",\"\",'Age - TTD'!D61)","v":""},{"$f":"IF('Age - TTD'!E61=\"\",\"\",'Age - TTD'!E61)","v":""},{"$f":"IF('Age - TTD'!F61=\"\",\"\",'Age - TTD'!F61)","v":""}]
[56,{"$f":"IF('Age - TTD'!B62=\"\",\"\",'Age - TTD'!B62)","v":""},{"$f":"IF('Age - TTD'!C62=\"\",\"\",'Age - TTD'!C62)","v":""},{"$f":"IF('Age - TTD'!D62=\"\",\"\",'Age - TTD'!D62)","v":""},{"$f":"IF('Age - TTD'!E62=\"\",\"\",'Age - TTD'!E62)","v":""},{"$f":"IF('Age - TTD'!F62=\"\",\"\",'Age - TTD'!F62)","v":""}]
[57,{"$f":"IF('Age - TTD'!B63=\"\",\"\",'Age - TTD'!B63)","v":""},{"$f":"IF('Age - TTD'!C63=\"\",\"\",'Age - TTD'!C63)","v":""},{"$f":"IF('Age - TTD'!D63=\"\",\"\",'Age - TTD'!D63)","v":""},{"$f":"IF('Age - TTD'!E63=\"\",\"\",'Age - TTD'!E63)","v":""},{"$f":"IF('Age - TTD'!F63=\"\",\"\",'Age - TTD'!F63)","v":""}]
[58,{"$f":"IF('Age - TTD'!B64=\"\",\"\",'Age - TTD'!B64)","v":""},{"$f":"IF('Age - TTD'!C64=\"\",\"\",'Age - TTD'!C64)","v":""},{"$f":"IF('Age - TTD'!D64=\"\",\"\",'Age - TTD'!D64)","v":""},{"$f":"IF('Age - TTD'!E64=\"\",\"\",'Age - TTD'!E64)","v":""},{"$f":"IF('Age - TTD'!F64=\"\",\"\",'Age - TTD'!F64)","v":""}]
[59,{"$f":"IF('Age - TTD'!B65=\"\",\"\",'Age - TTD'!B65)","v":""},{"$f":"IF('Age - TTD'!C65=\"\",\"\",'Age - TTD'!C65)","v":""},{"$f":"IF('Age - TTD'!D65=\"\",\"\",'Age - TTD'!D65)","v":""},{"$f":"IF('Age - TTD'!E65=\"\",\"\",'Age - TTD'!E65)","v":""},{"$f":"IF('Age - TTD'!F65=\"\",\"\",'Age - TTD'!F65)","v":""}]
[60,{"$f":"IF('Age - TTD'!B66=\"\",\"\",'Age - TTD'!B66)","v":""},{"$f":"IF('Age - TTD'!C66=\"\",\"\",'Age - TTD'!C66)","v":""},{"$f":"IF('Age - TTD'!D66=\"\",\"\",'Age - TTD'!D66)","v":""},{"$f":"IF('Age - TTD'!E66=\"\",\"\",'Age - TTD'!E66)","v":""},{"$f":"IF('Age - TTD'!F66=\"\",\"\",'Age - TTD'!F66)","v":""}]
[61,{"$f":"IF('Age - TTD'!B67=\"\",\"\",'Age - TTD'!B67)","v":""},{"$f":"IF('Age - TTD'!C67=\"\",\"\",'Age - TTD'!C67)","v":""},{"$f":"IF('Age - TTD'!D67=\"\",\"\",'Age - TTD'!D67)","v":""},{"$f":"IF('Age - TTD'!E67=\"\",\"\",'Age - TTD'!E67)","v":""},{"$f":"IF('Age - TTD'!F67=\"\",\"\",'Age - TTD'!F67)","v":""}]
[62,{"$f":"IF('Age - TTD'!B68=\"\",\"\",'Age - TTD'!B68)","v":""},{"$f":"IF('Age - TTD'!C68=\"\",\"\",'Age - TTD'!C68)","v":""},{"$f":"IF('Age - TTD'!D68=\"\",\"\",'Age - TTD'!D68)","v":""},{"$f":"IF('Age - TTD'!E68=\"\",\"\",'Age - TTD'!E68)","v":""},{"$f":"IF('Age - TTD'!F68=\"\",\"\",'Age - TTD'!F68)","v":""}]
[63,{"$f":"IF('Age - TTD'!B69=\"\",\"\",'Age - TTD'!B69)","v":""},{"$f":"IF('Age - TTD'!C69=\"\",\"\",'Age - TTD'!C69)","v":""},{"$f":"IF('Age - TTD'!D69=\"\",\"\",'Age - TTD'!D69)","v":""},{"$f":"IF('Age - TTD'!E69=\"\",\"\",'Age - TTD'!E69)","v":""},{"$f":"IF('Age - TTD'!F69=\"\",\"\",'Age - TTD'!F69)","v":""}]
[64,{"$f":"IF('Age - TTD'!B70=\"\",\"\",'Age - TTD'!B70)","v":""},{"$f":"IF('Age - TTD'!C70=\"\",\"\",'Age - TTD'!C70)","v":""},{"$f":"IF('Age - TTD'!D70=\"\",\"\",'Age - TTD'!D70)","v":""},{"$f":"IF('Age - TTD'!E70=\"\",\"\",'Age - TTD'!E70)","v":""},{"$f":"IF('Age - TTD'!F70=\"\",\"\",'Age - TTD'!F70)","v":""}]
[65,{"$f":"IF('Age - TTD'!B71=\"\",\"\",'Age - TTD'!B71)","v":""},{"$f":"IF('Age - TTD'!C71=\"\",\"\",'Age - TTD'!C71)","v":""},{"$f":"IF('Age - TTD'!D71=\"\",\"\",'Age - TTD'!D71)","v":""},{"$f":"IF('Age - TTD'!E71=\"\",\"\",'Age - TTD'!E71)","v":""},{"$f":"IF('Age - TTD'!F71=\"\",\"\",'Age - TTD'!F71)","v":""}]
[66,{"$f":"IF('Age - TTD'!B72=\"\",\"\",'Age - TTD'!B72)","v":""},{"$f":"IF('Age - TTD'!C72=\"\",\"\",'Age - TTD'!C72)","v":""},{"$f":"IF('Age - TTD'!D72=\"\",\"\",'Age - TTD'!D72)","v":""},{"$f":"IF('Age - TTD'!E72=\"\",\"\",'Age - TTD'!E72)","v":""},{"$f":"IF('Age - TTD'!F72=\"\",\"\",'Age - TTD'!F72)","v":""}]
[67,{"$f":"IF('Age - TTD'!B73=\"\",\"\",'Age - TTD'!B73)","v":""},{"$f":"IF('Age - TTD'!C73=\"\",\"\",'Age - TTD'!C73)","v":""},{"$f":"IF('Age - TTD'!D73=\"\",\"\",'Age - TTD'!D73)","v":""},{"$f":"IF('Age - TTD'!E73=\"\",\"\",'Age - TTD'!E73)","v":""},{"$f":"IF('Age - TTD'!F73=\"\",\"\",'Age - TTD'!F73)","v":""}]
[68,{"$f":"IF('Age - TTD'!B74=\"\",\"\",'Age - TTD'!B74)","v":""},{"$f":"IF('Age - TTD'!C74=\"\",\"\",'Age - TTD'!C74)","v":""},{"$f":"IF('Age - TTD'!D74=\"\",\"\",'Age - TTD'!D74)","v":""},{"$f":"IF('Age - TTD'!E74=\"\",\"\",'Age - TTD'!E74)","v":""},{"$f":"IF('Age - TTD'!F74=\"\",\"\",'Age - TTD'!F74)","v":""}]
[69,{"$f":"IF('Age - TTD'!B75=\"\",\"\",'Age - TTD'!B75)","v":""},{"$f":"IF('Age - TTD'!C75=\"\",\"\",'Age - TTD'!C75)","v":""},{"$f":"IF('Age - TTD'!D75=\"\",\"\",'Age - TTD'!D75)","v":""},{"$f":"IF('Age - TTD'!E75=\"\",\"\",'Age - TTD'!E75)","v":""},{"$f":"IF('Age - TTD'!F75=\"\",\"\",'Age - TTD'!F75)","v":""}]
[70,{"$f":"IF('Age - TTD'!B76=\"\",\"\",'Age - TTD'!B76)","v":""},{"$f":"IF('Age - TTD'!C76=\"\",\"\",'Age - TTD'!C76)","v":""},{"$f":"IF('Age - TTD'!D76=\"\",\"\",'Age - TTD'!D76)","v":""},{"$f":"IF('Age - TTD'!E76=\"\",\"\",'Age - TTD'!E76)","v":""},{"$f":"IF('Age - TTD'!F76=\"\",\"\",'Age - TTD'!F76)","v":""}]
[71,{"$f":"IF('Age - TTD'!B77=\"\",\"\",'Age - TTD'!B77)","v":""},{"$f":"IF('Age - TTD'!C77=\"\",\"\",'Age - TTD'!C77)","v":""},{"$f":"IF('Age - TTD'!D77=\"\",\"\",'Age - TTD'!D77)","v":""},{"$f":"IF('Age - TTD'!E77=\"\",\"\",'Age - TTD'!E77)","v":""},{"$f":"IF('Age - TTD'!F77=\"\",\"\",'Age - TTD'!F77)","v":""}]
[72,{"$f":"IF('Age - TTD'!B78=\"\",\"\",'Age - TTD'!B78)","v":""},{"$f":"IF('Age - TTD'!C78=\"\",\"\",'Age - TTD'!C78)","v":""},{"$f":"IF('Age - TTD'!D78=\"\",\"\",'Age - TTD'!D78)","v":""},{"$f":"IF('Age - TTD'!E78=\"\",\"\",'Age - TTD'!E78)","v":""},{"$f":"IF('Age - TTD'!F78=\"\",\"\",'Age - TTD'!F78)","v":""}]
[73,{"$f":"IF('Age - TTD'!B79=\"\",\"\",'Age - TTD'!B79)","v":""},{"$f":"IF('Age - TTD'!C79=\"\",\"\",'Age - TTD'!C79)","v":""},{"$f":"IF('Age - TTD'!D79=\"\",\"\",'Age - TTD'!D79)","v":""},{"$f":"IF('Age - TTD'!E79=\"\",\"\",'Age - TTD'!E79)","v":""},{"$f":"IF('Age - TTD'!F79=\"\",\"\",'Age - TTD'!F79)","v":""}]
[74,{"$f":"IF('Age - TTD'!B80=\"\",\"\",'Age - TTD'!B80)","v":""},{"$f":"IF('Age - TTD'!C80=\"\",\"\",'Age - TTD'!C80)","v":""},{"$f":"IF('Age - TTD'!D80=\"\",\"\",'Age - TTD'!D80)","v":""},{"$f":"IF('Age - TTD'!E80=\"\",\"\",'Age - TTD'!E80)","v":""},{"$f":"IF('Age - TTD'!F80=\"\",\"\",'Age - TTD'!F80)","v":""}]
[75,{"$f":"IF('Age - TTD'!B81=\"\",\"\",'Age - TTD'!B81)","v":""},{"$f":"IF('Age - TTD'!C81=\"\",\"\",'Age - TTD'!C81)","v":""},{"$f":"IF('Age - TTD'!D81=\"\",\"\",'Age - TTD'!D81)","v":""},{"$f":"IF('Age - TTD'!E81=\"\",\"\",'Age - TTD'!E81)","v":""},{"$f":"IF('Age - TTD'!F81=\"\",\"\",'Age - TTD'!F81)","v":""}]
[76,{"$f":"IF('Age - TTD'!B82=\"\",\"\",'Age - TTD'!B82)","v":""},{"$f":"IF('Age - TTD'!C82=\"\",\"\",'Age - TTD'!C82)","v":""},{"$f":"IF('Age - TTD'!D82=\"\",\"\",'Age - TTD'!D82)","v":""},{"$f":"IF('Age - TTD'!E82=\"\",\"\",'Age - TTD'!E82)","v":""},{"$f":"IF('Age - TTD'!F82=\"\",\"\",'Age - TTD'!F82)","v":""}]
[77,{"$f":"IF('Age - TTD'!B83=\"\",\"\",'Age - TTD'!B83)","v":""},{"$f":"IF('Age - TTD'!C83=\"\",\"\",'Age - TTD'!C83)","v":""},{"$f":"IF('Age - TTD'!D83=\"\",\"\",'Age - TTD'!D83)","v":""},{"$f":"IF('Age - TTD'!E83=\"\",\"\",'Age - TTD'!E83)","v":""},{"$f":"IF('Age - TTD'!F83=\"\",\"\",'Age - TTD'!F83)","v":""}]
[78,{"$f":"IF('Age - TTD'!B84=\"\",\"\",'Age - TTD'!B84)","v":""},{"$f":"IF('Age - TTD'!C84=\"\",\"\",'Age - TTD'!C84)","v":""},{"$f":"IF('Age - TTD'!D84=\"\",\"\",'Age - TTD'!D84)","v":""},{"$f":"IF('Age - TTD'!E84=\"\",\"\",'Age - TTD'!E84)","v":""},{"$f":"IF('Age - TTD'!F84=\"\",\"\",'Age - TTD'!F84)","v":""}]
[79,{"$f":"IF('Age - TTD'!B85=\"\",\"\",'Age - TTD'!B85)","v":""},{"$f":"IF('Age - TTD'!C85=\"\",\"\",'Age - TTD'!C85)","v":""},{"$f":"IF('Age - TTD'!D85=\"\",\"\",'Age - TTD'!D85)","v":""},{"$f":"IF('Age - TTD'!E85=\"\",\"\",'Age - TTD'!E85)","v":""},{"$f":"IF('Age - TTD'!F85=\"\",\"\",'Age - TTD'!F85)","v":""}]
[80,{"$f":"IF('Age - TTD'!B86=\"\",\"\",'Age - TTD'!B86)","v":""},{"$f":"IF('Age - TTD'!C86=\"\",\"\",'Age - TTD'!C86)","v":""},{"$f":"IF('Age - TTD'!D86=\"\",\"\",'Age - TTD'!D86)","v":""},{"$f":"IF('Age - TTD'!E86=\"\",\"\",'Age - TTD'!E86)","v":""},{"$f":"IF('Age - TTD'!F86=\"\",\"\",'Age - TTD'!F86)","v":""}]
[81,{"$f":"IF('Age - TTD'!B87=\"\",\"\",'Age - TTD'!B87)","v":""},{"$f":"IF('Age - TTD'!C87=\"\",\"\",'Age - TTD'!C87)","v":""},{"$f":"IF('Age - TTD'!D87=\"\",\"\",'Age - TTD'!D87)","v":""},{"$f":"IF('Age - TTD'!E87=\"\",\"\",'Age - TTD'!E87)","v":""},{"$f":"IF('Age - TTD'!F87=\"\",\"\",'Age - TTD'!F87)","v":""}]
[82,{"$f":"IF('Age - TTD'!B88=\"\",\"\",'Age - TTD'!B88)","v":""},{"$f":"IF('Age - TTD'!C88=\"\",\"\",'Age - TTD'!C88)","v":""},{"$f":"IF('Age - TTD'!D88=\"\",\"\",'Age - TTD'!D88)","v":""},{"$f":"IF('Age - TTD'!E88=\"\",\"\",'Age - TTD'!E88)","v":""},{"$f":"IF('Age - TTD'!F88=\"\",\"\",'Age - TTD'!F88)","v":""}]
[83,{"$f":"IF('Age - TTD'!B89=\"\",\"\",'Age - TTD'!B89)","v":""},{"$f":"IF('Age - TTD'!C89=\"\",\"\",'Age - TTD'!C89)","v":""},{"$f":"IF('Age - TTD'!D89=\"\",\"\",'Age - TTD'!D89)","v":""},{"$f":"IF('Age - TTD'!E89=\"\",\"\",'Age - TTD'!E89)","v":""},{"$f":"IF('Age - TTD'!F89=\"\",\"\",'Age - TTD'!F89)","v":""}]
[84,{"$f":"IF('Age - TTD'!B90=\"\",\"\",'Age - TTD'!B90)","v":""},{"$f":"IF('Age - TTD'!C90=\"\",\"\",'Age - TTD'!C90)","v":""},{"$f":"IF('Age - TTD'!D90=\"\",\"\",'Age - TTD'!D90)","v":""},{"$f":"IF('Age - TTD'!E90=\"\",\"\",'Age - TTD'!E90)","v":""},{"$f":"IF('Age - TTD'!F90=\"\",\"\",'Age - TTD'!F90)","v":""}]
[85,{"$f":"IF('Age - TTD'!B91=\"\",\"\",'Age - TTD'!B91)","v":""},{"$f":"IF('Age - TTD'!C91=\"\",\"\",'Age - TTD'!C91)","v":""},{"$f":"IF('Age - TTD'!D91=\"\",\"\",'Age - TTD'!D91)","v":""},{"$f":"IF('Age - TTD'!E91=\"\",\"\",'Age - TTD'!E91)","v":""},{"$f":"IF('Age - TTD'!F91=\"\",\"\",'Age - TTD'!F91)","v":""}]
[86,{"$f":"IF('Age - TTD'!B92=\"\",\"\",'Age - TTD'!B92)","v":""},{"$f":"IF('Age - TTD'!C92=\"\",\"\",'Age - TTD'!C92)","v":""},{"$f":"IF('Age - TTD'!D92=\"\",\"\",'Age - TTD'!D92)","v":""},{"$f":"IF('Age - TTD'!E92=\"\",\"\",'Age - TTD'!E92)","v":""},{"$f":"IF('Age - TTD'!F92=\"\",\"\",'Age - TTD'!F92)","v":""}]
[87,{"$f":"IF('Age - TTD'!B93=\"\",\"\",'Age - TTD'!B93)","v":""},{"$f":"IF('Age - TTD'!C93=\"\",\"\",'Age - TTD'!C93)","v":""},{"$f":"IF('Age - TTD'!D93=\"\",\"\",'Age - TTD'!D93)","v":""},{"$f":"IF('Age - TTD'!E93=\"\",\"\",'Age - TTD'!E93)","v":""},{"$f":"IF('Age - TTD'!F93=\"\",\"\",'Age - TTD'!F93)","v":""}]
[88,{"$f":"IF('Age - TTD'!B94=\"\",\"\",'Age - TTD'!B94)","v":""},{"$f":"IF('Age - TTD'!C94=\"\",\"\",'Age - TTD'!C94)","v":""},{"$f":"IF('Age - TTD'!D94=\"\",\"\",'Age - TTD'!D94)","v":""},{"$f":"IF('Age - TTD'!E94=\"\",\"\",'Age - TTD'!E94)","v":""},{"$f":"IF('Age - TTD'!F94=\"\",\"\",'Age - TTD'!F94)","v":""}]
[89,{"$f":"IF('Age - TTD'!B95=\"\",\"\",'Age - TTD'!B95)","v":""},{"$f":"IF('Age - TTD'!C95=\"\",\"\",'Age - TTD'!C95)","v":""},{"$f":"IF('Age - TTD'!D95=\"\",\"\",'Age - TTD'!D95)","v":""},{"$f":"IF('Age - TTD'!E95=\"\",\"\",'Age - TTD'!E95)","v":""},{"$f":"IF('Age - TTD'!F95=\"\",\"\",'Age - TTD'!F95)","v":""}]
[90,{"$f":"IF('Age - TTD'!B96=\"\",\"\",'Age - TTD'!B96)","v":""},{"$f":"IF('Age - TTD'!C96=\"\",\"\",'Age - TTD'!C96)","v":""},{"$f":"IF('Age - TTD'!D96=\"\",\"\",'Age - TTD'!D96)","v":""},{"$f":"IF('Age - TTD'!E96=\"\",\"\",'Age - TTD'!E96)","v":""},{"$f":"IF('Age - TTD'!F96=\"\",\"\",'Age - TTD'!F96)","v":""}]
[91,{"$f":"IF('Age - TTD'!B97=\"\",\"\",'Age - TTD'!B97)","v":""},{"$f":"IF('Age - TTD'!C97=\"\",\"\",'Age - TTD'!C97)","v":""},{"$f":"IF('Age - TTD'!D97=\"\",\"\",'Age - TTD'!D97)","v":""},{"$f":"IF('Age - TTD'!E97=\"\",\"\",'Age - TTD'!E97)","v":""},{"$f":"IF('Age - TTD'!F97=\"\",\"\",'Age - TTD'!F97)","v":""}]
[92,{"$f":"IF('Age - TTD'!B98=\"\",\"\",'Age - TTD'!B98)","v":""},{"$f":"IF('Age - TTD'!C98=\"\",\"\",'Age - TTD'!C98)","v":""},{"$f":"IF('Age - TTD'!D98=\"\",\"\",'Age - TTD'!D98)","v":""},{"$f":"IF('Age - TTD'!E98=\"\",\"\",'Age - TTD'!E98)","v":""},{"$f":"IF('Age - TTD'!F98=\"\",\"\",'Age - TTD'!F98)","v":""}]
[93,{"$f":"IF('Age - TTD'!B99=\"\",\"\",'Age - TTD'!B99)","v":""},{"$f":"IF('Age - TTD'!C99=\"\",\"\",'Age - TTD'!C99)","v":""},{"$f":"IF('Age - TTD'!D99=\"\",\"\",'Age - TTD'!D99)","v":""},{"$f":"IF('Age - TTD'!E99=\"\",\"\",'Age - TTD'!E99)","v":""},{"$f":"IF('Age - TTD'!F99=\"\",\"\",'Age - TTD'!F99)","v":""}]
[94,{"$f":"IF('Age - TTD'!B100=\"\",\"\",'Age - TTD'!B100)","v":""},{"$f":"IF('Age - TTD'!C100=\"\",\"\",'Age - TTD'!C100)","v":""},{"$f":"IF('Age - TTD'!D100=\"\",\"\",'Age - TTD'!D100)","v":""},{"$f":"IF('Age - TTD'!E100=\"\",\"\",'Age - TTD'!E100)","v":""},{"$f":"IF('Age - TTD'!F100=\"\",\"\",'Age - TTD'!F100)","v":""}]
[95,{"$f":"IF('Age - TTD'!B101=\"\",\"\",'Age - TTD'!B101)","v":""},{"$f":"IF('Age - TTD'!C101=\"\",\"\",'Age - TTD'!C101)","v":""},{"$f":"IF('Age - TTD'!D101=\"\",\"\",'Age - TTD'!D101)","v":""},{"$f":"IF('Age - TTD'!E101=\"\",\"\",'Age - TTD'!E101)","v":""},{"$f":"IF('Age - TTD'!F101=\"\",\"\",'Age - TTD'!F101)","v":""}]
[96,{"$f":"IF('Age - TTD'!B102=\"\",\"\",'Age - TTD'!B102)","v":""},{"$f":"IF('Age - TTD'!C102=\"\",\"\",'Age - TTD'!C102)","v":""},{"$f":"IF('Age - TTD'!D102=\"\",\"\",'Age - TTD'!D102)","v":""},{"$f":"IF('Age - TTD'!E102=\"\",\"\",'Age - TTD'!E102)","v":""},{"$f":"IF('Age - TTD'!F102=\"\",\"\",'Age - TTD'!F102)","v":""}]
[97,{"$f":"IF('Age - TTD'!B103=\"\",\"\",'Age - TTD'!B103)","v":""},{"$f":"IF('Age - TTD'!C103=\"\",\"\",'Age - TTD'!C103)","v":""},{"$f":"IF('Age - TTD'!D103=\"\",\"\",'Age - TTD'!D103)","v":""},{"$f":"IF('Age - TTD'!E103=\"\",\"\",'Age - TTD'!E103)","v":""},{"$f":"IF('Age - TTD'!F103=\"\",\"\",'Age - TTD'!F103)","v":""}]
[98,{"$f":"IF('Age - TTD'!B104=\"\",\"\",'Age - TTD'!B104)","v":""},{"$f":"IF('Age - TTD'!C104=\"\",\"\",'Age - TTD'!C104)","v":""},{"$f":"IF('Age - TTD'!D104=\"\",\"\",'Age - TTD'!D104)","v":""},{"$f":"IF('Age - TTD'!E104=\"\",\"\",'Age - TTD'!E104)","v":""},{"$f":"IF('Age - TTD'!F104=\"\",\"\",'Age - TTD'!F104)","v":""}]
[99,{"$f":"IF('Age - TTD'!B105=\"\",\"\",'Age - TTD'!B105)","v":""},{"$f":"IF('Age - TTD'!C105=\"\",\"\",'Age - TTD'!C105)","v":""},{"$f":"IF('Age - TTD'!D105=\"\",\"\",'Age - TTD'!D105)","v":""},{"$f":"IF('Age - TTD'!E105=\"\",\"\",'Age - TTD'!E105)","v":""},{"$f":"IF('Age - TTD'!F105=\"\",\"\",'Age - TTD'!F105)","v":""}]
[100,{"$f":"IF('Age - TTD'!B106=\"\",\"\",'Age - TTD'!B106)","v":""},{"$f":"IF('Age - TTD'!C106=\"\",\"\",'Age - TTD'!C106)","v":""},{"$f":"IF('Age - TTD'!D106=\"\",\"\",'Age - TTD'!D106)","v":""},{"$f":"IF('Age - TTD'!E106=\"\",\"\",'Age - TTD'!E106)","v":""},{"$f":"IF('Age - TTD'!F106=\"\",\"\",'Age - TTD'!F106)","v":""}]
[101,{"$f":"IF('Age - TTD'!B107=\"\",\"\",'Age - TTD'!B107)","v":""},{"$f":"IF('Age - TTD'!C107=\"\",\"\",'Age - TTD'!C107)","v":""},{"$f":"IF('Age - TTD'!D107=\"\",\"\",'Age - TTD'!D107)","v":""},{"$f":"IF('Age - TTD'!E107=\"\",\"\",'Age - TTD'!E107)","v":""},{"$f":"IF('Age - TTD'!F107=\"\",\"\",'Age - TTD'!F107)","v":""}]
[102,{"$f":"IF('Age - TTD'!B108=\"\",\"\",'Age - TTD'!B108)","v":""},{"$f":"IF('Age - TTD'!C108=\"\",\"\",'Age - TTD'!C108)","v":""},{"$f":"IF('Age - TTD'!D108=\"\",\"\",'Age - TTD'!D108)","v":""},{"$f":"IF('Age - TTD'!E108=\"\",\"\",'Age - TTD'!E108)","v":""},{"$f":"IF('Age - TTD'!F108=\"\",\"\",'Age - TTD'!F108)","v":""}]
[103,{"$f":"IF('Age - TTD'!B109=\"\",\"\",'Age - TTD'!B109)","v":""},{"$f":"IF('Age - TTD'!C109=\"\",\"\",'Age - TTD'!C109)","v":""},{"$f":"IF('Age - TTD'!D109=\"\",\"\",'Age - TTD'!D109)","v":""},{"$f":"IF('Age - TTD'!E109=\"\",\"\",'Age - TTD'!E109)","v":""},{"$f":"IF('Age - TTD'!F109=\"\",\"\",'Age - TTD'!F109)","v":""}]
[104,{"$f":"IF('Age - TTD'!B110=\"\",\"\",'Age - TTD'!B110)","v":""},{"$f":"IF('Age - TTD'!C110=\"\",\"\",'Age - TTD'!C110)","v":""},{"$f":"IF('Age - TTD'!D110=\"\",\"\",'Age - TTD'!D110)","v":""},{"$f":"IF('Age - TTD'!E110=\"\",\"\",'Age - TTD'!E110)","v":""},{"$f":"IF('Age - TTD'!F110=\"\",\"\",'Age - TTD'!F110)","v":""}]
[105,{"$f":"IF('Age - TTD'!B111=\"\",\"\",'Age - TTD'!B111)","v":""},{"$f":"IF('Age - TTD'!C111=\"\",\"\",'Age - TTD'!C111)","v":""},{"$f":"IF('Age - TTD'!D111=\"\",\"\",'Age - TTD'!D111)","v":""},{"$f":"IF('Age - TTD'!E111=\"\",\"\",'Age - TTD'!E111)","v":""},{"$f":"IF('Age - TTD'!F111=\"\",\"\",'Age - TTD'!F111)","v":""}]
[106,{"$f":"IF('Age - TTD'!B112=\"\",\"\",'Age - TTD'!B112)","v":""},{"$f":"IF('Age - TTD'!C112=\"\",\"\",'Age - TTD'!C112)","v":""},{"$f":"IF('Age - TTD'!D112=\"\",\"\",'Age - TTD'!D112)","v":""},{"$f":"IF('Age - TTD'!E112=\"\",\"\",'Age - TTD'!E112)","v":""},{"$f":"IF('Age - TTD'!F112=\"\",\"\",'Age - TTD'!F112)","v":""}]
[107,{"$f":"IF('Age - TTD'!B113=\"\",\"\",'Age - TTD'!B113)","v":""},{"$f":"IF('Age - TTD'!C113=\"\",\"\",'Age - TTD'!C113)","v":""},{"$f":"IF('Age - TTD'!D113=\"\",\"\",'Age - TTD'!D113)","v":""},{"$f":"IF('Age - TTD'!E113=\"\",\"\",'Age - TTD'!E113)","v":""},{"$f":"IF('Age - TTD'!F113=\"\",\"\",'Age - TTD'!F113)","v":""}]
[108,{"$f":"IF('Age - TTD'!B114=\"\",\"\",'Age - TTD'!B114)","v":""},{"$f":"IF('Age - TTD'!C114=\"\",\"\",'Age - TTD'!C114)","v":""},{"$f":"IF('Age - TTD'!D114=\"\",\"\",'Age - TTD'!D114)","v":""},{"$f":"IF('Age - TTD'!E114=\"\",\"\",'Age - TTD'!E114)","v":""},{"$f":"IF('Age - TTD'!F114=\"\",\"\",'Age - TTD'!F114)","v":""}]
[109,{"$f":"IF('Age - TTD'!B115=\"\",\"\",'Age - TTD'!B115)","v":""},{"$f":"IF('Age - TTD'!C115=\"\",\"\",'Age - TTD'!C115)","v":""},{"$f":"IF('Age - TTD'!D115=\"\",\"\",'Age - TTD'!D115)","v":""},{"$f":"IF('Age - TTD'!E115=\"\",\"\",'Age - TTD'!E115)","v":""},{"$f":"IF('Age - TTD'!F115=\"\",\"\",'Age - TTD'!F115)","v":""}]
[110,{"$f":"IF('Age - TTD'!B116=\"\",\"\",'Age - TTD'!B116)","v":""},{"$f":"IF('Age - TTD'!C116=\"\",\"\",'Age - TTD'!C116)","v":""},{"$f":"IF('Age - TTD'!D116=\"\",\"\",'Age - TTD'!D116)","v":""},{"$f":"IF('Age - TTD'!E116=\"\",\"\",'Age - TTD'!E116)","v":""},{"$f":"IF('Age - TTD'!F116=\"\",\"\",'Age - TTD'!F116)","v":""}]
[111,{"$f":"IF('Age - TTD'!B117=\"\",\"\",'Age - TTD'!B117)","v":""},{"$f":"IF('Age - TTD'!C117=\"\",\"\",'Age - TTD'!C117)","v":""},{"$f":"IF('Age - TTD'!D117=\"\",\"\",'Age - TTD'!D117)","v":""},{"$f":"IF('Age - TTD'!E117=\"\",\"\",'Age - TTD'!E117)","v":""},{"$f":"IF('Age - TTD'!F117=\"\",\"\",'Age - TTD'!F117)","v":""}]
[112,{"$f":"IF('Age - TTD'!B118=\"\",\"\",'Age - TTD'!B118)","v":""},{"$f":"IF('Age - TTD'!C118=\"\",\"\",'Age - TTD'!C118)","v":""},{"$f":"IF('Age - TTD'!D118=\"\",\"\",'Age - TTD'!D118)","v":""},{"$f":"IF('Age - TTD'!E118=\"\",\"\",'Age - TTD'!E118)","v":""},{"$f":"IF('Age - TTD'!F118=\"\",\"\",'Age - TTD'!F118)","v":""}]
[113,{"$f":"IF('Age - TTD'!B119=\"\",\"\",'Age - TTD'!B119)","v":""},{"$f":"IF('Age - TTD'!C119=\"\",\"\",'Age - TTD'!C119)","v":""},{"$f":"IF('Age - TTD'!D119=\"\",\"\",'Age - TTD'!D119)","v":""},{"$f":"IF('Age - TTD'!E119=\"\",\"\",'Age - TTD'!E119)","v":""},{"$f":"IF('Age - TTD'!F119=\"\",\"\",'Age - TTD'!F119)","v":""}]
[114,{"$f":"IF('Age - TTD'!B120=\"\",\"\",'Age - TTD'!B120)","v":""},{"$f":"IF('Age - TTD'!C120=\"\",\"\",'Age - TTD'!C120)","v":""},{"$f":"IF('Age - TTD'!D120=\"\",\"\",'Age - TTD'!D120)","v":""},{"$f":"IF('Age - TTD'!E120=\"\",\"\",'Age - TTD'!E120)","v":""},{"$f":"IF('Age - TTD'!F120=\"\",\"\",'Age - TTD'!F120)","v":""}]
[115,{"$f":"IF('Age - TTD'!B121=\"\",\"\",'Age - TTD'!B121)","v":""},{"$f":"IF('Age - TTD'!C121=\"\",\"\",'Age - TTD'!C121)","v":""},{"$f":"IF('Age - TTD'!D121=\"\",\"\",'Age - TTD'!D121)","v":""},{"$f":"IF('Age - TTD'!E121=\"\",\"\",'Age - TTD'!E121)","v":""},{"$f":"IF('Age - TTD'!F121=\"\",\"\",'Age - TTD'!F121)","v":""}]
[116,{"$f":"IF('Age - TTD'!B122=\"\",\"\",'Age - TTD'!B122)","v":""},{"$f":"IF('Age - TTD'!C122=\"\",\"\",'Age - TTD'!C122)","v":""},{"$f":"IF('Age - TTD'!D122=\"\",\"\",'Age - TTD'!D122)","v":""},{"$f":"IF('Age - TTD'!E122=\"\",\"\",'Age - TTD'!E122)","v":""},{"$f":"IF('Age - TTD'!F122=\"\",\"\",'Age - TTD'!F122)","v":""}]
[117,{"$f":"IF('Age - TTD'!B123=\"\",\"\",'Age - TTD'!B123)","v":""},{"$f":"IF('Age - TTD'!C123=\"\",\"\",'Age - TTD'!C123)","v":""},{"$f":"IF('Age - TTD'!D123=\"\",\"\",'Age - TTD'!D123)","v":""},{"$f":"IF('Age - TTD'!E123=\"\",\"\",'Age - TTD'!E123)","v":""},{"$f":"IF('Age - TTD'!F123=\"\",\"\",'Age - TTD'!F123)","v":""}]
[118,{"$f":"IF('Age - TTD'!B124=\"\",\"\",'Age - TTD'!B124)","v":""},{"$f":"IF('Age - TTD'!C124=\"\",\"\",'Age - TTD'!C124)","v":""},{"$f":"IF('Age - TTD'!D124=\"\",\"\",'Age - TTD'!D124)","v":""},{"$f":"IF('Age - TTD'!E124=\"\",\"\",'Age - TTD'!E124)","v":""},{"$f":"IF('Age - TTD'!F124=\"\",\"\",'Age - TTD'!F124)","v":""}]
[119,{"$f":"IF('Age - TTD'!B125=\"\",\"\",'Age - TTD'!B125)","v":""},{"$f":"IF('Age - TTD'!C125=\"\",\"\",'Age - TTD'!C125)","v":""},{"$f":"IF('Age - TTD'!D125=\"\",\"\",'Age - TTD'!D125)","v":""},{"$f":"IF('Age - TTD'!E125=\"\",\"\",'Age - TTD'!E125)","v":""},{"$f":"IF('Age - TTD'!F125=\"\",\"\",'Age - TTD'!F125)","v":""}]
[120,{"$f":"IF('Age - TTD'!B126=\"\",\"\",'Age - TTD'!B126)","v":""},{"$f":"IF('Age - TTD'!C126=\"\",\"\",'Age - TTD'!C126)","v":""},{"$f":"IF('Age - TTD'!D126=\"\",\"\",'Age - TTD'!D126)","v":""},{"$f":"IF('Age - TTD'!E126=\"\",\"\",'Age - TTD'!E126)","v":""},{"$f":"IF('Age - TTD'!F126=\"\",\"\",'Age - TTD'!F126)","v":""}]
[]
["AGE - Fetal Thyroid Area",null,null,null,null,{"$f":"IF('Age - FTA'!F1=\"\",\"\",'Age - FTA'!F1)","v":"Age FTA"}]
[null,null,null,null,null,{"$f":"ValidationData!DataVersion","v":"70.80.100.100"}]
["Index","Measurement Name",null,null,"FTA"]
[null,"Measurement Type",null,null,"Area (cm2)"]
[null,"Author",null,null,{"$f":"IF('Age - FTA'!J5=\"\",\"\",'Age - FTA'!J5)","v":""}]
[null,"Value","Age (weeks)","Age (days)","Range (weeks)","Range (days)"]
[1,{"$f":"IF('Age - FTA'!B7=\"\",\"\",'Age - FTA'!B7)","v":""},{"$f":"IF('Age - FTA'!C7=\"\",\"\",'Age - FTA'!C7)","v":""},{"$f":"IF('Age - FTA'!D7=\"\",\"\",'Age - FTA'!D7)","v":""},{"$f":"IF('Age - FTA'!E7=\"\",\"\",'Age - FTA'!E7)","v":""},{"$f":"IF('Age - FTA'!F7=\"\",\"\",'Age - FTA'!F7)","v":""}]
[2,{"$f":"IF('Age - FTA'!B8=\"\",\"\",'Age - FTA'!B8)","v":""},{"$f":"IF('Age - FTA'!C8=\"\",\"\",'Age - FTA'!C8)","v":""},{"$f":"IF('Age - FTA'!D8=\"\",\"\",'Age - FTA'!D8)","v":""},{"$f":"IF('Age - FTA'!E8=\"\",\"\",'Age - FTA'!E8)","v":""},{"$f":"IF('Age - FTA'!F8=\"\",\"\",'Age - FTA'!F8)","v":""}]
[3,{"$f":"IF('Age - FTA'!B9=\"\",\"\",'Age - FTA'!B9)","v":""},{"$f":"IF('Age - FTA'!C9=\"\",\"\",'Age - FTA'!C9)","v":""},{"$f":"IF('Age - FTA'!D9=\"\",\"\",'Age - FTA'!D9)","v":""},{"$f":"IF('Age - FTA'!E9=\"\",\"\",'Age - FTA'!E9)","v":""},{"$f":"IF('Age - FTA'!F9=\"\",\"\",'Age - FTA'!F9)","v":""}]
[4,{"$f":"IF('Age - FTA'!B10=\"\",\"\",'Age - FTA'!B10)","v":""},{"$f":"IF('Age - FTA'!C10=\"\",\"\",'Age - FTA'!C10)","v":""},{"$f":"IF('Age - FTA'!D10=\"\",\"\",'Age - FTA'!D10)","v":""},{"$f":"IF('Age - FTA'!E10=\"\",\"\",'Age - FTA'!E10)","v":""},{"$f":"IF('Age - FTA'!F10=\"\",\"\",'Age - FTA'!F10)","v":""}]
[5,{"$f":"IF('Age - FTA'!B11=\"\",\"\",'Age - FTA'!B11)","v":""},{"$f":"IF('Age - FTA'!C11=\"\",\"\",'Age - FTA'!C11)","v":""},{"$f":"IF('Age - FTA'!D11=\"\",\"\",'Age - FTA'!D11)","v":""},{"$f":"IF('Age - FTA'!E11=\"\",\"\",'Age - FTA'!E11)","v":""},{"$f":"IF('Age - FTA'!F11=\"\",\"\",'Age - FTA'!F11)","v":""}]
[6,{"$f":"IF('Age - FTA'!B12=\"\",\"\",'Age - FTA'!B12)","v":""},{"$f":"IF('Age - FTA'!C12=\"\",\"\",'Age - FTA'!C12)","v":""},{"$f":"IF('Age - FTA'!D12=\"\",\"\",'Age - FTA'!D12)","v":""},{"$f":"IF('Age - FTA'!E12=\"\",\"\",'Age - FTA'!E12)","v":""},{"$f":"IF('Age - FTA'!F12=\"\",\"\",'Age - FTA'!F12)","v":""}]
[7,{"$f":"IF('Age - FTA'!B13=\"\",\"\",'Age - FTA'!B13)","v":""},{"$f":"IF('Age - FTA'!C13=\"\",\"\",'Age - FTA'!C13)","v":""},{"$f":"IF('Age - FTA'!D13=\"\",\"\",'Age - FTA'!D13)","v":""},{"$f":"IF('Age - FTA'!E13=\"\",\"\",'Age - FTA'!E13)","v":""},{"$f":"IF('Age - FTA'!F13=\"\",\"\",'Age - FTA'!F13)","v":""}]
[8,{"$f":"IF('Age - FTA'!B14=\"\",\"\",'Age - FTA'!B14)","v":""},{"$f":"IF('Age - FTA'!C14=\"\",\"\",'Age - FTA'!C14)","v":""},{"$f":"IF('Age - FTA'!D14=\"\",\"\",'Age - FTA'!D14)","v":""},{"$f":"IF('Age - FTA'!E14=\"\",\"\",'Age - FTA'!E14)","v":""},{"$f":"IF('Age - FTA'!F14=\"\",\"\",'Age - FTA'!F14)","v":""}]
[9,{"$f":"IF('Age - FTA'!B15=\"\",\"\",'Age - FTA'!B15)","v":""},{"$f":"IF('Age - FTA'!C15=\"\",\"\",'Age - FTA'!C15)","v":""},{"$f":"IF('Age - FTA'!D15=\"\",\"\",'Age - FTA'!D15)","v":""},{"$f":"IF('Age - FTA'!E15=\"\",\"\",'Age - FTA'!E15)","v":""},{"$f":"IF('Age - FTA'!F15=\"\",\"\",'Age - FTA'!F15)","v":""}]
[10,{"$f":"IF('Age - FTA'!B16=\"\",\"\",'Age - FTA'!B16)","v":""},{"$f":"IF('Age - FTA'!C16=\"\",\"\",'Age - FTA'!C16)","v":""},{"$f":"IF('Age - FTA'!D16=\"\",\"\",'Age - FTA'!D16)","v":""},{"$f":"IF('Age - FTA'!E16=\"\",\"\",'Age - FTA'!E16)","v":""},{"$f":"IF('Age - FTA'!F16=\"\",\"\",'Age - FTA'!F16)","v":""}]
[11,{"$f":"IF('Age - FTA'!B17=\"\",\"\",'Age - FTA'!B17)","v":""},{"$f":"IF('Age - FTA'!C17=\"\",\"\",'Age - FTA'!C17)","v":""},{"$f":"IF('Age - FTA'!D17=\"\",\"\",'Age - FTA'!D17)","v":""},{"$f":"IF('Age - FTA'!E17=\"\",\"\",'Age - FTA'!E17)","v":""},{"$f":"IF('Age - FTA'!F17=\"\",\"\",'Age - FTA'!F17)","v":""}]
[12,{"$f":"IF('Age - FTA'!B18=\"\",\"\",'Age - FTA'!B18)","v":""},{"$f":"IF('Age - FTA'!C18=\"\",\"\",'Age - FTA'!C18)","v":""},{"$f":"IF('Age - FTA'!D18=\"\",\"\",'Age - FTA'!D18)","v":""},{"$f":"IF('Age - FTA'!E18=\"\",\"\",'Age - FTA'!E18)","v":""},{"$f":"IF('Age - FTA'!F18=\"\",\"\",'Age - FTA'!F18)","v":""}]
[13,{"$f":"IF('Age - FTA'!B19=\"\",\"\",'Age - FTA'!B19)","v":""},{"$f":"IF('Age - FTA'!C19=\"\",\"\",'Age - FTA'!C19)","v":""},{"$f":"IF('Age - FTA'!D19=\"\",\"\",'Age - FTA'!D19)","v":""},{"$f":"IF('Age - FTA'!E19=\"\",\"\",'Age - FTA'!E19)","v":""},{"$f":"IF('Age - FTA'!F19=\"\",\"\",'Age - FTA'!F19)","v":""}]
[14,{"$f":"IF('Age - FTA'!B20=\"\",\"\",'Age - FTA'!B20)","v":""},{"$f":"IF('Age - FTA'!C20=\"\",\"\",'Age - FTA'!C20)","v":""},{"$f":"IF('Age - FTA'!D20=\"\",\"\",'Age - FTA'!D20)","v":""},{"$f":"IF('Age - FTA'!E20=\"\",\"\",'Age - FTA'!E20)","v":""},{"$f":"IF('Age - FTA'!F20=\"\",\"\",'Age - FTA'!F20)","v":""}]
[15,{"$f":"IF('Age - FTA'!B21=\"\",\"\",'Age - FTA'!B21)","v":""},{"$f":"IF('Age - FTA'!C21=\"\",\"\",'Age - FTA'!C21)","v":""},{"$f":"IF('Age - FTA'!D21=\"\",\"\",'Age - FTA'!D21)","v":""},{"$f":"IF('Age - FTA'!E21=\"\",\"\",'Age - FTA'!E21)","v":""},{"$f":"IF('Age - FTA'!F21=\"\",\"\",'Age - FTA'!F21)","v":""}]
[16,{"$f":"IF('Age - FTA'!B22=\"\",\"\",'Age - FTA'!B22)","v":""},{"$f":"IF('Age - FTA'!C22=\"\",\"\",'Age - FTA'!C22)","v":""},{"$f":"IF('Age - FTA'!D22=\"\",\"\",'Age - FTA'!D22)","v":""},{"$f":"IF('Age - FTA'!E22=\"\",\"\",'Age - FTA'!E22)","v":""},{"$f":"IF('Age - FTA'!F22=\"\",\"\",'Age - FTA'!F22)","v":""}]
[17,{"$f":"IF('Age - FTA'!B23=\"\",\"\",'Age - FTA'!B23)","v":""},{"$f":"IF('Age - FTA'!C23=\"\",\"\",'Age - FTA'!C23)","v":""},{"$f":"IF('Age - FTA'!D23=\"\",\"\",'Age - FTA'!D23)","v":""},{"$f":"IF('Age - FTA'!E23=\"\",\"\",'Age - FTA'!E23)","v":""},{"$f":"IF('Age - FTA'!F23=\"\",\"\",'Age - FTA'!F23)","v":""}]
[18,{"$f":"IF('Age - FTA'!B24=\"\",\"\",'Age - FTA'!B24)","v":""},{"$f":"IF('Age - FTA'!C24=\"\",\"\",'Age - FTA'!C24)","v":""},{"$f":"IF('Age - FTA'!D24=\"\",\"\",'Age - FTA'!D24)","v":""},{"$f":"IF('Age - FTA'!E24=\"\",\"\",'Age - FTA'!E24)","v":""},{"$f":"IF('Age - FTA'!F24=\"\",\"\",'Age - FTA'!F24)","v":""}]
[19,{"$f":"IF('Age - FTA'!B25=\"\",\"\",'Age - FTA'!B25)","v":""},{"$f":"IF('Age - FTA'!C25=\"\",\"\",'Age - FTA'!C25)","v":""},{"$f":"IF('Age - FTA'!D25=\"\",\"\",'Age - FTA'!D25)","v":""},{"$f":"IF('Age - FTA'!E25=\"\",\"\",'Age - FTA'!E25)","v":""},{"$f":"IF('Age - FTA'!F25=\"\",\"\",'Age - FTA'!F25)","v":""}]
[20,{"$f":"IF('Age - FTA'!B26=\"\",\"\",'Age - FTA'!B26)","v":""},{"$f":"IF('Age - FTA'!C26=\"\",\"\",'Age - FTA'!C26)","v":""},{"$f":"IF('Age - FTA'!D26=\"\",\"\",'Age - FTA'!D26)","v":""},{"$f":"IF('Age - FTA'!E26=\"\",\"\",'Age - FTA'!E26)","v":""},{"$f":"IF('Age - FTA'!F26=\"\",\"\",'Age - FTA'!F26)","v":""}]
[21,{"$f":"IF('Age - FTA'!B27=\"\",\"\",'Age - FTA'!B27)","v":""},{"$f":"IF('Age - FTA'!C27=\"\",\"\",'Age - FTA'!C27)","v":""},{"$f":"IF('Age - FTA'!D27=\"\",\"\",'Age - FTA'!D27)","v":""},{"$f":"IF('Age - FTA'!E27=\"\",\"\",'Age - FTA'!E27)","v":""},{"$f":"IF('Age - FTA'!F27=\"\",\"\",'Age - FTA'!F27)","v":""}]
[22,{"$f":"IF('Age - FTA'!B28=\"\",\"\",'Age - FTA'!B28)","v":""},{"$f":"IF('Age - FTA'!C28=\"\",\"\",'Age - FTA'!C28)","v":""},{"$f":"IF('Age - FTA'!D28=\"\",\"\",'Age - FTA'!D28)","v":""},{"$f":"IF('Age - FTA'!E28=\"\",\"\",'Age - FTA'!E28)","v":""},{"$f":"IF('Age - FTA'!F28=\"\",\"\",'Age - FTA'!F28)","v":""}]
[23,{"$f":"IF('Age - FTA'!B29=\"\",\"\",'Age - FTA'!B29)","v":""},{"$f":"IF('Age - FTA'!C29=\"\",\"\",'Age - FTA'!C29)","v":""},{"$f":"IF('Age - FTA'!D29=\"\",\"\",'Age - FTA'!D29)","v":""},{"$f":"IF('Age - FTA'!E29=\"\",\"\",'Age - FTA'!E29)","v":""},{"$f":"IF('Age - FTA'!F29=\"\",\"\",'Age - FTA'!F29)","v":""}]
[24,{"$f":"IF('Age - FTA'!B30=\"\",\"\",'Age - FTA'!B30)","v":""},{"$f":"IF('Age - FTA'!C30=\"\",\"\",'Age - FTA'!C30)","v":""},{"$f":"IF('Age - FTA'!D30=\"\",\"\",'Age - FTA'!D30)","v":""},{"$f":"IF('Age - FTA'!E30=\"\",\"\",'Age - FTA'!E30)","v":""},{"$f":"IF('Age - FTA'!F30=\"\",\"\",'Age - FTA'!F30)","v":""}]
[25,{"$f":"IF('Age - FTA'!B31=\"\",\"\",'Age - FTA'!B31)","v":""},{"$f":"IF('Age - FTA'!C31=\"\",\"\",'Age - FTA'!C31)","v":""},{"$f":"IF('Age - FTA'!D31=\"\",\"\",'Age - FTA'!D31)","v":""},{"$f":"IF('Age - FTA'!E31=\"\",\"\",'Age - FTA'!E31)","v":""},{"$f":"IF('Age - FTA'!F31=\"\",\"\",'Age - FTA'!F31)","v":""}]
[26,{"$f":"IF('Age - FTA'!B32=\"\",\"\",'Age - FTA'!B32)","v":""},{"$f":"IF('Age - FTA'!C32=\"\",\"\",'Age - FTA'!C32)","v":""},{"$f":"IF('Age - FTA'!D32=\"\",\"\",'Age - FTA'!D32)","v":""},{"$f":"IF('Age - FTA'!E32=\"\",\"\",'Age - FTA'!E32)","v":""},{"$f":"IF('Age - FTA'!F32=\"\",\"\",'Age - FTA'!F32)","v":""}]
[27,{"$f":"IF('Age - FTA'!B33=\"\",\"\",'Age - FTA'!B33)","v":""},{"$f":"IF('Age - FTA'!C33=\"\",\"\",'Age - FTA'!C33)","v":""},{"$f":"IF('Age - FTA'!D33=\"\",\"\",'Age - FTA'!D33)","v":""},{"$f":"IF('Age - FTA'!E33=\"\",\"\",'Age - FTA'!E33)","v":""},{"$f":"IF('Age - FTA'!F33=\"\",\"\",'Age - FTA'!F33)","v":""}]
[28,{"$f":"IF('Age - FTA'!B34=\"\",\"\",'Age - FTA'!B34)","v":""},{"$f":"IF('Age - FTA'!C34=\"\",\"\",'Age - FTA'!C34)","v":""},{"$f":"IF('Age - FTA'!D34=\"\",\"\",'Age - FTA'!D34)","v":""},{"$f":"IF('Age - FTA'!E34=\"\",\"\",'Age - FTA'!E34)","v":""},{"$f":"IF('Age - FTA'!F34=\"\",\"\",'Age - FTA'!F34)","v":""}]
[29,{"$f":"IF('Age - FTA'!B35=\"\",\"\",'Age - FTA'!B35)","v":""},{"$f":"IF('Age - FTA'!C35=\"\",\"\",'Age - FTA'!C35)","v":""},{"$f":"IF('Age - FTA'!D35=\"\",\"\",'Age - FTA'!D35)","v":""},{"$f":"IF('Age - FTA'!E35=\"\",\"\",'Age - FTA'!E35)","v":""},{"$f":"IF('Age - FTA'!F35=\"\",\"\",'Age - FTA'!F35)","v":""}]
[30,{"$f":"IF('Age - FTA'!B36=\"\",\"\",'Age - FTA'!B36)","v":""},{"$f":"IF('Age - FTA'!C36=\"\",\"\",'Age - FTA'!C36)","v":""},{"$f":"IF('Age - FTA'!D36=\"\",\"\",'Age - FTA'!D36)","v":""},{"$f":"IF('Age - FTA'!E36=\"\",\"\",'Age - FTA'!E36)","v":""},{"$f":"IF('Age - FTA'!F36=\"\",\"\",'Age - FTA'!F36)","v":""}]
[31,{"$f":"IF('Age - FTA'!B37=\"\",\"\",'Age - FTA'!B37)","v":""},{"$f":"IF('Age - FTA'!C37=\"\",\"\",'Age - FTA'!C37)","v":""},{"$f":"IF('Age - FTA'!D37=\"\",\"\",'Age - FTA'!D37)","v":""},{"$f":"IF('Age - FTA'!E37=\"\",\"\",'Age - FTA'!E37)","v":""},{"$f":"IF('Age - FTA'!F37=\"\",\"\",'Age - FTA'!F37)","v":""}]
[32,{"$f":"IF('Age - FTA'!B38=\"\",\"\",'Age - FTA'!B38)","v":""},{"$f":"IF('Age - FTA'!C38=\"\",\"\",'Age - FTA'!C38)","v":""},{"$f":"IF('Age - FTA'!D38=\"\",\"\",'Age - FTA'!D38)","v":""},{"$f":"IF('Age - FTA'!E38=\"\",\"\",'Age - FTA'!E38)","v":""},{"$f":"IF('Age - FTA'!F38=\"\",\"\",'Age - FTA'!F38)","v":""}]
[33,{"$f":"IF('Age - FTA'!B39=\"\",\"\",'Age - FTA'!B39)","v":""},{"$f":"IF('Age - FTA'!C39=\"\",\"\",'Age - FTA'!C39)","v":""},{"$f":"IF('Age - FTA'!D39=\"\",\"\",'Age - FTA'!D39)","v":""},{"$f":"IF('Age - FTA'!E39=\"\",\"\",'Age - FTA'!E39)","v":""},{"$f":"IF('Age - FTA'!F39=\"\",\"\",'Age - FTA'!F39)","v":""}]
[34,{"$f":"IF('Age - FTA'!B40=\"\",\"\",'Age - FTA'!B40)","v":""},{"$f":"IF('Age - FTA'!C40=\"\",\"\",'Age - FTA'!C40)","v":""},{"$f":"IF('Age - FTA'!D40=\"\",\"\",'Age - FTA'!D40)","v":""},{"$f":"IF('Age - FTA'!E40=\"\",\"\",'Age - FTA'!E40)","v":""},{"$f":"IF('Age - FTA'!F40=\"\",\"\",'Age - FTA'!F40)","v":""}]
[35,{"$f":"IF('Age - FTA'!B41=\"\",\"\",'Age - FTA'!B41)","v":""},{"$f":"IF('Age - FTA'!C41=\"\",\"\",'Age - FTA'!C41)","v":""},{"$f":"IF('Age - FTA'!D41=\"\",\"\",'Age - FTA'!D41)","v":""},{"$f":"IF('Age - FTA'!E41=\"\",\"\",'Age - FTA'!E41)","v":""},{"$f":"IF('Age - FTA'!F41=\"\",\"\",'Age - FTA'!F41)","v":""}]
[36,{"$f":"IF('Age - FTA'!B42=\"\",\"\",'Age - FTA'!B42)","v":""},{"$f":"IF('Age - FTA'!C42=\"\",\"\",'Age - FTA'!C42)","v":""},{"$f":"IF('Age - FTA'!D42=\"\",\"\",'Age - FTA'!D42)","v":""},{"$f":"IF('Age - FTA'!E42=\"\",\"\",'Age - FTA'!E42)","v":""},{"$f":"IF('Age - FTA'!F42=\"\",\"\",'Age - FTA'!F42)","v":""}]
[37,{"$f":"IF('Age - FTA'!B43=\"\",\"\",'Age - FTA'!B43)","v":""},{"$f":"IF('Age - FTA'!C43=\"\",\"\",'Age - FTA'!C43)","v":""},{"$f":"IF('Age - FTA'!D43=\"\",\"\",'Age - FTA'!D43)","v":""},{"$f":"IF('Age - FTA'!E43=\"\",\"\",'Age - FTA'!E43)","v":""},{"$f":"IF('Age - FTA'!F43=\"\",\"\",'Age - FTA'!F43)","v":""}]
[38,{"$f":"IF('Age - FTA'!B44=\"\",\"\",'Age - FTA'!B44)","v":""},{"$f":"IF('Age - FTA'!C44=\"\",\"\",'Age - FTA'!C44)","v":""},{"$f":"IF('Age - FTA'!D44=\"\",\"\",'Age - FTA'!D44)","v":""},{"$f":"IF('Age - FTA'!E44=\"\",\"\",'Age - FTA'!E44)","v":""},{"$f":"IF('Age - FTA'!F44=\"\",\"\",'Age - FTA'!F44)","v":""}]
[39,{"$f":"IF('Age - FTA'!B45=\"\",\"\",'Age - FTA'!B45)","v":""},{"$f":"IF('Age - FTA'!C45=\"\",\"\",'Age - FTA'!C45)","v":""},{"$f":"IF('Age - FTA'!D45=\"\",\"\",'Age - FTA'!D45)","v":""},{"$f":"IF('Age - FTA'!E45=\"\",\"\",'Age - FTA'!E45)","v":""},{"$f":"IF('Age - FTA'!F45=\"\",\"\",'Age - FTA'!F45)","v":""}]
[40,{"$f":"IF('Age - FTA'!B46=\"\",\"\",'Age - FTA'!B46)","v":""},{"$f":"IF('Age - FTA'!C46=\"\",\"\",'Age - FTA'!C46)","v":""},{"$f":"IF('Age - FTA'!D46=\"\",\"\",'Age - FTA'!D46)","v":""},{"$f":"IF('Age - FTA'!E46=\"\",\"\",'Age - FTA'!E46)","v":""},{"$f":"IF('Age - FTA'!F46=\"\",\"\",'Age - FTA'!F46)","v":""}]
[41,{"$f":"IF('Age - FTA'!B47=\"\",\"\",'Age - FTA'!B47)","v":""},{"$f":"IF('Age - FTA'!C47=\"\",\"\",'Age - FTA'!C47)","v":""},{"$f":"IF('Age - FTA'!D47=\"\",\"\",'Age - FTA'!D47)","v":""},{"$f":"IF('Age - FTA'!E47=\"\",\"\",'Age - FTA'!E47)","v":""},{"$f":"IF('Age - FTA'!F47=\"\",\"\",'Age - FTA'!F47)","v":""}]
[42,{"$f":"IF('Age - FTA'!B48=\"\",\"\",'Age - FTA'!B48)","v":""},{"$f":"IF('Age - FTA'!C48=\"\",\"\",'Age - FTA'!C48)","v":""},{"$f":"IF('Age - FTA'!D48=\"\",\"\",'Age - FTA'!D48)","v":""},{"$f":"IF('Age - FTA'!E48=\"\",\"\",'Age - FTA'!E48)","v":""},{"$f":"IF('Age - FTA'!F48=\"\",\"\",'Age - FTA'!F48)","v":""}]
[43,{"$f":"IF('Age - FTA'!B49=\"\",\"\",'Age - FTA'!B49)","v":""},{"$f":"IF('Age - FTA'!C49=\"\",\"\",'Age - FTA'!C49)","v":""},{"$f":"IF('Age - FTA'!D49=\"\",\"\",'Age - FTA'!D49)","v":""},{"$f":"IF('Age - FTA'!E49=\"\",\"\",'Age - FTA'!E49)","v":""},{"$f":"IF('Age - FTA'!F49=\"\",\"\",'Age - FTA'!F49)","v":""}]
[44,{"$f":"IF('Age - FTA'!B50=\"\",\"\",'Age - FTA'!B50)","v":""},{"$f":"IF('Age - FTA'!C50=\"\",\"\",'Age - FTA'!C50)","v":""},{"$f":"IF('Age - FTA'!D50=\"\",\"\",'Age - FTA'!D50)","v":""},{"$f":"IF('Age - FTA'!E50=\"\",\"\",'Age - FTA'!E50)","v":""},{"$f":"IF('Age - FTA'!F50=\"\",\"\",'Age - FTA'!F50)","v":""}]
[45,{"$f":"IF('Age - FTA'!B51=\"\",\"\",'Age - FTA'!B51)","v":""},{"$f":"IF('Age - FTA'!C51=\"\",\"\",'Age - FTA'!C51)","v":""},{"$f":"IF('Age - FTA'!D51=\"\",\"\",'Age - FTA'!D51)","v":""},{"$f":"IF('Age - FTA'!E51=\"\",\"\",'Age - FTA'!E51)","v":""},{"$f":"IF('Age - FTA'!F51=\"\",\"\",'Age - FTA'!F51)","v":""}]
[46,{"$f":"IF('Age - FTA'!B52=\"\",\"\",'Age - FTA'!B52)","v":""},{"$f":"IF('Age - FTA'!C52=\"\",\"\",'Age - FTA'!C52)","v":""},{"$f":"IF('Age - FTA'!D52=\"\",\"\",'Age - FTA'!D52)","v":""},{"$f":"IF('Age - FTA'!E52=\"\",\"\",'Age - FTA'!E52)","v":""},{"$f":"IF('Age - FTA'!F52=\"\",\"\",'Age - FTA'!F52)","v":""}]
[47,{"$f":"IF('Age - FTA'!B53=\"\",\"\",'Age - FTA'!B53)","v":""},{"$f":"IF('Age - FTA'!C53=\"\",\"\",'Age - FTA'!C53)","v":""},{"$f":"IF('Age - FTA'!D53=\"\",\"\",'Age - FTA'!D53)","v":""},{"$f":"IF('Age - FTA'!E53=\"\",\"\",'Age - FTA'!E53)","v":""},{"$f":"IF('Age - FTA'!F53=\"\",\"\",'Age - FTA'!F53)","v":""}]
[48,{"$f":"IF('Age - FTA'!B54=\"\",\"\",'Age - FTA'!B54)","v":""},{"$f":"IF('Age - FTA'!C54=\"\",\"\",'Age - FTA'!C54)","v":""},{"$f":"IF('Age - FTA'!D54=\"\",\"\",'Age - FTA'!D54)","v":""},{"$f":"IF('Age - FTA'!E54=\"\",\"\",'Age - FTA'!E54)","v":""},{"$f":"IF('Age - FTA'!F54=\"\",\"\",'Age - FTA'!F54)","v":""}]
[49,{"$f":"IF('Age - FTA'!B55=\"\",\"\",'Age - FTA'!B55)","v":""},{"$f":"IF('Age - FTA'!C55=\"\",\"\",'Age - FTA'!C55)","v":""},{"$f":"IF('Age - FTA'!D55=\"\",\"\",'Age - FTA'!D55)","v":""},{"$f":"IF('Age - FTA'!E55=\"\",\"\",'Age - FTA'!E55)","v":""},{"$f":"IF('Age - FTA'!F55=\"\",\"\",'Age - FTA'!F55)","v":""}]
[50,{"$f":"IF('Age - FTA'!B56=\"\",\"\",'Age - FTA'!B56)","v":""},{"$f":"IF('Age - FTA'!C56=\"\",\"\",'Age - FTA'!C56)","v":""},{"$f":"IF('Age - FTA'!D56=\"\",\"\",'Age - FTA'!D56)","v":""},{"$f":"IF('Age - FTA'!E56=\"\",\"\",'Age - FTA'!E56)","v":""},{"$f":"IF('Age - FTA'!F56=\"\",\"\",'Age - FTA'!F56)","v":""}]
[51,{"$f":"IF('Age - FTA'!B57=\"\",\"\",'Age - FTA'!B57)","v":""},{"$f":"IF('Age - FTA'!C57=\"\",\"\",'Age - FTA'!C57)","v":""},{"$f":"IF('Age - FTA'!D57=\"\",\"\",'Age - FTA'!D57)","v":""},{"$f":"IF('Age - FTA'!E57=\"\",\"\",'Age - FTA'!E57)","v":""},{"$f":"IF('Age - FTA'!F57=\"\",\"\",'Age - FTA'!F57)","v":""}]
[52,{"$f":"IF('Age - FTA'!B58=\"\",\"\",'Age - FTA'!B58)","v":""},{"$f":"IF('Age - FTA'!C58=\"\",\"\",'Age - FTA'!C58)","v":""},{"$f":"IF('Age - FTA'!D58=\"\",\"\",'Age - FTA'!D58)","v":""},{"$f":"IF('Age - FTA'!E58=\"\",\"\",'Age - FTA'!E58)","v":""},{"$f":"IF('Age - FTA'!F58=\"\",\"\",'Age - FTA'!F58)","v":""}]
[53,{"$f":"IF('Age - FTA'!B59=\"\",\"\",'Age - FTA'!B59)","v":""},{"$f":"IF('Age - FTA'!C59=\"\",\"\",'Age - FTA'!C59)","v":""},{"$f":"IF('Age - FTA'!D59=\"\",\"\",'Age - FTA'!D59)","v":""},{"$f":"IF('Age - FTA'!E59=\"\",\"\",'Age - FTA'!E59)","v":""},{"$f":"IF('Age - FTA'!F59=\"\",\"\",'Age - FTA'!F59)","v":""}]
[54,{"$f":"IF('Age - FTA'!B60=\"\",\"\",'Age - FTA'!B60)","v":""},{"$f":"IF('Age - FTA'!C60=\"\",\"\",'Age - FTA'!C60)","v":""},{"$f":"IF('Age - FTA'!D60=\"\",\"\",'Age - FTA'!D60)","v":""},{"$f":"IF('Age - FTA'!E60=\"\",\"\",'Age - FTA'!E60)","v":""},{"$f":"IF('Age - FTA'!F60=\"\",\"\",'Age - FTA'!F60)","v":""}]
[55,{"$f":"IF('Age - FTA'!B61=\"\",\"\",'Age - FTA'!B61)","v":""},{"$f":"IF('Age - FTA'!C61=\"\",\"\",'Age - FTA'!C61)","v":""},{"$f":"IF('Age - FTA'!D61=\"\",\"\",'Age - FTA'!D61)","v":""},{"$f":"IF('Age - FTA'!E61=\"\",\"\",'Age - FTA'!E61)","v":""},{"$f":"IF('Age - FTA'!F61=\"\",\"\",'Age - FTA'!F61)","v":""}]
[56,{"$f":"IF('Age - FTA'!B62=\"\",\"\",'Age - FTA'!B62)","v":""},{"$f":"IF('Age - FTA'!C62=\"\",\"\",'Age - FTA'!C62)","v":""},{"$f":"IF('Age - FTA'!D62=\"\",\"\",'Age - FTA'!D62)","v":""},{"$f":"IF('Age - FTA'!E62=\"\",\"\",'Age - FTA'!E62)","v":""},{"$f":"IF('Age - FTA'!F62=\"\",\"\",'Age - FTA'!F62)","v":""}]
[57,{"$f":"IF('Age - FTA'!B63=\"\",\"\",'Age - FTA'!B63)","v":""},{"$f":"IF('Age - FTA'!C63=\"\",\"\",'Age - FTA'!C63)","v":""},{"$f":"IF('Age - FTA'!D63=\"\",\"\",'Age - FTA'!D63)","v":""},{"$f":"IF('Age - FTA'!E63=\"\",\"\",'Age - FTA'!E63)","v":""},{"$f":"IF('Age - FTA'!F63=\"\",\"\",'Age - FTA'!F63)","v":""}]
[58,{"$f":"IF('Age - FTA'!B64=\"\",\"\",'Age - FTA'!B64)","v":""},{"$f":"IF('Age - FTA'!C64=\"\",\"\",'Age - FTA'!C64)","v":""},{"$f":"IF('Age - FTA'!D64=\"\",\"\",'Age - FTA'!D64)","v":""},{"$f":"IF('Age - FTA'!E64=\"\",\"\",'Age - FTA'!E64)","v":""},{"$f":"IF('Age - FTA'!F64=\"\",\"\",'Age - FTA'!F64)","v":""}]
[59,{"$f":"IF('Age - FTA'!B65=\"\",\"\",'Age - FTA'!B65)","v":""},{"$f":"IF('Age - FTA'!C65=\"\",\"\",'Age - FTA'!C65)","v":""},{"$f":"IF('Age - FTA'!D65=\"\",\"\",'Age - FTA'!D65)","v":""},{"$f":"IF('Age - FTA'!E65=\"\",\"\",'Age - FTA'!E65)","v":""},{"$f":"IF('Age - FTA'!F65=\"\",\"\",'Age - FTA'!F65)","v":""}]
[60,{"$f":"IF('Age - FTA'!B66=\"\",\"\",'Age - FTA'!B66)","v":""},{"$f":"IF('Age - FTA'!C66=\"\",\"\",'Age - FTA'!C66)","v":""},{"$f":"IF('Age - FTA'!D66=\"\",\"\",'Age - FTA'!D66)","v":""},{"$f":"IF('Age - FTA'!E66=\"\",\"\",'Age - FTA'!E66)","v":""},{"$f":"IF('Age - FTA'!F66=\"\",\"\",'Age - FTA'!F66)","v":""}]
[61,{"$f":"IF('Age - FTA'!B67=\"\",\"\",'Age - FTA'!B67)","v":""},{"$f":"IF('Age - FTA'!C67=\"\",\"\",'Age - FTA'!C67)","v":""},{"$f":"IF('Age - FTA'!D67=\"\",\"\",'Age - FTA'!D67)","v":""},{"$f":"IF('Age - FTA'!E67=\"\",\"\",'Age - FTA'!E67)","v":""},{"$f":"IF('Age - FTA'!F67=\"\",\"\",'Age - FTA'!F67)","v":""}]
[62,{"$f":"IF('Age - FTA'!B68=\"\",\"\",'Age - FTA'!B68)","v":""},{"$f":"IF('Age - FTA'!C68=\"\",\"\",'Age - FTA'!C68)","v":""},{"$f":"IF('Age - FTA'!D68=\"\",\"\",'Age - FTA'!D68)","v":""},{"$f":"IF('Age - FTA'!E68=\"\",\"\",'Age - FTA'!E68)","v":""},{"$f":"IF('Age - FTA'!F68=\"\",\"\",'Age - FTA'!F68)","v":""}]
[63,{"$f":"IF('Age - FTA'!B69=\"\",\"\",'Age - FTA'!B69)","v":""},{"$f":"IF('Age - FTA'!C69=\"\",\"\",'Age - FTA'!C69)","v":""},{"$f":"IF('Age - FTA'!D69=\"\",\"\",'Age - FTA'!D69)","v":""},{"$f":"IF('Age - FTA'!E69=\"\",\"\",'Age - FTA'!E69)","v":""},{"$f":"IF('Age - FTA'!F69=\"\",\"\",'Age - FTA'!F69)","v":""}]
[64,{"$f":"IF('Age - FTA'!B70=\"\",\"\",'Age - FTA'!B70)","v":""},{"$f":"IF('Age - FTA'!C70=\"\",\"\",'Age - FTA'!C70)","v":""},{"$f":"IF('Age - FTA'!D70=\"\",\"\",'Age - FTA'!D70)","v":""},{"$f":"IF('Age - FTA'!E70=\"\",\"\",'Age - FTA'!E70)","v":""},{"$f":"IF('Age - FTA'!F70=\"\",\"\",'Age - FTA'!F70)","v":""}]
[65,{"$f":"IF('Age - FTA'!B71=\"\",\"\",'Age - FTA'!B71)","v":""},{"$f":"IF('Age - FTA'!C71=\"\",\"\",'Age - FTA'!C71)","v":""},{"$f":"IF('Age - FTA'!D71=\"\",\"\",'Age - FTA'!D71)","v":""},{"$f":"IF('Age - FTA'!E71=\"\",\"\",'Age - FTA'!E71)","v":""},{"$f":"IF('Age - FTA'!F71=\"\",\"\",'Age - FTA'!F71)","v":""}]
[66,{"$f":"IF('Age - FTA'!B72=\"\",\"\",'Age - FTA'!B72)","v":""},{"$f":"IF('Age - FTA'!C72=\"\",\"\",'Age - FTA'!C72)","v":""},{"$f":"IF('Age - FTA'!D72=\"\",\"\",'Age - FTA'!D72)","v":""},{"$f":"IF('Age - FTA'!E72=\"\",\"\",'Age - FTA'!E72)","v":""},{"$f":"IF('Age - FTA'!F72=\"\",\"\",'Age - FTA'!F72)","v":""}]
[67,{"$f":"IF('Age - FTA'!B73=\"\",\"\",'Age - FTA'!B73)","v":""},{"$f":"IF('Age - FTA'!C73=\"\",\"\",'Age - FTA'!C73)","v":""},{"$f":"IF('Age - FTA'!D73=\"\",\"\",'Age - FTA'!D73)","v":""},{"$f":"IF('Age - FTA'!E73=\"\",\"\",'Age - FTA'!E73)","v":""},{"$f":"IF('Age - FTA'!F73=\"\",\"\",'Age - FTA'!F73)","v":""}]
[68,{"$f":"IF('Age - FTA'!B74=\"\",\"\",'Age - FTA'!B74)","v":""},{"$f":"IF('Age - FTA'!C74=\"\",\"\",'Age - FTA'!C74)","v":""},{"$f":"IF('Age - FTA'!D74=\"\",\"\",'Age - FTA'!D74)","v":""},{"$f":"IF('Age - FTA'!E74=\"\",\"\",'Age - FTA'!E74)","v":""},{"$f":"IF('Age - FTA'!F74=\"\",\"\",'Age - FTA'!F74)","v":""}]
[69,{"$f":"IF('Age - FTA'!B75=\"\",\"\",'Age - FTA'!B75)","v":""},{"$f":"IF('Age - FTA'!C75=\"\",\"\",'Age - FTA'!C75)","v":""},{"$f":"IF('Age - FTA'!D75=\"\",\"\",'Age - FTA'!D75)","v":""},{"$f":"IF('Age - FTA'!E75=\"\",\"\",'Age - FTA'!E75)","v":""},{"$f":"IF('Age - FTA'!F75=\"\",\"\",'Age - FTA'!F75)","v":""}]
[70,{"$f":"IF('Age - FTA'!B76=\"\",\"\",'Age - FTA'!B76)","v":""},{"$f":"IF('Age - FTA'!C76=\"\",\"\",'Age - FTA'!C76)","v":""},{"$f":"IF('Age - FTA'!D76=\"\",\"\",'Age - FTA'!D76)","v":""},{"$f":"IF('Age - FTA'!E76=\"\",\"\",'Age - FTA'!E76)","v":""},{"$f":"IF('Age - FTA'!F76=\"\",\"\",'Age - FTA'!F76)","v":""}]
[71,{"$f":"IF('Age - FTA'!B77=\"\",\"\",'Age - FTA'!B77)","v":""},{"$f":"IF('Age - FTA'!C77=\"\",\"\",'Age - FTA'!C77)","v":""},{"$f":"IF('Age - FTA'!D77=\"\",\"\",'Age - FTA'!D77)","v":""},{"$f":"IF('Age - FTA'!E77=\"\",\"\",'Age - FTA'!E77)","v":""},{"$f":"IF('Age - FTA'!F77=\"\",\"\",'Age - FTA'!F77)","v":""}]
[72,{"$f":"IF('Age - FTA'!B78=\"\",\"\",'Age - FTA'!B78)","v":""},{"$f":"IF('Age - FTA'!C78=\"\",\"\",'Age - FTA'!C78)","v":""},{"$f":"IF('Age - FTA'!D78=\"\",\"\",'Age - FTA'!D78)","v":""},{"$f":"IF('Age - FTA'!E78=\"\",\"\",'Age - FTA'!E78)","v":""},{"$f":"IF('Age - FTA'!F78=\"\",\"\",'Age - FTA'!F78)","v":""}]
[73,{"$f":"IF('Age - FTA'!B79=\"\",\"\",'Age - FTA'!B79)","v":""},{"$f":"IF('Age - FTA'!C79=\"\",\"\",'Age - FTA'!C79)","v":""},{"$f":"IF('Age - FTA'!D79=\"\",\"\",'Age - FTA'!D79)","v":""},{"$f":"IF('Age - FTA'!E79=\"\",\"\",'Age - FTA'!E79)","v":""},{"$f":"IF('Age - FTA'!F79=\"\",\"\",'Age - FTA'!F79)","v":""}]
[74,{"$f":"IF('Age - FTA'!B80=\"\",\"\",'Age - FTA'!B80)","v":""},{"$f":"IF('Age - FTA'!C80=\"\",\"\",'Age - FTA'!C80)","v":""},{"$f":"IF('Age - FTA'!D80=\"\",\"\",'Age - FTA'!D80)","v":""},{"$f":"IF('Age - FTA'!E80=\"\",\"\",'Age - FTA'!E80)","v":""},{"$f":"IF('Age - FTA'!F80=\"\",\"\",'Age - FTA'!F80)","v":""}]
[75,{"$f":"IF('Age - FTA'!B81=\"\",\"\",'Age - FTA'!B81)","v":""},{"$f":"IF('Age - FTA'!C81=\"\",\"\",'Age - FTA'!C81)","v":""},{"$f":"IF('Age - FTA'!D81=\"\",\"\",'Age - FTA'!D81)","v":""},{"$f":"IF('Age - FTA'!E81=\"\",\"\",'Age - FTA'!E81)","v":""},{"$f":"IF('Age - FTA'!F81=\"\",\"\",'Age - FTA'!F81)","v":""}]
[76,{"$f":"IF('Age - FTA'!B82=\"\",\"\",'Age - FTA'!B82)","v":""},{"$f":"IF('Age - FTA'!C82=\"\",\"\",'Age - FTA'!C82)","v":""},{"$f":"IF('Age - FTA'!D82=\"\",\"\",'Age - FTA'!D82)","v":""},{"$f":"IF('Age - FTA'!E82=\"\",\"\",'Age - FTA'!E82)","v":""},{"$f":"IF('Age - FTA'!F82=\"\",\"\",'Age - FTA'!F82)","v":""}]
[77,{"$f":"IF('Age - FTA'!B83=\"\",\"\",'Age - FTA'!B83)","v":""},{"$f":"IF('Age - FTA'!C83=\"\",\"\",'Age - FTA'!C83)","v":""},{"$f":"IF('Age - FTA'!D83=\"\",\"\",'Age - FTA'!D83)","v":""},{"$f":"IF('Age - FTA'!E83=\"\",\"\",'Age - FTA'!E83)","v":""},{"$f":"IF('Age - FTA'!F83=\"\",\"\",'Age - FTA'!F83)","v":""}]
[78,{"$f":"IF('Age - FTA'!B84=\"\",\"\",'Age - FTA'!B84)","v":""},{"$f":"IF('Age - FTA'!C84=\"\",\"\",'Age - FTA'!C84)","v":""},{"$f":"IF('Age - FTA'!D84=\"\",\"\",'Age - FTA'!D84)","v":""},{"$f":"IF('Age - FTA'!E84=\"\",\"\",'Age - FTA'!E84)","v":""},{"$f":"IF('Age - FTA'!F84=\"\",\"\",'Age - FTA'!F84)","v":""}]
[79,{"$f":"IF('Age - FTA'!B85=\"\",\"\",'Age - FTA'!B85)","v":""},{"$f":"IF('Age - FTA'!C85=\"\",\"\",'Age - FTA'!C85)","v":""},{"$f":"IF('Age - FTA'!D85=\"\",\"\",'Age - FTA'!D85)","v":""},{"$f":"IF('Age - FTA'!E85=\"\",\"\",'Age - FTA'!E85)","v":""},{"$f":"IF('Age - FTA'!F85=\"\",\"\",'Age - FTA'!F85)","v":""}]
[80,{"$f":"IF('Age - FTA'!B86=\"\",\"\",'Age - FTA'!B86)","v":""},{"$f":"IF('Age - FTA'!C86=\"\",\"\",'Age - FTA'!C86)","v":""},{"$f":"IF('Age - FTA'!D86=\"\",\"\",'Age - FTA'!D86)","v":""},{"$f":"IF('Age - FTA'!E86=\"\",\"\",'Age - FTA'!E86)","v":""},{"$f":"IF('Age - FTA'!F86=\"\",\"\",'Age - FTA'!F86)","v":""}]
[81,{"$f":"IF('Age - FTA'!B87=\"\",\"\",'Age - FTA'!B87)","v":""},{"$f":"IF('Age - FTA'!C87=\"\",\"\",'Age - FTA'!C87)","v":""},{"$f":"IF('Age - FTA'!D87=\"\",\"\",'Age - FTA'!D87)","v":""},{"$f":"IF('Age - FTA'!E87=\"\",\"\",'Age - FTA'!E87)","v":""},{"$f":"IF('Age - FTA'!F87=\"\",\"\",'Age - FTA'!F87)","v":""}]
[82,{"$f":"IF('Age - FTA'!B88=\"\",\"\",'Age - FTA'!B88)","v":""},{"$f":"IF('Age - FTA'!C88=\"\",\"\",'Age - FTA'!C88)","v":""},{"$f":"IF('Age - FTA'!D88=\"\",\"\",'Age - FTA'!D88)","v":""},{"$f":"IF('Age - FTA'!E88=\"\",\"\",'Age - FTA'!E88)","v":""},{"$f":"IF('Age - FTA'!F88=\"\",\"\",'Age - FTA'!F88)","v":""}]
[83,{"$f":"IF('Age - FTA'!B89=\"\",\"\",'Age - FTA'!B89)","v":""},{"$f":"IF('Age - FTA'!C89=\"\",\"\",'Age - FTA'!C89)","v":""},{"$f":"IF('Age - FTA'!D89=\"\",\"\",'Age - FTA'!D89)","v":""},{"$f":"IF('Age - FTA'!E89=\"\",\"\",'Age - FTA'!E89)","v":""},{"$f":"IF('Age - FTA'!F89=\"\",\"\",'Age - FTA'!F89)","v":""}]
[84,{"$f":"IF('Age - FTA'!B90=\"\",\"\",'Age - FTA'!B90)","v":""},{"$f":"IF('Age - FTA'!C90=\"\",\"\",'Age - FTA'!C90)","v":""},{"$f":"IF('Age - FTA'!D90=\"\",\"\",'Age - FTA'!D90)","v":""},{"$f":"IF('Age - FTA'!E90=\"\",\"\",'Age - FTA'!E90)","v":""},{"$f":"IF('Age - FTA'!F90=\"\",\"\",'Age - FTA'!F90)","v":""}]
[85,{"$f":"IF('Age - FTA'!B91=\"\",\"\",'Age - FTA'!B91)","v":""},{"$f":"IF('Age - FTA'!C91=\"\",\"\",'Age - FTA'!C91)","v":""},{"$f":"IF('Age - FTA'!D91=\"\",\"\",'Age - FTA'!D91)","v":""},{"$f":"IF('Age - FTA'!E91=\"\",\"\",'Age - FTA'!E91)","v":""},{"$f":"IF('Age - FTA'!F91=\"\",\"\",'Age - FTA'!F91)","v":""}]
[86,{"$f":"IF('Age - FTA'!B92=\"\",\"\",'Age - FTA'!B92)","v":""},{"$f":"IF('Age - FTA'!C92=\"\",\"\",'Age - FTA'!C92)","v":""},{"$f":"IF('Age - FTA'!D92=\"\",\"\",'Age - FTA'!D92)","v":""},{"$f":"IF('Age - FTA'!E92=\"\",\"\",'Age - FTA'!E92)","v":""},{"$f":"IF('Age - FTA'!F92=\"\",\"\",'Age - FTA'!F92)","v":""}]
[87,{"$f":"IF('Age - FTA'!B93=\"\",\"\",'Age - FTA'!B93)","v":""},{"$f":"IF('Age - FTA'!C93=\"\",\"\",'Age - FTA'!C93)","v":""},{"$f":"IF('Age - FTA'!D93=\"\",\"\",'Age - FTA'!D93)","v":""},{"$f":"IF('Age - FTA'!E93=\"\",\"\",'Age - FTA'!E93)","v":""},{"$f":"IF('Age - FTA'!F93=\"\",\"\",'Age - FTA'!F93)","v":""}]
[88,{"$f":"IF('Age - FTA'!B94=\"\",\"\",'Age - FTA'!B94)","v":""},{"$f":"IF('Age - FTA'!C94=\"\",\"\",'Age - FTA'!C94)","v":""},{"$f":"IF('Age - FTA'!D94=\"\",\"\",'Age - FTA'!D94)","v":""},{"$f":"IF('Age - FTA'!E94=\"\",\"\",'Age - FTA'!E94)","v":""},{"$f":"IF('Age - FTA'!F94=\"\",\"\",'Age - FTA'!F94)","v":""}]
[89,{"$f":"IF('Age - FTA'!B95=\"\",\"\",'Age - FTA'!B95)","v":""},{"$f":"IF('Age - FTA'!C95=\"\",\"\",'Age - FTA'!C95)","v":""},{"$f":"IF('Age - FTA'!D95=\"\",\"\",'Age - FTA'!D95)","v":""},{"$f":"IF('Age - FTA'!E95=\"\",\"\",'Age - FTA'!E95)","v":""},{"$f":"IF('Age - FTA'!F95=\"\",\"\",'Age - FTA'!F95)","v":""}]
[90,{"$f":"IF('Age - FTA'!B96=\"\",\"\",'Age - FTA'!B96)","v":""},{"$f":"IF('Age - FTA'!C96=\"\",\"\",'Age - FTA'!C96)","v":""},{"$f":"IF('Age - FTA'!D96=\"\",\"\",'Age - FTA'!D96)","v":""},{"$f":"IF('Age - FTA'!E96=\"\",\"\",'Age - FTA'!E96)","v":""},{"$f":"IF('Age - FTA'!F96=\"\",\"\",'Age - FTA'!F96)","v":""}]
[91,{"$f":"IF('Age - FTA'!B97=\"\",\"\",'Age - FTA'!B97)","v":""},{"$f":"IF('Age - FTA'!C97=\"\",\"\",'Age - FTA'!C97)","v":""},{"$f":"IF('Age - FTA'!D97=\"\",\"\",'Age - FTA'!D97)","v":""},{"$f":"IF('Age - FTA'!E97=\"\",\"\",'Age - FTA'!E97)","v":""},{"$f":"IF('Age - FTA'!F97=\"\",\"\",'Age - FTA'!F97)","v":""}]
[92,{"$f":"IF('Age - FTA'!B98=\"\",\"\",'Age - FTA'!B98)","v":""},{"$f":"IF('Age - FTA'!C98=\"\",\"\",'Age - FTA'!C98)","v":""},{"$f":"IF('Age - FTA'!D98=\"\",\"\",'Age - FTA'!D98)","v":""},{"$f":"IF('Age - FTA'!E98=\"\",\"\",'Age - FTA'!E98)","v":""},{"$f":"IF('Age - FTA'!F98=\"\",\"\",'Age - FTA'!F98)","v":""}]
[93,{"$f":"IF('Age - FTA'!B99=\"\",\"\",'Age - FTA'!B99)","v":""},{"$f":"IF('Age - FTA'!C99=\"\",\"\",'Age - FTA'!C99)","v":""},{"$f":"IF('Age - FTA'!D99=\"\",\"\",'Age - FTA'!D99)","v":""},{"$f":"IF('Age - FTA'!E99=\"\",\"\",'Age - FTA'!E99)","v":""},{"$f":"IF('Age - FTA'!F99=\"\",\"\",'Age - FTA'!F99)","v":""}]
[94,{"$f":"IF('Age - FTA'!B100=\"\",\"\",'Age - FTA'!B100)","v":""},{"$f":"IF('Age - FTA'!C100=\"\",\"\",'Age - FTA'!C100)","v":""},{"$f":"IF('Age - FTA'!D100=\"\",\"\",'Age - FTA'!D100)","v":""},{"$f":"IF('Age - FTA'!E100=\"\",\"\",'Age - FTA'!E100)","v":""},{"$f":"IF('Age - FTA'!F100=\"\",\"\",'Age - FTA'!F100)","v":""}]
[95,{"$f":"IF('Age - FTA'!B101=\"\",\"\",'Age - FTA'!B101)","v":""},{"$f":"IF('Age - FTA'!C101=\"\",\"\",'Age - FTA'!C101)","v":""},{"$f":"IF('Age - FTA'!D101=\"\",\"\",'Age - FTA'!D101)","v":""},{"$f":"IF('Age - FTA'!E101=\"\",\"\",'Age - FTA'!E101)","v":""},{"$f":"IF('Age - FTA'!F101=\"\",\"\",'Age - FTA'!F101)","v":""}]
[96,{"$f":"IF('Age - FTA'!B102=\"\",\"\",'Age - FTA'!B102)","v":""},{"$f":"IF('Age - FTA'!C102=\"\",\"\",'Age - FTA'!C102)","v":""},{"$f":"IF('Age - FTA'!D102=\"\",\"\",'Age - FTA'!D102)","v":""},{"$f":"IF('Age - FTA'!E102=\"\",\"\",'Age - FTA'!E102)","v":""},{"$f":"IF('Age - FTA'!F102=\"\",\"\",'Age - FTA'!F102)","v":""}]
[97,{"$f":"IF('Age - FTA'!B103=\"\",\"\",'Age - FTA'!B103)","v":""},{"$f":"IF('Age - FTA'!C103=\"\",\"\",'Age - FTA'!C103)","v":""},{"$f":"IF('Age - FTA'!D103=\"\",\"\",'Age - FTA'!D103)","v":""},{"$f":"IF('Age - FTA'!E103=\"\",\"\",'Age - FTA'!E103)","v":""},{"$f":"IF('Age - FTA'!F103=\"\",\"\",'Age - FTA'!F103)","v":""}]
[98,{"$f":"IF('Age - FTA'!B104=\"\",\"\",'Age - FTA'!B104)","v":""},{"$f":"IF('Age - FTA'!C104=\"\",\"\",'Age - FTA'!C104)","v":""},{"$f":"IF('Age - FTA'!D104=\"\",\"\",'Age - FTA'!D104)","v":""},{"$f":"IF('Age - FTA'!E104=\"\",\"\",'Age - FTA'!E104)","v":""},{"$f":"IF('Age - FTA'!F104=\"\",\"\",'Age - FTA'!F104)","v":""}]
[99,{"$f":"IF('Age - FTA'!B105=\"\",\"\",'Age - FTA'!B105)","v":""},{"$f":"IF('Age - FTA'!C105=\"\",\"\",'Age - FTA'!C105)","v":""},{"$f":"IF('Age - FTA'!D105=\"\",\"\",'Age - FTA'!D105)","v":""},{"$f":"IF('Age - FTA'!E105=\"\",\"\",'Age - FTA'!E105)","v":""},{"$f":"IF('Age - FTA'!F105=\"\",\"\",'Age - FTA'!F105)","v":""}]
[100,{"$f":"IF('Age - FTA'!B106=\"\",\"\",'Age - FTA'!B106)","v":""},{"$f":"IF('Age - FTA'!C106=\"\",\"\",'Age - FTA'!C106)","v":""},{"$f":"IF('Age - FTA'!D106=\"\",\"\",'Age - FTA'!D106)","v":""},{"$f":"IF('Age - FTA'!E106=\"\",\"\",'Age - FTA'!E106)","v":""},{"$f":"IF('Age - FTA'!F106=\"\",\"\",'Age - FTA'!F106)","v":""}]
[101,{"$f":"IF('Age - FTA'!B107=\"\",\"\",'Age - FTA'!B107)","v":""},{"$f":"IF('Age - FTA'!C107=\"\",\"\",'Age - FTA'!C107)","v":""},{"$f":"IF('Age - FTA'!D107=\"\",\"\",'Age - FTA'!D107)","v":""},{"$f":"IF('Age - FTA'!E107=\"\",\"\",'Age - FTA'!E107)","v":""},{"$f":"IF('Age - FTA'!F107=\"\",\"\",'Age - FTA'!F107)","v":""}]
[102,{"$f":"IF('Age - FTA'!B108=\"\",\"\",'Age - FTA'!B108)","v":""},{"$f":"IF('Age - FTA'!C108=\"\",\"\",'Age - FTA'!C108)","v":""},{"$f":"IF('Age - FTA'!D108=\"\",\"\",'Age - FTA'!D108)","v":""},{"$f":"IF('Age - FTA'!E108=\"\",\"\",'Age - FTA'!E108)","v":""},{"$f":"IF('Age - FTA'!F108=\"\",\"\",'Age - FTA'!F108)","v":""}]
[103,{"$f":"IF('Age - FTA'!B109=\"\",\"\",'Age - FTA'!B109)","v":""},{"$f":"IF('Age - FTA'!C109=\"\",\"\",'Age - FTA'!C109)","v":""},{"$f":"IF('Age - FTA'!D109=\"\",\"\",'Age - FTA'!D109)","v":""},{"$f":"IF('Age - FTA'!E109=\"\",\"\",'Age - FTA'!E109)","v":""},{"$f":"IF('Age - FTA'!F109=\"\",\"\",'Age - FTA'!F109)","v":""}]
[104,{"$f":"IF('Age - FTA'!B110=\"\",\"\",'Age - FTA'!B110)","v":""},{"$f":"IF('Age - FTA'!C110=\"\",\"\",'Age - FTA'!C110)","v":""},{"$f":"IF('Age - FTA'!D110=\"\",\"\",'Age - FTA'!D110)","v":""},{"$f":"IF('Age - FTA'!E110=\"\",\"\",'Age - FTA'!E110)","v":""},{"$f":"IF('Age - FTA'!F110=\"\",\"\",'Age - FTA'!F110)","v":""}]
[105,{"$f":"IF('Age - FTA'!B111=\"\",\"\",'Age - FTA'!B111)","v":""},{"$f":"IF('Age - FTA'!C111=\"\",\"\",'Age - FTA'!C111)","v":""},{"$f":"IF('Age - FTA'!D111=\"\",\"\",'Age - FTA'!D111)","v":""},{"$f":"IF('Age - FTA'!E111=\"\",\"\",'Age - FTA'!E111)","v":""},{"$f":"IF('Age - FTA'!F111=\"\",\"\",'Age - FTA'!F111)","v":""}]
[106,{"$f":"IF('Age - FTA'!B112=\"\",\"\",'Age - FTA'!B112)","v":""},{"$f":"IF('Age - FTA'!C112=\"\",\"\",'Age - FTA'!C112)","v":""},{"$f":"IF('Age - FTA'!D112=\"\",\"\",'Age - FTA'!D112)","v":""},{"$f":"IF('Age - FTA'!E112=\"\",\"\",'Age - FTA'!E112)","v":""},{"$f":"IF('Age - FTA'!F112=\"\",\"\",'Age - FTA'!F112)","v":""}]
[107,{"$f":"IF('Age - FTA'!B113=\"\",\"\",'Age - FTA'!B113)","v":""},{"$f":"IF('Age - FTA'!C113=\"\",\"\",'Age - FTA'!C113)","v":""},{"$f":"IF('Age - FTA'!D113=\"\",\"\",'Age - FTA'!D113)","v":""},{"$f":"IF('Age - FTA'!E113=\"\",\"\",'Age - FTA'!E113)","v":""},{"$f":"IF('Age - FTA'!F113=\"\",\"\",'Age - FTA'!F113)","v":""}]
[108,{"$f":"IF('Age - FTA'!B114=\"\",\"\",'Age - FTA'!B114)","v":""},{"$f":"IF('Age - FTA'!C114=\"\",\"\",'Age - FTA'!C114)","v":""},{"$f":"IF('Age - FTA'!D114=\"\",\"\",'Age - FTA'!D114)","v":""},{"$f":"IF('Age - FTA'!E114=\"\",\"\",'Age - FTA'!E114)","v":""},{"$f":"IF('Age - FTA'!F114=\"\",\"\",'Age - FTA'!F114)","v":""}]
[109,{"$f":"IF('Age - FTA'!B115=\"\",\"\",'Age - FTA'!B115)","v":""},{"$f":"IF('Age - FTA'!C115=\"\",\"\",'Age - FTA'!C115)","v":""},{"$f":"IF('Age - FTA'!D115=\"\",\"\",'Age - FTA'!D115)","v":""},{"$f":"IF('Age - FTA'!E115=\"\",\"\",'Age - FTA'!E115)","v":""},{"$f":"IF('Age - FTA'!F115=\"\",\"\",'Age - FTA'!F115)","v":""}]
[110,{"$f":"IF('Age - FTA'!B116=\"\",\"\",'Age - FTA'!B116)","v":""},{"$f":"IF('Age - FTA'!C116=\"\",\"\",'Age - FTA'!C116)","v":""},{"$f":"IF('Age - FTA'!D116=\"\",\"\",'Age - FTA'!D116)","v":""},{"$f":"IF('Age - FTA'!E116=\"\",\"\",'Age - FTA'!E116)","v":""},{"$f":"IF('Age - FTA'!F116=\"\",\"\",'Age - FTA'!F116)","v":""}]
[111,{"$f":"IF('Age - FTA'!B117=\"\",\"\",'Age - FTA'!B117)","v":""},{"$f":"IF('Age - FTA'!C117=\"\",\"\",'Age - FTA'!C117)","v":""},{"$f":"IF('Age - FTA'!D117=\"\",\"\",'Age - FTA'!D117)","v":""},{"$f":"IF('Age - FTA'!E117=\"\",\"\",'Age - FTA'!E117)","v":""},{"$f":"IF('Age - FTA'!F117=\"\",\"\",'Age - FTA'!F117)","v":""}]
[112,{"$f":"IF('Age - FTA'!B118=\"\",\"\",'Age - FTA'!B118)","v":""},{"$f":"IF('Age - FTA'!C118=\"\",\"\",'Age - FTA'!C118)","v":""},{"$f":"IF('Age - FTA'!D118=\"\",\"\",'Age - FTA'!D118)","v":""},{"$f":"IF('Age - FTA'!E118=\"\",\"\",'Age - FTA'!E118)","v":""},{"$f":"IF('Age - FTA'!F118=\"\",\"\",'Age - FTA'!F118)","v":""}]
[113,{"$f":"IF('Age - FTA'!B119=\"\",\"\",'Age - FTA'!B119)","v":""},{"$f":"IF('Age - FTA'!C119=\"\",\"\",'Age - FTA'!C119)","v":""},{"$f":"IF('Age - FTA'!D119=\"\",\"\",'Age - FTA'!D119)","v":""},{"$f":"IF('Age - FTA'!E119=\"\",\"\",'Age - FTA'!E119)","v":""},{"$f":"IF('Age - FTA'!F119=\"\",\"\",'Age - FTA'!F119)","v":""}]
[114,{"$f":"IF('Age - FTA'!B120=\"\",\"\",'Age - FTA'!B120)","v":""},{"$f":"IF('Age - FTA'!C120=\"\",\"\",'Age - FTA'!C120)","v":""},{"$f":"IF('Age - FTA'!D120=\"\",\"\",'Age - FTA'!D120)","v":""},{"$f":"IF('Age - FTA'!E120=\"\",\"\",'Age - FTA'!E120)","v":""},{"$f":"IF('Age - FTA'!F120=\"\",\"\",'Age - FTA'!F120)","v":""}]
[115,{"$f":"IF('Age - FTA'!B121=\"\",\"\",'Age - FTA'!B121)","v":""},{"$f":"IF('Age - FTA'!C121=\"\",\"\",'Age - FTA'!C121)","v":""},{"$f":"IF('Age - FTA'!D121=\"\",\"\",'Age - FTA'!D121)","v":""},{"$f":"IF('Age - FTA'!E121=\"\",\"\",'Age - FTA'!E121)","v":""},{"$f":"IF('Age - FTA'!F121=\"\",\"\",'Age - FTA'!F121)","v":""}]
[116,{"$f":"IF('Age - FTA'!B122=\"\",\"\",'Age - FTA'!B122)","v":""},{"$f":"IF('Age - FTA'!C122=\"\",\"\",'Age - FTA'!C122)","v":""},{"$f":"IF('Age - FTA'!D122=\"\",\"\",'Age - FTA'!D122)","v":""},{"$f":"IF('Age - FTA'!E122=\"\",\"\",'Age - FTA'!E122)","v":""},{"$f":"IF('Age - FTA'!F122=\"\",\"\",'Age - FTA'!F122)","v":""}]
[117,{"$f":"IF('Age - FTA'!B123=\"\",\"\",'Age - FTA'!B123)","v":""},{"$f":"IF('Age - FTA'!C123=\"\",\"\",'Age - FTA'!C123)","v":""},{"$f":"IF('Age - FTA'!D123=\"\",\"\",'Age - FTA'!D123)","v":""},{"$f":"IF('Age - FTA'!E123=\"\",\"\",'Age - FTA'!E123)","v":""},{"$f":"IF('Age - FTA'!F123=\"\",\"\",'Age - FTA'!F123)","v":""}]
[118,{"$f":"IF('Age - FTA'!B124=\"\",\"\",'Age - FTA'!B124)","v":""},{"$f":"IF('Age - FTA'!C124=\"\",\"\",'Age - FTA'!C124)","v":""},{"$f":"IF('Age - FTA'!D124=\"\",\"\",'Age - FTA'!D124)","v":""},{"$f":"IF('Age - FTA'!E124=\"\",\"\",'Age - FTA'!E124)","v":""},{"$f":"IF('Age - FTA'!F124=\"\",\"\",'Age - FTA'!F124)","v":""}]
[119,{"$f":"IF('Age - FTA'!B125=\"\",\"\",'Age - FTA'!B125)","v":""},{"$f":"IF('Age - FTA'!C125=\"\",\"\",'Age - FTA'!C125)","v":""},{"$f":"IF('Age - FTA'!D125=\"\",\"\",'Age - FTA'!D125)","v":""},{"$f":"IF('Age - FTA'!E125=\"\",\"\",'Age - FTA'!E125)","v":""},{"$f":"IF('Age - FTA'!F125=\"\",\"\",'Age - FTA'!F125)","v":""}]
[120,{"$f":"IF('Age - FTA'!B126=\"\",\"\",'Age - FTA'!B126)","v":""},{"$f":"IF('Age - FTA'!C126=\"\",\"\",'Age - FTA'!C126)","v":""},{"$f":"IF('Age - FTA'!D126=\"\",\"\",'Age - FTA'!D126)","v":""},{"$f":"IF('Age - FTA'!E126=\"\",\"\",'Age - FTA'!E126)","v":""},{"$f":"IF('Age - FTA'!F126=\"\",\"\",'Age - FTA'!F126)","v":""}]
[]
["AGE - Humerus Length",null,null,null,null,{"$f":"IF('Age - HL'!F1=\"\",\"\",'Age - HL'!F1)","v":"Age HL"}]
[null,null,null,null,null,{"$f":"ValidationData!DataVersion","v":"70.80.100.100"}]
["Index","Measurement Name",null,null,"HL"]
[null,"Measurement Type",null,null,"Distance (cm)"]
[null,"Author",null,null,{"$f":"IF('Age - HL'!J5=\"\",\"\",'Age - HL'!J5)","v":""}]
[null,"Value","Age (weeks)","Age (days)","Range (weeks)","Range (days)"]
[1,{"$f":"IF('Age - HL'!B7=\"\",\"\",'Age - HL'!B7)","v":""},{"$f":"IF('Age - HL'!C7=\"\",\"\",'Age - HL'!C7)","v":""},{"$f":"IF('Age - HL'!D7=\"\",\"\",'Age - HL'!D7)","v":""},{"$f":"IF('Age - HL'!E7=\"\",\"\",'Age - HL'!E7)","v":""},{"$f":"IF('Age - HL'!F7=\"\",\"\",'Age - HL'!F7)","v":""}]
[2,{"$f":"IF('Age - HL'!B8=\"\",\"\",'Age - HL'!B8)","v":""},{"$f":"IF('Age - HL'!C8=\"\",\"\",'Age - HL'!C8)","v":""},{"$f":"IF('Age - HL'!D8=\"\",\"\",'Age - HL'!D8)","v":""},{"$f":"IF('Age - HL'!E8=\"\",\"\",'Age - HL'!E8)","v":""},{"$f":"IF('Age - HL'!F8=\"\",\"\",'Age - HL'!F8)","v":""}]
[3,{"$f":"IF('Age - HL'!B9=\"\",\"\",'Age - HL'!B9)","v":""},{"$f":"IF('Age - HL'!C9=\"\",\"\",'Age - HL'!C9)","v":""},{"$f":"IF('Age - HL'!D9=\"\",\"\",'Age - HL'!D9)","v":""},{"$f":"IF('Age - HL'!E9=\"\",\"\",'Age - HL'!E9)","v":""},{"$f":"IF('Age - HL'!F9=\"\",\"\",'Age - HL'!F9)","v":""}]
[4,{"$f":"IF('Age - HL'!B10=\"\",\"\",'Age - HL'!B10)","v":""},{"$f":"IF('Age - HL'!C10=\"\",\"\",'Age - HL'!C10)","v":""},{"$f":"IF('Age - HL'!D10=\"\",\"\",'Age - HL'!D10)","v":""},{"$f":"IF('Age - HL'!E10=\"\",\"\",'Age - HL'!E10)","v":""},{"$f":"IF('Age - HL'!F10=\"\",\"\",'Age - HL'!F10)","v":""}]
[5,{"$f":"IF('Age - HL'!B11=\"\",\"\",'Age - HL'!B11)","v":""},{"$f":"IF('Age - HL'!C11=\"\",\"\",'Age - HL'!C11)","v":""},{"$f":"IF('Age - HL'!D11=\"\",\"\",'Age - HL'!D11)","v":""},{"$f":"IF('Age - HL'!E11=\"\",\"\",'Age - HL'!E11)","v":""},{"$f":"IF('Age - HL'!F11=\"\",\"\",'Age - HL'!F11)","v":""}]
[6,{"$f":"IF('Age - HL'!B12=\"\",\"\",'Age - HL'!B12)","v":""},{"$f":"IF('Age - HL'!C12=\"\",\"\",'Age - HL'!C12)","v":""},{"$f":"IF('Age - HL'!D12=\"\",\"\",'Age - HL'!D12)","v":""},{"$f":"IF('Age - HL'!E12=\"\",\"\",'Age - HL'!E12)","v":""},{"$f":"IF('Age - HL'!F12=\"\",\"\",'Age - HL'!F12)","v":""}]
[7,{"$f":"IF('Age - HL'!B13=\"\",\"\",'Age - HL'!B13)","v":""},{"$f":"IF('Age - HL'!C13=\"\",\"\",'Age - HL'!C13)","v":""},{"$f":"IF('Age - HL'!D13=\"\",\"\",'Age - HL'!D13)","v":""},{"$f":"IF('Age - HL'!E13=\"\",\"\",'Age - HL'!E13)","v":""},{"$f":"IF('Age - HL'!F13=\"\",\"\",'Age - HL'!F13)","v":""}]
[8,{"$f":"IF('Age - HL'!B14=\"\",\"\",'Age - HL'!B14)","v":""},{"$f":"IF('Age - HL'!C14=\"\",\"\",'Age - HL'!C14)","v":""},{"$f":"IF('Age - HL'!D14=\"\",\"\",'Age - HL'!D14)","v":""},{"$f":"IF('Age - HL'!E14=\"\",\"\",'Age - HL'!E14)","v":""},{"$f":"IF('Age - HL'!F14=\"\",\"\",'Age - HL'!F14)","v":""}]
[9,{"$f":"IF('Age - HL'!B15=\"\",\"\",'Age - HL'!B15)","v":""},{"$f":"IF('Age - HL'!C15=\"\",\"\",'Age - HL'!C15)","v":""},{"$f":"IF('Age - HL'!D15=\"\",\"\",'Age - HL'!D15)","v":""},{"$f":"IF('Age - HL'!E15=\"\",\"\",'Age - HL'!E15)","v":""},{"$f":"IF('Age - HL'!F15=\"\",\"\",'Age - HL'!F15)","v":""}]
[10,{"$f":"IF('Age - HL'!B16=\"\",\"\",'Age - HL'!B16)","v":""},{"$f":"IF('Age - HL'!C16=\"\",\"\",'Age - HL'!C16)","v":""},{"$f":"IF('Age - HL'!D16=\"\",\"\",'Age - HL'!D16)","v":""},{"$f":"IF('Age - HL'!E16=\"\",\"\",'Age - HL'!E16)","v":""},{"$f":"IF('Age - HL'!F16=\"\",\"\",'Age - HL'!F16)","v":""}]
[11,{"$f":"IF('Age - HL'!B17=\"\",\"\",'Age - HL'!B17)","v":""},{"$f":"IF('Age - HL'!C17=\"\",\"\",'Age - HL'!C17)","v":""},{"$f":"IF('Age - HL'!D17=\"\",\"\",'Age - HL'!D17)","v":""},{"$f":"IF('Age - HL'!E17=\"\",\"\",'Age - HL'!E17)","v":""},{"$f":"IF('Age - HL'!F17=\"\",\"\",'Age - HL'!F17)","v":""}]
[12,{"$f":"IF('Age - HL'!B18=\"\",\"\",'Age - HL'!B18)","v":""},{"$f":"IF('Age - HL'!C18=\"\",\"\",'Age - HL'!C18)","v":""},{"$f":"IF('Age - HL'!D18=\"\",\"\",'Age - HL'!D18)","v":""},{"$f":"IF('Age - HL'!E18=\"\",\"\",'Age - HL'!E18)","v":""},{"$f":"IF('Age - HL'!F18=\"\",\"\",'Age - HL'!F18)","v":""}]
[13,{"$f":"IF('Age - HL'!B19=\"\",\"\",'Age - HL'!B19)","v":""},{"$f":"IF('Age - HL'!C19=\"\",\"\",'Age - HL'!C19)","v":""},{"$f":"IF('Age - HL'!D19=\"\",\"\",'Age - HL'!D19)","v":""},{"$f":"IF('Age - HL'!E19=\"\",\"\",'Age - HL'!E19)","v":""},{"$f":"IF('Age - HL'!F19=\"\",\"\",'Age - HL'!F19)","v":""}]
[14,{"$f":"IF('Age - HL'!B20=\"\",\"\",'Age - HL'!B20)","v":""},{"$f":"IF('Age - HL'!C20=\"\",\"\",'Age - HL'!C20)","v":""},{"$f":"IF('Age - HL'!D20=\"\",\"\",'Age - HL'!D20)","v":""},{"$f":"IF('Age - HL'!E20=\"\",\"\",'Age - HL'!E20)","v":""},{"$f":"IF('Age - HL'!F20=\"\",\"\",'Age - HL'!F20)","v":""}]
[15,{"$f":"IF('Age - HL'!B21=\"\",\"\",'Age - HL'!B21)","v":""},{"$f":"IF('Age - HL'!C21=\"\",\"\",'Age - HL'!C21)","v":""},{"$f":"IF('Age - HL'!D21=\"\",\"\",'Age - HL'!D21)","v":""},{"$f":"IF('Age - HL'!E21=\"\",\"\",'Age - HL'!E21)","v":""},{"$f":"IF('Age - HL'!F21=\"\",\"\",'Age - HL'!F21)","v":""}]
[16,{"$f":"IF('Age - HL'!B22=\"\",\"\",'Age - HL'!B22)","v":""},{"$f":"IF('Age - HL'!C22=\"\",\"\",'Age - HL'!C22)","v":""},{"$f":"IF('Age - HL'!D22=\"\",\"\",'Age - HL'!D22)","v":""},{"$f":"IF('Age - HL'!E22=\"\",\"\",'Age - HL'!E22)","v":""},{"$f":"IF('Age - HL'!F22=\"\",\"\",'Age - HL'!F22)","v":""}]
[17,{"$f":"IF('Age - HL'!B23=\"\",\"\",'Age - HL'!B23)","v":""},{"$f":"IF('Age - HL'!C23=\"\",\"\",'Age - HL'!C23)","v":""},{"$f":"IF('Age - HL'!D23=\"\",\"\",'Age - HL'!D23)","v":""},{"$f":"IF('Age - HL'!E23=\"\",\"\",'Age - HL'!E23)","v":""},{"$f":"IF('Age - HL'!F23=\"\",\"\",'Age - HL'!F23)","v":""}]
[18,{"$f":"IF('Age - HL'!B24=\"\",\"\",'Age - HL'!B24)","v":""},{"$f":"IF('Age - HL'!C24=\"\",\"\",'Age - HL'!C24)","v":""},{"$f":"IF('Age - HL'!D24=\"\",\"\",'Age - HL'!D24)","v":""},{"$f":"IF('Age - HL'!E24=\"\",\"\",'Age - HL'!E24)","v":""},{"$f":"IF('Age - HL'!F24=\"\",\"\",'Age - HL'!F24)","v":""}]
[19,{"$f":"IF('Age - HL'!B25=\"\",\"\",'Age - HL'!B25)","v":""},{"$f":"IF('Age - HL'!C25=\"\",\"\",'Age - HL'!C25)","v":""},{"$f":"IF('Age - HL'!D25=\"\",\"\",'Age - HL'!D25)","v":""},{"$f":"IF('Age - HL'!E25=\"\",\"\",'Age - HL'!E25)","v":""},{"$f":"IF('Age - HL'!F25=\"\",\"\",'Age - HL'!F25)","v":""}]
[20,{"$f":"IF('Age - HL'!B26=\"\",\"\",'Age - HL'!B26)","v":""},{"$f":"IF('Age - HL'!C26=\"\",\"\",'Age - HL'!C26)","v":""},{"$f":"IF('Age - HL'!D26=\"\",\"\",'Age - HL'!D26)","v":""},{"$f":"IF('Age - HL'!E26=\"\",\"\",'Age - HL'!E26)","v":""},{"$f":"IF('Age - HL'!F26=\"\",\"\",'Age - HL'!F26)","v":""}]
[21,{"$f":"IF('Age - HL'!B27=\"\",\"\",'Age - HL'!B27)","v":""},{"$f":"IF('Age - HL'!C27=\"\",\"\",'Age - HL'!C27)","v":""},{"$f":"IF('Age - HL'!D27=\"\",\"\",'Age - HL'!D27)","v":""},{"$f":"IF('Age - HL'!E27=\"\",\"\",'Age - HL'!E27)","v":""},{"$f":"IF('Age - HL'!F27=\"\",\"\",'Age - HL'!F27)","v":""}]
[22,{"$f":"IF('Age - HL'!B28=\"\",\"\",'Age - HL'!B28)","v":""},{"$f":"IF('Age - HL'!C28=\"\",\"\",'Age - HL'!C28)","v":""},{"$f":"IF('Age - HL'!D28=\"\",\"\",'Age - HL'!D28)","v":""},{"$f":"IF('Age - HL'!E28=\"\",\"\",'Age - HL'!E28)","v":""},{"$f":"IF('Age - HL'!F28=\"\",\"\",'Age - HL'!F28)","v":""}]
[23,{"$f":"IF('Age - HL'!B29=\"\",\"\",'Age - HL'!B29)","v":""},{"$f":"IF('Age - HL'!C29=\"\",\"\",'Age - HL'!C29)","v":""},{"$f":"IF('Age - HL'!D29=\"\",\"\",'Age - HL'!D29)","v":""},{"$f":"IF('Age - HL'!E29=\"\",\"\",'Age - HL'!E29)","v":""},{"$f":"IF('Age - HL'!F29=\"\",\"\",'Age - HL'!F29)","v":""}]
[24,{"$f":"IF('Age - HL'!B30=\"\",\"\",'Age - HL'!B30)","v":""},{"$f":"IF('Age - HL'!C30=\"\",\"\",'Age - HL'!C30)","v":""},{"$f":"IF('Age - HL'!D30=\"\",\"\",'Age - HL'!D30)","v":""},{"$f":"IF('Age - HL'!E30=\"\",\"\",'Age - HL'!E30)","v":""},{"$f":"IF('Age - HL'!F30=\"\",\"\",'Age - HL'!F30)","v":""}]
[25,{"$f":"IF('Age - HL'!B31=\"\",\"\",'Age - HL'!B31)","v":""},{"$f":"IF('Age - HL'!C31=\"\",\"\",'Age - HL'!C31)","v":""},{"$f":"IF('Age - HL'!D31=\"\",\"\",'Age - HL'!D31)","v":""},{"$f":"IF('Age - HL'!E31=\"\",\"\",'Age - HL'!E31)","v":""},{"$f":"IF('Age - HL'!F31=\"\",\"\",'Age - HL'!F31)","v":""}]
[26,{"$f":"IF('Age - HL'!B32=\"\",\"\",'Age - HL'!B32)","v":""},{"$f":"IF('Age - HL'!C32=\"\",\"\",'Age - HL'!C32)","v":""},{"$f":"IF('Age - HL'!D32=\"\",\"\",'Age - HL'!D32)","v":""},{"$f":"IF('Age - HL'!E32=\"\",\"\",'Age - HL'!E32)","v":""},{"$f":"IF('Age - HL'!F32=\"\",\"\",'Age - HL'!F32)","v":""}]
[27,{"$f":"IF('Age - HL'!B33=\"\",\"\",'Age - HL'!B33)","v":""},{"$f":"IF('Age - HL'!C33=\"\",\"\",'Age - HL'!C33)","v":""},{"$f":"IF('Age - HL'!D33=\"\",\"\",'Age - HL'!D33)","v":""},{"$f":"IF('Age - HL'!E33=\"\",\"\",'Age - HL'!E33)","v":""},{"$f":"IF('Age - HL'!F33=\"\",\"\",'Age - HL'!F33)","v":""}]
[28,{"$f":"IF('Age - HL'!B34=\"\",\"\",'Age - HL'!B34)","v":""},{"$f":"IF('Age - HL'!C34=\"\",\"\",'Age - HL'!C34)","v":""},{"$f":"IF('Age - HL'!D34=\"\",\"\",'Age - HL'!D34)","v":""},{"$f":"IF('Age - HL'!E34=\"\",\"\",'Age - HL'!E34)","v":""},{"$f":"IF('Age - HL'!F34=\"\",\"\",'Age - HL'!F34)","v":""}]
[29,{"$f":"IF('Age - HL'!B35=\"\",\"\",'Age - HL'!B35)","v":""},{"$f":"IF('Age - HL'!C35=\"\",\"\",'Age - HL'!C35)","v":""},{"$f":"IF('Age - HL'!D35=\"\",\"\",'Age - HL'!D35)","v":""},{"$f":"IF('Age - HL'!E35=\"\",\"\",'Age - HL'!E35)","v":""},{"$f":"IF('Age - HL'!F35=\"\",\"\",'Age - HL'!F35)","v":""}]
[30,{"$f":"IF('Age - HL'!B36=\"\",\"\",'Age - HL'!B36)","v":""},{"$f":"IF('Age - HL'!C36=\"\",\"\",'Age - HL'!C36)","v":""},{"$f":"IF('Age - HL'!D36=\"\",\"\",'Age - HL'!D36)","v":""},{"$f":"IF('Age - HL'!E36=\"\",\"\",'Age - HL'!E36)","v":""},{"$f":"IF('Age - HL'!F36=\"\",\"\",'Age - HL'!F36)","v":""}]
[31,{"$f":"IF('Age - HL'!B37=\"\",\"\",'Age - HL'!B37)","v":""},{"$f":"IF('Age - HL'!C37=\"\",\"\",'Age - HL'!C37)","v":""},{"$f":"IF('Age - HL'!D37=\"\",\"\",'Age - HL'!D37)","v":""},{"$f":"IF('Age - HL'!E37=\"\",\"\",'Age - HL'!E37)","v":""},{"$f":"IF('Age - HL'!F37=\"\",\"\",'Age - HL'!F37)","v":""}]
[32,{"$f":"IF('Age - HL'!B38=\"\",\"\",'Age - HL'!B38)","v":""},{"$f":"IF('Age - HL'!C38=\"\",\"\",'Age - HL'!C38)","v":""},{"$f":"IF('Age - HL'!D38=\"\",\"\",'Age - HL'!D38)","v":""},{"$f":"IF('Age - HL'!E38=\"\",\"\",'Age - HL'!E38)","v":""},{"$f":"IF('Age - HL'!F38=\"\",\"\",'Age - HL'!F38)","v":""}]
[33,{"$f":"IF('Age - HL'!B39=\"\",\"\",'Age - HL'!B39)","v":""},{"$f":"IF('Age - HL'!C39=\"\",\"\",'Age - HL'!C39)","v":""},{"$f":"IF('Age - HL'!D39=\"\",\"\",'Age - HL'!D39)","v":""},{"$f":"IF('Age - HL'!E39=\"\",\"\",'Age - HL'!E39)","v":""},{"$f":"IF('Age - HL'!F39=\"\",\"\",'Age - HL'!F39)","v":""}]
[34,{"$f":"IF('Age - HL'!B40=\"\",\"\",'Age - HL'!B40)","v":""},{"$f":"IF('Age - HL'!C40=\"\",\"\",'Age - HL'!C40)","v":""},{"$f":"IF('Age - HL'!D40=\"\",\"\",'Age - HL'!D40)","v":""},{"$f":"IF('Age - HL'!E40=\"\",\"\",'Age - HL'!E40)","v":""},{"$f":"IF('Age - HL'!F40=\"\",\"\",'Age - HL'!F40)","v":""}]
[35,{"$f":"IF('Age - HL'!B41=\"\",\"\",'Age - HL'!B41)","v":""},{"$f":"IF('Age - HL'!C41=\"\",\"\",'Age - HL'!C41)","v":""},{"$f":"IF('Age - HL'!D41=\"\",\"\",'Age - HL'!D41)","v":""},{"$f":"IF('Age - HL'!E41=\"\",\"\",'Age - HL'!E41)","v":""},{"$f":"IF('Age - HL'!F41=\"\",\"\",'Age - HL'!F41)","v":""}]
[36,{"$f":"IF('Age - HL'!B42=\"\",\"\",'Age - HL'!B42)","v":""},{"$f":"IF('Age - HL'!C42=\"\",\"\",'Age - HL'!C42)","v":""},{"$f":"IF('Age - HL'!D42=\"\",\"\",'Age - HL'!D42)","v":""},{"$f":"IF('Age - HL'!E42=\"\",\"\",'Age - HL'!E42)","v":""},{"$f":"IF('Age - HL'!F42=\"\",\"\",'Age - HL'!F42)","v":""}]
[37,{"$f":"IF('Age - HL'!B43=\"\",\"\",'Age - HL'!B43)","v":""},{"$f":"IF('Age - HL'!C43=\"\",\"\",'Age - HL'!C43)","v":""},{"$f":"IF('Age - HL'!D43=\"\",\"\",'Age - HL'!D43)","v":""},{"$f":"IF('Age - HL'!E43=\"\",\"\",'Age - HL'!E43)","v":""},{"$f":"IF('Age - HL'!F43=\"\",\"\",'Age - HL'!F43)","v":""}]
[38,{"$f":"IF('Age - HL'!B44=\"\",\"\",'Age - HL'!B44)","v":""},{"$f":"IF('Age - HL'!C44=\"\",\"\",'Age - HL'!C44)","v":""},{"$f":"IF('Age - HL'!D44=\"\",\"\",'Age - HL'!D44)","v":""},{"$f":"IF('Age - HL'!E44=\"\",\"\",'Age - HL'!E44)","v":""},{"$f":"IF('Age - HL'!F44=\"\",\"\",'Age - HL'!F44)","v":""}]
[39,{"$f":"IF('Age - HL'!B45=\"\",\"\",'Age - HL'!B45)","v":""},{"$f":"IF('Age - HL'!C45=\"\",\"\",'Age - HL'!C45)","v":""},{"$f":"IF('Age - HL'!D45=\"\",\"\",'Age - HL'!D45)","v":""},{"$f":"IF('Age - HL'!E45=\"\",\"\",'Age - HL'!E45)","v":""},{"$f":"IF('Age - HL'!F45=\"\",\"\",'Age - HL'!F45)","v":""}]
[40,{"$f":"IF('Age - HL'!B46=\"\",\"\",'Age - HL'!B46)","v":""},{"$f":"IF('Age - HL'!C46=\"\",\"\",'Age - HL'!C46)","v":""},{"$f":"IF('Age - HL'!D46=\"\",\"\",'Age - HL'!D46)","v":""},{"$f":"IF('Age - HL'!E46=\"\",\"\",'Age - HL'!E46)","v":""},{"$f":"IF('Age - HL'!F46=\"\",\"\",'Age - HL'!F46)","v":""}]
[41,{"$f":"IF('Age - HL'!B47=\"\",\"\",'Age - HL'!B47)","v":""},{"$f":"IF('Age - HL'!C47=\"\",\"\",'Age - HL'!C47)","v":""},{"$f":"IF('Age - HL'!D47=\"\",\"\",'Age - HL'!D47)","v":""},{"$f":"IF('Age - HL'!E47=\"\",\"\",'Age - HL'!E47)","v":""},{"$f":"IF('Age - HL'!F47=\"\",\"\",'Age - HL'!F47)","v":""}]
[42,{"$f":"IF('Age - HL'!B48=\"\",\"\",'Age - HL'!B48)","v":""},{"$f":"IF('Age - HL'!C48=\"\",\"\",'Age - HL'!C48)","v":""},{"$f":"IF('Age - HL'!D48=\"\",\"\",'Age - HL'!D48)","v":""},{"$f":"IF('Age - HL'!E48=\"\",\"\",'Age - HL'!E48)","v":""},{"$f":"IF('Age - HL'!F48=\"\",\"\",'Age - HL'!F48)","v":""}]
[43,{"$f":"IF('Age - HL'!B49=\"\",\"\",'Age - HL'!B49)","v":""},{"$f":"IF('Age - HL'!C49=\"\",\"\",'Age - HL'!C49)","v":""},{"$f":"IF('Age - HL'!D49=\"\",\"\",'Age - HL'!D49)","v":""},{"$f":"IF('Age - HL'!E49=\"\",\"\",'Age - HL'!E49)","v":""},{"$f":"IF('Age - HL'!F49=\"\",\"\",'Age - HL'!F49)","v":""}]
[44,{"$f":"IF('Age - HL'!B50=\"\",\"\",'Age - HL'!B50)","v":""},{"$f":"IF('Age - HL'!C50=\"\",\"\",'Age - HL'!C50)","v":""},{"$f":"IF('Age - HL'!D50=\"\",\"\",'Age - HL'!D50)","v":""},{"$f":"IF('Age - HL'!E50=\"\",\"\",'Age - HL'!E50)","v":""},{"$f":"IF('Age - HL'!F50=\"\",\"\",'Age - HL'!F50)","v":""}]
[45,{"$f":"IF('Age - HL'!B51=\"\",\"\",'Age - HL'!B51)","v":""},{"$f":"IF('Age - HL'!C51=\"\",\"\",'Age - HL'!C51)","v":""},{"$f":"IF('Age - HL'!D51=\"\",\"\",'Age - HL'!D51)","v":""},{"$f":"IF('Age - HL'!E51=\"\",\"\",'Age - HL'!E51)","v":""},{"$f":"IF('Age - HL'!F51=\"\",\"\",'Age - HL'!F51)","v":""}]
[46,{"$f":"IF('Age - HL'!B52=\"\",\"\",'Age - HL'!B52)","v":""},{"$f":"IF('Age - HL'!C52=\"\",\"\",'Age - HL'!C52)","v":""},{"$f":"IF('Age - HL'!D52=\"\",\"\",'Age - HL'!D52)","v":""},{"$f":"IF('Age - HL'!E52=\"\",\"\",'Age - HL'!E52)","v":""},{"$f":"IF('Age - HL'!F52=\"\",\"\",'Age - HL'!F52)","v":""}]
[47,{"$f":"IF('Age - HL'!B53=\"\",\"\",'Age - HL'!B53)","v":""},{"$f":"IF('Age - HL'!C53=\"\",\"\",'Age - HL'!C53)","v":""},{"$f":"IF('Age - HL'!D53=\"\",\"\",'Age - HL'!D53)","v":""},{"$f":"IF('Age - HL'!E53=\"\",\"\",'Age - HL'!E53)","v":""},{"$f":"IF('Age - HL'!F53=\"\",\"\",'Age - HL'!F53)","v":""}]
[48,{"$f":"IF('Age - HL'!B54=\"\",\"\",'Age - HL'!B54)","v":""},{"$f":"IF('Age - HL'!C54=\"\",\"\",'Age - HL'!C54)","v":""},{"$f":"IF('Age - HL'!D54=\"\",\"\",'Age - HL'!D54)","v":""},{"$f":"IF('Age - HL'!E54=\"\",\"\",'Age - HL'!E54)","v":""},{"$f":"IF('Age - HL'!F54=\"\",\"\",'Age - HL'!F54)","v":""}]
[49,{"$f":"IF('Age - HL'!B55=\"\",\"\",'Age - HL'!B55)","v":""},{"$f":"IF('Age - HL'!C55=\"\",\"\",'Age - HL'!C55)","v":""},{"$f":"IF('Age - HL'!D55=\"\",\"\",'Age - HL'!D55)","v":""},{"$f":"IF('Age - HL'!E55=\"\",\"\",'Age - HL'!E55)","v":""},{"$f":"IF('Age - HL'!F55=\"\",\"\",'Age - HL'!F55)","v":""}]
[50,{"$f":"IF('Age - HL'!B56=\"\",\"\",'Age - HL'!B56)","v":""},{"$f":"IF('Age - HL'!C56=\"\",\"\",'Age - HL'!C56)","v":""},{"$f":"IF('Age - HL'!D56=\"\",\"\",'Age - HL'!D56)","v":""},{"$f":"IF('Age - HL'!E56=\"\",\"\",'Age - HL'!E56)","v":""},{"$f":"IF('Age - HL'!F56=\"\",\"\",'Age - HL'!F56)","v":""}]
[51,{"$f":"IF('Age - HL'!B57=\"\",\"\",'Age - HL'!B57)","v":""},{"$f":"IF('Age - HL'!C57=\"\",\"\",'Age - HL'!C57)","v":""},{"$f":"IF('Age - HL'!D57=\"\",\"\",'Age - HL'!D57)","v":""},{"$f":"IF('Age - HL'!E57=\"\",\"\",'Age - HL'!E57)","v":""},{"$f":"IF('Age - HL'!F57=\"\",\"\",'Age - HL'!F57)","v":""}]
[52,{"$f":"IF('Age - HL'!B58=\"\",\"\",'Age - HL'!B58)","v":""},{"$f":"IF('Age - HL'!C58=\"\",\"\",'Age - HL'!C58)","v":""},{"$f":"IF('Age - HL'!D58=\"\",\"\",'Age - HL'!D58)","v":""},{"$f":"IF('Age - HL'!E58=\"\",\"\",'Age - HL'!E58)","v":""},{"$f":"IF('Age - HL'!F58=\"\",\"\",'Age - HL'!F58)","v":""}]
[53,{"$f":"IF('Age - HL'!B59=\"\",\"\",'Age - HL'!B59)","v":""},{"$f":"IF('Age - HL'!C59=\"\",\"\",'Age - HL'!C59)","v":""},{"$f":"IF('Age - HL'!D59=\"\",\"\",'Age - HL'!D59)","v":""},{"$f":"IF('Age - HL'!E59=\"\",\"\",'Age - HL'!E59)","v":""},{"$f":"IF('Age - HL'!F59=\"\",\"\",'Age - HL'!F59)","v":""}]
[54,{"$f":"IF('Age - HL'!B60=\"\",\"\",'Age - HL'!B60)","v":""},{"$f":"IF('Age - HL'!C60=\"\",\"\",'Age - HL'!C60)","v":""},{"$f":"IF('Age - HL'!D60=\"\",\"\",'Age - HL'!D60)","v":""},{"$f":"IF('Age - HL'!E60=\"\",\"\",'Age - HL'!E60)","v":""},{"$f":"IF('Age - HL'!F60=\"\",\"\",'Age - HL'!F60)","v":""}]
[55,{"$f":"IF('Age - HL'!B61=\"\",\"\",'Age - HL'!B61)","v":""},{"$f":"IF('Age - HL'!C61=\"\",\"\",'Age - HL'!C61)","v":""},{"$f":"IF('Age - HL'!D61=\"\",\"\",'Age - HL'!D61)","v":""},{"$f":"IF('Age - HL'!E61=\"\",\"\",'Age - HL'!E61)","v":""},{"$f":"IF('Age - HL'!F61=\"\",\"\",'Age - HL'!F61)","v":""}]
[56,{"$f":"IF('Age - HL'!B62=\"\",\"\",'Age - HL'!B62)","v":""},{"$f":"IF('Age - HL'!C62=\"\",\"\",'Age - HL'!C62)","v":""},{"$f":"IF('Age - HL'!D62=\"\",\"\",'Age - HL'!D62)","v":""},{"$f":"IF('Age - HL'!E62=\"\",\"\",'Age - HL'!E62)","v":""},{"$f":"IF('Age - HL'!F62=\"\",\"\",'Age - HL'!F62)","v":""}]
[57,{"$f":"IF('Age - HL'!B63=\"\",\"\",'Age - HL'!B63)","v":""},{"$f":"IF('Age - HL'!C63=\"\",\"\",'Age - HL'!C63)","v":""},{"$f":"IF('Age - HL'!D63=\"\",\"\",'Age - HL'!D63)","v":""},{"$f":"IF('Age - HL'!E63=\"\",\"\",'Age - HL'!E63)","v":""},{"$f":"IF('Age - HL'!F63=\"\",\"\",'Age - HL'!F63)","v":""}]
[58,{"$f":"IF('Age - HL'!B64=\"\",\"\",'Age - HL'!B64)","v":""},{"$f":"IF('Age - HL'!C64=\"\",\"\",'Age - HL'!C64)","v":""},{"$f":"IF('Age - HL'!D64=\"\",\"\",'Age - HL'!D64)","v":""},{"$f":"IF('Age - HL'!E64=\"\",\"\",'Age - HL'!E64)","v":""},{"$f":"IF('Age - HL'!F64=\"\",\"\",'Age - HL'!F64)","v":""}]
[59,{"$f":"IF('Age - HL'!B65=\"\",\"\",'Age - HL'!B65)","v":""},{"$f":"IF('Age - HL'!C65=\"\",\"\",'Age - HL'!C65)","v":""},{"$f":"IF('Age - HL'!D65=\"\",\"\",'Age - HL'!D65)","v":""},{"$f":"IF('Age - HL'!E65=\"\",\"\",'Age - HL'!E65)","v":""},{"$f":"IF('Age - HL'!F65=\"\",\"\",'Age - HL'!F65)","v":""}]
[60,{"$f":"IF('Age - HL'!B66=\"\",\"\",'Age - HL'!B66)","v":""},{"$f":"IF('Age - HL'!C66=\"\",\"\",'Age - HL'!C66)","v":""},{"$f":"IF('Age - HL'!D66=\"\",\"\",'Age - HL'!D66)","v":""},{"$f":"IF('Age - HL'!E66=\"\",\"\",'Age - HL'!E66)","v":""},{"$f":"IF('Age - HL'!F66=\"\",\"\",'Age - HL'!F66)","v":""}]
[61,{"$f":"IF('Age - HL'!B67=\"\",\"\",'Age - HL'!B67)","v":""},{"$f":"IF('Age - HL'!C67=\"\",\"\",'Age - HL'!C67)","v":""},{"$f":"IF('Age - HL'!D67=\"\",\"\",'Age - HL'!D67)","v":""},{"$f":"IF('Age - HL'!E67=\"\",\"\",'Age - HL'!E67)","v":""},{"$f":"IF('Age - HL'!F67=\"\",\"\",'Age - HL'!F67)","v":""}]
[62,{"$f":"IF('Age - HL'!B68=\"\",\"\",'Age - HL'!B68)","v":""},{"$f":"IF('Age - HL'!C68=\"\",\"\",'Age - HL'!C68)","v":""},{"$f":"IF('Age - HL'!D68=\"\",\"\",'Age - HL'!D68)","v":""},{"$f":"IF('Age - HL'!E68=\"\",\"\",'Age - HL'!E68)","v":""},{"$f":"IF('Age - HL'!F68=\"\",\"\",'Age - HL'!F68)","v":""}]
[63,{"$f":"IF('Age - HL'!B69=\"\",\"\",'Age - HL'!B69)","v":""},{"$f":"IF('Age - HL'!C69=\"\",\"\",'Age - HL'!C69)","v":""},{"$f":"IF('Age - HL'!D69=\"\",\"\",'Age - HL'!D69)","v":""},{"$f":"IF('Age - HL'!E69=\"\",\"\",'Age - HL'!E69)","v":""},{"$f":"IF('Age - HL'!F69=\"\",\"\",'Age - HL'!F69)","v":""}]
[64,{"$f":"IF('Age - HL'!B70=\"\",\"\",'Age - HL'!B70)","v":""},{"$f":"IF('Age - HL'!C70=\"\",\"\",'Age - HL'!C70)","v":""},{"$f":"IF('Age - HL'!D70=\"\",\"\",'Age - HL'!D70)","v":""},{"$f":"IF('Age - HL'!E70=\"\",\"\",'Age - HL'!E70)","v":""},{"$f":"IF('Age - HL'!F70=\"\",\"\",'Age - HL'!F70)","v":""}]
[65,{"$f":"IF('Age - HL'!B71=\"\",\"\",'Age - HL'!B71)","v":""},{"$f":"IF('Age - HL'!C71=\"\",\"\",'Age - HL'!C71)","v":""},{"$f":"IF('Age - HL'!D71=\"\",\"\",'Age - HL'!D71)","v":""},{"$f":"IF('Age - HL'!E71=\"\",\"\",'Age - HL'!E71)","v":""},{"$f":"IF('Age - HL'!F71=\"\",\"\",'Age - HL'!F71)","v":""}]
[66,{"$f":"IF('Age - HL'!B72=\"\",\"\",'Age - HL'!B72)","v":""},{"$f":"IF('Age - HL'!C72=\"\",\"\",'Age - HL'!C72)","v":""},{"$f":"IF('Age - HL'!D72=\"\",\"\",'Age - HL'!D72)","v":""},{"$f":"IF('Age - HL'!E72=\"\",\"\",'Age - HL'!E72)","v":""},{"$f":"IF('Age - HL'!F72=\"\",\"\",'Age - HL'!F72)","v":""}]
[67,{"$f":"IF('Age - HL'!B73=\"\",\"\",'Age - HL'!B73)","v":""},{"$f":"IF('Age - HL'!C73=\"\",\"\",'Age - HL'!C73)","v":""},{"$f":"IF('Age - HL'!D73=\"\",\"\",'Age - HL'!D73)","v":""},{"$f":"IF('Age - HL'!E73=\"\",\"\",'Age - HL'!E73)","v":""},{"$f":"IF('Age - HL'!F73=\"\",\"\",'Age - HL'!F73)","v":""}]
[68,{"$f":"IF('Age - HL'!B74=\"\",\"\",'Age - HL'!B74)","v":""},{"$f":"IF('Age - HL'!C74=\"\",\"\",'Age - HL'!C74)","v":""},{"$f":"IF('Age - HL'!D74=\"\",\"\",'Age - HL'!D74)","v":""},{"$f":"IF('Age - HL'!E74=\"\",\"\",'Age - HL'!E74)","v":""},{"$f":"IF('Age - HL'!F74=\"\",\"\",'Age - HL'!F74)","v":""}]
[69,{"$f":"IF('Age - HL'!B75=\"\",\"\",'Age - HL'!B75)","v":""},{"$f":"IF('Age - HL'!C75=\"\",\"\",'Age - HL'!C75)","v":""},{"$f":"IF('Age - HL'!D75=\"\",\"\",'Age - HL'!D75)","v":""},{"$f":"IF('Age - HL'!E75=\"\",\"\",'Age - HL'!E75)","v":""},{"$f":"IF('Age - HL'!F75=\"\",\"\",'Age - HL'!F75)","v":""}]
[70,{"$f":"IF('Age - HL'!B76=\"\",\"\",'Age - HL'!B76)","v":""},{"$f":"IF('Age - HL'!C76=\"\",\"\",'Age - HL'!C76)","v":""},{"$f":"IF('Age - HL'!D76=\"\",\"\",'Age - HL'!D76)","v":""},{"$f":"IF('Age - HL'!E76=\"\",\"\",'Age - HL'!E76)","v":""},{"$f":"IF('Age - HL'!F76=\"\",\"\",'Age - HL'!F76)","v":""}]
[71,{"$f":"IF('Age - HL'!B77=\"\",\"\",'Age - HL'!B77)","v":""},{"$f":"IF('Age - HL'!C77=\"\",\"\",'Age - HL'!C77)","v":""},{"$f":"IF('Age - HL'!D77=\"\",\"\",'Age - HL'!D77)","v":""},{"$f":"IF('Age - HL'!E77=\"\",\"\",'Age - HL'!E77)","v":""},{"$f":"IF('Age - HL'!F77=\"\",\"\",'Age - HL'!F77)","v":""}]
[72,{"$f":"IF('Age - HL'!B78=\"\",\"\",'Age - HL'!B78)","v":""},{"$f":"IF('Age - HL'!C78=\"\",\"\",'Age - HL'!C78)","v":""},{"$f":"IF('Age - HL'!D78=\"\",\"\",'Age - HL'!D78)","v":""},{"$f":"IF('Age - HL'!E78=\"\",\"\",'Age - HL'!E78)","v":""},{"$f":"IF('Age - HL'!F78=\"\",\"\",'Age - HL'!F78)","v":""}]
[73,{"$f":"IF('Age - HL'!B79=\"\",\"\",'Age - HL'!B79)","v":""},{"$f":"IF('Age - HL'!C79=\"\",\"\",'Age - HL'!C79)","v":""},{"$f":"IF('Age - HL'!D79=\"\",\"\",'Age - HL'!D79)","v":""},{"$f":"IF('Age - HL'!E79=\"\",\"\",'Age - HL'!E79)","v":""},{"$f":"IF('Age - HL'!F79=\"\",\"\",'Age - HL'!F79)","v":""}]
[74,{"$f":"IF('Age - HL'!B80=\"\",\"\",'Age - HL'!B80)","v":""},{"$f":"IF('Age - HL'!C80=\"\",\"\",'Age - HL'!C80)","v":""},{"$f":"IF('Age - HL'!D80=\"\",\"\",'Age - HL'!D80)","v":""},{"$f":"IF('Age - HL'!E80=\"\",\"\",'Age - HL'!E80)","v":""},{"$f":"IF('Age - HL'!F80=\"\",\"\",'Age - HL'!F80)","v":""}]
[75,{"$f":"IF('Age - HL'!B81=\"\",\"\",'Age - HL'!B81)","v":""},{"$f":"IF('Age - HL'!C81=\"\",\"\",'Age - HL'!C81)","v":""},{"$f":"IF('Age - HL'!D81=\"\",\"\",'Age - HL'!D81)","v":""},{"$f":"IF('Age - HL'!E81=\"\",\"\",'Age - HL'!E81)","v":""},{"$f":"IF('Age - HL'!F81=\"\",\"\",'Age - HL'!F81)","v":""}]
[76,{"$f":"IF('Age - HL'!B82=\"\",\"\",'Age - HL'!B82)","v":""},{"$f":"IF('Age - HL'!C82=\"\",\"\",'Age - HL'!C82)","v":""},{"$f":"IF('Age - HL'!D82=\"\",\"\",'Age - HL'!D82)","v":""},{"$f":"IF('Age - HL'!E82=\"\",\"\",'Age - HL'!E82)","v":""},{"$f":"IF('Age - HL'!F82=\"\",\"\",'Age - HL'!F82)","v":""}]
[77,{"$f":"IF('Age - HL'!B83=\"\",\"\",'Age - HL'!B83)","v":""},{"$f":"IF('Age - HL'!C83=\"\",\"\",'Age - HL'!C83)","v":""},{"$f":"IF('Age - HL'!D83=\"\",\"\",'Age - HL'!D83)","v":""},{"$f":"IF('Age - HL'!E83=\"\",\"\",'Age - HL'!E83)","v":""},{"$f":"IF('Age - HL'!F83=\"\",\"\",'Age - HL'!F83)","v":""}]
[78,{"$f":"IF('Age - HL'!B84=\"\",\"\",'Age - HL'!B84)","v":""},{"$f":"IF('Age - HL'!C84=\"\",\"\",'Age - HL'!C84)","v":""},{"$f":"IF('Age - HL'!D84=\"\",\"\",'Age - HL'!D84)","v":""},{"$f":"IF('Age - HL'!E84=\"\",\"\",'Age - HL'!E84)","v":""},{"$f":"IF('Age - HL'!F84=\"\",\"\",'Age - HL'!F84)","v":""}]
[79,{"$f":"IF('Age - HL'!B85=\"\",\"\",'Age - HL'!B85)","v":""},{"$f":"IF('Age - HL'!C85=\"\",\"\",'Age - HL'!C85)","v":""},{"$f":"IF('Age - HL'!D85=\"\",\"\",'Age - HL'!D85)","v":""},{"$f":"IF('Age - HL'!E85=\"\",\"\",'Age - HL'!E85)","v":""},{"$f":"IF('Age - HL'!F85=\"\",\"\",'Age - HL'!F85)","v":""}]
[80,{"$f":"IF('Age - HL'!B86=\"\",\"\",'Age - HL'!B86)","v":""},{"$f":"IF('Age - HL'!C86=\"\",\"\",'Age - HL'!C86)","v":""},{"$f":"IF('Age - HL'!D86=\"\",\"\",'Age - HL'!D86)","v":""},{"$f":"IF('Age - HL'!E86=\"\",\"\",'Age - HL'!E86)","v":""},{"$f":"IF('Age - HL'!F86=\"\",\"\",'Age - HL'!F86)","v":""}]
[81,{"$f":"IF('Age - HL'!B87=\"\",\"\",'Age - HL'!B87)","v":""},{"$f":"IF('Age - HL'!C87=\"\",\"\",'Age - HL'!C87)","v":""},{"$f":"IF('Age - HL'!D87=\"\",\"\",'Age - HL'!D87)","v":""},{"$f":"IF('Age - HL'!E87=\"\",\"\",'Age - HL'!E87)","v":""},{"$f":"IF('Age - HL'!F87=\"\",\"\",'Age - HL'!F87)","v":""}]
[82,{"$f":"IF('Age - HL'!B88=\"\",\"\",'Age - HL'!B88)","v":""},{"$f":"IF('Age - HL'!C88=\"\",\"\",'Age - HL'!C88)","v":""},{"$f":"IF('Age - HL'!D88=\"\",\"\",'Age - HL'!D88)","v":""},{"$f":"IF('Age - HL'!E88=\"\",\"\",'Age - HL'!E88)","v":""},{"$f":"IF('Age - HL'!F88=\"\",\"\",'Age - HL'!F88)","v":""}]
[83,{"$f":"IF('Age - HL'!B89=\"\",\"\",'Age - HL'!B89)","v":""},{"$f":"IF('Age - HL'!C89=\"\",\"\",'Age - HL'!C89)","v":""},{"$f":"IF('Age - HL'!D89=\"\",\"\",'Age - HL'!D89)","v":""},{"$f":"IF('Age - HL'!E89=\"\",\"\",'Age - HL'!E89)","v":""},{"$f":"IF('Age - HL'!F89=\"\",\"\",'Age - HL'!F89)","v":""}]
[84,{"$f":"IF('Age - HL'!B90=\"\",\"\",'Age - HL'!B90)","v":""},{"$f":"IF('Age - HL'!C90=\"\",\"\",'Age - HL'!C90)","v":""},{"$f":"IF('Age - HL'!D90=\"\",\"\",'Age - HL'!D90)","v":""},{"$f":"IF('Age - HL'!E90=\"\",\"\",'Age - HL'!E90)","v":""},{"$f":"IF('Age - HL'!F90=\"\",\"\",'Age - HL'!F90)","v":""}]
[85,{"$f":"IF('Age - HL'!B91=\"\",\"\",'Age - HL'!B91)","v":""},{"$f":"IF('Age - HL'!C91=\"\",\"\",'Age - HL'!C91)","v":""},{"$f":"IF('Age - HL'!D91=\"\",\"\",'Age - HL'!D91)","v":""},{"$f":"IF('Age - HL'!E91=\"\",\"\",'Age - HL'!E91)","v":""},{"$f":"IF('Age - HL'!F91=\"\",\"\",'Age - HL'!F91)","v":""}]
[86,{"$f":"IF('Age - HL'!B92=\"\",\"\",'Age - HL'!B92)","v":""},{"$f":"IF('Age - HL'!C92=\"\",\"\",'Age - HL'!C92)","v":""},{"$f":"IF('Age - HL'!D92=\"\",\"\",'Age - HL'!D92)","v":""},{"$f":"IF('Age - HL'!E92=\"\",\"\",'Age - HL'!E92)","v":""},{"$f":"IF('Age - HL'!F92=\"\",\"\",'Age - HL'!F92)","v":""}]
[87,{"$f":"IF('Age - HL'!B93=\"\",\"\",'Age - HL'!B93)","v":""},{"$f":"IF('Age - HL'!C93=\"\",\"\",'Age - HL'!C93)","v":""},{"$f":"IF('Age - HL'!D93=\"\",\"\",'Age - HL'!D93)","v":""},{"$f":"IF('Age - HL'!E93=\"\",\"\",'Age - HL'!E93)","v":""},{"$f":"IF('Age - HL'!F93=\"\",\"\",'Age - HL'!F93)","v":""}]
[88,{"$f":"IF('Age - HL'!B94=\"\",\"\",'Age - HL'!B94)","v":""},{"$f":"IF('Age - HL'!C94=\"\",\"\",'Age - HL'!C94)","v":""},{"$f":"IF('Age - HL'!D94=\"\",\"\",'Age - HL'!D94)","v":""},{"$f":"IF('Age - HL'!E94=\"\",\"\",'Age - HL'!E94)","v":""},{"$f":"IF('Age - HL'!F94=\"\",\"\",'Age - HL'!F94)","v":""}]
[89,{"$f":"IF('Age - HL'!B95=\"\",\"\",'Age - HL'!B95)","v":""},{"$f":"IF('Age - HL'!C95=\"\",\"\",'Age - HL'!C95)","v":""},{"$f":"IF('Age - HL'!D95=\"\",\"\",'Age - HL'!D95)","v":""},{"$f":"IF('Age - HL'!E95=\"\",\"\",'Age - HL'!E95)","v":""},{"$f":"IF('Age - HL'!F95=\"\",\"\",'Age - HL'!F95)","v":""}]
[90,{"$f":"IF('Age - HL'!B96=\"\",\"\",'Age - HL'!B96)","v":""},{"$f":"IF('Age - HL'!C96=\"\",\"\",'Age - HL'!C96)","v":""},{"$f":"IF('Age - HL'!D96=\"\",\"\",'Age - HL'!D96)","v":""},{"$f":"IF('Age - HL'!E96=\"\",\"\",'Age - HL'!E96)","v":""},{"$f":"IF('Age - HL'!F96=\"\",\"\",'Age - HL'!F96)","v":""}]
[91,{"$f":"IF('Age - HL'!B97=\"\",\"\",'Age - HL'!B97)","v":""},{"$f":"IF('Age - HL'!C97=\"\",\"\",'Age - HL'!C97)","v":""},{"$f":"IF('Age - HL'!D97=\"\",\"\",'Age - HL'!D97)","v":""},{"$f":"IF('Age - HL'!E97=\"\",\"\",'Age - HL'!E97)","v":""},{"$f":"IF('Age - HL'!F97=\"\",\"\",'Age - HL'!F97)","v":""}]
[92,{"$f":"IF('Age - HL'!B98=\"\",\"\",'Age - HL'!B98)","v":""},{"$f":"IF('Age - HL'!C98=\"\",\"\",'Age - HL'!C98)","v":""},{"$f":"IF('Age - HL'!D98=\"\",\"\",'Age - HL'!D98)","v":""},{"$f":"IF('Age - HL'!E98=\"\",\"\",'Age - HL'!E98)","v":""},{"$f":"IF('Age - HL'!F98=\"\",\"\",'Age - HL'!F98)","v":""}]
[93,{"$f":"IF('Age - HL'!B99=\"\",\"\",'Age - HL'!B99)","v":""},{"$f":"IF('Age - HL'!C99=\"\",\"\",'Age - HL'!C99)","v":""},{"$f":"IF('Age - HL'!D99=\"\",\"\",'Age - HL'!D99)","v":""},{"$f":"IF('Age - HL'!E99=\"\",\"\",'Age - HL'!E99)","v":""},{"$f":"IF('Age - HL'!F99=\"\",\"\",'Age - HL'!F99)","v":""}]
[94,{"$f":"IF('Age - HL'!B100=\"\",\"\",'Age - HL'!B100)","v":""},{"$f":"IF('Age - HL'!C100=\"\",\"\",'Age - HL'!C100)","v":""},{"$f":"IF('Age - HL'!D100=\"\",\"\",'Age - HL'!D100)","v":""},{"$f":"IF('Age - HL'!E100=\"\",\"\",'Age - HL'!E100)","v":""},{"$f":"IF('Age - HL'!F100=\"\",\"\",'Age - HL'!F100)","v":""}]
[95,{"$f":"IF('Age - HL'!B101=\"\",\"\",'Age - HL'!B101)","v":""},{"$f":"IF('Age - HL'!C101=\"\",\"\",'Age - HL'!C101)","v":""},{"$f":"IF('Age - HL'!D101=\"\",\"\",'Age - HL'!D101)","v":""},{"$f":"IF('Age - HL'!E101=\"\",\"\",'Age - HL'!E101)","v":""},{"$f":"IF('Age - HL'!F101=\"\",\"\",'Age - HL'!F101)","v":""}]
[96,{"$f":"IF('Age - HL'!B102=\"\",\"\",'Age - HL'!B102)","v":""},{"$f":"IF('Age - HL'!C102=\"\",\"\",'Age - HL'!C102)","v":""},{"$f":"IF('Age - HL'!D102=\"\",\"\",'Age - HL'!D102)","v":""},{"$f":"IF('Age - HL'!E102=\"\",\"\",'Age - HL'!E102)","v":""},{"$f":"IF('Age - HL'!F102=\"\",\"\",'Age - HL'!F102)","v":""}]
[97,{"$f":"IF('Age - HL'!B103=\"\",\"\",'Age - HL'!B103)","v":""},{"$f":"IF('Age - HL'!C103=\"\",\"\",'Age - HL'!C103)","v":""},{"$f":"IF('Age - HL'!D103=\"\",\"\",'Age - HL'!D103)","v":""},{"$f":"IF('Age - HL'!E103=\"\",\"\",'Age - HL'!E103)","v":""},{"$f":"IF('Age - HL'!F103=\"\",\"\",'Age - HL'!F103)","v":""}]
[98,{"$f":"IF('Age - HL'!B104=\"\",\"\",'Age - HL'!B104)","v":""},{"$f":"IF('Age - HL'!C104=\"\",\"\",'Age - HL'!C104)","v":""},{"$f":"IF('Age - HL'!D104=\"\",\"\",'Age - HL'!D104)","v":""},{"$f":"IF('Age - HL'!E104=\"\",\"\",'Age - HL'!E104)","v":""},{"$f":"IF('Age - HL'!F104=\"\",\"\",'Age - HL'!F104)","v":""}]
[99,{"$f":"IF('Age - HL'!B105=\"\",\"\",'Age - HL'!B105)","v":""},{"$f":"IF('Age - HL'!C105=\"\",\"\",'Age - HL'!C105)","v":""},{"$f":"IF('Age - HL'!D105=\"\",\"\",'Age - HL'!D105)","v":""},{"$f":"IF('Age - HL'!E105=\"\",\"\",'Age - HL'!E105)","v":""},{"$f":"IF('Age - HL'!F105=\"\",\"\",'Age - HL'!F105)","v":""}]
[100,{"$f":"IF('Age - HL'!B106=\"\",\"\",'Age - HL'!B106)","v":""},{"$f":"IF('Age - HL'!C106=\"\",\"\",'Age - HL'!C106)","v":""},{"$f":"IF('Age - HL'!D106=\"\",\"\",'Age - HL'!D106)","v":""},{"$f":"IF('Age - HL'!E106=\"\",\"\",'Age - HL'!E106)","v":""},{"$f":"IF('Age - HL'!F106=\"\",\"\",'Age - HL'!F106)","v":""}]
[101,{"$f":"IF('Age - HL'!B107=\"\",\"\",'Age - HL'!B107)","v":""},{"$f":"IF('Age - HL'!C107=\"\",\"\",'Age - HL'!C107)","v":""},{"$f":"IF('Age - HL'!D107=\"\",\"\",'Age - HL'!D107)","v":""},{"$f":"IF('Age - HL'!E107=\"\",\"\",'Age - HL'!E107)","v":""},{"$f":"IF('Age - HL'!F107=\"\",\"\",'Age - HL'!F107)","v":""}]
[102,{"$f":"IF('Age - HL'!B108=\"\",\"\",'Age - HL'!B108)","v":""},{"$f":"IF('Age - HL'!C108=\"\",\"\",'Age - HL'!C108)","v":""},{"$f":"IF('Age - HL'!D108=\"\",\"\",'Age - HL'!D108)","v":""},{"$f":"IF('Age - HL'!E108=\"\",\"\",'Age - HL'!E108)","v":""},{"$f":"IF('Age - HL'!F108=\"\",\"\",'Age - HL'!F108)","v":""}]
[103,{"$f":"IF('Age - HL'!B109=\"\",\"\",'Age - HL'!B109)","v":""},{"$f":"IF('Age - HL'!C109=\"\",\"\",'Age - HL'!C109)","v":""},{"$f":"IF('Age - HL'!D109=\"\",\"\",'Age - HL'!D109)","v":""},{"$f":"IF('Age - HL'!E109=\"\",\"\",'Age - HL'!E109)","v":""},{"$f":"IF('Age - HL'!F109=\"\",\"\",'Age - HL'!F109)","v":""}]
[104,{"$f":"IF('Age - HL'!B110=\"\",\"\",'Age - HL'!B110)","v":""},{"$f":"IF('Age - HL'!C110=\"\",\"\",'Age - HL'!C110)","v":""},{"$f":"IF('Age - HL'!D110=\"\",\"\",'Age - HL'!D110)","v":""},{"$f":"IF('Age - HL'!E110=\"\",\"\",'Age - HL'!E110)","v":""},{"$f":"IF('Age - HL'!F110=\"\",\"\",'Age - HL'!F110)","v":""}]
[105,{"$f":"IF('Age - HL'!B111=\"\",\"\",'Age - HL'!B111)","v":""},{"$f":"IF('Age - HL'!C111=\"\",\"\",'Age - HL'!C111)","v":""},{"$f":"IF('Age - HL'!D111=\"\",\"\",'Age - HL'!D111)","v":""},{"$f":"IF('Age - HL'!E111=\"\",\"\",'Age - HL'!E111)","v":""},{"$f":"IF('Age - HL'!F111=\"\",\"\",'Age - HL'!F111)","v":""}]
[106,{"$f":"IF('Age - HL'!B112=\"\",\"\",'Age - HL'!B112)","v":""},{"$f":"IF('Age - HL'!C112=\"\",\"\",'Age - HL'!C112)","v":""},{"$f":"IF('Age - HL'!D112=\"\",\"\",'Age - HL'!D112)","v":""},{"$f":"IF('Age - HL'!E112=\"\",\"\",'Age - HL'!E112)","v":""},{"$f":"IF('Age - HL'!F112=\"\",\"\",'Age - HL'!F112)","v":""}]
[107,{"$f":"IF('Age - HL'!B113=\"\",\"\",'Age - HL'!B113)","v":""},{"$f":"IF('Age - HL'!C113=\"\",\"\",'Age - HL'!C113)","v":""},{"$f":"IF('Age - HL'!D113=\"\",\"\",'Age - HL'!D113)","v":""},{"$f":"IF('Age - HL'!E113=\"\",\"\",'Age - HL'!E113)","v":""},{"$f":"IF('Age - HL'!F113=\"\",\"\",'Age - HL'!F113)","v":""}]
[108,{"$f":"IF('Age - HL'!B114=\"\",\"\",'Age - HL'!B114)","v":""},{"$f":"IF('Age - HL'!C114=\"\",\"\",'Age - HL'!C114)","v":""},{"$f":"IF('Age - HL'!D114=\"\",\"\",'Age - HL'!D114)","v":""},{"$f":"IF('Age - HL'!E114=\"\",\"\",'Age - HL'!E114)","v":""},{"$f":"IF('Age - HL'!F114=\"\",\"\",'Age - HL'!F114)","v":""}]
[109,{"$f":"IF('Age - HL'!B115=\"\",\"\",'Age - HL'!B115)","v":""},{"$f":"IF('Age - HL'!C115=\"\",\"\",'Age - HL'!C115)","v":""},{"$f":"IF('Age - HL'!D115=\"\",\"\",'Age - HL'!D115)","v":""},{"$f":"IF('Age - HL'!E115=\"\",\"\",'Age - HL'!E115)","v":""},{"$f":"IF('Age - HL'!F115=\"\",\"\",'Age - HL'!F115)","v":""}]
[110,{"$f":"IF('Age - HL'!B116=\"\",\"\",'Age - HL'!B116)","v":""},{"$f":"IF('Age - HL'!C116=\"\",\"\",'Age - HL'!C116)","v":""},{"$f":"IF('Age - HL'!D116=\"\",\"\",'Age - HL'!D116)","v":""},{"$f":"IF('Age - HL'!E116=\"\",\"\",'Age - HL'!E116)","v":""},{"$f":"IF('Age - HL'!F116=\"\",\"\",'Age - HL'!F116)","v":""}]
[111,{"$f":"IF('Age - HL'!B117=\"\",\"\",'Age - HL'!B117)","v":""},{"$f":"IF('Age - HL'!C117=\"\",\"\",'Age - HL'!C117)","v":""},{"$f":"IF('Age - HL'!D117=\"\",\"\",'Age - HL'!D117)","v":""},{"$f":"IF('Age - HL'!E117=\"\",\"\",'Age - HL'!E117)","v":""},{"$f":"IF('Age - HL'!F117=\"\",\"\",'Age - HL'!F117)","v":""}]
[112,{"$f":"IF('Age - HL'!B118=\"\",\"\",'Age - HL'!B118)","v":""},{"$f":"IF('Age - HL'!C118=\"\",\"\",'Age - HL'!C118)","v":""},{"$f":"IF('Age - HL'!D118=\"\",\"\",'Age - HL'!D118)","v":""},{"$f":"IF('Age - HL'!E118=\"\",\"\",'Age - HL'!E118)","v":""},{"$f":"IF('Age - HL'!F118=\"\",\"\",'Age - HL'!F118)","v":""}]
[113,{"$f":"IF('Age - HL'!B119=\"\",\"\",'Age - HL'!B119)","v":""},{"$f":"IF('Age - HL'!C119=\"\",\"\",'Age - HL'!C119)","v":""},{"$f":"IF('Age - HL'!D119=\"\",\"\",'Age - HL'!D119)","v":""},{"$f":"IF('Age - HL'!E119=\"\",\"\",'Age - HL'!E119)","v":""},{"$f":"IF('Age - HL'!F119=\"\",\"\",'Age - HL'!F119)","v":""}]
[114,{"$f":"IF('Age - HL'!B120=\"\",\"\",'Age - HL'!B120)","v":""},{"$f":"IF('Age - HL'!C120=\"\",\"\",'Age - HL'!C120)","v":""},{"$f":"IF('Age - HL'!D120=\"\",\"\",'Age - HL'!D120)","v":""},{"$f":"IF('Age - HL'!E120=\"\",\"\",'Age - HL'!E120)","v":""},{"$f":"IF('Age - HL'!F120=\"\",\"\",'Age - HL'!F120)","v":""}]
[115,{"$f":"IF('Age - HL'!B121=\"\",\"\",'Age - HL'!B121)","v":""},{"$f":"IF('Age - HL'!C121=\"\",\"\",'Age - HL'!C121)","v":""},{"$f":"IF('Age - HL'!D121=\"\",\"\",'Age - HL'!D121)","v":""},{"$f":"IF('Age - HL'!E121=\"\",\"\",'Age - HL'!E121)","v":""},{"$f":"IF('Age - HL'!F121=\"\",\"\",'Age - HL'!F121)","v":""}]
[116,{"$f":"IF('Age - HL'!B122=\"\",\"\",'Age - HL'!B122)","v":""},{"$f":"IF('Age - HL'!C122=\"\",\"\",'Age - HL'!C122)","v":""},{"$f":"IF('Age - HL'!D122=\"\",\"\",'Age - HL'!D122)","v":""},{"$f":"IF('Age - HL'!E122=\"\",\"\",'Age - HL'!E122)","v":""},{"$f":"IF('Age - HL'!F122=\"\",\"\",'Age - HL'!F122)","v":""}]
[117,{"$f":"IF('Age - HL'!B123=\"\",\"\",'Age - HL'!B123)","v":""},{"$f":"IF('Age - HL'!C123=\"\",\"\",'Age - HL'!C123)","v":""},{"$f":"IF('Age - HL'!D123=\"\",\"\",'Age - HL'!D123)","v":""},{"$f":"IF('Age - HL'!E123=\"\",\"\",'Age - HL'!E123)","v":""},{"$f":"IF('Age - HL'!F123=\"\",\"\",'Age - HL'!F123)","v":""}]
[118,{"$f":"IF('Age - HL'!B124=\"\",\"\",'Age - HL'!B124)","v":""},{"$f":"IF('Age - HL'!C124=\"\",\"\",'Age - HL'!C124)","v":""},{"$f":"IF('Age - HL'!D124=\"\",\"\",'Age - HL'!D124)","v":""},{"$f":"IF('Age - HL'!E124=\"\",\"\",'Age - HL'!E124)","v":""},{"$f":"IF('Age - HL'!F124=\"\",\"\",'Age - HL'!F124)","v":""}]
[119,{"$f":"IF('Age - HL'!B125=\"\",\"\",'Age - HL'!B125)","v":""},{"$f":"IF('Age - HL'!C125=\"\",\"\",'Age - HL'!C125)","v":""},{"$f":"IF('Age - HL'!D125=\"\",\"\",'Age - HL'!D125)","v":""},{"$f":"IF('Age - HL'!E125=\"\",\"\",'Age - HL'!E125)","v":""},{"$f":"IF('Age - HL'!F125=\"\",\"\",'Age - HL'!F125)","v":""}]
[120,{"$f":"IF('Age - HL'!B126=\"\",\"\",'Age - HL'!B126)","v":""},{"$f":"IF('Age - HL'!C126=\"\",\"\",'Age - HL'!C126)","v":""},{"$f":"IF('Age - HL'!D126=\"\",\"\",'Age - HL'!D126)","v":""},{"$f":"IF('Age - HL'!E126=\"\",\"\",'Age - HL'!E126)","v":""},{"$f":"IF('Age - HL'!F126=\"\",\"\",'Age - HL'!F126)","v":""}]
[]
["AGE - Tibia",null,null,null,null,{"$f":"IF('Age - Tibia'!F1=\"\",\"\",'Age - Tibia'!F1)","v":"Age Tibia"}]
[null,null,null,null,null,{"$f":"ValidationData!DataVersion","v":"70.80.100.100"}]
["Index","Measurement Name",null,null,"Tibia"]
[null,"Measurement Type",null,null,"Distance (cm)"]
[null,"Author",null,null,{"$f":"IF('Age - Tibia'!J5=\"\",\"\",'Age - Tibia'!J5)","v":""}]
[null,"Value","Age (weeks)","Age (days)","Range (weeks)","Range (days)"]
[1,{"$f":"IF('Age - Tibia'!B7=\"\",\"\",'Age - Tibia'!B7)","v":""},{"$f":"IF('Age - Tibia'!C7=\"\",\"\",'Age - Tibia'!C7)","v":""},{"$f":"IF('Age - Tibia'!D7=\"\",\"\",'Age - Tibia'!D7)","v":""},{"$f":"IF('Age - Tibia'!E7=\"\",\"\",'Age - Tibia'!E7)","v":""},{"$f":"IF('Age - Tibia'!F7=\"\",\"\",'Age - Tibia'!F7)","v":""}]
[2,{"$f":"IF('Age - Tibia'!B8=\"\",\"\",'Age - Tibia'!B8)","v":""},{"$f":"IF('Age - Tibia'!C8=\"\",\"\",'Age - Tibia'!C8)","v":""},{"$f":"IF('Age - Tibia'!D8=\"\",\"\",'Age - Tibia'!D8)","v":""},{"$f":"IF('Age - Tibia'!E8=\"\",\"\",'Age - Tibia'!E8)","v":""},{"$f":"IF('Age - Tibia'!F8=\"\",\"\",'Age - Tibia'!F8)","v":""}]
[3,{"$f":"IF('Age - Tibia'!B9=\"\",\"\",'Age - Tibia'!B9)","v":""},{"$f":"IF('Age - Tibia'!C9=\"\",\"\",'Age - Tibia'!C9)","v":""},{"$f":"IF('Age - Tibia'!D9=\"\",\"\",'Age - Tibia'!D9)","v":""},{"$f":"IF('Age - Tibia'!E9=\"\",\"\",'Age - Tibia'!E9)","v":""},{"$f":"IF('Age - Tibia'!F9=\"\",\"\",'Age - Tibia'!F9)","v":""}]
[4,{"$f":"IF('Age - Tibia'!B10=\"\",\"\",'Age - Tibia'!B10)","v":""},{"$f":"IF('Age - Tibia'!C10=\"\",\"\",'Age - Tibia'!C10)","v":""},{"$f":"IF('Age - Tibia'!D10=\"\",\"\",'Age - Tibia'!D10)","v":""},{"$f":"IF('Age - Tibia'!E10=\"\",\"\",'Age - Tibia'!E10)","v":""},{"$f":"IF('Age - Tibia'!F10=\"\",\"\",'Age - Tibia'!F10)","v":""}]
[5,{"$f":"IF('Age - Tibia'!B11=\"\",\"\",'Age - Tibia'!B11)","v":""},{"$f":"IF('Age - Tibia'!C11=\"\",\"\",'Age - Tibia'!C11)","v":""},{"$f":"IF('Age - Tibia'!D11=\"\",\"\",'Age - Tibia'!D11)","v":""},{"$f":"IF('Age - Tibia'!E11=\"\",\"\",'Age - Tibia'!E11)","v":""},{"$f":"IF('Age - Tibia'!F11=\"\",\"\",'Age - Tibia'!F11)","v":""}]
[6,{"$f":"IF('Age - Tibia'!B12=\"\",\"\",'Age - Tibia'!B12)","v":""},{"$f":"IF('Age - Tibia'!C12=\"\",\"\",'Age - Tibia'!C12)","v":""},{"$f":"IF('Age - Tibia'!D12=\"\",\"\",'Age - Tibia'!D12)","v":""},{"$f":"IF('Age - Tibia'!E12=\"\",\"\",'Age - Tibia'!E12)","v":""},{"$f":"IF('Age - Tibia'!F12=\"\",\"\",'Age - Tibia'!F12)","v":""}]
[7,{"$f":"IF('Age - Tibia'!B13=\"\",\"\",'Age - Tibia'!B13)","v":""},{"$f":"IF('Age - Tibia'!C13=\"\",\"\",'Age - Tibia'!C13)","v":""},{"$f":"IF('Age - Tibia'!D13=\"\",\"\",'Age - Tibia'!D13)","v":""},{"$f":"IF('Age - Tibia'!E13=\"\",\"\",'Age - Tibia'!E13)","v":""},{"$f":"IF('Age - Tibia'!F13=\"\",\"\",'Age - Tibia'!F13)","v":""}]
[8,{"$f":"IF('Age - Tibia'!B14=\"\",\"\",'Age - Tibia'!B14)","v":""},{"$f":"IF('Age - Tibia'!C14=\"\",\"\",'Age - Tibia'!C14)","v":""},{"$f":"IF('Age - Tibia'!D14=\"\",\"\",'Age - Tibia'!D14)","v":""},{"$f":"IF('Age - Tibia'!E14=\"\",\"\",'Age - Tibia'!E14)","v":""},{"$f":"IF('Age - Tibia'!F14=\"\",\"\",'Age - Tibia'!F14)","v":""}]
[9,{"$f":"IF('Age - Tibia'!B15=\"\",\"\",'Age - Tibia'!B15)","v":""},{"$f":"IF('Age - Tibia'!C15=\"\",\"\",'Age - Tibia'!C15)","v":""},{"$f":"IF('Age - Tibia'!D15=\"\",\"\",'Age - Tibia'!D15)","v":""},{"$f":"IF('Age - Tibia'!E15=\"\",\"\",'Age - Tibia'!E15)","v":""},{"$f":"IF('Age - Tibia'!F15=\"\",\"\",'Age - Tibia'!F15)","v":""}]
[10,{"$f":"IF('Age - Tibia'!B16=\"\",\"\",'Age - Tibia'!B16)","v":""},{"$f":"IF('Age - Tibia'!C16=\"\",\"\",'Age - Tibia'!C16)","v":""},{"$f":"IF('Age - Tibia'!D16=\"\",\"\",'Age - Tibia'!D16)","v":""},{"$f":"IF('Age - Tibia'!E16=\"\",\"\",'Age - Tibia'!E16)","v":""},{"$f":"IF('Age - Tibia'!F16=\"\",\"\",'Age - Tibia'!F16)","v":""}]
[11,{"$f":"IF('Age - Tibia'!B17=\"\",\"\",'Age - Tibia'!B17)","v":""},{"$f":"IF('Age - Tibia'!C17=\"\",\"\",'Age - Tibia'!C17)","v":""},{"$f":"IF('Age - Tibia'!D17=\"\",\"\",'Age - Tibia'!D17)","v":""},{"$f":"IF('Age - Tibia'!E17=\"\",\"\",'Age - Tibia'!E17)","v":""},{"$f":"IF('Age - Tibia'!F17=\"\",\"\",'Age - Tibia'!F17)","v":""}]
[12,{"$f":"IF('Age - Tibia'!B18=\"\",\"\",'Age - Tibia'!B18)","v":""},{"$f":"IF('Age - Tibia'!C18=\"\",\"\",'Age - Tibia'!C18)","v":""},{"$f":"IF('Age - Tibia'!D18=\"\",\"\",'Age - Tibia'!D18)","v":""},{"$f":"IF('Age - Tibia'!E18=\"\",\"\",'Age - Tibia'!E18)","v":""},{"$f":"IF('Age - Tibia'!F18=\"\",\"\",'Age - Tibia'!F18)","v":""}]
[13,{"$f":"IF('Age - Tibia'!B19=\"\",\"\",'Age - Tibia'!B19)","v":""},{"$f":"IF('Age - Tibia'!C19=\"\",\"\",'Age - Tibia'!C19)","v":""},{"$f":"IF('Age - Tibia'!D19=\"\",\"\",'Age - Tibia'!D19)","v":""},{"$f":"IF('Age - Tibia'!E19=\"\",\"\",'Age - Tibia'!E19)","v":""},{"$f":"IF('Age - Tibia'!F19=\"\",\"\",'Age - Tibia'!F19)","v":""}]
[14,{"$f":"IF('Age - Tibia'!B20=\"\",\"\",'Age - Tibia'!B20)","v":""},{"$f":"IF('Age - Tibia'!C20=\"\",\"\",'Age - Tibia'!C20)","v":""},{"$f":"IF('Age - Tibia'!D20=\"\",\"\",'Age - Tibia'!D20)","v":""},{"$f":"IF('Age - Tibia'!E20=\"\",\"\",'Age - Tibia'!E20)","v":""},{"$f":"IF('Age - Tibia'!F20=\"\",\"\",'Age - Tibia'!F20)","v":""}]
[15,{"$f":"IF('Age - Tibia'!B21=\"\",\"\",'Age - Tibia'!B21)","v":""},{"$f":"IF('Age - Tibia'!C21=\"\",\"\",'Age - Tibia'!C21)","v":""},{"$f":"IF('Age - Tibia'!D21=\"\",\"\",'Age - Tibia'!D21)","v":""},{"$f":"IF('Age - Tibia'!E21=\"\",\"\",'Age - Tibia'!E21)","v":""},{"$f":"IF('Age - Tibia'!F21=\"\",\"\",'Age - Tibia'!F21)","v":""}]
[16,{"$f":"IF('Age - Tibia'!B22=\"\",\"\",'Age - Tibia'!B22)","v":""},{"$f":"IF('Age - Tibia'!C22=\"\",\"\",'Age - Tibia'!C22)","v":""},{"$f":"IF('Age - Tibia'!D22=\"\",\"\",'Age - Tibia'!D22)","v":""},{"$f":"IF('Age - Tibia'!E22=\"\",\"\",'Age - Tibia'!E22)","v":""},{"$f":"IF('Age - Tibia'!F22=\"\",\"\",'Age - Tibia'!F22)","v":""}]
[17,{"$f":"IF('Age - Tibia'!B23=\"\",\"\",'Age - Tibia'!B23)","v":""},{"$f":"IF('Age - Tibia'!C23=\"\",\"\",'Age - Tibia'!C23)","v":""},{"$f":"IF('Age - Tibia'!D23=\"\",\"\",'Age - Tibia'!D23)","v":""},{"$f":"IF('Age - Tibia'!E23=\"\",\"\",'Age - Tibia'!E23)","v":""},{"$f":"IF('Age - Tibia'!F23=\"\",\"\",'Age - Tibia'!F23)","v":""}]
[18,{"$f":"IF('Age - Tibia'!B24=\"\",\"\",'Age - Tibia'!B24)","v":""},{"$f":"IF('Age - Tibia'!C24=\"\",\"\",'Age - Tibia'!C24)","v":""},{"$f":"IF('Age - Tibia'!D24=\"\",\"\",'Age - Tibia'!D24)","v":""},{"$f":"IF('Age - Tibia'!E24=\"\",\"\",'Age - Tibia'!E24)","v":""},{"$f":"IF('Age - Tibia'!F24=\"\",\"\",'Age - Tibia'!F24)","v":""}]
[19,{"$f":"IF('Age - Tibia'!B25=\"\",\"\",'Age - Tibia'!B25)","v":""},{"$f":"IF('Age - Tibia'!C25=\"\",\"\",'Age - Tibia'!C25)","v":""},{"$f":"IF('Age - Tibia'!D25=\"\",\"\",'Age - Tibia'!D25)","v":""},{"$f":"IF('Age - Tibia'!E25=\"\",\"\",'Age - Tibia'!E25)","v":""},{"$f":"IF('Age - Tibia'!F25=\"\",\"\",'Age - Tibia'!F25)","v":""}]
[20,{"$f":"IF('Age - Tibia'!B26=\"\",\"\",'Age - Tibia'!B26)","v":""},{"$f":"IF('Age - Tibia'!C26=\"\",\"\",'Age - Tibia'!C26)","v":""},{"$f":"IF('Age - Tibia'!D26=\"\",\"\",'Age - Tibia'!D26)","v":""},{"$f":"IF('Age - Tibia'!E26=\"\",\"\",'Age - Tibia'!E26)","v":""},{"$f":"IF('Age - Tibia'!F26=\"\",\"\",'Age - Tibia'!F26)","v":""}]
[21,{"$f":"IF('Age - Tibia'!B27=\"\",\"\",'Age - Tibia'!B27)","v":""},{"$f":"IF('Age - Tibia'!C27=\"\",\"\",'Age - Tibia'!C27)","v":""},{"$f":"IF('Age - Tibia'!D27=\"\",\"\",'Age - Tibia'!D27)","v":""},{"$f":"IF('Age - Tibia'!E27=\"\",\"\",'Age - Tibia'!E27)","v":""},{"$f":"IF('Age - Tibia'!F27=\"\",\"\",'Age - Tibia'!F27)","v":""}]
[22,{"$f":"IF('Age - Tibia'!B28=\"\",\"\",'Age - Tibia'!B28)","v":""},{"$f":"IF('Age - Tibia'!C28=\"\",\"\",'Age - Tibia'!C28)","v":""},{"$f":"IF('Age - Tibia'!D28=\"\",\"\",'Age - Tibia'!D28)","v":""},{"$f":"IF('Age - Tibia'!E28=\"\",\"\",'Age - Tibia'!E28)","v":""},{"$f":"IF('Age - Tibia'!F28=\"\",\"\",'Age - Tibia'!F28)","v":""}]
[23,{"$f":"IF('Age - Tibia'!B29=\"\",\"\",'Age - Tibia'!B29)","v":""},{"$f":"IF('Age - Tibia'!C29=\"\",\"\",'Age - Tibia'!C29)","v":""},{"$f":"IF('Age - Tibia'!D29=\"\",\"\",'Age - Tibia'!D29)","v":""},{"$f":"IF('Age - Tibia'!E29=\"\",\"\",'Age - Tibia'!E29)","v":""},{"$f":"IF('Age - Tibia'!F29=\"\",\"\",'Age - Tibia'!F29)","v":""}]
[24,{"$f":"IF('Age - Tibia'!B30=\"\",\"\",'Age - Tibia'!B30)","v":""},{"$f":"IF('Age - Tibia'!C30=\"\",\"\",'Age - Tibia'!C30)","v":""},{"$f":"IF('Age - Tibia'!D30=\"\",\"\",'Age - Tibia'!D30)","v":""},{"$f":"IF('Age - Tibia'!E30=\"\",\"\",'Age - Tibia'!E30)","v":""},{"$f":"IF('Age - Tibia'!F30=\"\",\"\",'Age - Tibia'!F30)","v":""}]
[25,{"$f":"IF('Age - Tibia'!B31=\"\",\"\",'Age - Tibia'!B31)","v":""},{"$f":"IF('Age - Tibia'!C31=\"\",\"\",'Age - Tibia'!C31)","v":""},{"$f":"IF('Age - Tibia'!D31=\"\",\"\",'Age - Tibia'!D31)","v":""},{"$f":"IF('Age - Tibia'!E31=\"\",\"\",'Age - Tibia'!E31)","v":""},{"$f":"IF('Age - Tibia'!F31=\"\",\"\",'Age - Tibia'!F31)","v":""}]
[26,{"$f":"IF('Age - Tibia'!B32=\"\",\"\",'Age - Tibia'!B32)","v":""},{"$f":"IF('Age - Tibia'!C32=\"\",\"\",'Age - Tibia'!C32)","v":""},{"$f":"IF('Age - Tibia'!D32=\"\",\"\",'Age - Tibia'!D32)","v":""},{"$f":"IF('Age - Tibia'!E32=\"\",\"\",'Age - Tibia'!E32)","v":""},{"$f":"IF('Age - Tibia'!F32=\"\",\"\",'Age - Tibia'!F32)","v":""}]
[27,{"$f":"IF('Age - Tibia'!B33=\"\",\"\",'Age - Tibia'!B33)","v":""},{"$f":"IF('Age - Tibia'!C33=\"\",\"\",'Age - Tibia'!C33)","v":""},{"$f":"IF('Age - Tibia'!D33=\"\",\"\",'Age - Tibia'!D33)","v":""},{"$f":"IF('Age - Tibia'!E33=\"\",\"\",'Age - Tibia'!E33)","v":""},{"$f":"IF('Age - Tibia'!F33=\"\",\"\",'Age - Tibia'!F33)","v":""}]
[28,{"$f":"IF('Age - Tibia'!B34=\"\",\"\",'Age - Tibia'!B34)","v":""},{"$f":"IF('Age - Tibia'!C34=\"\",\"\",'Age - Tibia'!C34)","v":""},{"$f":"IF('Age - Tibia'!D34=\"\",\"\",'Age - Tibia'!D34)","v":""},{"$f":"IF('Age - Tibia'!E34=\"\",\"\",'Age - Tibia'!E34)","v":""},{"$f":"IF('Age - Tibia'!F34=\"\",\"\",'Age - Tibia'!F34)","v":""}]
[29,{"$f":"IF('Age - Tibia'!B35=\"\",\"\",'Age - Tibia'!B35)","v":""},{"$f":"IF('Age - Tibia'!C35=\"\",\"\",'Age - Tibia'!C35)","v":""},{"$f":"IF('Age - Tibia'!D35=\"\",\"\",'Age - Tibia'!D35)","v":""},{"$f":"IF('Age - Tibia'!E35=\"\",\"\",'Age - Tibia'!E35)","v":""},{"$f":"IF('Age - Tibia'!F35=\"\",\"\",'Age - Tibia'!F35)","v":""}]
[30,{"$f":"IF('Age - Tibia'!B36=\"\",\"\",'Age - Tibia'!B36)","v":""},{"$f":"IF('Age - Tibia'!C36=\"\",\"\",'Age - Tibia'!C36)","v":""},{"$f":"IF('Age - Tibia'!D36=\"\",\"\",'Age - Tibia'!D36)","v":""},{"$f":"IF('Age - Tibia'!E36=\"\",\"\",'Age - Tibia'!E36)","v":""},{"$f":"IF('Age - Tibia'!F36=\"\",\"\",'Age - Tibia'!F36)","v":""}]
[31,{"$f":"IF('Age - Tibia'!B37=\"\",\"\",'Age - Tibia'!B37)","v":""},{"$f":"IF('Age - Tibia'!C37=\"\",\"\",'Age - Tibia'!C37)","v":""},{"$f":"IF('Age - Tibia'!D37=\"\",\"\",'Age - Tibia'!D37)","v":""},{"$f":"IF('Age - Tibia'!E37=\"\",\"\",'Age - Tibia'!E37)","v":""},{"$f":"IF('Age - Tibia'!F37=\"\",\"\",'Age - Tibia'!F37)","v":""}]
[32,{"$f":"IF('Age - Tibia'!B38=\"\",\"\",'Age - Tibia'!B38)","v":""},{"$f":"IF('Age - Tibia'!C38=\"\",\"\",'Age - Tibia'!C38)","v":""},{"$f":"IF('Age - Tibia'!D38=\"\",\"\",'Age - Tibia'!D38)","v":""},{"$f":"IF('Age - Tibia'!E38=\"\",\"\",'Age - Tibia'!E38)","v":""},{"$f":"IF('Age - Tibia'!F38=\"\",\"\",'Age - Tibia'!F38)","v":""}]
[33,{"$f":"IF('Age - Tibia'!B39=\"\",\"\",'Age - Tibia'!B39)","v":""},{"$f":"IF('Age - Tibia'!C39=\"\",\"\",'Age - Tibia'!C39)","v":""},{"$f":"IF('Age - Tibia'!D39=\"\",\"\",'Age - Tibia'!D39)","v":""},{"$f":"IF('Age - Tibia'!E39=\"\",\"\",'Age - Tibia'!E39)","v":""},{"$f":"IF('Age - Tibia'!F39=\"\",\"\",'Age - Tibia'!F39)","v":""}]
[34,{"$f":"IF('Age - Tibia'!B40=\"\",\"\",'Age - Tibia'!B40)","v":""},{"$f":"IF('Age - Tibia'!C40=\"\",\"\",'Age - Tibia'!C40)","v":""},{"$f":"IF('Age - Tibia'!D40=\"\",\"\",'Age - Tibia'!D40)","v":""},{"$f":"IF('Age - Tibia'!E40=\"\",\"\",'Age - Tibia'!E40)","v":""},{"$f":"IF('Age - Tibia'!F40=\"\",\"\",'Age - Tibia'!F40)","v":""}]
[35,{"$f":"IF('Age - Tibia'!B41=\"\",\"\",'Age - Tibia'!B41)","v":""},{"$f":"IF('Age - Tibia'!C41=\"\",\"\",'Age - Tibia'!C41)","v":""},{"$f":"IF('Age - Tibia'!D41=\"\",\"\",'Age - Tibia'!D41)","v":""},{"$f":"IF('Age - Tibia'!E41=\"\",\"\",'Age - Tibia'!E41)","v":""},{"$f":"IF('Age - Tibia'!F41=\"\",\"\",'Age - Tibia'!F41)","v":""}]
[36,{"$f":"IF('Age - Tibia'!B42=\"\",\"\",'Age - Tibia'!B42)","v":""},{"$f":"IF('Age - Tibia'!C42=\"\",\"\",'Age - Tibia'!C42)","v":""},{"$f":"IF('Age - Tibia'!D42=\"\",\"\",'Age - Tibia'!D42)","v":""},{"$f":"IF('Age - Tibia'!E42=\"\",\"\",'Age - Tibia'!E42)","v":""},{"$f":"IF('Age - Tibia'!F42=\"\",\"\",'Age - Tibia'!F42)","v":""}]
[37,{"$f":"IF('Age - Tibia'!B43=\"\",\"\",'Age - Tibia'!B43)","v":""},{"$f":"IF('Age - Tibia'!C43=\"\",\"\",'Age - Tibia'!C43)","v":""},{"$f":"IF('Age - Tibia'!D43=\"\",\"\",'Age - Tibia'!D43)","v":""},{"$f":"IF('Age - Tibia'!E43=\"\",\"\",'Age - Tibia'!E43)","v":""},{"$f":"IF('Age - Tibia'!F43=\"\",\"\",'Age - Tibia'!F43)","v":""}]
[38,{"$f":"IF('Age - Tibia'!B44=\"\",\"\",'Age - Tibia'!B44)","v":""},{"$f":"IF('Age - Tibia'!C44=\"\",\"\",'Age - Tibia'!C44)","v":""},{"$f":"IF('Age - Tibia'!D44=\"\",\"\",'Age - Tibia'!D44)","v":""},{"$f":"IF('Age - Tibia'!E44=\"\",\"\",'Age - Tibia'!E44)","v":""},{"$f":"IF('Age - Tibia'!F44=\"\",\"\",'Age - Tibia'!F44)","v":""}]
[39,{"$f":"IF('Age - Tibia'!B45=\"\",\"\",'Age - Tibia'!B45)","v":""},{"$f":"IF('Age - Tibia'!C45=\"\",\"\",'Age - Tibia'!C45)","v":""},{"$f":"IF('Age - Tibia'!D45=\"\",\"\",'Age - Tibia'!D45)","v":""},{"$f":"IF('Age - Tibia'!E45=\"\",\"\",'Age - Tibia'!E45)","v":""},{"$f":"IF('Age - Tibia'!F45=\"\",\"\",'Age - Tibia'!F45)","v":""}]
[40,{"$f":"IF('Age - Tibia'!B46=\"\",\"\",'Age - Tibia'!B46)","v":""},{"$f":"IF('Age - Tibia'!C46=\"\",\"\",'Age - Tibia'!C46)","v":""},{"$f":"IF('Age - Tibia'!D46=\"\",\"\",'Age - Tibia'!D46)","v":""},{"$f":"IF('Age - Tibia'!E46=\"\",\"\",'Age - Tibia'!E46)","v":""},{"$f":"IF('Age - Tibia'!F46=\"\",\"\",'Age - Tibia'!F46)","v":""}]
[41,{"$f":"IF('Age - Tibia'!B47=\"\",\"\",'Age - Tibia'!B47)","v":""},{"$f":"IF('Age - Tibia'!C47=\"\",\"\",'Age - Tibia'!C47)","v":""},{"$f":"IF('Age - Tibia'!D47=\"\",\"\",'Age - Tibia'!D47)","v":""},{"$f":"IF('Age - Tibia'!E47=\"\",\"\",'Age - Tibia'!E47)","v":""},{"$f":"IF('Age - Tibia'!F47=\"\",\"\",'Age - Tibia'!F47)","v":""}]
[42,{"$f":"IF('Age - Tibia'!B48=\"\",\"\",'Age - Tibia'!B48)","v":""},{"$f":"IF('Age - Tibia'!C48=\"\",\"\",'Age - Tibia'!C48)","v":""},{"$f":"IF('Age - Tibia'!D48=\"\",\"\",'Age - Tibia'!D48)","v":""},{"$f":"IF('Age - Tibia'!E48=\"\",\"\",'Age - Tibia'!E48)","v":""},{"$f":"IF('Age - Tibia'!F48=\"\",\"\",'Age - Tibia'!F48)","v":""}]
[43,{"$f":"IF('Age - Tibia'!B49=\"\",\"\",'Age - Tibia'!B49)","v":""},{"$f":"IF('Age - Tibia'!C49=\"\",\"\",'Age - Tibia'!C49)","v":""},{"$f":"IF('Age - Tibia'!D49=\"\",\"\",'Age - Tibia'!D49)","v":""},{"$f":"IF('Age - Tibia'!E49=\"\",\"\",'Age - Tibia'!E49)","v":""},{"$f":"IF('Age - Tibia'!F49=\"\",\"\",'Age - Tibia'!F49)","v":""}]
[44,{"$f":"IF('Age - Tibia'!B50=\"\",\"\",'Age - Tibia'!B50)","v":""},{"$f":"IF('Age - Tibia'!C50=\"\",\"\",'Age - Tibia'!C50)","v":""},{"$f":"IF('Age - Tibia'!D50=\"\",\"\",'Age - Tibia'!D50)","v":""},{"$f":"IF('Age - Tibia'!E50=\"\",\"\",'Age - Tibia'!E50)","v":""},{"$f":"IF('Age - Tibia'!F50=\"\",\"\",'Age - Tibia'!F50)","v":""}]
[45,{"$f":"IF('Age - Tibia'!B51=\"\",\"\",'Age - Tibia'!B51)","v":""},{"$f":"IF('Age - Tibia'!C51=\"\",\"\",'Age - Tibia'!C51)","v":""},{"$f":"IF('Age - Tibia'!D51=\"\",\"\",'Age - Tibia'!D51)","v":""},{"$f":"IF('Age - Tibia'!E51=\"\",\"\",'Age - Tibia'!E51)","v":""},{"$f":"IF('Age - Tibia'!F51=\"\",\"\",'Age - Tibia'!F51)","v":""}]
[46,{"$f":"IF('Age - Tibia'!B52=\"\",\"\",'Age - Tibia'!B52)","v":""},{"$f":"IF('Age - Tibia'!C52=\"\",\"\",'Age - Tibia'!C52)","v":""},{"$f":"IF('Age - Tibia'!D52=\"\",\"\",'Age - Tibia'!D52)","v":""},{"$f":"IF('Age - Tibia'!E52=\"\",\"\",'Age - Tibia'!E52)","v":""},{"$f":"IF('Age - Tibia'!F52=\"\",\"\",'Age - Tibia'!F52)","v":""}]
[47,{"$f":"IF('Age - Tibia'!B53=\"\",\"\",'Age - Tibia'!B53)","v":""},{"$f":"IF('Age - Tibia'!C53=\"\",\"\",'Age - Tibia'!C53)","v":""},{"$f":"IF('Age - Tibia'!D53=\"\",\"\",'Age - Tibia'!D53)","v":""},{"$f":"IF('Age - Tibia'!E53=\"\",\"\",'Age - Tibia'!E53)","v":""},{"$f":"IF('Age - Tibia'!F53=\"\",\"\",'Age - Tibia'!F53)","v":""}]
[48,{"$f":"IF('Age - Tibia'!B54=\"\",\"\",'Age - Tibia'!B54)","v":""},{"$f":"IF('Age - Tibia'!C54=\"\",\"\",'Age - Tibia'!C54)","v":""},{"$f":"IF('Age - Tibia'!D54=\"\",\"\",'Age - Tibia'!D54)","v":""},{"$f":"IF('Age - Tibia'!E54=\"\",\"\",'Age - Tibia'!E54)","v":""},{"$f":"IF('Age - Tibia'!F54=\"\",\"\",'Age - Tibia'!F54)","v":""}]
[49,{"$f":"IF('Age - Tibia'!B55=\"\",\"\",'Age - Tibia'!B55)","v":""},{"$f":"IF('Age - Tibia'!C55=\"\",\"\",'Age - Tibia'!C55)","v":""},{"$f":"IF('Age - Tibia'!D55=\"\",\"\",'Age - Tibia'!D55)","v":""},{"$f":"IF('Age - Tibia'!E55=\"\",\"\",'Age - Tibia'!E55)","v":""},{"$f":"IF('Age - Tibia'!F55=\"\",\"\",'Age - Tibia'!F55)","v":""}]
[50,{"$f":"IF('Age - Tibia'!B56=\"\",\"\",'Age - Tibia'!B56)","v":""},{"$f":"IF('Age - Tibia'!C56=\"\",\"\",'Age - Tibia'!C56)","v":""},{"$f":"IF('Age - Tibia'!D56=\"\",\"\",'Age - Tibia'!D56)","v":""},{"$f":"IF('Age - Tibia'!E56=\"\",\"\",'Age - Tibia'!E56)","v":""},{"$f":"IF('Age - Tibia'!F56=\"\",\"\",'Age - Tibia'!F56)","v":""}]
[51,{"$f":"IF('Age - Tibia'!B57=\"\",\"\",'Age - Tibia'!B57)","v":""},{"$f":"IF('Age - Tibia'!C57=\"\",\"\",'Age - Tibia'!C57)","v":""},{"$f":"IF('Age - Tibia'!D57=\"\",\"\",'Age - Tibia'!D57)","v":""},{"$f":"IF('Age - Tibia'!E57=\"\",\"\",'Age - Tibia'!E57)","v":""},{"$f":"IF('Age - Tibia'!F57=\"\",\"\",'Age - Tibia'!F57)","v":""}]
[52,{"$f":"IF('Age - Tibia'!B58=\"\",\"\",'Age - Tibia'!B58)","v":""},{"$f":"IF('Age - Tibia'!C58=\"\",\"\",'Age - Tibia'!C58)","v":""},{"$f":"IF('Age - Tibia'!D58=\"\",\"\",'Age - Tibia'!D58)","v":""},{"$f":"IF('Age - Tibia'!E58=\"\",\"\",'Age - Tibia'!E58)","v":""},{"$f":"IF('Age - Tibia'!F58=\"\",\"\",'Age - Tibia'!F58)","v":""}]
[53,{"$f":"IF('Age - Tibia'!B59=\"\",\"\",'Age - Tibia'!B59)","v":""},{"$f":"IF('Age - Tibia'!C59=\"\",\"\",'Age - Tibia'!C59)","v":""},{"$f":"IF('Age - Tibia'!D59=\"\",\"\",'Age - Tibia'!D59)","v":""},{"$f":"IF('Age - Tibia'!E59=\"\",\"\",'Age - Tibia'!E59)","v":""},{"$f":"IF('Age - Tibia'!F59=\"\",\"\",'Age - Tibia'!F59)","v":""}]
[54,{"$f":"IF('Age - Tibia'!B60=\"\",\"\",'Age - Tibia'!B60)","v":""},{"$f":"IF('Age - Tibia'!C60=\"\",\"\",'Age - Tibia'!C60)","v":""},{"$f":"IF('Age - Tibia'!D60=\"\",\"\",'Age - Tibia'!D60)","v":""},{"$f":"IF('Age - Tibia'!E60=\"\",\"\",'Age - Tibia'!E60)","v":""},{"$f":"IF('Age - Tibia'!F60=\"\",\"\",'Age - Tibia'!F60)","v":""}]
[55,{"$f":"IF('Age - Tibia'!B61=\"\",\"\",'Age - Tibia'!B61)","v":""},{"$f":"IF('Age - Tibia'!C61=\"\",\"\",'Age - Tibia'!C61)","v":""},{"$f":"IF('Age - Tibia'!D61=\"\",\"\",'Age - Tibia'!D61)","v":""},{"$f":"IF('Age - Tibia'!E61=\"\",\"\",'Age - Tibia'!E61)","v":""},{"$f":"IF('Age - Tibia'!F61=\"\",\"\",'Age - Tibia'!F61)","v":""}]
[56,{"$f":"IF('Age - Tibia'!B62=\"\",\"\",'Age - Tibia'!B62)","v":""},{"$f":"IF('Age - Tibia'!C62=\"\",\"\",'Age - Tibia'!C62)","v":""},{"$f":"IF('Age - Tibia'!D62=\"\",\"\",'Age - Tibia'!D62)","v":""},{"$f":"IF('Age - Tibia'!E62=\"\",\"\",'Age - Tibia'!E62)","v":""},{"$f":"IF('Age - Tibia'!F62=\"\",\"\",'Age - Tibia'!F62)","v":""}]
[57,{"$f":"IF('Age - Tibia'!B63=\"\",\"\",'Age - Tibia'!B63)","v":""},{"$f":"IF('Age - Tibia'!C63=\"\",\"\",'Age - Tibia'!C63)","v":""},{"$f":"IF('Age - Tibia'!D63=\"\",\"\",'Age - Tibia'!D63)","v":""},{"$f":"IF('Age - Tibia'!E63=\"\",\"\",'Age - Tibia'!E63)","v":""},{"$f":"IF('Age - Tibia'!F63=\"\",\"\",'Age - Tibia'!F63)","v":""}]
[58,{"$f":"IF('Age - Tibia'!B64=\"\",\"\",'Age - Tibia'!B64)","v":""},{"$f":"IF('Age - Tibia'!C64=\"\",\"\",'Age - Tibia'!C64)","v":""},{"$f":"IF('Age - Tibia'!D64=\"\",\"\",'Age - Tibia'!D64)","v":""},{"$f":"IF('Age - Tibia'!E64=\"\",\"\",'Age - Tibia'!E64)","v":""},{"$f":"IF('Age - Tibia'!F64=\"\",\"\",'Age - Tibia'!F64)","v":""}]
[59,{"$f":"IF('Age - Tibia'!B65=\"\",\"\",'Age - Tibia'!B65)","v":""},{"$f":"IF('Age - Tibia'!C65=\"\",\"\",'Age - Tibia'!C65)","v":""},{"$f":"IF('Age - Tibia'!D65=\"\",\"\",'Age - Tibia'!D65)","v":""},{"$f":"IF('Age - Tibia'!E65=\"\",\"\",'Age - Tibia'!E65)","v":""},{"$f":"IF('Age - Tibia'!F65=\"\",\"\",'Age - Tibia'!F65)","v":""}]
[60,{"$f":"IF('Age - Tibia'!B66=\"\",\"\",'Age - Tibia'!B66)","v":""},{"$f":"IF('Age - Tibia'!C66=\"\",\"\",'Age - Tibia'!C66)","v":""},{"$f":"IF('Age - Tibia'!D66=\"\",\"\",'Age - Tibia'!D66)","v":""},{"$f":"IF('Age - Tibia'!E66=\"\",\"\",'Age - Tibia'!E66)","v":""},{"$f":"IF('Age - Tibia'!F66=\"\",\"\",'Age - Tibia'!F66)","v":""}]
[61,{"$f":"IF('Age - Tibia'!B67=\"\",\"\",'Age - Tibia'!B67)","v":""},{"$f":"IF('Age - Tibia'!C67=\"\",\"\",'Age - Tibia'!C67)","v":""},{"$f":"IF('Age - Tibia'!D67=\"\",\"\",'Age - Tibia'!D67)","v":""},{"$f":"IF('Age - Tibia'!E67=\"\",\"\",'Age - Tibia'!E67)","v":""},{"$f":"IF('Age - Tibia'!F67=\"\",\"\",'Age - Tibia'!F67)","v":""}]
[62,{"$f":"IF('Age - Tibia'!B68=\"\",\"\",'Age - Tibia'!B68)","v":""},{"$f":"IF('Age - Tibia'!C68=\"\",\"\",'Age - Tibia'!C68)","v":""},{"$f":"IF('Age - Tibia'!D68=\"\",\"\",'Age - Tibia'!D68)","v":""},{"$f":"IF('Age - Tibia'!E68=\"\",\"\",'Age - Tibia'!E68)","v":""},{"$f":"IF('Age - Tibia'!F68=\"\",\"\",'Age - Tibia'!F68)","v":""}]
[63,{"$f":"IF('Age - Tibia'!B69=\"\",\"\",'Age - Tibia'!B69)","v":""},{"$f":"IF('Age - Tibia'!C69=\"\",\"\",'Age - Tibia'!C69)","v":""},{"$f":"IF('Age - Tibia'!D69=\"\",\"\",'Age - Tibia'!D69)","v":""},{"$f":"IF('Age - Tibia'!E69=\"\",\"\",'Age - Tibia'!E69)","v":""},{"$f":"IF('Age - Tibia'!F69=\"\",\"\",'Age - Tibia'!F69)","v":""}]
[64,{"$f":"IF('Age - Tibia'!B70=\"\",\"\",'Age - Tibia'!B70)","v":""},{"$f":"IF('Age - Tibia'!C70=\"\",\"\",'Age - Tibia'!C70)","v":""},{"$f":"IF('Age - Tibia'!D70=\"\",\"\",'Age - Tibia'!D70)","v":""},{"$f":"IF('Age - Tibia'!E70=\"\",\"\",'Age - Tibia'!E70)","v":""},{"$f":"IF('Age - Tibia'!F70=\"\",\"\",'Age - Tibia'!F70)","v":""}]
[65,{"$f":"IF('Age - Tibia'!B71=\"\",\"\",'Age - Tibia'!B71)","v":""},{"$f":"IF('Age - Tibia'!C71=\"\",\"\",'Age - Tibia'!C71)","v":""},{"$f":"IF('Age - Tibia'!D71=\"\",\"\",'Age - Tibia'!D71)","v":""},{"$f":"IF('Age - Tibia'!E71=\"\",\"\",'Age - Tibia'!E71)","v":""},{"$f":"IF('Age - Tibia'!F71=\"\",\"\",'Age - Tibia'!F71)","v":""}]
[66,{"$f":"IF('Age - Tibia'!B72=\"\",\"\",'Age - Tibia'!B72)","v":""},{"$f":"IF('Age - Tibia'!C72=\"\",\"\",'Age - Tibia'!C72)","v":""},{"$f":"IF('Age - Tibia'!D72=\"\",\"\",'Age - Tibia'!D72)","v":""},{"$f":"IF('Age - Tibia'!E72=\"\",\"\",'Age - Tibia'!E72)","v":""},{"$f":"IF('Age - Tibia'!F72=\"\",\"\",'Age - Tibia'!F72)","v":""}]
[67,{"$f":"IF('Age - Tibia'!B73=\"\",\"\",'Age - Tibia'!B73)","v":""},{"$f":"IF('Age - Tibia'!C73=\"\",\"\",'Age - Tibia'!C73)","v":""},{"$f":"IF('Age - Tibia'!D73=\"\",\"\",'Age - Tibia'!D73)","v":""},{"$f":"IF('Age - Tibia'!E73=\"\",\"\",'Age - Tibia'!E73)","v":""},{"$f":"IF('Age - Tibia'!F73=\"\",\"\",'Age - Tibia'!F73)","v":""}]
[68,{"$f":"IF('Age - Tibia'!B74=\"\",\"\",'Age - Tibia'!B74)","v":""},{"$f":"IF('Age - Tibia'!C74=\"\",\"\",'Age - Tibia'!C74)","v":""},{"$f":"IF('Age - Tibia'!D74=\"\",\"\",'Age - Tibia'!D74)","v":""},{"$f":"IF('Age - Tibia'!E74=\"\",\"\",'Age - Tibia'!E74)","v":""},{"$f":"IF('Age - Tibia'!F74=\"\",\"\",'Age - Tibia'!F74)","v":""}]
[69,{"$f":"IF('Age - Tibia'!B75=\"\",\"\",'Age - Tibia'!B75)","v":""},{"$f":"IF('Age - Tibia'!C75=\"\",\"\",'Age - Tibia'!C75)","v":""},{"$f":"IF('Age - Tibia'!D75=\"\",\"\",'Age - Tibia'!D75)","v":""},{"$f":"IF('Age - Tibia'!E75=\"\",\"\",'Age - Tibia'!E75)","v":""},{"$f":"IF('Age - Tibia'!F75=\"\",\"\",'Age - Tibia'!F75)","v":""}]
[70,{"$f":"IF('Age - Tibia'!B76=\"\",\"\",'Age - Tibia'!B76)","v":""},{"$f":"IF('Age - Tibia'!C76=\"\",\"\",'Age - Tibia'!C76)","v":""},{"$f":"IF('Age - Tibia'!D76=\"\",\"\",'Age - Tibia'!D76)","v":""},{"$f":"IF('Age - Tibia'!E76=\"\",\"\",'Age - Tibia'!E76)","v":""},{"$f":"IF('Age - Tibia'!F76=\"\",\"\",'Age - Tibia'!F76)","v":""}]
[71,{"$f":"IF('Age - Tibia'!B77=\"\",\"\",'Age - Tibia'!B77)","v":""},{"$f":"IF('Age - Tibia'!C77=\"\",\"\",'Age - Tibia'!C77)","v":""},{"$f":"IF('Age - Tibia'!D77=\"\",\"\",'Age - Tibia'!D77)","v":""},{"$f":"IF('Age - Tibia'!E77=\"\",\"\",'Age - Tibia'!E77)","v":""},{"$f":"IF('Age - Tibia'!F77=\"\",\"\",'Age - Tibia'!F77)","v":""}]
[72,{"$f":"IF('Age - Tibia'!B78=\"\",\"\",'Age - Tibia'!B78)","v":""},{"$f":"IF('Age - Tibia'!C78=\"\",\"\",'Age - Tibia'!C78)","v":""},{"$f":"IF('Age - Tibia'!D78=\"\",\"\",'Age - Tibia'!D78)","v":""},{"$f":"IF('Age - Tibia'!E78=\"\",\"\",'Age - Tibia'!E78)","v":""},{"$f":"IF('Age - Tibia'!F78=\"\",\"\",'Age - Tibia'!F78)","v":""}]
[73,{"$f":"IF('Age - Tibia'!B79=\"\",\"\",'Age - Tibia'!B79)","v":""},{"$f":"IF('Age - Tibia'!C79=\"\",\"\",'Age - Tibia'!C79)","v":""},{"$f":"IF('Age - Tibia'!D79=\"\",\"\",'Age - Tibia'!D79)","v":""},{"$f":"IF('Age - Tibia'!E79=\"\",\"\",'Age - Tibia'!E79)","v":""},{"$f":"IF('Age - Tibia'!F79=\"\",\"\",'Age - Tibia'!F79)","v":""}]
[74,{"$f":"IF('Age - Tibia'!B80=\"\",\"\",'Age - Tibia'!B80)","v":""},{"$f":"IF('Age - Tibia'!C80=\"\",\"\",'Age - Tibia'!C80)","v":""},{"$f":"IF('Age - Tibia'!D80=\"\",\"\",'Age - Tibia'!D80)","v":""},{"$f":"IF('Age - Tibia'!E80=\"\",\"\",'Age - Tibia'!E80)","v":""},{"$f":"IF('Age - Tibia'!F80=\"\",\"\",'Age - Tibia'!F80)","v":""}]
[75,{"$f":"IF('Age - Tibia'!B81=\"\",\"\",'Age - Tibia'!B81)","v":""},{"$f":"IF('Age - Tibia'!C81=\"\",\"\",'Age - Tibia'!C81)","v":""},{"$f":"IF('Age - Tibia'!D81=\"\",\"\",'Age - Tibia'!D81)","v":""},{"$f":"IF('Age - Tibia'!E81=\"\",\"\",'Age - Tibia'!E81)","v":""},{"$f":"IF('Age - Tibia'!F81=\"\",\"\",'Age - Tibia'!F81)","v":""}]
[76,{"$f":"IF('Age - Tibia'!B82=\"\",\"\",'Age - Tibia'!B82)","v":""},{"$f":"IF('Age - Tibia'!C82=\"\",\"\",'Age - Tibia'!C82)","v":""},{"$f":"IF('Age - Tibia'!D82=\"\",\"\",'Age - Tibia'!D82)","v":""},{"$f":"IF('Age - Tibia'!E82=\"\",\"\",'Age - Tibia'!E82)","v":""},{"$f":"IF('Age - Tibia'!F82=\"\",\"\",'Age - Tibia'!F82)","v":""}]
[77,{"$f":"IF('Age - Tibia'!B83=\"\",\"\",'Age - Tibia'!B83)","v":""},{"$f":"IF('Age - Tibia'!C83=\"\",\"\",'Age - Tibia'!C83)","v":""},{"$f":"IF('Age - Tibia'!D83=\"\",\"\",'Age - Tibia'!D83)","v":""},{"$f":"IF('Age - Tibia'!E83=\"\",\"\",'Age - Tibia'!E83)","v":""},{"$f":"IF('Age - Tibia'!F83=\"\",\"\",'Age - Tibia'!F83)","v":""}]
[78,{"$f":"IF('Age - Tibia'!B84=\"\",\"\",'Age - Tibia'!B84)","v":""},{"$f":"IF('Age - Tibia'!C84=\"\",\"\",'Age - Tibia'!C84)","v":""},{"$f":"IF('Age - Tibia'!D84=\"\",\"\",'Age - Tibia'!D84)","v":""},{"$f":"IF('Age - Tibia'!E84=\"\",\"\",'Age - Tibia'!E84)","v":""},{"$f":"IF('Age - Tibia'!F84=\"\",\"\",'Age - Tibia'!F84)","v":""}]
[79,{"$f":"IF('Age - Tibia'!B85=\"\",\"\",'Age - Tibia'!B85)","v":""},{"$f":"IF('Age - Tibia'!C85=\"\",\"\",'Age - Tibia'!C85)","v":""},{"$f":"IF('Age - Tibia'!D85=\"\",\"\",'Age - Tibia'!D85)","v":""},{"$f":"IF('Age - Tibia'!E85=\"\",\"\",'Age - Tibia'!E85)","v":""},{"$f":"IF('Age - Tibia'!F85=\"\",\"\",'Age - Tibia'!F85)","v":""}]
[80,{"$f":"IF('Age - Tibia'!B86=\"\",\"\",'Age - Tibia'!B86)","v":""},{"$f":"IF('Age - Tibia'!C86=\"\",\"\",'Age - Tibia'!C86)","v":""},{"$f":"IF('Age - Tibia'!D86=\"\",\"\",'Age - Tibia'!D86)","v":""},{"$f":"IF('Age - Tibia'!E86=\"\",\"\",'Age - Tibia'!E86)","v":""},{"$f":"IF('Age - Tibia'!F86=\"\",\"\",'Age - Tibia'!F86)","v":""}]
[81,{"$f":"IF('Age - Tibia'!B87=\"\",\"\",'Age - Tibia'!B87)","v":""},{"$f":"IF('Age - Tibia'!C87=\"\",\"\",'Age - Tibia'!C87)","v":""},{"$f":"IF('Age - Tibia'!D87=\"\",\"\",'Age - Tibia'!D87)","v":""},{"$f":"IF('Age - Tibia'!E87=\"\",\"\",'Age - Tibia'!E87)","v":""},{"$f":"IF('Age - Tibia'!F87=\"\",\"\",'Age - Tibia'!F87)","v":""}]
[82,{"$f":"IF('Age - Tibia'!B88=\"\",\"\",'Age - Tibia'!B88)","v":""},{"$f":"IF('Age - Tibia'!C88=\"\",\"\",'Age - Tibia'!C88)","v":""},{"$f":"IF('Age - Tibia'!D88=\"\",\"\",'Age - Tibia'!D88)","v":""},{"$f":"IF('Age - Tibia'!E88=\"\",\"\",'Age - Tibia'!E88)","v":""},{"$f":"IF('Age - Tibia'!F88=\"\",\"\",'Age - Tibia'!F88)","v":""}]
[83,{"$f":"IF('Age - Tibia'!B89=\"\",\"\",'Age - Tibia'!B89)","v":""},{"$f":"IF('Age - Tibia'!C89=\"\",\"\",'Age - Tibia'!C89)","v":""},{"$f":"IF('Age - Tibia'!D89=\"\",\"\",'Age - Tibia'!D89)","v":""},{"$f":"IF('Age - Tibia'!E89=\"\",\"\",'Age - Tibia'!E89)","v":""},{"$f":"IF('Age - Tibia'!F89=\"\",\"\",'Age - Tibia'!F89)","v":""}]
[84,{"$f":"IF('Age - Tibia'!B90=\"\",\"\",'Age - Tibia'!B90)","v":""},{"$f":"IF('Age - Tibia'!C90=\"\",\"\",'Age - Tibia'!C90)","v":""},{"$f":"IF('Age - Tibia'!D90=\"\",\"\",'Age - Tibia'!D90)","v":""},{"$f":"IF('Age - Tibia'!E90=\"\",\"\",'Age - Tibia'!E90)","v":""},{"$f":"IF('Age - Tibia'!F90=\"\",\"\",'Age - Tibia'!F90)","v":""}]
[85,{"$f":"IF('Age - Tibia'!B91=\"\",\"\",'Age - Tibia'!B91)","v":""},{"$f":"IF('Age - Tibia'!C91=\"\",\"\",'Age - Tibia'!C91)","v":""},{"$f":"IF('Age - Tibia'!D91=\"\",\"\",'Age - Tibia'!D91)","v":""},{"$f":"IF('Age - Tibia'!E91=\"\",\"\",'Age - Tibia'!E91)","v":""},{"$f":"IF('Age - Tibia'!F91=\"\",\"\",'Age - Tibia'!F91)","v":""}]
[86,{"$f":"IF('Age - Tibia'!B92=\"\",\"\",'Age - Tibia'!B92)","v":""},{"$f":"IF('Age - Tibia'!C92=\"\",\"\",'Age - Tibia'!C92)","v":""},{"$f":"IF('Age - Tibia'!D92=\"\",\"\",'Age - Tibia'!D92)","v":""},{"$f":"IF('Age - Tibia'!E92=\"\",\"\",'Age - Tibia'!E92)","v":""},{"$f":"IF('Age - Tibia'!F92=\"\",\"\",'Age - Tibia'!F92)","v":""}]
[87,{"$f":"IF('Age - Tibia'!B93=\"\",\"\",'Age - Tibia'!B93)","v":""},{"$f":"IF('Age - Tibia'!C93=\"\",\"\",'Age - Tibia'!C93)","v":""},{"$f":"IF('Age - Tibia'!D93=\"\",\"\",'Age - Tibia'!D93)","v":""},{"$f":"IF('Age - Tibia'!E93=\"\",\"\",'Age - Tibia'!E93)","v":""},{"$f":"IF('Age - Tibia'!F93=\"\",\"\",'Age - Tibia'!F93)","v":""}]
[88,{"$f":"IF('Age - Tibia'!B94=\"\",\"\",'Age - Tibia'!B94)","v":""},{"$f":"IF('Age - Tibia'!C94=\"\",\"\",'Age - Tibia'!C94)","v":""},{"$f":"IF('Age - Tibia'!D94=\"\",\"\",'Age - Tibia'!D94)","v":""},{"$f":"IF('Age - Tibia'!E94=\"\",\"\",'Age - Tibia'!E94)","v":""},{"$f":"IF('Age - Tibia'!F94=\"\",\"\",'Age - Tibia'!F94)","v":""}]
[89,{"$f":"IF('Age - Tibia'!B95=\"\",\"\",'Age - Tibia'!B95)","v":""},{"$f":"IF('Age - Tibia'!C95=\"\",\"\",'Age - Tibia'!C95)","v":""},{"$f":"IF('Age - Tibia'!D95=\"\",\"\",'Age - Tibia'!D95)","v":""},{"$f":"IF('Age - Tibia'!E95=\"\",\"\",'Age - Tibia'!E95)","v":""},{"$f":"IF('Age - Tibia'!F95=\"\",\"\",'Age - Tibia'!F95)","v":""}]
[90,{"$f":"IF('Age - Tibia'!B96=\"\",\"\",'Age - Tibia'!B96)","v":""},{"$f":"IF('Age - Tibia'!C96=\"\",\"\",'Age - Tibia'!C96)","v":""},{"$f":"IF('Age - Tibia'!D96=\"\",\"\",'Age - Tibia'!D96)","v":""},{"$f":"IF('Age - Tibia'!E96=\"\",\"\",'Age - Tibia'!E96)","v":""},{"$f":"IF('Age - Tibia'!F96=\"\",\"\",'Age - Tibia'!F96)","v":""}]
[91,{"$f":"IF('Age - Tibia'!B97=\"\",\"\",'Age - Tibia'!B97)","v":""},{"$f":"IF('Age - Tibia'!C97=\"\",\"\",'Age - Tibia'!C97)","v":""},{"$f":"IF('Age - Tibia'!D97=\"\",\"\",'Age - Tibia'!D97)","v":""},{"$f":"IF('Age - Tibia'!E97=\"\",\"\",'Age - Tibia'!E97)","v":""},{"$f":"IF('Age - Tibia'!F97=\"\",\"\",'Age - Tibia'!F97)","v":""}]
[92,{"$f":"IF('Age - Tibia'!B98=\"\",\"\",'Age - Tibia'!B98)","v":""},{"$f":"IF('Age - Tibia'!C98=\"\",\"\",'Age - Tibia'!C98)","v":""},{"$f":"IF('Age - Tibia'!D98=\"\",\"\",'Age - Tibia'!D98)","v":""},{"$f":"IF('Age - Tibia'!E98=\"\",\"\",'Age - Tibia'!E98)","v":""},{"$f":"IF('Age - Tibia'!F98=\"\",\"\",'Age - Tibia'!F98)","v":""}]
[93,{"$f":"IF('Age - Tibia'!B99=\"\",\"\",'Age - Tibia'!B99)","v":""},{"$f":"IF('Age - Tibia'!C99=\"\",\"\",'Age - Tibia'!C99)","v":""},{"$f":"IF('Age - Tibia'!D99=\"\",\"\",'Age - Tibia'!D99)","v":""},{"$f":"IF('Age - Tibia'!E99=\"\",\"\",'Age - Tibia'!E99)","v":""},{"$f":"IF('Age - Tibia'!F99=\"\",\"\",'Age - Tibia'!F99)","v":""}]
[94,{"$f":"IF('Age - Tibia'!B100=\"\",\"\",'Age - Tibia'!B100)","v":""},{"$f":"IF('Age - Tibia'!C100=\"\",\"\",'Age - Tibia'!C100)","v":""},{"$f":"IF('Age - Tibia'!D100=\"\",\"\",'Age - Tibia'!D100)","v":""},{"$f":"IF('Age - Tibia'!E100=\"\",\"\",'Age - Tibia'!E100)","v":""},{"$f":"IF('Age - Tibia'!F100=\"\",\"\",'Age - Tibia'!F100)","v":""}]
[95,{"$f":"IF('Age - Tibia'!B101=\"\",\"\",'Age - Tibia'!B101)","v":""},{"$f":"IF('Age - Tibia'!C101=\"\",\"\",'Age - Tibia'!C101)","v":""},{"$f":"IF('Age - Tibia'!D101=\"\",\"\",'Age - Tibia'!D101)","v":""},{"$f":"IF('Age - Tibia'!E101=\"\",\"\",'Age - Tibia'!E101)","v":""},{"$f":"IF('Age - Tibia'!F101=\"\",\"\",'Age - Tibia'!F101)","v":""}]
[96,{"$f":"IF('Age - Tibia'!B102=\"\",\"\",'Age - Tibia'!B102)","v":""},{"$f":"IF('Age - Tibia'!C102=\"\",\"\",'Age - Tibia'!C102)","v":""},{"$f":"IF('Age - Tibia'!D102=\"\",\"\",'Age - Tibia'!D102)","v":""},{"$f":"IF('Age - Tibia'!E102=\"\",\"\",'Age - Tibia'!E102)","v":""},{"$f":"IF('Age - Tibia'!F102=\"\",\"\",'Age - Tibia'!F102)","v":""}]
[97,{"$f":"IF('Age - Tibia'!B103=\"\",\"\",'Age - Tibia'!B103)","v":""},{"$f":"IF('Age - Tibia'!C103=\"\",\"\",'Age - Tibia'!C103)","v":""},{"$f":"IF('Age - Tibia'!D103=\"\",\"\",'Age - Tibia'!D103)","v":""},{"$f":"IF('Age - Tibia'!E103=\"\",\"\",'Age - Tibia'!E103)","v":""},{"$f":"IF('Age - Tibia'!F103=\"\",\"\",'Age - Tibia'!F103)","v":""}]
[98,{"$f":"IF('Age - Tibia'!B104=\"\",\"\",'Age - Tibia'!B104)","v":""},{"$f":"IF('Age - Tibia'!C104=\"\",\"\",'Age - Tibia'!C104)","v":""},{"$f":"IF('Age - Tibia'!D104=\"\",\"\",'Age - Tibia'!D104)","v":""},{"$f":"IF('Age - Tibia'!E104=\"\",\"\",'Age - Tibia'!E104)","v":""},{"$f":"IF('Age - Tibia'!F104=\"\",\"\",'Age - Tibia'!F104)","v":""}]
[99,{"$f":"IF('Age - Tibia'!B105=\"\",\"\",'Age - Tibia'!B105)","v":""},{"$f":"IF('Age - Tibia'!C105=\"\",\"\",'Age - Tibia'!C105)","v":""},{"$f":"IF('Age - Tibia'!D105=\"\",\"\",'Age - Tibia'!D105)","v":""},{"$f":"IF('Age - Tibia'!E105=\"\",\"\",'Age - Tibia'!E105)","v":""},{"$f":"IF('Age - Tibia'!F105=\"\",\"\",'Age - Tibia'!F105)","v":""}]
[100,{"$f":"IF('Age - Tibia'!B106=\"\",\"\",'Age - Tibia'!B106)","v":""},{"$f":"IF('Age - Tibia'!C106=\"\",\"\",'Age - Tibia'!C106)","v":""},{"$f":"IF('Age - Tibia'!D106=\"\",\"\",'Age - Tibia'!D106)","v":""},{"$f":"IF('Age - Tibia'!E106=\"\",\"\",'Age - Tibia'!E106)","v":""},{"$f":"IF('Age - Tibia'!F106=\"\",\"\",'Age - Tibia'!F106)","v":""}]
[101,{"$f":"IF('Age - Tibia'!B107=\"\",\"\",'Age - Tibia'!B107)","v":""},{"$f":"IF('Age - Tibia'!C107=\"\",\"\",'Age - Tibia'!C107)","v":""},{"$f":"IF('Age - Tibia'!D107=\"\",\"\",'Age - Tibia'!D107)","v":""},{"$f":"IF('Age - Tibia'!E107=\"\",\"\",'Age - Tibia'!E107)","v":""},{"$f":"IF('Age - Tibia'!F107=\"\",\"\",'Age - Tibia'!F107)","v":""}]
[102,{"$f":"IF('Age - Tibia'!B108=\"\",\"\",'Age - Tibia'!B108)","v":""},{"$f":"IF('Age - Tibia'!C108=\"\",\"\",'Age - Tibia'!C108)","v":""},{"$f":"IF('Age - Tibia'!D108=\"\",\"\",'Age - Tibia'!D108)","v":""},{"$f":"IF('Age - Tibia'!E108=\"\",\"\",'Age - Tibia'!E108)","v":""},{"$f":"IF('Age - Tibia'!F108=\"\",\"\",'Age - Tibia'!F108)","v":""}]
[103,{"$f":"IF('Age - Tibia'!B109=\"\",\"\",'Age - Tibia'!B109)","v":""},{"$f":"IF('Age - Tibia'!C109=\"\",\"\",'Age - Tibia'!C109)","v":""},{"$f":"IF('Age - Tibia'!D109=\"\",\"\",'Age - Tibia'!D109)","v":""},{"$f":"IF('Age - Tibia'!E109=\"\",\"\",'Age - Tibia'!E109)","v":""},{"$f":"IF('Age - Tibia'!F109=\"\",\"\",'Age - Tibia'!F109)","v":""}]
[104,{"$f":"IF('Age - Tibia'!B110=\"\",\"\",'Age - Tibia'!B110)","v":""},{"$f":"IF('Age - Tibia'!C110=\"\",\"\",'Age - Tibia'!C110)","v":""},{"$f":"IF('Age - Tibia'!D110=\"\",\"\",'Age - Tibia'!D110)","v":""},{"$f":"IF('Age - Tibia'!E110=\"\",\"\",'Age - Tibia'!E110)","v":""},{"$f":"IF('Age - Tibia'!F110=\"\",\"\",'Age - Tibia'!F110)","v":""}]
[105,{"$f":"IF('Age - Tibia'!B111=\"\",\"\",'Age - Tibia'!B111)","v":""},{"$f":"IF('Age - Tibia'!C111=\"\",\"\",'Age - Tibia'!C111)","v":""},{"$f":"IF('Age - Tibia'!D111=\"\",\"\",'Age - Tibia'!D111)","v":""},{"$f":"IF('Age - Tibia'!E111=\"\",\"\",'Age - Tibia'!E111)","v":""},{"$f":"IF('Age - Tibia'!F111=\"\",\"\",'Age - Tibia'!F111)","v":""}]
[106,{"$f":"IF('Age - Tibia'!B112=\"\",\"\",'Age - Tibia'!B112)","v":""},{"$f":"IF('Age - Tibia'!C112=\"\",\"\",'Age - Tibia'!C112)","v":""},{"$f":"IF('Age - Tibia'!D112=\"\",\"\",'Age - Tibia'!D112)","v":""},{"$f":"IF('Age - Tibia'!E112=\"\",\"\",'Age - Tibia'!E112)","v":""},{"$f":"IF('Age - Tibia'!F112=\"\",\"\",'Age - Tibia'!F112)","v":""}]
[107,{"$f":"IF('Age - Tibia'!B113=\"\",\"\",'Age - Tibia'!B113)","v":""},{"$f":"IF('Age - Tibia'!C113=\"\",\"\",'Age - Tibia'!C113)","v":""},{"$f":"IF('Age - Tibia'!D113=\"\",\"\",'Age - Tibia'!D113)","v":""},{"$f":"IF('Age - Tibia'!E113=\"\",\"\",'Age - Tibia'!E113)","v":""},{"$f":"IF('Age - Tibia'!F113=\"\",\"\",'Age - Tibia'!F113)","v":""}]
[108,{"$f":"IF('Age - Tibia'!B114=\"\",\"\",'Age - Tibia'!B114)","v":""},{"$f":"IF('Age - Tibia'!C114=\"\",\"\",'Age - Tibia'!C114)","v":""},{"$f":"IF('Age - Tibia'!D114=\"\",\"\",'Age - Tibia'!D114)","v":""},{"$f":"IF('Age - Tibia'!E114=\"\",\"\",'Age - Tibia'!E114)","v":""},{"$f":"IF('Age - Tibia'!F114=\"\",\"\",'Age - Tibia'!F114)","v":""}]
[109,{"$f":"IF('Age - Tibia'!B115=\"\",\"\",'Age - Tibia'!B115)","v":""},{"$f":"IF('Age - Tibia'!C115=\"\",\"\",'Age - Tibia'!C115)","v":""},{"$f":"IF('Age - Tibia'!D115=\"\",\"\",'Age - Tibia'!D115)","v":""},{"$f":"IF('Age - Tibia'!E115=\"\",\"\",'Age - Tibia'!E115)","v":""},{"$f":"IF('Age - Tibia'!F115=\"\",\"\",'Age - Tibia'!F115)","v":""}]
[110,{"$f":"IF('Age - Tibia'!B116=\"\",\"\",'Age - Tibia'!B116)","v":""},{"$f":"IF('Age - Tibia'!C116=\"\",\"\",'Age - Tibia'!C116)","v":""},{"$f":"IF('Age - Tibia'!D116=\"\",\"\",'Age - Tibia'!D116)","v":""},{"$f":"IF('Age - Tibia'!E116=\"\",\"\",'Age - Tibia'!E116)","v":""},{"$f":"IF('Age - Tibia'!F116=\"\",\"\",'Age - Tibia'!F116)","v":""}]
[111,{"$f":"IF('Age - Tibia'!B117=\"\",\"\",'Age - Tibia'!B117)","v":""},{"$f":"IF('Age - Tibia'!C117=\"\",\"\",'Age - Tibia'!C117)","v":""},{"$f":"IF('Age - Tibia'!D117=\"\",\"\",'Age - Tibia'!D117)","v":""},{"$f":"IF('Age - Tibia'!E117=\"\",\"\",'Age - Tibia'!E117)","v":""},{"$f":"IF('Age - Tibia'!F117=\"\",\"\",'Age - Tibia'!F117)","v":""}]
[112,{"$f":"IF('Age - Tibia'!B118=\"\",\"\",'Age - Tibia'!B118)","v":""},{"$f":"IF('Age - Tibia'!C118=\"\",\"\",'Age - Tibia'!C118)","v":""},{"$f":"IF('Age - Tibia'!D118=\"\",\"\",'Age - Tibia'!D118)","v":""},{"$f":"IF('Age - Tibia'!E118=\"\",\"\",'Age - Tibia'!E118)","v":""},{"$f":"IF('Age - Tibia'!F118=\"\",\"\",'Age - Tibia'!F118)","v":""}]
[113,{"$f":"IF('Age - Tibia'!B119=\"\",\"\",'Age - Tibia'!B119)","v":""},{"$f":"IF('Age - Tibia'!C119=\"\",\"\",'Age - Tibia'!C119)","v":""},{"$f":"IF('Age - Tibia'!D119=\"\",\"\",'Age - Tibia'!D119)","v":""},{"$f":"IF('Age - Tibia'!E119=\"\",\"\",'Age - Tibia'!E119)","v":""},{"$f":"IF('Age - Tibia'!F119=\"\",\"\",'Age - Tibia'!F119)","v":""}]
[114,{"$f":"IF('Age - Tibia'!B120=\"\",\"\",'Age - Tibia'!B120)","v":""},{"$f":"IF('Age - Tibia'!C120=\"\",\"\",'Age - Tibia'!C120)","v":""},{"$f":"IF('Age - Tibia'!D120=\"\",\"\",'Age - Tibia'!D120)","v":""},{"$f":"IF('Age - Tibia'!E120=\"\",\"\",'Age - Tibia'!E120)","v":""},{"$f":"IF('Age - Tibia'!F120=\"\",\"\",'Age - Tibia'!F120)","v":""}]
[115,{"$f":"IF('Age - Tibia'!B121=\"\",\"\",'Age - Tibia'!B121)","v":""},{"$f":"IF('Age - Tibia'!C121=\"\",\"\",'Age - Tibia'!C121)","v":""},{"$f":"IF('Age - Tibia'!D121=\"\",\"\",'Age - Tibia'!D121)","v":""},{"$f":"IF('Age - Tibia'!E121=\"\",\"\",'Age - Tibia'!E121)","v":""},{"$f":"IF('Age - Tibia'!F121=\"\",\"\",'Age - Tibia'!F121)","v":""}]
[116,{"$f":"IF('Age - Tibia'!B122=\"\",\"\",'Age - Tibia'!B122)","v":""},{"$f":"IF('Age - Tibia'!C122=\"\",\"\",'Age - Tibia'!C122)","v":""},{"$f":"IF('Age - Tibia'!D122=\"\",\"\",'Age - Tibia'!D122)","v":""},{"$f":"IF('Age - Tibia'!E122=\"\",\"\",'Age - Tibia'!E122)","v":""},{"$f":"IF('Age - Tibia'!F122=\"\",\"\",'Age - Tibia'!F122)","v":""}]
[117,{"$f":"IF('Age - Tibia'!B123=\"\",\"\",'Age - Tibia'!B123)","v":""},{"$f":"IF('Age - Tibia'!C123=\"\",\"\",'Age - Tibia'!C123)","v":""},{"$f":"IF('Age - Tibia'!D123=\"\",\"\",'Age - Tibia'!D123)","v":""},{"$f":"IF('Age - Tibia'!E123=\"\",\"\",'Age - Tibia'!E123)","v":""},{"$f":"IF('Age - Tibia'!F123=\"\",\"\",'Age - Tibia'!F123)","v":""}]
[118,{"$f":"IF('Age - Tibia'!B124=\"\",\"\",'Age - Tibia'!B124)","v":""},{"$f":"IF('Age - Tibia'!C124=\"\",\"\",'Age - Tibia'!C124)","v":""},{"$f":"IF('Age - Tibia'!D124=\"\",\"\",'Age - Tibia'!D124)","v":""},{"$f":"IF('Age - Tibia'!E124=\"\",\"\",'Age - Tibia'!E124)","v":""},{"$f":"IF('Age - Tibia'!F124=\"\",\"\",'Age - Tibia'!F124)","v":""}]
[119,{"$f":"IF('Age - Tibia'!B125=\"\",\"\",'Age - Tibia'!B125)","v":""},{"$f":"IF('Age - Tibia'!C125=\"\",\"\",'Age - Tibia'!C125)","v":""},{"$f":"IF('Age - Tibia'!D125=\"\",\"\",'Age - Tibia'!D125)","v":""},{"$f":"IF('Age - Tibia'!E125=\"\",\"\",'Age - Tibia'!E125)","v":""},{"$f":"IF('Age - Tibia'!F125=\"\",\"\",'Age - Tibia'!F125)","v":""}]
[120,{"$f":"IF('Age - Tibia'!B126=\"\",\"\",'Age - Tibia'!B126)","v":""},{"$f":"IF('Age - Tibia'!C126=\"\",\"\",'Age - Tibia'!C126)","v":""},{"$f":"IF('Age - Tibia'!D126=\"\",\"\",'Age - Tibia'!D126)","v":""},{"$f":"IF('Age - Tibia'!E126=\"\",\"\",'Age - Tibia'!E126)","v":""},{"$f":"IF('Age - Tibia'!F126=\"\",\"\",'Age - Tibia'!F126)","v":""}]
["Selected Language",{"$f":"ValidationData!A18","v":"English"}]